{"text_format":"3","workbook":"xlsx","n_sheets":6,"sheets":["Attestation","Bill of Materials","%Assessed","%Cycled & Renewable REF","pick lists","change log"],"not_rendered":{"macros":1,"defined_names":20,"comments":2},"read":"whole","date_system":"1900"}

{"sheet":"Attestation","index":0,"n_rows":15,"n_cols":2,"rows_kept":15,"merged":[[6,1,6,6],[10,3,10,4],[11,3,11,4],[12,3,12,4],[13,3,13,4],[14,3,14,4]]}
[]
[]
[]
[]
[null,"Cradle to Cradle Certified - Applicant Attestation"]
[]
[null,"I attest that \n(1) I am the person named below,\n(2) all information provided in this Bill of Materials form is complete, true, and accurate to the best of my knowledge, and\n(3) all intentional inputs and any known nonfunctional or unintentionally added chemicals or materials (e.g., contaminants, byproducts, impurities) have been included."]
[]
[]
[]
[null,"Signature:"]
[null,"Date:"]
[null,"Print Name:"]
[null,"Job Title:"]
[null,"Company name:"]

{"sheet":"Bill of Materials","index":1,"n_rows":500,"n_cols":53,"rows_kept":500,"merged":[[2,13,8,13],[3,0,3,1],[3,2,3,4],[3,5,3,6],[3,7,3,9],[3,11,3,12],[3,14,3,15],[3,48,3,51],[4,0,4,1],[4,2,4,4],[4,5,4,6],[4,7,4,9],[4,11,4,12],[4,14,4,15],[4,48,4,51],[5,0,5,1],[5,2,5,4],[5,5,5,6],[5,7,5,9],[5,11,5,12],[5,14,5,15],[5,48,5,51],[6,0,6,1],[6,2,6,4],[6,5,6,6],[6,7,6,9],[6,11,6,12],[6,14,6,15],[6,48,6,51],[7,0,7,1],[7,2,7,4],[7,5,7,6],[7,7,7,9],[7,11,7,12],[7,14,7,15],[7,48,7,51],[8,0,8,1],[8,2,8,4],[8,5,8,6],[8,7,8,9],[8,11,8,12],[8,14,8,15],[8,48,8,51],[9,48,9,51],[10,0,12,15],[10,21,10,24],[10,34,10,40],[11,17,11,18],[11,19,11,20],[11,21,11,24],[11,25,11,29],[11,30,11,42],[11,43,11,47],[11,48,11,52],[12,17,12,18],[12,19,12,20],[12,21,12,24],[12,25,12,27],[12,28,12,29],[12,30,12,39],[12,41,12,45],[12,48,12,49],[12,50,12,51]]}
["Cradle to Cradle Certified® Version 4.0 Bill of Materials (BoM) Worksheet - Material Health and Product Circularity",{"$nulls":51},"Cradle to Cradle Certified® Products Program"]
[]
["Product information",{"$nulls":4},"Applicant Information",{"$nulls":4},"Manufacturer Information (if different from applicant)",{"$nulls":12},"Percentage Assessed",{"$nulls":24},"Circularity Statistics – Total Percent by Weight"]
["Product trade name:",{"$nulls":4},"Applicant Company:",{"$nulls":4},"Manufacturer:",{"$nulls":12},"A/a",{"$f":"SUM('%Assessed'!I10:I209)","v":{"v":0,"d":"0.0%"}},{"$nulls":23},"Cycled and/or renewable content that meets Section 5.4 requirements",{"$nulls":3},{"$f":"SUM(AR16:AR500)","v":{"v":0,"d":"0%"}}]
["Product type or brief description:",{"$nulls":4},"Location",null,"[Select country]",null,null,"Location","[Select country]",{"$nulls":11},"B/b",{"$f":"SUM('%Assessed'!L10:L209)","v":{"v":0,"d":"0.0%"}},{"$nulls":23},"Cycled content",{"$nulls":3},{"$f":"SUM(AS16:AS500)","v":{"v":0,"d":"0%"}}]
["Primary use of product:",{"$nulls":4},"Contact name:",{"$nulls":4},"Contact name:",{"$nulls":12},"C/c",{"$f":"SUM('%Assessed'!Q10:Q209)","v":{"v":0,"d":"0.0%"}},{"$nulls":23},"Renewable content",{"$nulls":3},{"$f":"SUM(AT16:AT500)","v":{"v":0,"d":"0%"}}]
["Is this an intermediate product?",{"$nulls":4},"Contact role/title:",{"$nulls":4},"Contact role/title:",{"$nulls":12},"X/x",{"$f":"SUM('%Assessed'!T10:T209)","v":{"v":0,"d":"0.0%"}},{"$nulls":23},"Post-consumer content",{"$nulls":3},{"$f":"SUM(AU16:AU500)","v":{"v":0,"d":"0%"}}]
["Is this a consumer product?",{"$nulls":4},"Email:",{"$nulls":4},"Email:",{"$nulls":12},"Other assessed",{"$f":"SUM('%Assessed'!W10:W209)","v":{"v":0,"d":"0.0%"}},{"$nulls":23},"Responsibly sourced renewable content",{"$nulls":3},{"$f":"SUM(AV16:AV500)","v":{"v":0,"d":"0%"}}]
["Product Category:",null,"[Please select the Product Category per the Required Percentages of Cycled and Renewable Content by Product and Material Type Reference Document]",null,null,"Phone:",{"$nulls":4},"Phone:",{"$nulls":12},"Grey",{"$f":"SUM('%Assessed'!F10:F209)","v":{"v":0,"d":"0.0%"}},{"$nulls":23},"Compatible material",{"$nulls":3},{"$f":"SUM(AX16:AX500)","v":{"v":0,"d":"0%"}}]
["Note: Guidance and definitions are located in pop-up notes where there are red triangles in the corners of individual cells. Click into individual cells with red triangles to see the notes. \t\t\t\t\t\t",{"$nulls":22},"Total",{"$f":"SUM(Y4:Y9)-Y9","v":{"v":0,"d":"0.0%"}},{"$nulls":23},"High value cycling material",{"$nulls":3},{"$f":"SUM(AZ16:AZ500)","v":{"v":0,"d":"0%"}}]
["Please provide the following information for all parts, mixtures, and substances contained in your product, including all intentional inputs and any known nonfunctional or unintentionally added chemicals or materials (e.g., contaminants, byproducts, impurities).\n• For the Bronze achievement level, all generic materials must be identified (e.g. molded PET, cast aluminum, paint).\n• For products that are a single homogeneous material, all formulation ingredients must be listed (either chemical names and identifiers for chemical manufacturers, or material trade names and grades for formulators and similar). For products that include water as an intentional input, list water on a separate line.\n• For multi-material products, all part numbers and material trade names/grades are required.\n• For the Gold level, full material disclosure must have been obtained for all materials in the product (with several exemptions as noted in standard section 4.3) and each material assessed per the Material Health Assessment Methodology.\n  Typically, this will require collecting chemical composition data from the supply chain using this (or a similar) data form. Refer to Standard section 4.3 Material and Chemical Inventory for additional information.",{"$nulls":20},"REMINDER: Be sure to read the pop-up notes in row 15 and follow directions therein so that percentage assessed is calculated properly.",{"$nulls":12},"Instructions: Copy and paste the appropriate categories and required percentages from the %Cycled & Renewable REF tab"]
[{"$nulls":17},"Sections 4.1 and 4.2",null,"Section 4.6",null,"Section 4.4",{"$nulls":3},"Section 5.2",{"$nulls":4},"Section 5.4",{"$nulls":12},"Section 5.4",{"$nulls":4},"Section 5.5"]
[{"$nulls":17},"Bronze",null,"Silver",null,"Bronze (This section will be completed by a Material Health assessor)",{"$nulls":3},"Bronze",null,null,"Platinum",null,"Bronze",{"$nulls":9},"Gold","Bronze",{"$nulls":4},"Gold","Bronze or Gold","Bronze",null,"Gold",null,"Bronze"]
["Bill of Materials: Product Composition (Material and Chemical Inventory)",{"$nulls":5},"[Specify units here]",{"$nulls":3},"Bill of Materials: Supplier Information",{"$nulls":6},"Material Health",{"$nulls":3},"Product type:","multi-material","# of materials or chemicals:",{"$f":"IF(W14=\"single homogeneous material\",SUM(Y16:Y200),SUMPRODUCT((V16:V200<>\"\")/COUNTIF(V16:V200,V16:V200&\"\")))","v":0},"Product Circularity",{"$nulls":12},"Select level:","[Please select]"]
["Component Number","Component Description","Material Number","Generic Materials","Part Name/Function (indicate alternates - [ALT])","Exact material specification/trade name/product number","Part weight (indicate units above)\nIf weights of alternates are similar, enter weight of only one of the alternates.","Number of parts\nEnter 1 for all unique parts or components","Total Weight","Percent of Total Weight","Supplier Name","Supplier Contact Name","Supplier Address","Supplier Country","Supplier Email","Supplier Phone","De facto high-risk location per Section 8.1?","Restricted Substances List (RSL) declaration collected?","File name of RSL declaration","CMR & SVHC declaration collected?","File name of CMR & SVHC declaration","Homogeneous material ID","Material Health Assessment Rating\n","Material Health assessment comments","Number of chemicals","Designated for biological cycle, technical cycle, or both","Material or part's primary intended cycling pathway","Entity intended to carry out process (first pathway)","Material or part's second intended cycling pathway","Entity intended to carry out process (second pathway)","% cycled or renewable content in material (1)\nDo not double count","Cycled or renewable content type (1)","% cycled or renewable content in material (2)\nDo not double count","Cycled or renewable content type (2)","Product or Application (not applicable to \"Other Products\")","Sub-product (not applicable to \"Other Products\")","Material type","Material Sub-Type","Product or Application (not applicable to \"Other Products\")","Total required % for desired achievement level","Post-consumer Required % for desired achievement level","Required percentage for achievement level met?","Comments (explain how the required percentage has been achieved and verified)","% cycled and/or renewable content that meets Section 5.4 requirements in product by weight","% cycled content in product by weight","% renewable content in product by weight","% post-consumer cycled content in product by weight","% responsibly sourced renewable content in product by weight","Compatibility for cycling","% compatible material in product by weight","High value cycling material?","% high value cycling material in product by weight","Comments (explain how the material has met the compatibility requirements)"]
[{"$nulls":8},{"$f":"G16*H16","v":{"v":0,"d":"0.0"}},{"$f":"I16/(SUM(I$16:I$200))","v":{"$error":"#DIV/0!"}},{"$nulls":3},"[Select country]",null,null,{"$f":"IF(VLOOKUP(N16,'pick lists'!$L$2:$M$217,2,FALSE) =\"Yes\",\"Yes\",\"No\")","v":{"$error":"#N/A"}},"[Please select]",null,"[Please select]",null,null,"[Please select]",null,null,"[Please select]","[Please select]","[Please select]","[Please select]","[Please select]",null,"[Please select]",null,"[Please select]",{"$nulls":7},"[Please select]",null,{"$f":"IF(AP16=\"Yes\", J16, 0)","v":{"v":0,"d":"0%"}},{"$f":"((IF(OR(AH16= \"Pre-consumer\", AH16 = \"Post-consumer\"), 'Bill of Materials'!J16, 0)) * AG16)+((IF(OR(AF16= \"Pre-consumer\", AF16 = \"Post-consumer\"), 'Bill of Materials'!J16, 0)) * AE16)","v":{"v":0,"d":"0%"}},{"$f":"((IF(OR(AH16=\"Renewable\",AH16=\"Responsibly sourced renewable\"),'Bill of Materials'!J16,0))*AG16)+((IF(OR(AF16=\"Renewable\",AF16=\"Responsibly sourced renewable\"),'Bill of Materials'!J16,0))*AE16)","v":{"v":0,"d":"0%"}},{"$f":"(IF(AH16 = \"Post-consumer\", 'Bill of Materials'!J16, 0) * AG16)+(IF(AF16=\"Post-consumer\",'Bill of Materials'!J16,0)*AE16)","v":{"v":0,"d":"0%"}},{"$f":"((IF(AH16= \"Responsibly sourced renewable\", 'Bill of Materials'!J16, 0)) * AG16)+((IF(AF16= \"Responsibly sourced renewable\", 'Bill of Materials'!J16, 0)) * AE16)","v":{"v":0,"d":"0%"}},"[Please select]",{"$f":"IF(OR(AW16=\"Biological\",AW16=\"Technical\",AW16=\"Both\"), J16, 0)","v":{"v":0,"d":"0%"}},"[Please select]",{"$f":"IF(AY16=\"Yes\",J16,0)","v":{"v":0,"d":"0%"}}]
[{"$nulls":8},{"v":0,"d":"0.0"},{"$f":"I17/(SUM(I$16:I$200))","v":{"$error":"#DIV/0!"}},{"$nulls":3},"[Select country]",null,null,{"$f":"IF(VLOOKUP(N17,'pick lists'!$L$2:$M$217,2,FALSE) =\"Yes\",\"Yes\",\"No\")","v":{"$error":"#N/A"}},"[Please select]",null,"[Please select]",null,null,"[Please select]",null,null,"[Please select]","[Please select]","[Please select]","[Please select]","[Please select]",null,"[Please select]",null,"[Please select]",{"$nulls":7},"[Please select]",null,{"$f":"IF(AP17=\"Yes\", J17, 0)","v":{"v":0,"d":"0%"}},{"$f":"((IF(OR(AH17= \"Pre-consumer\", AH17 = \"Post-consumer\"), 'Bill of Materials'!J17, 0)) * AG17)+((IF(OR(AF17= \"Pre-consumer\", AF17 = \"Post-consumer\"), 'Bill of Materials'!J17, 0)) * AE17)","v":{"v":0,"d":"0%"}},{"$f":"((IF(OR(AH17=\"Renewable\",AH17=\"Responsibly sourced renewable\"),'Bill of Materials'!J17,0))*AG17)+((IF(OR(AF17=\"Renewable\",AF17=\"Responsibly sourced renewable\"),'Bill of Materials'!J17,0))*AE17)","v":{"v":0,"d":"0%"}},{"$f":"(IF(AH17 = \"Post-consumer\", 'Bill of Materials'!J17, 0) * AG17)+(IF(AF17=\"Post-consumer\",'Bill of Materials'!J17,0)*AE17)","v":{"v":0,"d":"0%"}},{"$f":"((IF(AH17= \"Responsibly sourced renewable\", 'Bill of Materials'!J17, 0)) * AG17)+((IF(AF17= \"Responsibly sourced renewable\", 'Bill of Materials'!J17, 0)) * AE17)","v":{"v":0,"d":"0%"}},"[Please select]",{"v":0,"d":"0%"},"[Please select]",{"v":0,"d":"0%"}]
[{"$nulls":8},{"v":0,"d":"0.0"},{"$error":"#DIV/0!"},{"$nulls":3},"[Select country]",null,null,{"$f":"IF(VLOOKUP(N18,'pick lists'!$L$2:$M$217,2,FALSE) =\"Yes\",\"Yes\",\"No\")","v":{"$error":"#N/A"}},"[Please select]",null,"[Please select]",null,null,"[Please select]",null,null,"[Please select]","[Please select]","[Please select]","[Please select]","[Please select]",null,"[Please select]",null,"[Please select]",{"$nulls":7},"[Please select]",null,{"v":0,"d":"0%"},{"$f":"((IF(OR(AH18= \"Pre-consumer\", AH18 = \"Post-consumer\"), 'Bill of Materials'!J18, 0)) * AG18)+((IF(OR(AF18= \"Pre-consumer\", AF18 = \"Post-consumer\"), 'Bill of Materials'!J18, 0)) * AE18)","v":{"v":0,"d":"0%"}},{"$f":"((IF(OR(AH18=\"Renewable\",AH18=\"Responsibly sourced renewable\"),'Bill of Materials'!J18,0))*AG18)+((IF(OR(AF18=\"Renewable\",AF18=\"Responsibly sourced renewable\"),'Bill of Materials'!J18,0))*AE18)","v":{"v":0,"d":"0%"}},{"$f":"(IF(AH18 = \"Post-consumer\", 'Bill of Materials'!J18, 0) * AG18)+(IF(AF18=\"Post-consumer\",'Bill of Materials'!J18,0)*AE18)","v":{"v":0,"d":"0%"}},{"$f":"((IF(AH18= \"Responsibly sourced renewable\", 'Bill of Materials'!J18, 0)) * AG18)+((IF(AF18= \"Responsibly sourced renewable\", 'Bill of Materials'!J18, 0)) * AE18)","v":{"v":0,"d":"0%"}},"[Please select]",{"v":0,"d":"0%"},"[Please select]",{"v":0,"d":"0%"}]
[{"$nulls":8},{"v":0,"d":"0.0"},{"$error":"#DIV/0!"},{"$nulls":3},"[Select country]",null,null,{"$f":"IF(VLOOKUP(N19,'pick lists'!$L$2:$M$217,2,FALSE) =\"Yes\",\"Yes\",\"No\")","v":{"$error":"#N/A"}},"[Please select]",null,"[Please select]",null,null,"[Please select]",null,null,"[Please select]","[Please select]","[Please select]","[Please select]","[Please select]",null,"[Please select]",null,"[Please select]",{"$nulls":7},"[Please select]",null,{"v":0,"d":"0%"},{"$f":"((IF(OR(AH19= \"Pre-consumer\", AH19 = \"Post-consumer\"), 'Bill of Materials'!J19, 0)) * AG19)+((IF(OR(AF19= \"Pre-consumer\", AF19 = \"Post-consumer\"), 'Bill of Materials'!J19, 0)) * AE19)","v":{"v":0,"d":"0%"}},{"$f":"((IF(OR(AH19=\"Renewable\",AH19=\"Responsibly sourced renewable\"),'Bill of Materials'!J19,0))*AG19)+((IF(OR(AF19=\"Renewable\",AF19=\"Responsibly sourced renewable\"),'Bill of Materials'!J19,0))*AE19)","v":{"v":0,"d":"0%"}},{"$f":"(IF(AH19 = \"Post-consumer\", 'Bill of Materials'!J19, 0) * AG19)+(IF(AF19=\"Post-consumer\",'Bill of Materials'!J19,0)*AE19)","v":{"v":0,"d":"0%"}},{"$f":"((IF(AH19= \"Responsibly sourced renewable\", 'Bill of Materials'!J19, 0)) * AG19)+((IF(AF19= \"Responsibly sourced renewable\", 'Bill of Materials'!J19, 0)) * AE19)","v":{"v":0,"d":"0%"}},"[Please select]",{"v":0,"d":"0%"},"[Please select]",{"v":0,"d":"0%"}]
[{"$nulls":8},{"v":0,"d":"0.0"},{"$error":"#DIV/0!"},{"$nulls":3},"[Select country]",null,null,{"$f":"IF(VLOOKUP(N20,'pick lists'!$L$2:$M$217,2,FALSE) =\"Yes\",\"Yes\",\"No\")","v":{"$error":"#N/A"}},"[Please select]",null,"[Please select]",null,null,"[Please select]",null,null,"[Please select]","[Please select]","[Please select]","[Please select]","[Please select]",null,"[Please select]",null,"[Please select]",{"$nulls":7},"[Please select]",null,{"v":0,"d":"0%"},{"$f":"((IF(OR(AH20= \"Pre-consumer\", AH20 = \"Post-consumer\"), 'Bill of Materials'!J20, 0)) * AG20)+((IF(OR(AF20= \"Pre-consumer\", AF20 = \"Post-consumer\"), 'Bill of Materials'!J20, 0)) * AE20)","v":{"v":0,"d":"0%"}},{"$f":"((IF(OR(AH20=\"Renewable\",AH20=\"Responsibly sourced renewable\"),'Bill of Materials'!J20,0))*AG20)+((IF(OR(AF20=\"Renewable\",AF20=\"Responsibly sourced renewable\"),'Bill of Materials'!J20,0))*AE20)","v":{"v":0,"d":"0%"}},{"$f":"(IF(AH20 = \"Post-consumer\", 'Bill of Materials'!J20, 0) * AG20)+(IF(AF20=\"Post-consumer\",'Bill of Materials'!J20,0)*AE20)","v":{"v":0,"d":"0%"}},{"$f":"((IF(AH20= \"Responsibly sourced renewable\", 'Bill of Materials'!J20, 0)) * AG20)+((IF(AF20= \"Responsibly sourced renewable\", 'Bill of Materials'!J20, 0)) * AE20)","v":{"v":0,"d":"0%"}},"[Please select]",{"v":0,"d":"0%"},"[Please select]",{"v":0,"d":"0%"}]
[{"$nulls":8},{"v":0,"d":"0.0"},{"$error":"#DIV/0!"},{"$nulls":3},"[Select country]",null,null,{"$f":"IF(VLOOKUP(N21,'pick lists'!$L$2:$M$217,2,FALSE) =\"Yes\",\"Yes\",\"No\")","v":{"$error":"#N/A"}},"[Please select]",null,"[Please select]",null,null,"[Please select]",null,null,"[Please select]","[Please select]","[Please select]","[Please select]","[Please select]",null,"[Please select]",null,"[Please select]",{"$nulls":7},"[Please select]",null,{"v":0,"d":"0%"},{"$f":"((IF(OR(AH21= \"Pre-consumer\", AH21 = \"Post-consumer\"), 'Bill of Materials'!J21, 0)) * AG21)+((IF(OR(AF21= \"Pre-consumer\", AF21 = \"Post-consumer\"), 'Bill of Materials'!J21, 0)) * AE21)","v":{"v":0,"d":"0%"}},{"$f":"((IF(OR(AH21=\"Renewable\",AH21=\"Responsibly sourced renewable\"),'Bill of Materials'!J21,0))*AG21)+((IF(OR(AF21=\"Renewable\",AF21=\"Responsibly sourced renewable\"),'Bill of Materials'!J21,0))*AE21)","v":{"v":0,"d":"0%"}},{"$f":"(IF(AH21 = \"Post-consumer\", 'Bill of Materials'!J21, 0) * AG21)+(IF(AF21=\"Post-consumer\",'Bill of Materials'!J21,0)*AE21)","v":{"v":0,"d":"0%"}},{"$f":"((IF(AH21= \"Responsibly sourced renewable\", 'Bill of Materials'!J21, 0)) * AG21)+((IF(AF21= \"Responsibly sourced renewable\", 'Bill of Materials'!J21, 0)) * AE21)","v":{"v":0,"d":"0%"}},"[Please select]",{"v":0,"d":"0%"},"[Please select]",{"v":0,"d":"0%"}]
[{"$nulls":8},{"v":0,"d":"0.0"},{"$error":"#DIV/0!"},{"$nulls":3},"[Select country]",null,null,{"$f":"IF(VLOOKUP(N22,'pick lists'!$L$2:$M$217,2,FALSE) =\"Yes\",\"Yes\",\"No\")","v":{"$error":"#N/A"}},"[Please select]",null,"[Please select]",null,null,"[Please select]",null,null,"[Please select]","[Please select]","[Please select]","[Please select]","[Please select]",null,"[Please select]",null,"[Please select]",{"$nulls":7},"[Please select]",null,{"v":0,"d":"0%"},{"$f":"((IF(OR(AH22= \"Pre-consumer\", AH22 = \"Post-consumer\"), 'Bill of Materials'!J22, 0)) * AG22)+((IF(OR(AF22= \"Pre-consumer\", AF22 = \"Post-consumer\"), 'Bill of Materials'!J22, 0)) * AE22)","v":{"v":0,"d":"0%"}},{"$f":"((IF(OR(AH22=\"Renewable\",AH22=\"Responsibly sourced renewable\"),'Bill of Materials'!J22,0))*AG22)+((IF(OR(AF22=\"Renewable\",AF22=\"Responsibly sourced renewable\"),'Bill of Materials'!J22,0))*AE22)","v":{"v":0,"d":"0%"}},{"$f":"(IF(AH22 = \"Post-consumer\", 'Bill of Materials'!J22, 0) * AG22)+(IF(AF22=\"Post-consumer\",'Bill of Materials'!J22,0)*AE22)","v":{"v":0,"d":"0%"}},{"$f":"((IF(AH22= \"Responsibly sourced renewable\", 'Bill of Materials'!J22, 0)) * AG22)+((IF(AF22= \"Responsibly sourced renewable\", 'Bill of Materials'!J22, 0)) * AE22)","v":{"v":0,"d":"0%"}},"[Please select]",{"v":0,"d":"0%"},"[Please select]",{"v":0,"d":"0%"}]
[{"$nulls":8},{"v":0,"d":"0.0"},{"$error":"#DIV/0!"},{"$nulls":3},"[Select country]",null,null,{"$f":"IF(VLOOKUP(N23,'pick lists'!$L$2:$M$217,2,FALSE) =\"Yes\",\"Yes\",\"No\")","v":{"$error":"#N/A"}},"[Please select]",null,"[Please select]",null,null,"[Please select]",null,null,"[Please select]","[Please select]","[Please select]","[Please select]","[Please select]",null,"[Please select]",null,"[Please select]",{"$nulls":7},"[Please select]",null,{"v":0,"d":"0%"},{"$f":"((IF(OR(AH23= \"Pre-consumer\", AH23 = \"Post-consumer\"), 'Bill of Materials'!J23, 0)) * AG23)+((IF(OR(AF23= \"Pre-consumer\", AF23 = \"Post-consumer\"), 'Bill of Materials'!J23, 0)) * AE23)","v":{"v":0,"d":"0%"}},{"$f":"((IF(OR(AH23=\"Renewable\",AH23=\"Responsibly sourced renewable\"),'Bill of Materials'!J23,0))*AG23)+((IF(OR(AF23=\"Renewable\",AF23=\"Responsibly sourced renewable\"),'Bill of Materials'!J23,0))*AE23)","v":{"v":0,"d":"0%"}},{"$f":"(IF(AH23 = \"Post-consumer\", 'Bill of Materials'!J23, 0) * AG23)+(IF(AF23=\"Post-consumer\",'Bill of Materials'!J23,0)*AE23)","v":{"v":0,"d":"0%"}},{"$f":"((IF(AH23= \"Responsibly sourced renewable\", 'Bill of Materials'!J23, 0)) * AG23)+((IF(AF23= \"Responsibly sourced renewable\", 'Bill of Materials'!J23, 0)) * AE23)","v":{"v":0,"d":"0%"}},"[Please select]",{"v":0,"d":"0%"},"[Please select]",{"v":0,"d":"0%"}]
[{"$nulls":8},{"v":0,"d":"0.0"},{"$error":"#DIV/0!"},{"$nulls":3},"[Select country]",null,null,{"$f":"IF(VLOOKUP(N24,'pick lists'!$L$2:$M$217,2,FALSE) =\"Yes\",\"Yes\",\"No\")","v":{"$error":"#N/A"}},"[Please select]",null,"[Please select]",null,null,"[Please select]",null,null,"[Please select]","[Please select]","[Please select]","[Please select]","[Please select]",null,"[Please select]",null,"[Please select]",{"$nulls":7},"[Please select]",null,{"v":0,"d":"0%"},{"$f":"((IF(OR(AH24= \"Pre-consumer\", AH24 = \"Post-consumer\"), 'Bill of Materials'!J24, 0)) * AG24)+((IF(OR(AF24= \"Pre-consumer\", AF24 = \"Post-consumer\"), 'Bill of Materials'!J24, 0)) * AE24)","v":{"v":0,"d":"0%"}},{"$f":"((IF(OR(AH24=\"Renewable\",AH24=\"Responsibly sourced renewable\"),'Bill of Materials'!J24,0))*AG24)+((IF(OR(AF24=\"Renewable\",AF24=\"Responsibly sourced renewable\"),'Bill of Materials'!J24,0))*AE24)","v":{"v":0,"d":"0%"}},{"$f":"(IF(AH24 = \"Post-consumer\", 'Bill of Materials'!J24, 0) * AG24)+(IF(AF24=\"Post-consumer\",'Bill of Materials'!J24,0)*AE24)","v":{"v":0,"d":"0%"}},{"$f":"((IF(AH24= \"Responsibly sourced renewable\", 'Bill of Materials'!J24, 0)) * AG24)+((IF(AF24= \"Responsibly sourced renewable\", 'Bill of Materials'!J24, 0)) * AE24)","v":{"v":0,"d":"0%"}},"[Please select]",{"v":0,"d":"0%"},"[Please select]",{"v":0,"d":"0%"}]
[{"$nulls":8},{"v":0,"d":"0.0"},{"$error":"#DIV/0!"},{"$nulls":3},"[Select country]",null,null,{"$f":"IF(VLOOKUP(N25,'pick lists'!$L$2:$M$217,2,FALSE) =\"Yes\",\"Yes\",\"No\")","v":{"$error":"#N/A"}},"[Please select]",null,"[Please select]",null,null,"[Please select]",null,null,"[Please select]","[Please select]","[Please select]","[Please select]","[Please select]",null,"[Please select]",null,"[Please select]",{"$nulls":7},"[Please select]",null,{"v":0,"d":"0%"},{"$f":"((IF(OR(AH25= \"Pre-consumer\", AH25 = \"Post-consumer\"), 'Bill of Materials'!J25, 0)) * AG25)+((IF(OR(AF25= \"Pre-consumer\", AF25 = \"Post-consumer\"), 'Bill of Materials'!J25, 0)) * AE25)","v":{"v":0,"d":"0%"}},{"$f":"((IF(OR(AH25=\"Renewable\",AH25=\"Responsibly sourced renewable\"),'Bill of Materials'!J25,0))*AG25)+((IF(OR(AF25=\"Renewable\",AF25=\"Responsibly sourced renewable\"),'Bill of Materials'!J25,0))*AE25)","v":{"v":0,"d":"0%"}},{"$f":"(IF(AH25 = \"Post-consumer\", 'Bill of Materials'!J25, 0) * AG25)+(IF(AF25=\"Post-consumer\",'Bill of Materials'!J25,0)*AE25)","v":{"v":0,"d":"0%"}},{"$f":"((IF(AH25= \"Responsibly sourced renewable\", 'Bill of Materials'!J25, 0)) * AG25)+((IF(AF25= \"Responsibly sourced renewable\", 'Bill of Materials'!J25, 0)) * AE25)","v":{"v":0,"d":"0%"}},"[Please select]",{"v":0,"d":"0%"},"[Please select]",{"v":0,"d":"0%"}]
[{"$nulls":8},{"v":0,"d":"0.0"},{"$error":"#DIV/0!"},{"$nulls":3},"[Select country]",null,null,{"$f":"IF(VLOOKUP(N26,'pick lists'!$L$2:$M$217,2,FALSE) =\"Yes\",\"Yes\",\"No\")","v":{"$error":"#N/A"}},"[Please select]",null,"[Please select]",null,null,"[Please select]",null,null,"[Please select]","[Please select]","[Please select]","[Please select]","[Please select]",null,"[Please select]",null,"[Please select]",{"$nulls":7},"[Please select]",null,{"v":0,"d":"0%"},{"$f":"((IF(OR(AH26= \"Pre-consumer\", AH26 = \"Post-consumer\"), 'Bill of Materials'!J26, 0)) * AG26)+((IF(OR(AF26= \"Pre-consumer\", AF26 = \"Post-consumer\"), 'Bill of Materials'!J26, 0)) * AE26)","v":{"v":0,"d":"0%"}},{"$f":"((IF(OR(AH26=\"Renewable\",AH26=\"Responsibly sourced renewable\"),'Bill of Materials'!J26,0))*AG26)+((IF(OR(AF26=\"Renewable\",AF26=\"Responsibly sourced renewable\"),'Bill of Materials'!J26,0))*AE26)","v":{"v":0,"d":"0%"}},{"$f":"(IF(AH26 = \"Post-consumer\", 'Bill of Materials'!J26, 0) * AG26)+(IF(AF26=\"Post-consumer\",'Bill of Materials'!J26,0)*AE26)","v":{"v":0,"d":"0%"}},{"$f":"((IF(AH26= \"Responsibly sourced renewable\", 'Bill of Materials'!J26, 0)) * AG26)+((IF(AF26= \"Responsibly sourced renewable\", 'Bill of Materials'!J26, 0)) * AE26)","v":{"v":0,"d":"0%"}},"[Please select]",{"v":0,"d":"0%"},"[Please select]",{"v":0,"d":"0%"}]
[{"$nulls":8},{"v":0,"d":"0.0"},{"$error":"#DIV/0!"},{"$nulls":3},"[Select country]",null,null,{"$f":"IF(VLOOKUP(N27,'pick lists'!$L$2:$M$217,2,FALSE) =\"Yes\",\"Yes\",\"No\")","v":{"$error":"#N/A"}},"[Please select]",null,"[Please select]",null,null,"[Please select]",null,null,"[Please select]","[Please select]","[Please select]","[Please select]","[Please select]",null,"[Please select]",null,"[Please select]",{"$nulls":7},"[Please select]",null,{"v":0,"d":"0%"},{"$f":"((IF(OR(AH27= \"Pre-consumer\", AH27 = \"Post-consumer\"), 'Bill of Materials'!J27, 0)) * AG27)+((IF(OR(AF27= \"Pre-consumer\", AF27 = \"Post-consumer\"), 'Bill of Materials'!J27, 0)) * AE27)","v":{"v":0,"d":"0%"}},{"$f":"((IF(OR(AH27=\"Renewable\",AH27=\"Responsibly sourced renewable\"),'Bill of Materials'!J27,0))*AG27)+((IF(OR(AF27=\"Renewable\",AF27=\"Responsibly sourced renewable\"),'Bill of Materials'!J27,0))*AE27)","v":{"v":0,"d":"0%"}},{"$f":"(IF(AH27 = \"Post-consumer\", 'Bill of Materials'!J27, 0) * AG27)+(IF(AF27=\"Post-consumer\",'Bill of Materials'!J27,0)*AE27)","v":{"v":0,"d":"0%"}},{"$f":"((IF(AH27= \"Responsibly sourced renewable\", 'Bill of Materials'!J27, 0)) * AG27)+((IF(AF27= \"Responsibly sourced renewable\", 'Bill of Materials'!J27, 0)) * AE27)","v":{"v":0,"d":"0%"}},"[Please select]",{"v":0,"d":"0%"},"[Please select]",{"v":0,"d":"0%"}]
[{"$nulls":8},{"v":0,"d":"0.0"},{"$error":"#DIV/0!"},{"$nulls":3},"[Select country]",null,null,{"$f":"IF(VLOOKUP(N28,'pick lists'!$L$2:$M$217,2,FALSE) =\"Yes\",\"Yes\",\"No\")","v":{"$error":"#N/A"}},"[Please select]",null,"[Please select]",null,null,"[Please select]",null,null,"[Please select]","[Please select]","[Please select]","[Please select]","[Please select]",null,"[Please select]",null,"[Please select]",{"$nulls":7},"[Please select]",null,{"v":0,"d":"0%"},{"$f":"((IF(OR(AH28= \"Pre-consumer\", AH28 = \"Post-consumer\"), 'Bill of Materials'!J28, 0)) * AG28)+((IF(OR(AF28= \"Pre-consumer\", AF28 = \"Post-consumer\"), 'Bill of Materials'!J28, 0)) * AE28)","v":{"v":0,"d":"0%"}},{"$f":"((IF(OR(AH28=\"Renewable\",AH28=\"Responsibly sourced renewable\"),'Bill of Materials'!J28,0))*AG28)+((IF(OR(AF28=\"Renewable\",AF28=\"Responsibly sourced renewable\"),'Bill of Materials'!J28,0))*AE28)","v":{"v":0,"d":"0%"}},{"$f":"(IF(AH28 = \"Post-consumer\", 'Bill of Materials'!J28, 0) * AG28)+(IF(AF28=\"Post-consumer\",'Bill of Materials'!J28,0)*AE28)","v":{"v":0,"d":"0%"}},{"$f":"((IF(AH28= \"Responsibly sourced renewable\", 'Bill of Materials'!J28, 0)) * AG28)+((IF(AF28= \"Responsibly sourced renewable\", 'Bill of Materials'!J28, 0)) * AE28)","v":{"v":0,"d":"0%"}},"[Please select]",{"v":0,"d":"0%"},"[Please select]",{"v":0,"d":"0%"}]
[{"$nulls":8},{"v":0,"d":"0.0"},{"$error":"#DIV/0!"},{"$nulls":3},"[Select country]",null,null,{"$f":"IF(VLOOKUP(N29,'pick lists'!$L$2:$M$217,2,FALSE) =\"Yes\",\"Yes\",\"No\")","v":{"$error":"#N/A"}},"[Please select]",null,"[Please select]",null,null,"[Please select]",null,null,"[Please select]","[Please select]","[Please select]","[Please select]","[Please select]",null,"[Please select]",null,"[Please select]",{"$nulls":7},"[Please select]",null,{"v":0,"d":"0%"},{"$f":"((IF(OR(AH29= \"Pre-consumer\", AH29 = \"Post-consumer\"), 'Bill of Materials'!J29, 0)) * AG29)+((IF(OR(AF29= \"Pre-consumer\", AF29 = \"Post-consumer\"), 'Bill of Materials'!J29, 0)) * AE29)","v":{"v":0,"d":"0%"}},{"$f":"((IF(OR(AH29=\"Renewable\",AH29=\"Responsibly sourced renewable\"),'Bill of Materials'!J29,0))*AG29)+((IF(OR(AF29=\"Renewable\",AF29=\"Responsibly sourced renewable\"),'Bill of Materials'!J29,0))*AE29)","v":{"v":0,"d":"0%"}},{"$f":"(IF(AH29 = \"Post-consumer\", 'Bill of Materials'!J29, 0) * AG29)+(IF(AF29=\"Post-consumer\",'Bill of Materials'!J29,0)*AE29)","v":{"v":0,"d":"0%"}},{"$f":"((IF(AH29= \"Responsibly sourced renewable\", 'Bill of Materials'!J29, 0)) * AG29)+((IF(AF29= \"Responsibly sourced renewable\", 'Bill of Materials'!J29, 0)) * AE29)","v":{"v":0,"d":"0%"}},"[Please select]",{"v":0,"d":"0%"},"[Please select]",{"v":0,"d":"0%"}]
[{"$nulls":8},{"v":0,"d":"0.0"},{"$error":"#DIV/0!"},{"$nulls":3},"[Select country]",null,null,{"$f":"IF(VLOOKUP(N30,'pick lists'!$L$2:$M$217,2,FALSE) =\"Yes\",\"Yes\",\"No\")","v":{"$error":"#N/A"}},"[Please select]",null,"[Please select]",null,null,"[Please select]",null,null,"[Please select]","[Please select]","[Please select]","[Please select]","[Please select]",null,"[Please select]",null,"[Please select]",{"$nulls":7},"[Please select]",null,{"v":0,"d":"0%"},{"$f":"((IF(OR(AH30= \"Pre-consumer\", AH30 = \"Post-consumer\"), 'Bill of Materials'!J30, 0)) * AG30)+((IF(OR(AF30= \"Pre-consumer\", AF30 = \"Post-consumer\"), 'Bill of Materials'!J30, 0)) * AE30)","v":{"v":0,"d":"0%"}},{"$f":"((IF(OR(AH30=\"Renewable\",AH30=\"Responsibly sourced renewable\"),'Bill of Materials'!J30,0))*AG30)+((IF(OR(AF30=\"Renewable\",AF30=\"Responsibly sourced renewable\"),'Bill of Materials'!J30,0))*AE30)","v":{"v":0,"d":"0%"}},{"$f":"(IF(AH30 = \"Post-consumer\", 'Bill of Materials'!J30, 0) * AG30)+(IF(AF30=\"Post-consumer\",'Bill of Materials'!J30,0)*AE30)","v":{"v":0,"d":"0%"}},{"$f":"((IF(AH30= \"Responsibly sourced renewable\", 'Bill of Materials'!J30, 0)) * AG30)+((IF(AF30= \"Responsibly sourced renewable\", 'Bill of Materials'!J30, 0)) * AE30)","v":{"v":0,"d":"0%"}},"[Please select]",{"v":0,"d":"0%"},"[Please select]",{"v":0,"d":"0%"}]
[{"$nulls":8},{"v":0,"d":"0.0"},{"$error":"#DIV/0!"},{"$nulls":3},"[Select country]",null,null,{"$f":"IF(VLOOKUP(N31,'pick lists'!$L$2:$M$217,2,FALSE) =\"Yes\",\"Yes\",\"No\")","v":{"$error":"#N/A"}},"[Please select]",null,"[Please select]",null,null,"[Please select]",null,null,"[Please select]","[Please select]","[Please select]","[Please select]","[Please select]",null,"[Please select]",null,"[Please select]",{"$nulls":7},"[Please select]",null,{"v":0,"d":"0%"},{"$f":"((IF(OR(AH31= \"Pre-consumer\", AH31 = \"Post-consumer\"), 'Bill of Materials'!J31, 0)) * AG31)+((IF(OR(AF31= \"Pre-consumer\", AF31 = \"Post-consumer\"), 'Bill of Materials'!J31, 0)) * AE31)","v":{"v":0,"d":"0%"}},{"$f":"((IF(OR(AH31=\"Renewable\",AH31=\"Responsibly sourced renewable\"),'Bill of Materials'!J31,0))*AG31)+((IF(OR(AF31=\"Renewable\",AF31=\"Responsibly sourced renewable\"),'Bill of Materials'!J31,0))*AE31)","v":{"v":0,"d":"0%"}},{"$f":"(IF(AH31 = \"Post-consumer\", 'Bill of Materials'!J31, 0) * AG31)+(IF(AF31=\"Post-consumer\",'Bill of Materials'!J31,0)*AE31)","v":{"v":0,"d":"0%"}},{"$f":"((IF(AH31= \"Responsibly sourced renewable\", 'Bill of Materials'!J31, 0)) * AG31)+((IF(AF31= \"Responsibly sourced renewable\", 'Bill of Materials'!J31, 0)) * AE31)","v":{"v":0,"d":"0%"}},"[Please select]",{"v":0,"d":"0%"},"[Please select]",{"v":0,"d":"0%"}]
[{"$nulls":8},{"v":0,"d":"0.0"},{"$error":"#DIV/0!"},{"$nulls":3},"[Select country]",null,null,{"$f":"IF(VLOOKUP(N32,'pick lists'!$L$2:$M$217,2,FALSE) =\"Yes\",\"Yes\",\"No\")","v":{"$error":"#N/A"}},"[Please select]",null,"[Please select]",null,null,"[Please select]",null,null,"[Please select]","[Please select]","[Please select]","[Please select]","[Please select]",null,"[Please select]",null,"[Please select]",{"$nulls":7},"[Please select]",null,{"v":0,"d":"0%"},{"$f":"((IF(OR(AH32= \"Pre-consumer\", AH32 = \"Post-consumer\"), 'Bill of Materials'!J32, 0)) * AG32)+((IF(OR(AF32= \"Pre-consumer\", AF32 = \"Post-consumer\"), 'Bill of Materials'!J32, 0)) * AE32)","v":{"v":0,"d":"0%"}},{"$f":"((IF(OR(AH32=\"Renewable\",AH32=\"Responsibly sourced renewable\"),'Bill of Materials'!J32,0))*AG32)+((IF(OR(AF32=\"Renewable\",AF32=\"Responsibly sourced renewable\"),'Bill of Materials'!J32,0))*AE32)","v":{"v":0,"d":"0%"}},{"$f":"(IF(AH32 = \"Post-consumer\", 'Bill of Materials'!J32, 0) * AG32)+(IF(AF32=\"Post-consumer\",'Bill of Materials'!J32,0)*AE32)","v":{"v":0,"d":"0%"}},{"$f":"((IF(AH32= \"Responsibly sourced renewable\", 'Bill of Materials'!J32, 0)) * AG32)+((IF(AF32= \"Responsibly sourced renewable\", 'Bill of Materials'!J32, 0)) * AE32)","v":{"v":0,"d":"0%"}},"[Please select]",{"v":0,"d":"0%"},"[Please select]",{"v":0,"d":"0%"}]
[{"$nulls":8},{"v":0,"d":"0.0"},{"$error":"#DIV/0!"},{"$nulls":3},"[Select country]",null,null,{"$f":"IF(VLOOKUP(N33,'pick lists'!$L$2:$M$217,2,FALSE) =\"Yes\",\"Yes\",\"No\")","v":{"$error":"#N/A"}},"[Please select]",null,"[Please select]",null,null,"[Please select]",null,null,"[Please select]","[Please select]","[Please select]","[Please select]","[Please select]",null,"[Please select]",null,"[Please select]",{"$nulls":7},"[Please select]",null,{"v":0,"d":"0%"},{"$f":"((IF(OR(AH33= \"Pre-consumer\", AH33 = \"Post-consumer\"), 'Bill of Materials'!J33, 0)) * AG33)+((IF(OR(AF33= \"Pre-consumer\", AF33 = \"Post-consumer\"), 'Bill of Materials'!J33, 0)) * AE33)","v":{"v":0,"d":"0%"}},{"$f":"((IF(OR(AH33=\"Renewable\",AH33=\"Responsibly sourced renewable\"),'Bill of Materials'!J33,0))*AG33)+((IF(OR(AF33=\"Renewable\",AF33=\"Responsibly sourced renewable\"),'Bill of Materials'!J33,0))*AE33)","v":{"v":0,"d":"0%"}},{"$f":"(IF(AH33 = \"Post-consumer\", 'Bill of Materials'!J33, 0) * AG33)+(IF(AF33=\"Post-consumer\",'Bill of Materials'!J33,0)*AE33)","v":{"v":0,"d":"0%"}},{"$f":"((IF(AH33= \"Responsibly sourced renewable\", 'Bill of Materials'!J33, 0)) * AG33)+((IF(AF33= \"Responsibly sourced renewable\", 'Bill of Materials'!J33, 0)) * AE33)","v":{"v":0,"d":"0%"}},"[Please select]",{"v":0,"d":"0%"},"[Please select]",{"v":0,"d":"0%"}]
[{"$nulls":8},{"v":0,"d":"0.0"},{"$error":"#DIV/0!"},{"$nulls":3},"[Select country]",null,null,{"$f":"IF(VLOOKUP(N34,'pick lists'!$L$2:$M$217,2,FALSE) =\"Yes\",\"Yes\",\"No\")","v":{"$error":"#N/A"}},"[Please select]",null,"[Please select]",null,null,"[Please select]",null,null,"[Please select]","[Please select]","[Please select]","[Please select]","[Please select]",null,"[Please select]",null,"[Please select]",{"$nulls":7},"[Please select]",null,{"v":0,"d":"0%"},{"$f":"((IF(OR(AH34= \"Pre-consumer\", AH34 = \"Post-consumer\"), 'Bill of Materials'!J34, 0)) * AG34)+((IF(OR(AF34= \"Pre-consumer\", AF34 = \"Post-consumer\"), 'Bill of Materials'!J34, 0)) * AE34)","v":{"v":0,"d":"0%"}},{"$f":"((IF(OR(AH34=\"Renewable\",AH34=\"Responsibly sourced renewable\"),'Bill of Materials'!J34,0))*AG34)+((IF(OR(AF34=\"Renewable\",AF34=\"Responsibly sourced renewable\"),'Bill of Materials'!J34,0))*AE34)","v":{"v":0,"d":"0%"}},{"$f":"(IF(AH34 = \"Post-consumer\", 'Bill of Materials'!J34, 0) * AG34)+(IF(AF34=\"Post-consumer\",'Bill of Materials'!J34,0)*AE34)","v":{"v":0,"d":"0%"}},{"$f":"((IF(AH34= \"Responsibly sourced renewable\", 'Bill of Materials'!J34, 0)) * AG34)+((IF(AF34= \"Responsibly sourced renewable\", 'Bill of Materials'!J34, 0)) * AE34)","v":{"v":0,"d":"0%"}},"[Please select]",{"v":0,"d":"0%"},"[Please select]",{"v":0,"d":"0%"}]
[{"$nulls":8},{"v":0,"d":"0.0"},{"$error":"#DIV/0!"},{"$nulls":3},"[Select country]",null,null,{"$f":"IF(VLOOKUP(N35,'pick lists'!$L$2:$M$217,2,FALSE) =\"Yes\",\"Yes\",\"No\")","v":{"$error":"#N/A"}},"[Please select]",null,"[Please select]",null,null,"[Please select]",null,null,"[Please select]","[Please select]","[Please select]","[Please select]","[Please select]",null,"[Please select]",null,"[Please select]",{"$nulls":7},"[Please select]",null,{"v":0,"d":"0%"},{"$f":"((IF(OR(AH35= \"Pre-consumer\", AH35 = \"Post-consumer\"), 'Bill of Materials'!J35, 0)) * AG35)+((IF(OR(AF35= \"Pre-consumer\", AF35 = \"Post-consumer\"), 'Bill of Materials'!J35, 0)) * AE35)","v":{"v":0,"d":"0%"}},{"$f":"((IF(OR(AH35=\"Renewable\",AH35=\"Responsibly sourced renewable\"),'Bill of Materials'!J35,0))*AG35)+((IF(OR(AF35=\"Renewable\",AF35=\"Responsibly sourced renewable\"),'Bill of Materials'!J35,0))*AE35)","v":{"v":0,"d":"0%"}},{"$f":"(IF(AH35 = \"Post-consumer\", 'Bill of Materials'!J35, 0) * AG35)+(IF(AF35=\"Post-consumer\",'Bill of Materials'!J35,0)*AE35)","v":{"v":0,"d":"0%"}},{"$f":"((IF(AH35= \"Responsibly sourced renewable\", 'Bill of Materials'!J35, 0)) * AG35)+((IF(AF35= \"Responsibly sourced renewable\", 'Bill of Materials'!J35, 0)) * AE35)","v":{"v":0,"d":"0%"}},"[Please select]",{"v":0,"d":"0%"},"[Please select]",{"v":0,"d":"0%"}]
[{"$nulls":8},{"v":0,"d":"0.0"},{"$error":"#DIV/0!"},{"$nulls":3},"[Select country]",null,null,{"$f":"IF(VLOOKUP(N36,'pick lists'!$L$2:$M$217,2,FALSE) =\"Yes\",\"Yes\",\"No\")","v":{"$error":"#N/A"}},"[Please select]",null,"[Please select]",null,null,"[Please select]",null,null,"[Please select]","[Please select]","[Please select]","[Please select]","[Please select]",null,"[Please select]",null,"[Please select]",{"$nulls":7},"[Please select]",null,{"v":0,"d":"0%"},{"$f":"((IF(OR(AH36= \"Pre-consumer\", AH36 = \"Post-consumer\"), 'Bill of Materials'!J36, 0)) * AG36)+((IF(OR(AF36= \"Pre-consumer\", AF36 = \"Post-consumer\"), 'Bill of Materials'!J36, 0)) * AE36)","v":{"v":0,"d":"0%"}},{"$f":"((IF(OR(AH36=\"Renewable\",AH36=\"Responsibly sourced renewable\"),'Bill of Materials'!J36,0))*AG36)+((IF(OR(AF36=\"Renewable\",AF36=\"Responsibly sourced renewable\"),'Bill of Materials'!J36,0))*AE36)","v":{"v":0,"d":"0%"}},{"$f":"(IF(AH36 = \"Post-consumer\", 'Bill of Materials'!J36, 0) * AG36)+(IF(AF36=\"Post-consumer\",'Bill of Materials'!J36,0)*AE36)","v":{"v":0,"d":"0%"}},{"$f":"((IF(AH36= \"Responsibly sourced renewable\", 'Bill of Materials'!J36, 0)) * AG36)+((IF(AF36= \"Responsibly sourced renewable\", 'Bill of Materials'!J36, 0)) * AE36)","v":{"v":0,"d":"0%"}},"[Please select]",{"v":0,"d":"0%"},"[Please select]",{"v":0,"d":"0%"}]
[{"$nulls":8},{"v":0,"d":"0.0"},{"$error":"#DIV/0!"},{"$nulls":3},"[Select country]",null,null,{"$f":"IF(VLOOKUP(N37,'pick lists'!$L$2:$M$217,2,FALSE) =\"Yes\",\"Yes\",\"No\")","v":{"$error":"#N/A"}},"[Please select]",null,"[Please select]",null,null,"[Please select]",null,null,"[Please select]","[Please select]","[Please select]","[Please select]","[Please select]",null,"[Please select]",null,"[Please select]",{"$nulls":7},"[Please select]",null,{"v":0,"d":"0%"},{"$f":"((IF(OR(AH37= \"Pre-consumer\", AH37 = \"Post-consumer\"), 'Bill of Materials'!J37, 0)) * AG37)+((IF(OR(AF37= \"Pre-consumer\", AF37 = \"Post-consumer\"), 'Bill of Materials'!J37, 0)) * AE37)","v":{"v":0,"d":"0%"}},{"$f":"((IF(OR(AH37=\"Renewable\",AH37=\"Responsibly sourced renewable\"),'Bill of Materials'!J37,0))*AG37)+((IF(OR(AF37=\"Renewable\",AF37=\"Responsibly sourced renewable\"),'Bill of Materials'!J37,0))*AE37)","v":{"v":0,"d":"0%"}},{"$f":"(IF(AH37 = \"Post-consumer\", 'Bill of Materials'!J37, 0) * AG37)+(IF(AF37=\"Post-consumer\",'Bill of Materials'!J37,0)*AE37)","v":{"v":0,"d":"0%"}},{"$f":"((IF(AH37= \"Responsibly sourced renewable\", 'Bill of Materials'!J37, 0)) * AG37)+((IF(AF37= \"Responsibly sourced renewable\", 'Bill of Materials'!J37, 0)) * AE37)","v":{"v":0,"d":"0%"}},"[Please select]",{"v":0,"d":"0%"},"[Please select]",{"v":0,"d":"0%"}]
[{"$nulls":8},{"v":0,"d":"0.0"},{"$error":"#DIV/0!"},{"$nulls":3},"[Select country]",null,null,{"$f":"IF(VLOOKUP(N38,'pick lists'!$L$2:$M$217,2,FALSE) =\"Yes\",\"Yes\",\"No\")","v":{"$error":"#N/A"}},"[Please select]",null,"[Please select]",null,null,"[Please select]",null,null,"[Please select]","[Please select]","[Please select]","[Please select]","[Please select]",null,"[Please select]",null,"[Please select]",{"$nulls":7},"[Please select]",null,{"v":0,"d":"0%"},{"$f":"((IF(OR(AH38= \"Pre-consumer\", AH38 = \"Post-consumer\"), 'Bill of Materials'!J38, 0)) * AG38)+((IF(OR(AF38= \"Pre-consumer\", AF38 = \"Post-consumer\"), 'Bill of Materials'!J38, 0)) * AE38)","v":{"v":0,"d":"0%"}},{"$f":"((IF(OR(AH38=\"Renewable\",AH38=\"Responsibly sourced renewable\"),'Bill of Materials'!J38,0))*AG38)+((IF(OR(AF38=\"Renewable\",AF38=\"Responsibly sourced renewable\"),'Bill of Materials'!J38,0))*AE38)","v":{"v":0,"d":"0%"}},{"$f":"(IF(AH38 = \"Post-consumer\", 'Bill of Materials'!J38, 0) * AG38)+(IF(AF38=\"Post-consumer\",'Bill of Materials'!J38,0)*AE38)","v":{"v":0,"d":"0%"}},{"$f":"((IF(AH38= \"Responsibly sourced renewable\", 'Bill of Materials'!J38, 0)) * AG38)+((IF(AF38= \"Responsibly sourced renewable\", 'Bill of Materials'!J38, 0)) * AE38)","v":{"v":0,"d":"0%"}},"[Please select]",{"v":0,"d":"0%"},"[Please select]",{"v":0,"d":"0%"}]
[{"$nulls":8},{"v":0,"d":"0.0"},{"$error":"#DIV/0!"},{"$nulls":3},"[Select country]",null,null,{"$f":"IF(VLOOKUP(N39,'pick lists'!$L$2:$M$217,2,FALSE) =\"Yes\",\"Yes\",\"No\")","v":{"$error":"#N/A"}},"[Please select]",null,"[Please select]",null,null,"[Please select]",null,null,"[Please select]","[Please select]","[Please select]","[Please select]","[Please select]",null,"[Please select]",null,"[Please select]",{"$nulls":7},"[Please select]",null,{"v":0,"d":"0%"},{"$f":"((IF(OR(AH39= \"Pre-consumer\", AH39 = \"Post-consumer\"), 'Bill of Materials'!J39, 0)) * AG39)+((IF(OR(AF39= \"Pre-consumer\", AF39 = \"Post-consumer\"), 'Bill of Materials'!J39, 0)) * AE39)","v":{"v":0,"d":"0%"}},{"$f":"((IF(OR(AH39=\"Renewable\",AH39=\"Responsibly sourced renewable\"),'Bill of Materials'!J39,0))*AG39)+((IF(OR(AF39=\"Renewable\",AF39=\"Responsibly sourced renewable\"),'Bill of Materials'!J39,0))*AE39)","v":{"v":0,"d":"0%"}},{"$f":"(IF(AH39 = \"Post-consumer\", 'Bill of Materials'!J39, 0) * AG39)+(IF(AF39=\"Post-consumer\",'Bill of Materials'!J39,0)*AE39)","v":{"v":0,"d":"0%"}},{"$f":"((IF(AH39= \"Responsibly sourced renewable\", 'Bill of Materials'!J39, 0)) * AG39)+((IF(AF39= \"Responsibly sourced renewable\", 'Bill of Materials'!J39, 0)) * AE39)","v":{"v":0,"d":"0%"}},"[Please select]",{"v":0,"d":"0%"},"[Please select]",{"v":0,"d":"0%"}]
[{"$nulls":8},{"v":0,"d":"0.0"},{"$error":"#DIV/0!"},{"$nulls":3},"[Select country]",null,null,{"$f":"IF(VLOOKUP(N40,'pick lists'!$L$2:$M$217,2,FALSE) =\"Yes\",\"Yes\",\"No\")","v":{"$error":"#N/A"}},"[Please select]",null,"[Please select]",null,null,"[Please select]",null,null,"[Please select]","[Please select]","[Please select]","[Please select]","[Please select]",null,"[Please select]",null,"[Please select]",{"$nulls":7},"[Please select]",null,{"v":0,"d":"0%"},{"$f":"((IF(OR(AH40= \"Pre-consumer\", AH40 = \"Post-consumer\"), 'Bill of Materials'!J40, 0)) * AG40)+((IF(OR(AF40= \"Pre-consumer\", AF40 = \"Post-consumer\"), 'Bill of Materials'!J40, 0)) * AE40)","v":{"v":0,"d":"0%"}},{"$f":"((IF(OR(AH40=\"Renewable\",AH40=\"Responsibly sourced renewable\"),'Bill of Materials'!J40,0))*AG40)+((IF(OR(AF40=\"Renewable\",AF40=\"Responsibly sourced renewable\"),'Bill of Materials'!J40,0))*AE40)","v":{"v":0,"d":"0%"}},{"$f":"(IF(AH40 = \"Post-consumer\", 'Bill of Materials'!J40, 0) * AG40)+(IF(AF40=\"Post-consumer\",'Bill of Materials'!J40,0)*AE40)","v":{"v":0,"d":"0%"}},{"$f":"((IF(AH40= \"Responsibly sourced renewable\", 'Bill of Materials'!J40, 0)) * AG40)+((IF(AF40= \"Responsibly sourced renewable\", 'Bill of Materials'!J40, 0)) * AE40)","v":{"v":0,"d":"0%"}},"[Please select]",{"v":0,"d":"0%"},"[Please select]",{"v":0,"d":"0%"}]
[{"$nulls":8},{"v":0,"d":"0.0"},{"$error":"#DIV/0!"},{"$nulls":3},"[Select country]",null,null,{"$f":"IF(VLOOKUP(N41,'pick lists'!$L$2:$M$217,2,FALSE) =\"Yes\",\"Yes\",\"No\")","v":{"$error":"#N/A"}},"[Please select]",null,"[Please select]",null,null,"[Please select]",null,null,"[Please select]","[Please select]","[Please select]","[Please select]","[Please select]",null,"[Please select]",null,"[Please select]",{"$nulls":7},"[Please select]",null,{"v":0,"d":"0%"},{"$f":"((IF(OR(AH41= \"Pre-consumer\", AH41 = \"Post-consumer\"), 'Bill of Materials'!J41, 0)) * AG41)+((IF(OR(AF41= \"Pre-consumer\", AF41 = \"Post-consumer\"), 'Bill of Materials'!J41, 0)) * AE41)","v":{"v":0,"d":"0%"}},{"$f":"((IF(OR(AH41=\"Renewable\",AH41=\"Responsibly sourced renewable\"),'Bill of Materials'!J41,0))*AG41)+((IF(OR(AF41=\"Renewable\",AF41=\"Responsibly sourced renewable\"),'Bill of Materials'!J41,0))*AE41)","v":{"v":0,"d":"0%"}},{"$f":"(IF(AH41 = \"Post-consumer\", 'Bill of Materials'!J41, 0) * AG41)+(IF(AF41=\"Post-consumer\",'Bill of Materials'!J41,0)*AE41)","v":{"v":0,"d":"0%"}},{"$f":"((IF(AH41= \"Responsibly sourced renewable\", 'Bill of Materials'!J41, 0)) * AG41)+((IF(AF41= \"Responsibly sourced renewable\", 'Bill of Materials'!J41, 0)) * AE41)","v":{"v":0,"d":"0%"}},"[Please select]",{"v":0,"d":"0%"},"[Please select]",{"v":0,"d":"0%"}]
[{"$nulls":8},{"v":0,"d":"0.0"},{"$error":"#DIV/0!"},{"$nulls":3},"[Select country]",null,null,{"$f":"IF(VLOOKUP(N42,'pick lists'!$L$2:$M$217,2,FALSE) =\"Yes\",\"Yes\",\"No\")","v":{"$error":"#N/A"}},"[Please select]",null,"[Please select]",null,null,"[Please select]",null,null,"[Please select]","[Please select]","[Please select]","[Please select]","[Please select]",null,"[Please select]",null,"[Please select]",{"$nulls":7},"[Please select]",null,{"v":0,"d":"0%"},{"$f":"((IF(OR(AH42= \"Pre-consumer\", AH42 = \"Post-consumer\"), 'Bill of Materials'!J42, 0)) * AG42)+((IF(OR(AF42= \"Pre-consumer\", AF42 = \"Post-consumer\"), 'Bill of Materials'!J42, 0)) * AE42)","v":{"v":0,"d":"0%"}},{"$f":"((IF(OR(AH42=\"Renewable\",AH42=\"Responsibly sourced renewable\"),'Bill of Materials'!J42,0))*AG42)+((IF(OR(AF42=\"Renewable\",AF42=\"Responsibly sourced renewable\"),'Bill of Materials'!J42,0))*AE42)","v":{"v":0,"d":"0%"}},{"$f":"(IF(AH42 = \"Post-consumer\", 'Bill of Materials'!J42, 0) * AG42)+(IF(AF42=\"Post-consumer\",'Bill of Materials'!J42,0)*AE42)","v":{"v":0,"d":"0%"}},{"$f":"((IF(AH42= \"Responsibly sourced renewable\", 'Bill of Materials'!J42, 0)) * AG42)+((IF(AF42= \"Responsibly sourced renewable\", 'Bill of Materials'!J42, 0)) * AE42)","v":{"v":0,"d":"0%"}},"[Please select]",{"v":0,"d":"0%"},"[Please select]",{"v":0,"d":"0%"}]
[{"$nulls":8},{"v":0,"d":"0.0"},{"$error":"#DIV/0!"},{"$nulls":3},"[Select country]",null,null,{"$f":"IF(VLOOKUP(N43,'pick lists'!$L$2:$M$217,2,FALSE) =\"Yes\",\"Yes\",\"No\")","v":{"$error":"#N/A"}},"[Please select]",null,"[Please select]",null,null,"[Please select]",null,null,"[Please select]","[Please select]","[Please select]","[Please select]","[Please select]",null,"[Please select]",null,"[Please select]",{"$nulls":7},"[Please select]",null,{"v":0,"d":"0%"},{"$f":"((IF(OR(AH43= \"Pre-consumer\", AH43 = \"Post-consumer\"), 'Bill of Materials'!J43, 0)) * AG43)+((IF(OR(AF43= \"Pre-consumer\", AF43 = \"Post-consumer\"), 'Bill of Materials'!J43, 0)) * AE43)","v":{"v":0,"d":"0%"}},{"$f":"((IF(OR(AH43=\"Renewable\",AH43=\"Responsibly sourced renewable\"),'Bill of Materials'!J43,0))*AG43)+((IF(OR(AF43=\"Renewable\",AF43=\"Responsibly sourced renewable\"),'Bill of Materials'!J43,0))*AE43)","v":{"v":0,"d":"0%"}},{"$f":"(IF(AH43 = \"Post-consumer\", 'Bill of Materials'!J43, 0) * AG43)+(IF(AF43=\"Post-consumer\",'Bill of Materials'!J43,0)*AE43)","v":{"v":0,"d":"0%"}},{"$f":"((IF(AH43= \"Responsibly sourced renewable\", 'Bill of Materials'!J43, 0)) * AG43)+((IF(AF43= \"Responsibly sourced renewable\", 'Bill of Materials'!J43, 0)) * AE43)","v":{"v":0,"d":"0%"}},"[Please select]",{"v":0,"d":"0%"},"[Please select]",{"v":0,"d":"0%"}]
[{"$nulls":8},{"v":0,"d":"0.0"},{"$error":"#DIV/0!"},{"$nulls":3},"[Select country]",null,null,{"$f":"IF(VLOOKUP(N44,'pick lists'!$L$2:$M$217,2,FALSE) =\"Yes\",\"Yes\",\"No\")","v":{"$error":"#N/A"}},"[Please select]",null,"[Please select]",null,null,"[Please select]",null,null,"[Please select]","[Please select]","[Please select]","[Please select]","[Please select]",null,"[Please select]",null,"[Please select]",{"$nulls":7},"[Please select]",null,{"v":0,"d":"0%"},{"$f":"((IF(OR(AH44= \"Pre-consumer\", AH44 = \"Post-consumer\"), 'Bill of Materials'!J44, 0)) * AG44)+((IF(OR(AF44= \"Pre-consumer\", AF44 = \"Post-consumer\"), 'Bill of Materials'!J44, 0)) * AE44)","v":{"v":0,"d":"0%"}},{"$f":"((IF(OR(AH44=\"Renewable\",AH44=\"Responsibly sourced renewable\"),'Bill of Materials'!J44,0))*AG44)+((IF(OR(AF44=\"Renewable\",AF44=\"Responsibly sourced renewable\"),'Bill of Materials'!J44,0))*AE44)","v":{"v":0,"d":"0%"}},{"$f":"(IF(AH44 = \"Post-consumer\", 'Bill of Materials'!J44, 0) * AG44)+(IF(AF44=\"Post-consumer\",'Bill of Materials'!J44,0)*AE44)","v":{"v":0,"d":"0%"}},{"$f":"((IF(AH44= \"Responsibly sourced renewable\", 'Bill of Materials'!J44, 0)) * AG44)+((IF(AF44= \"Responsibly sourced renewable\", 'Bill of Materials'!J44, 0)) * AE44)","v":{"v":0,"d":"0%"}},"[Please select]",{"v":0,"d":"0%"},"[Please select]",{"v":0,"d":"0%"}]
[{"$nulls":8},{"v":0,"d":"0.0"},{"$error":"#DIV/0!"},{"$nulls":3},"[Select country]",null,null,{"$f":"IF(VLOOKUP(N45,'pick lists'!$L$2:$M$217,2,FALSE) =\"Yes\",\"Yes\",\"No\")","v":{"$error":"#N/A"}},"[Please select]",null,"[Please select]",null,null,"[Please select]",null,null,"[Please select]","[Please select]","[Please select]","[Please select]","[Please select]",null,"[Please select]",null,"[Please select]",{"$nulls":7},"[Please select]",null,{"v":0,"d":"0%"},{"$f":"((IF(OR(AH45= \"Pre-consumer\", AH45 = \"Post-consumer\"), 'Bill of Materials'!J45, 0)) * AG45)+((IF(OR(AF45= \"Pre-consumer\", AF45 = \"Post-consumer\"), 'Bill of Materials'!J45, 0)) * AE45)","v":{"v":0,"d":"0%"}},{"$f":"((IF(OR(AH45=\"Renewable\",AH45=\"Responsibly sourced renewable\"),'Bill of Materials'!J45,0))*AG45)+((IF(OR(AF45=\"Renewable\",AF45=\"Responsibly sourced renewable\"),'Bill of Materials'!J45,0))*AE45)","v":{"v":0,"d":"0%"}},{"$f":"(IF(AH45 = \"Post-consumer\", 'Bill of Materials'!J45, 0) * AG45)+(IF(AF45=\"Post-consumer\",'Bill of Materials'!J45,0)*AE45)","v":{"v":0,"d":"0%"}},{"$f":"((IF(AH45= \"Responsibly sourced renewable\", 'Bill of Materials'!J45, 0)) * AG45)+((IF(AF45= \"Responsibly sourced renewable\", 'Bill of Materials'!J45, 0)) * AE45)","v":{"v":0,"d":"0%"}},"[Please select]",{"v":0,"d":"0%"},"[Please select]",{"v":0,"d":"0%"}]
[{"$nulls":8},{"v":0,"d":"0.0"},{"$error":"#DIV/0!"},{"$nulls":3},"[Select country]",null,null,{"$f":"IF(VLOOKUP(N46,'pick lists'!$L$2:$M$217,2,FALSE) =\"Yes\",\"Yes\",\"No\")","v":{"$error":"#N/A"}},"[Please select]",null,"[Please select]",null,null,"[Please select]",null,null,"[Please select]","[Please select]","[Please select]","[Please select]","[Please select]",null,"[Please select]",null,"[Please select]",{"$nulls":7},"[Please select]",null,{"v":0,"d":"0%"},{"$f":"((IF(OR(AH46= \"Pre-consumer\", AH46 = \"Post-consumer\"), 'Bill of Materials'!J46, 0)) * AG46)+((IF(OR(AF46= \"Pre-consumer\", AF46 = \"Post-consumer\"), 'Bill of Materials'!J46, 0)) * AE46)","v":{"v":0,"d":"0%"}},{"$f":"((IF(OR(AH46=\"Renewable\",AH46=\"Responsibly sourced renewable\"),'Bill of Materials'!J46,0))*AG46)+((IF(OR(AF46=\"Renewable\",AF46=\"Responsibly sourced renewable\"),'Bill of Materials'!J46,0))*AE46)","v":{"v":0,"d":"0%"}},{"$f":"(IF(AH46 = \"Post-consumer\", 'Bill of Materials'!J46, 0) * AG46)+(IF(AF46=\"Post-consumer\",'Bill of Materials'!J46,0)*AE46)","v":{"v":0,"d":"0%"}},{"$f":"((IF(AH46= \"Responsibly sourced renewable\", 'Bill of Materials'!J46, 0)) * AG46)+((IF(AF46= \"Responsibly sourced renewable\", 'Bill of Materials'!J46, 0)) * AE46)","v":{"v":0,"d":"0%"}},"[Please select]",{"v":0,"d":"0%"},"[Please select]",{"v":0,"d":"0%"}]
[{"$nulls":8},{"v":0,"d":"0.0"},{"$error":"#DIV/0!"},{"$nulls":3},"[Select country]",null,null,{"$f":"IF(VLOOKUP(N47,'pick lists'!$L$2:$M$217,2,FALSE) =\"Yes\",\"Yes\",\"No\")","v":{"$error":"#N/A"}},"[Please select]",null,"[Please select]",null,null,"[Please select]",null,null,"[Please select]","[Please select]","[Please select]","[Please select]","[Please select]",null,"[Please select]",null,"[Please select]",{"$nulls":7},"[Please select]",null,{"v":0,"d":"0%"},{"$f":"((IF(OR(AH47= \"Pre-consumer\", AH47 = \"Post-consumer\"), 'Bill of Materials'!J47, 0)) * AG47)+((IF(OR(AF47= \"Pre-consumer\", AF47 = \"Post-consumer\"), 'Bill of Materials'!J47, 0)) * AE47)","v":{"v":0,"d":"0%"}},{"$f":"((IF(OR(AH47=\"Renewable\",AH47=\"Responsibly sourced renewable\"),'Bill of Materials'!J47,0))*AG47)+((IF(OR(AF47=\"Renewable\",AF47=\"Responsibly sourced renewable\"),'Bill of Materials'!J47,0))*AE47)","v":{"v":0,"d":"0%"}},{"$f":"(IF(AH47 = \"Post-consumer\", 'Bill of Materials'!J47, 0) * AG47)+(IF(AF47=\"Post-consumer\",'Bill of Materials'!J47,0)*AE47)","v":{"v":0,"d":"0%"}},{"$f":"((IF(AH47= \"Responsibly sourced renewable\", 'Bill of Materials'!J47, 0)) * AG47)+((IF(AF47= \"Responsibly sourced renewable\", 'Bill of Materials'!J47, 0)) * AE47)","v":{"v":0,"d":"0%"}},"[Please select]",{"v":0,"d":"0%"},"[Please select]",{"v":0,"d":"0%"}]
[{"$nulls":8},{"v":0,"d":"0.0"},{"$error":"#DIV/0!"},{"$nulls":3},"[Select country]",null,null,{"$f":"IF(VLOOKUP(N48,'pick lists'!$L$2:$M$217,2,FALSE) =\"Yes\",\"Yes\",\"No\")","v":{"$error":"#N/A"}},"[Please select]",null,"[Please select]",null,null,"[Please select]",null,null,"[Please select]","[Please select]","[Please select]","[Please select]","[Please select]",null,"[Please select]",null,"[Please select]",{"$nulls":7},"[Please select]",null,{"v":0,"d":"0%"},{"$f":"((IF(OR(AH48= \"Pre-consumer\", AH48 = \"Post-consumer\"), 'Bill of Materials'!J48, 0)) * AG48)+((IF(OR(AF48= \"Pre-consumer\", AF48 = \"Post-consumer\"), 'Bill of Materials'!J48, 0)) * AE48)","v":{"v":0,"d":"0%"}},{"$f":"((IF(OR(AH48=\"Renewable\",AH48=\"Responsibly sourced renewable\"),'Bill of Materials'!J48,0))*AG48)+((IF(OR(AF48=\"Renewable\",AF48=\"Responsibly sourced renewable\"),'Bill of Materials'!J48,0))*AE48)","v":{"v":0,"d":"0%"}},{"$f":"(IF(AH48 = \"Post-consumer\", 'Bill of Materials'!J48, 0) * AG48)+(IF(AF48=\"Post-consumer\",'Bill of Materials'!J48,0)*AE48)","v":{"v":0,"d":"0%"}},{"$f":"((IF(AH48= \"Responsibly sourced renewable\", 'Bill of Materials'!J48, 0)) * AG48)+((IF(AF48= \"Responsibly sourced renewable\", 'Bill of Materials'!J48, 0)) * AE48)","v":{"v":0,"d":"0%"}},"[Please select]",{"$f":"IF(OR(AW48=\"Biological\",AW48=\"Technical\",AW48=\"Both\"), J48, 0)","v":{"v":0,"d":"0%"}},"[Please select]",{"$f":"IF(AY48=\"Yes\",J48,0)","v":{"v":0,"d":"0%"}}]
[{"$nulls":8},{"v":0,"d":"0.0"},{"$error":"#DIV/0!"},{"$nulls":3},"[Select country]",null,null,{"$f":"IF(VLOOKUP(N49,'pick lists'!$L$2:$M$217,2,FALSE) =\"Yes\",\"Yes\",\"No\")","v":{"$error":"#N/A"}},"[Please select]",null,"[Please select]",null,null,"[Please select]",null,null,"[Please select]","[Please select]","[Please select]","[Please select]","[Please select]",null,"[Please select]",null,"[Please select]",{"$nulls":7},"[Please select]",null,{"v":0,"d":"0%"},{"$f":"((IF(OR(AH49= \"Pre-consumer\", AH49 = \"Post-consumer\"), 'Bill of Materials'!J49, 0)) * AG49)+((IF(OR(AF49= \"Pre-consumer\", AF49 = \"Post-consumer\"), 'Bill of Materials'!J49, 0)) * AE49)","v":{"v":0,"d":"0%"}},{"$f":"((IF(OR(AH49=\"Renewable\",AH49=\"Responsibly sourced renewable\"),'Bill of Materials'!J49,0))*AG49)+((IF(OR(AF49=\"Renewable\",AF49=\"Responsibly sourced renewable\"),'Bill of Materials'!J49,0))*AE49)","v":{"v":0,"d":"0%"}},{"$f":"(IF(AH49 = \"Post-consumer\", 'Bill of Materials'!J49, 0) * AG49)+(IF(AF49=\"Post-consumer\",'Bill of Materials'!J49,0)*AE49)","v":{"v":0,"d":"0%"}},{"$f":"((IF(AH49= \"Responsibly sourced renewable\", 'Bill of Materials'!J49, 0)) * AG49)+((IF(AF49= \"Responsibly sourced renewable\", 'Bill of Materials'!J49, 0)) * AE49)","v":{"v":0,"d":"0%"}},"[Please select]",{"v":0,"d":"0%"},"[Please select]",{"v":0,"d":"0%"}]
[{"$nulls":8},{"v":0,"d":"0.0"},{"$error":"#DIV/0!"},{"$nulls":3},"[Select country]",null,null,{"$f":"IF(VLOOKUP(N50,'pick lists'!$L$2:$M$217,2,FALSE) =\"Yes\",\"Yes\",\"No\")","v":{"$error":"#N/A"}},"[Please select]",null,"[Please select]",null,null,"[Please select]",null,null,"[Please select]","[Please select]","[Please select]","[Please select]","[Please select]",null,"[Please select]",null,"[Please select]",{"$nulls":7},"[Please select]",null,{"v":0,"d":"0%"},{"$f":"((IF(OR(AH50= \"Pre-consumer\", AH50 = \"Post-consumer\"), 'Bill of Materials'!J50, 0)) * AG50)+((IF(OR(AF50= \"Pre-consumer\", AF50 = \"Post-consumer\"), 'Bill of Materials'!J50, 0)) * AE50)","v":{"v":0,"d":"0%"}},{"$f":"((IF(OR(AH50=\"Renewable\",AH50=\"Responsibly sourced renewable\"),'Bill of Materials'!J50,0))*AG50)+((IF(OR(AF50=\"Renewable\",AF50=\"Responsibly sourced renewable\"),'Bill of Materials'!J50,0))*AE50)","v":{"v":0,"d":"0%"}},{"$f":"(IF(AH50 = \"Post-consumer\", 'Bill of Materials'!J50, 0) * AG50)+(IF(AF50=\"Post-consumer\",'Bill of Materials'!J50,0)*AE50)","v":{"v":0,"d":"0%"}},{"$f":"((IF(AH50= \"Responsibly sourced renewable\", 'Bill of Materials'!J50, 0)) * AG50)+((IF(AF50= \"Responsibly sourced renewable\", 'Bill of Materials'!J50, 0)) * AE50)","v":{"v":0,"d":"0%"}},"[Please select]",{"v":0,"d":"0%"},"[Please select]",{"v":0,"d":"0%"}]
[{"$nulls":8},{"v":0,"d":"0.0"},{"$error":"#DIV/0!"},{"$nulls":3},"[Select country]",null,null,{"$f":"IF(VLOOKUP(N51,'pick lists'!$L$2:$M$217,2,FALSE) =\"Yes\",\"Yes\",\"No\")","v":{"$error":"#N/A"}},"[Please select]",null,"[Please select]",null,null,"[Please select]",null,null,"[Please select]","[Please select]","[Please select]","[Please select]","[Please select]",null,"[Please select]",null,"[Please select]",{"$nulls":7},"[Please select]",null,{"v":0,"d":"0%"},{"$f":"((IF(OR(AH51= \"Pre-consumer\", AH51 = \"Post-consumer\"), 'Bill of Materials'!J51, 0)) * AG51)+((IF(OR(AF51= \"Pre-consumer\", AF51 = \"Post-consumer\"), 'Bill of Materials'!J51, 0)) * AE51)","v":{"v":0,"d":"0%"}},{"$f":"((IF(OR(AH51=\"Renewable\",AH51=\"Responsibly sourced renewable\"),'Bill of Materials'!J51,0))*AG51)+((IF(OR(AF51=\"Renewable\",AF51=\"Responsibly sourced renewable\"),'Bill of Materials'!J51,0))*AE51)","v":{"v":0,"d":"0%"}},{"$f":"(IF(AH51 = \"Post-consumer\", 'Bill of Materials'!J51, 0) * AG51)+(IF(AF51=\"Post-consumer\",'Bill of Materials'!J51,0)*AE51)","v":{"v":0,"d":"0%"}},{"$f":"((IF(AH51= \"Responsibly sourced renewable\", 'Bill of Materials'!J51, 0)) * AG51)+((IF(AF51= \"Responsibly sourced renewable\", 'Bill of Materials'!J51, 0)) * AE51)","v":{"v":0,"d":"0%"}},"[Please select]",{"v":0,"d":"0%"},"[Please select]",{"v":0,"d":"0%"}]
[{"$nulls":8},{"v":0,"d":"0.0"},{"$error":"#DIV/0!"},{"$nulls":3},"[Select country]",null,null,{"$f":"IF(VLOOKUP(N52,'pick lists'!$L$2:$M$217,2,FALSE) =\"Yes\",\"Yes\",\"No\")","v":{"$error":"#N/A"}},"[Please select]",null,"[Please select]",null,null,"[Please select]",null,null,"[Please select]","[Please select]","[Please select]","[Please select]","[Please select]",null,"[Please select]",null,"[Please select]",{"$nulls":7},"[Please select]",null,{"v":0,"d":"0%"},{"$f":"((IF(OR(AH52= \"Pre-consumer\", AH52 = \"Post-consumer\"), 'Bill of Materials'!J52, 0)) * AG52)+((IF(OR(AF52= \"Pre-consumer\", AF52 = \"Post-consumer\"), 'Bill of Materials'!J52, 0)) * AE52)","v":{"v":0,"d":"0%"}},{"$f":"((IF(OR(AH52=\"Renewable\",AH52=\"Responsibly sourced renewable\"),'Bill of Materials'!J52,0))*AG52)+((IF(OR(AF52=\"Renewable\",AF52=\"Responsibly sourced renewable\"),'Bill of Materials'!J52,0))*AE52)","v":{"v":0,"d":"0%"}},{"$f":"(IF(AH52 = \"Post-consumer\", 'Bill of Materials'!J52, 0) * AG52)+(IF(AF52=\"Post-consumer\",'Bill of Materials'!J52,0)*AE52)","v":{"v":0,"d":"0%"}},{"$f":"((IF(AH52= \"Responsibly sourced renewable\", 'Bill of Materials'!J52, 0)) * AG52)+((IF(AF52= \"Responsibly sourced renewable\", 'Bill of Materials'!J52, 0)) * AE52)","v":{"v":0,"d":"0%"}},"[Please select]",{"v":0,"d":"0%"},"[Please select]",{"v":0,"d":"0%"}]
[{"$nulls":8},{"v":0,"d":"0.0"},{"$error":"#DIV/0!"},{"$nulls":3},"[Select country]",null,null,{"$f":"IF(VLOOKUP(N53,'pick lists'!$L$2:$M$217,2,FALSE) =\"Yes\",\"Yes\",\"No\")","v":{"$error":"#N/A"}},"[Please select]",null,"[Please select]",null,null,"[Please select]",null,null,"[Please select]","[Please select]","[Please select]","[Please select]","[Please select]",null,"[Please select]",null,"[Please select]",{"$nulls":7},"[Please select]",null,{"v":0,"d":"0%"},{"$f":"((IF(OR(AH53= \"Pre-consumer\", AH53 = \"Post-consumer\"), 'Bill of Materials'!J53, 0)) * AG53)+((IF(OR(AF53= \"Pre-consumer\", AF53 = \"Post-consumer\"), 'Bill of Materials'!J53, 0)) * AE53)","v":{"v":0,"d":"0%"}},{"$f":"((IF(OR(AH53=\"Renewable\",AH53=\"Responsibly sourced renewable\"),'Bill of Materials'!J53,0))*AG53)+((IF(OR(AF53=\"Renewable\",AF53=\"Responsibly sourced renewable\"),'Bill of Materials'!J53,0))*AE53)","v":{"v":0,"d":"0%"}},{"$f":"(IF(AH53 = \"Post-consumer\", 'Bill of Materials'!J53, 0) * AG53)+(IF(AF53=\"Post-consumer\",'Bill of Materials'!J53,0)*AE53)","v":{"v":0,"d":"0%"}},{"$f":"((IF(AH53= \"Responsibly sourced renewable\", 'Bill of Materials'!J53, 0)) * AG53)+((IF(AF53= \"Responsibly sourced renewable\", 'Bill of Materials'!J53, 0)) * AE53)","v":{"v":0,"d":"0%"}},"[Please select]",{"v":0,"d":"0%"},"[Please select]",{"v":0,"d":"0%"}]
[{"$nulls":8},{"v":0,"d":"0.0"},{"$error":"#DIV/0!"},{"$nulls":3},"[Select country]",null,null,{"$f":"IF(VLOOKUP(N54,'pick lists'!$L$2:$M$217,2,FALSE) =\"Yes\",\"Yes\",\"No\")","v":{"$error":"#N/A"}},"[Please select]",null,"[Please select]",null,null,"[Please select]",null,null,"[Please select]","[Please select]","[Please select]","[Please select]","[Please select]",null,"[Please select]",null,"[Please select]",{"$nulls":7},"[Please select]",null,{"v":0,"d":"0%"},{"$f":"((IF(OR(AH54= \"Pre-consumer\", AH54 = \"Post-consumer\"), 'Bill of Materials'!J54, 0)) * AG54)+((IF(OR(AF54= \"Pre-consumer\", AF54 = \"Post-consumer\"), 'Bill of Materials'!J54, 0)) * AE54)","v":{"v":0,"d":"0%"}},{"$f":"((IF(OR(AH54=\"Renewable\",AH54=\"Responsibly sourced renewable\"),'Bill of Materials'!J54,0))*AG54)+((IF(OR(AF54=\"Renewable\",AF54=\"Responsibly sourced renewable\"),'Bill of Materials'!J54,0))*AE54)","v":{"v":0,"d":"0%"}},{"$f":"(IF(AH54 = \"Post-consumer\", 'Bill of Materials'!J54, 0) * AG54)+(IF(AF54=\"Post-consumer\",'Bill of Materials'!J54,0)*AE54)","v":{"v":0,"d":"0%"}},{"$f":"((IF(AH54= \"Responsibly sourced renewable\", 'Bill of Materials'!J54, 0)) * AG54)+((IF(AF54= \"Responsibly sourced renewable\", 'Bill of Materials'!J54, 0)) * AE54)","v":{"v":0,"d":"0%"}},"[Please select]",{"v":0,"d":"0%"},"[Please select]",{"v":0,"d":"0%"}]
[{"$nulls":8},{"v":0,"d":"0.0"},{"$error":"#DIV/0!"},{"$nulls":3},"[Select country]",null,null,{"$f":"IF(VLOOKUP(N55,'pick lists'!$L$2:$M$217,2,FALSE) =\"Yes\",\"Yes\",\"No\")","v":{"$error":"#N/A"}},"[Please select]",null,"[Please select]",null,null,"[Please select]",null,null,"[Please select]","[Please select]","[Please select]","[Please select]","[Please select]",null,"[Please select]",null,"[Please select]",{"$nulls":7},"[Please select]",null,{"v":0,"d":"0%"},{"$f":"((IF(OR(AH55= \"Pre-consumer\", AH55 = \"Post-consumer\"), 'Bill of Materials'!J55, 0)) * AG55)+((IF(OR(AF55= \"Pre-consumer\", AF55 = \"Post-consumer\"), 'Bill of Materials'!J55, 0)) * AE55)","v":{"v":0,"d":"0%"}},{"$f":"((IF(OR(AH55=\"Renewable\",AH55=\"Responsibly sourced renewable\"),'Bill of Materials'!J55,0))*AG55)+((IF(OR(AF55=\"Renewable\",AF55=\"Responsibly sourced renewable\"),'Bill of Materials'!J55,0))*AE55)","v":{"v":0,"d":"0%"}},{"$f":"(IF(AH55 = \"Post-consumer\", 'Bill of Materials'!J55, 0) * AG55)+(IF(AF55=\"Post-consumer\",'Bill of Materials'!J55,0)*AE55)","v":{"v":0,"d":"0%"}},{"$f":"((IF(AH55= \"Responsibly sourced renewable\", 'Bill of Materials'!J55, 0)) * AG55)+((IF(AF55= \"Responsibly sourced renewable\", 'Bill of Materials'!J55, 0)) * AE55)","v":{"v":0,"d":"0%"}},"[Please select]",{"v":0,"d":"0%"},"[Please select]",{"v":0,"d":"0%"}]
[{"$nulls":8},{"v":0,"d":"0.0"},{"$error":"#DIV/0!"},{"$nulls":3},"[Select country]",null,null,{"$f":"IF(VLOOKUP(N56,'pick lists'!$L$2:$M$217,2,FALSE) =\"Yes\",\"Yes\",\"No\")","v":{"$error":"#N/A"}},"[Please select]",null,"[Please select]",null,null,"[Please select]",null,null,"[Please select]","[Please select]","[Please select]","[Please select]","[Please select]",null,"[Please select]",null,"[Please select]",{"$nulls":7},"[Please select]",null,{"v":0,"d":"0%"},{"$f":"((IF(OR(AH56= \"Pre-consumer\", AH56 = \"Post-consumer\"), 'Bill of Materials'!J56, 0)) * AG56)+((IF(OR(AF56= \"Pre-consumer\", AF56 = \"Post-consumer\"), 'Bill of Materials'!J56, 0)) * AE56)","v":{"v":0,"d":"0%"}},{"$f":"((IF(OR(AH56=\"Renewable\",AH56=\"Responsibly sourced renewable\"),'Bill of Materials'!J56,0))*AG56)+((IF(OR(AF56=\"Renewable\",AF56=\"Responsibly sourced renewable\"),'Bill of Materials'!J56,0))*AE56)","v":{"v":0,"d":"0%"}},{"$f":"(IF(AH56 = \"Post-consumer\", 'Bill of Materials'!J56, 0) * AG56)+(IF(AF56=\"Post-consumer\",'Bill of Materials'!J56,0)*AE56)","v":{"v":0,"d":"0%"}},{"$f":"((IF(AH56= \"Responsibly sourced renewable\", 'Bill of Materials'!J56, 0)) * AG56)+((IF(AF56= \"Responsibly sourced renewable\", 'Bill of Materials'!J56, 0)) * AE56)","v":{"v":0,"d":"0%"}},"[Please select]",{"v":0,"d":"0%"},"[Please select]",{"v":0,"d":"0%"}]
[{"$nulls":8},{"v":0,"d":"0.0"},{"$error":"#DIV/0!"},{"$nulls":3},"[Select country]",null,null,{"$f":"IF(VLOOKUP(N57,'pick lists'!$L$2:$M$217,2,FALSE) =\"Yes\",\"Yes\",\"No\")","v":{"$error":"#N/A"}},"[Please select]",null,"[Please select]",null,null,"[Please select]",null,null,"[Please select]","[Please select]","[Please select]","[Please select]","[Please select]",null,"[Please select]",null,"[Please select]",{"$nulls":7},"[Please select]",null,{"v":0,"d":"0%"},{"$f":"((IF(OR(AH57= \"Pre-consumer\", AH57 = \"Post-consumer\"), 'Bill of Materials'!J57, 0)) * AG57)+((IF(OR(AF57= \"Pre-consumer\", AF57 = \"Post-consumer\"), 'Bill of Materials'!J57, 0)) * AE57)","v":{"v":0,"d":"0%"}},{"$f":"((IF(OR(AH57=\"Renewable\",AH57=\"Responsibly sourced renewable\"),'Bill of Materials'!J57,0))*AG57)+((IF(OR(AF57=\"Renewable\",AF57=\"Responsibly sourced renewable\"),'Bill of Materials'!J57,0))*AE57)","v":{"v":0,"d":"0%"}},{"$f":"(IF(AH57 = \"Post-consumer\", 'Bill of Materials'!J57, 0) * AG57)+(IF(AF57=\"Post-consumer\",'Bill of Materials'!J57,0)*AE57)","v":{"v":0,"d":"0%"}},{"$f":"((IF(AH57= \"Responsibly sourced renewable\", 'Bill of Materials'!J57, 0)) * AG57)+((IF(AF57= \"Responsibly sourced renewable\", 'Bill of Materials'!J57, 0)) * AE57)","v":{"v":0,"d":"0%"}},"[Please select]",{"v":0,"d":"0%"},"[Please select]",{"v":0,"d":"0%"}]
[{"$nulls":8},{"v":0,"d":"0.0"},{"$error":"#DIV/0!"},{"$nulls":3},"[Select country]",null,null,{"$f":"IF(VLOOKUP(N58,'pick lists'!$L$2:$M$217,2,FALSE) =\"Yes\",\"Yes\",\"No\")","v":{"$error":"#N/A"}},"[Please select]",null,"[Please select]",null,null,"[Please select]",null,null,"[Please select]","[Please select]","[Please select]","[Please select]","[Please select]",null,"[Please select]",null,"[Please select]",{"$nulls":7},"[Please select]",null,{"v":0,"d":"0%"},{"$f":"((IF(OR(AH58= \"Pre-consumer\", AH58 = \"Post-consumer\"), 'Bill of Materials'!J58, 0)) * AG58)+((IF(OR(AF58= \"Pre-consumer\", AF58 = \"Post-consumer\"), 'Bill of Materials'!J58, 0)) * AE58)","v":{"v":0,"d":"0%"}},{"$f":"((IF(OR(AH58=\"Renewable\",AH58=\"Responsibly sourced renewable\"),'Bill of Materials'!J58,0))*AG58)+((IF(OR(AF58=\"Renewable\",AF58=\"Responsibly sourced renewable\"),'Bill of Materials'!J58,0))*AE58)","v":{"v":0,"d":"0%"}},{"$f":"(IF(AH58 = \"Post-consumer\", 'Bill of Materials'!J58, 0) * AG58)+(IF(AF58=\"Post-consumer\",'Bill of Materials'!J58,0)*AE58)","v":{"v":0,"d":"0%"}},{"$f":"((IF(AH58= \"Responsibly sourced renewable\", 'Bill of Materials'!J58, 0)) * AG58)+((IF(AF58= \"Responsibly sourced renewable\", 'Bill of Materials'!J58, 0)) * AE58)","v":{"v":0,"d":"0%"}},"[Please select]",{"v":0,"d":"0%"},"[Please select]",{"v":0,"d":"0%"}]
[{"$nulls":8},{"v":0,"d":"0.0"},{"$error":"#DIV/0!"},{"$nulls":3},"[Select country]",null,null,{"$f":"IF(VLOOKUP(N59,'pick lists'!$L$2:$M$217,2,FALSE) =\"Yes\",\"Yes\",\"No\")","v":{"$error":"#N/A"}},"[Please select]",null,"[Please select]",null,null,"[Please select]",null,null,"[Please select]","[Please select]","[Please select]","[Please select]","[Please select]",null,"[Please select]",null,"[Please select]",{"$nulls":7},"[Please select]",null,{"v":0,"d":"0%"},{"$f":"((IF(OR(AH59= \"Pre-consumer\", AH59 = \"Post-consumer\"), 'Bill of Materials'!J59, 0)) * AG59)+((IF(OR(AF59= \"Pre-consumer\", AF59 = \"Post-consumer\"), 'Bill of Materials'!J59, 0)) * AE59)","v":{"v":0,"d":"0%"}},{"$f":"((IF(OR(AH59=\"Renewable\",AH59=\"Responsibly sourced renewable\"),'Bill of Materials'!J59,0))*AG59)+((IF(OR(AF59=\"Renewable\",AF59=\"Responsibly sourced renewable\"),'Bill of Materials'!J59,0))*AE59)","v":{"v":0,"d":"0%"}},{"$f":"(IF(AH59 = \"Post-consumer\", 'Bill of Materials'!J59, 0) * AG59)+(IF(AF59=\"Post-consumer\",'Bill of Materials'!J59,0)*AE59)","v":{"v":0,"d":"0%"}},{"$f":"((IF(AH59= \"Responsibly sourced renewable\", 'Bill of Materials'!J59, 0)) * AG59)+((IF(AF59= \"Responsibly sourced renewable\", 'Bill of Materials'!J59, 0)) * AE59)","v":{"v":0,"d":"0%"}},"[Please select]",{"v":0,"d":"0%"},"[Please select]",{"v":0,"d":"0%"}]
[{"$nulls":8},{"v":0,"d":"0.0"},{"$error":"#DIV/0!"},{"$nulls":3},"[Select country]",null,null,{"$f":"IF(VLOOKUP(N60,'pick lists'!$L$2:$M$217,2,FALSE) =\"Yes\",\"Yes\",\"No\")","v":{"$error":"#N/A"}},"[Please select]",null,"[Please select]",null,null,"[Please select]",null,null,"[Please select]","[Please select]","[Please select]","[Please select]","[Please select]",null,"[Please select]",null,"[Please select]",{"$nulls":7},"[Please select]",null,{"v":0,"d":"0%"},{"$f":"((IF(OR(AH60= \"Pre-consumer\", AH60 = \"Post-consumer\"), 'Bill of Materials'!J60, 0)) * AG60)+((IF(OR(AF60= \"Pre-consumer\", AF60 = \"Post-consumer\"), 'Bill of Materials'!J60, 0)) * AE60)","v":{"v":0,"d":"0%"}},{"$f":"((IF(OR(AH60=\"Renewable\",AH60=\"Responsibly sourced renewable\"),'Bill of Materials'!J60,0))*AG60)+((IF(OR(AF60=\"Renewable\",AF60=\"Responsibly sourced renewable\"),'Bill of Materials'!J60,0))*AE60)","v":{"v":0,"d":"0%"}},{"$f":"(IF(AH60 = \"Post-consumer\", 'Bill of Materials'!J60, 0) * AG60)+(IF(AF60=\"Post-consumer\",'Bill of Materials'!J60,0)*AE60)","v":{"v":0,"d":"0%"}},{"$f":"((IF(AH60= \"Responsibly sourced renewable\", 'Bill of Materials'!J60, 0)) * AG60)+((IF(AF60= \"Responsibly sourced renewable\", 'Bill of Materials'!J60, 0)) * AE60)","v":{"v":0,"d":"0%"}},"[Please select]",{"v":0,"d":"0%"},"[Please select]",{"v":0,"d":"0%"}]
[{"$nulls":8},{"v":0,"d":"0.0"},{"$error":"#DIV/0!"},{"$nulls":3},"[Select country]",null,null,{"$f":"IF(VLOOKUP(N61,'pick lists'!$L$2:$M$217,2,FALSE) =\"Yes\",\"Yes\",\"No\")","v":{"$error":"#N/A"}},"[Please select]",null,"[Please select]",null,null,"[Please select]",null,null,"[Please select]","[Please select]","[Please select]","[Please select]","[Please select]",null,"[Please select]",null,"[Please select]",{"$nulls":7},"[Please select]",null,{"v":0,"d":"0%"},{"$f":"((IF(OR(AH61= \"Pre-consumer\", AH61 = \"Post-consumer\"), 'Bill of Materials'!J61, 0)) * AG61)+((IF(OR(AF61= \"Pre-consumer\", AF61 = \"Post-consumer\"), 'Bill of Materials'!J61, 0)) * AE61)","v":{"v":0,"d":"0%"}},{"$f":"((IF(OR(AH61=\"Renewable\",AH61=\"Responsibly sourced renewable\"),'Bill of Materials'!J61,0))*AG61)+((IF(OR(AF61=\"Renewable\",AF61=\"Responsibly sourced renewable\"),'Bill of Materials'!J61,0))*AE61)","v":{"v":0,"d":"0%"}},{"$f":"(IF(AH61 = \"Post-consumer\", 'Bill of Materials'!J61, 0) * AG61)+(IF(AF61=\"Post-consumer\",'Bill of Materials'!J61,0)*AE61)","v":{"v":0,"d":"0%"}},{"$f":"((IF(AH61= \"Responsibly sourced renewable\", 'Bill of Materials'!J61, 0)) * AG61)+((IF(AF61= \"Responsibly sourced renewable\", 'Bill of Materials'!J61, 0)) * AE61)","v":{"v":0,"d":"0%"}},"[Please select]",{"v":0,"d":"0%"},"[Please select]",{"v":0,"d":"0%"}]
[{"$nulls":8},{"v":0,"d":"0.0"},{"$error":"#DIV/0!"},{"$nulls":3},"[Select country]",null,null,{"$f":"IF(VLOOKUP(N62,'pick lists'!$L$2:$M$217,2,FALSE) =\"Yes\",\"Yes\",\"No\")","v":{"$error":"#N/A"}},"[Please select]",null,"[Please select]",null,null,"[Please select]",null,null,"[Please select]","[Please select]","[Please select]","[Please select]","[Please select]",null,"[Please select]",null,"[Please select]",{"$nulls":7},"[Please select]",null,{"v":0,"d":"0%"},{"$f":"((IF(OR(AH62= \"Pre-consumer\", AH62 = \"Post-consumer\"), 'Bill of Materials'!J62, 0)) * AG62)+((IF(OR(AF62= \"Pre-consumer\", AF62 = \"Post-consumer\"), 'Bill of Materials'!J62, 0)) * AE62)","v":{"v":0,"d":"0%"}},{"$f":"((IF(OR(AH62=\"Renewable\",AH62=\"Responsibly sourced renewable\"),'Bill of Materials'!J62,0))*AG62)+((IF(OR(AF62=\"Renewable\",AF62=\"Responsibly sourced renewable\"),'Bill of Materials'!J62,0))*AE62)","v":{"v":0,"d":"0%"}},{"$f":"(IF(AH62 = \"Post-consumer\", 'Bill of Materials'!J62, 0) * AG62)+(IF(AF62=\"Post-consumer\",'Bill of Materials'!J62,0)*AE62)","v":{"v":0,"d":"0%"}},{"$f":"((IF(AH62= \"Responsibly sourced renewable\", 'Bill of Materials'!J62, 0)) * AG62)+((IF(AF62= \"Responsibly sourced renewable\", 'Bill of Materials'!J62, 0)) * AE62)","v":{"v":0,"d":"0%"}},"[Please select]",{"v":0,"d":"0%"},"[Please select]",{"v":0,"d":"0%"}]
[{"$nulls":8},{"v":0,"d":"0.0"},{"$error":"#DIV/0!"},{"$nulls":3},"[Select country]",null,null,{"$f":"IF(VLOOKUP(N63,'pick lists'!$L$2:$M$217,2,FALSE) =\"Yes\",\"Yes\",\"No\")","v":{"$error":"#N/A"}},"[Please select]",null,"[Please select]",null,null,"[Please select]",null,null,"[Please select]","[Please select]","[Please select]","[Please select]","[Please select]",null,"[Please select]",null,"[Please select]",{"$nulls":7},"[Please select]",null,{"v":0,"d":"0%"},{"$f":"((IF(OR(AH63= \"Pre-consumer\", AH63 = \"Post-consumer\"), 'Bill of Materials'!J63, 0)) * AG63)+((IF(OR(AF63= \"Pre-consumer\", AF63 = \"Post-consumer\"), 'Bill of Materials'!J63, 0)) * AE63)","v":{"v":0,"d":"0%"}},{"$f":"((IF(OR(AH63=\"Renewable\",AH63=\"Responsibly sourced renewable\"),'Bill of Materials'!J63,0))*AG63)+((IF(OR(AF63=\"Renewable\",AF63=\"Responsibly sourced renewable\"),'Bill of Materials'!J63,0))*AE63)","v":{"v":0,"d":"0%"}},{"$f":"(IF(AH63 = \"Post-consumer\", 'Bill of Materials'!J63, 0) * AG63)+(IF(AF63=\"Post-consumer\",'Bill of Materials'!J63,0)*AE63)","v":{"v":0,"d":"0%"}},{"$f":"((IF(AH63= \"Responsibly sourced renewable\", 'Bill of Materials'!J63, 0)) * AG63)+((IF(AF63= \"Responsibly sourced renewable\", 'Bill of Materials'!J63, 0)) * AE63)","v":{"v":0,"d":"0%"}},"[Please select]",{"v":0,"d":"0%"},"[Please select]",{"v":0,"d":"0%"}]
[{"$nulls":8},{"v":0,"d":"0.0"},{"$error":"#DIV/0!"},{"$nulls":3},"[Select country]",null,null,{"$f":"IF(VLOOKUP(N64,'pick lists'!$L$2:$M$217,2,FALSE) =\"Yes\",\"Yes\",\"No\")","v":{"$error":"#N/A"}},"[Please select]",null,"[Please select]",null,null,"[Please select]",null,null,"[Please select]","[Please select]","[Please select]","[Please select]","[Please select]",null,"[Please select]",null,"[Please select]",{"$nulls":7},"[Please select]",null,{"v":0,"d":"0%"},{"$f":"((IF(OR(AH64= \"Pre-consumer\", AH64 = \"Post-consumer\"), 'Bill of Materials'!J64, 0)) * AG64)+((IF(OR(AF64= \"Pre-consumer\", AF64 = \"Post-consumer\"), 'Bill of Materials'!J64, 0)) * AE64)","v":{"v":0,"d":"0%"}},{"$f":"((IF(OR(AH64=\"Renewable\",AH64=\"Responsibly sourced renewable\"),'Bill of Materials'!J64,0))*AG64)+((IF(OR(AF64=\"Renewable\",AF64=\"Responsibly sourced renewable\"),'Bill of Materials'!J64,0))*AE64)","v":{"v":0,"d":"0%"}},{"$f":"(IF(AH64 = \"Post-consumer\", 'Bill of Materials'!J64, 0) * AG64)+(IF(AF64=\"Post-consumer\",'Bill of Materials'!J64,0)*AE64)","v":{"v":0,"d":"0%"}},{"$f":"((IF(AH64= \"Responsibly sourced renewable\", 'Bill of Materials'!J64, 0)) * AG64)+((IF(AF64= \"Responsibly sourced renewable\", 'Bill of Materials'!J64, 0)) * AE64)","v":{"v":0,"d":"0%"}},"[Please select]",{"v":0,"d":"0%"},"[Please select]",{"v":0,"d":"0%"}]
[{"$nulls":8},{"v":0,"d":"0.0"},{"$error":"#DIV/0!"},{"$nulls":3},"[Select country]",null,null,{"$f":"IF(VLOOKUP(N65,'pick lists'!$L$2:$M$217,2,FALSE) =\"Yes\",\"Yes\",\"No\")","v":{"$error":"#N/A"}},"[Please select]",null,"[Please select]",null,null,"[Please select]",null,null,"[Please select]","[Please select]","[Please select]","[Please select]","[Please select]",null,"[Please select]",null,"[Please select]",{"$nulls":7},"[Please select]",null,{"v":0,"d":"0%"},{"$f":"((IF(OR(AH65= \"Pre-consumer\", AH65 = \"Post-consumer\"), 'Bill of Materials'!J65, 0)) * AG65)+((IF(OR(AF65= \"Pre-consumer\", AF65 = \"Post-consumer\"), 'Bill of Materials'!J65, 0)) * AE65)","v":{"v":0,"d":"0%"}},{"$f":"((IF(OR(AH65=\"Renewable\",AH65=\"Responsibly sourced renewable\"),'Bill of Materials'!J65,0))*AG65)+((IF(OR(AF65=\"Renewable\",AF65=\"Responsibly sourced renewable\"),'Bill of Materials'!J65,0))*AE65)","v":{"v":0,"d":"0%"}},{"$f":"(IF(AH65 = \"Post-consumer\", 'Bill of Materials'!J65, 0) * AG65)+(IF(AF65=\"Post-consumer\",'Bill of Materials'!J65,0)*AE65)","v":{"v":0,"d":"0%"}},{"$f":"((IF(AH65= \"Responsibly sourced renewable\", 'Bill of Materials'!J65, 0)) * AG65)+((IF(AF65= \"Responsibly sourced renewable\", 'Bill of Materials'!J65, 0)) * AE65)","v":{"v":0,"d":"0%"}},"[Please select]",{"v":0,"d":"0%"},"[Please select]",{"v":0,"d":"0%"}]
[{"$nulls":8},{"v":0,"d":"0.0"},{"$error":"#DIV/0!"},{"$nulls":3},"[Select country]",null,null,{"$f":"IF(VLOOKUP(N66,'pick lists'!$L$2:$M$217,2,FALSE) =\"Yes\",\"Yes\",\"No\")","v":{"$error":"#N/A"}},"[Please select]",null,"[Please select]",null,null,"[Please select]",null,null,"[Please select]","[Please select]","[Please select]","[Please select]","[Please select]",null,"[Please select]",null,"[Please select]",{"$nulls":7},"[Please select]",null,{"v":0,"d":"0%"},{"$f":"((IF(OR(AH66= \"Pre-consumer\", AH66 = \"Post-consumer\"), 'Bill of Materials'!J66, 0)) * AG66)+((IF(OR(AF66= \"Pre-consumer\", AF66 = \"Post-consumer\"), 'Bill of Materials'!J66, 0)) * AE66)","v":{"v":0,"d":"0%"}},{"$f":"((IF(OR(AH66=\"Renewable\",AH66=\"Responsibly sourced renewable\"),'Bill of Materials'!J66,0))*AG66)+((IF(OR(AF66=\"Renewable\",AF66=\"Responsibly sourced renewable\"),'Bill of Materials'!J66,0))*AE66)","v":{"v":0,"d":"0%"}},{"$f":"(IF(AH66 = \"Post-consumer\", 'Bill of Materials'!J66, 0) * AG66)+(IF(AF66=\"Post-consumer\",'Bill of Materials'!J66,0)*AE66)","v":{"v":0,"d":"0%"}},{"$f":"((IF(AH66= \"Responsibly sourced renewable\", 'Bill of Materials'!J66, 0)) * AG66)+((IF(AF66= \"Responsibly sourced renewable\", 'Bill of Materials'!J66, 0)) * AE66)","v":{"v":0,"d":"0%"}},"[Please select]",{"v":0,"d":"0%"},"[Please select]",{"v":0,"d":"0%"}]
[{"$nulls":8},{"v":0,"d":"0.0"},{"$error":"#DIV/0!"},{"$nulls":3},"[Select country]",null,null,{"$f":"IF(VLOOKUP(N67,'pick lists'!$L$2:$M$217,2,FALSE) =\"Yes\",\"Yes\",\"No\")","v":{"$error":"#N/A"}},"[Please select]",null,"[Please select]",null,null,"[Please select]",null,null,"[Please select]","[Please select]","[Please select]","[Please select]","[Please select]",null,"[Please select]",null,"[Please select]",{"$nulls":7},"[Please select]",null,{"v":0,"d":"0%"},{"$f":"((IF(OR(AH67= \"Pre-consumer\", AH67 = \"Post-consumer\"), 'Bill of Materials'!J67, 0)) * AG67)+((IF(OR(AF67= \"Pre-consumer\", AF67 = \"Post-consumer\"), 'Bill of Materials'!J67, 0)) * AE67)","v":{"v":0,"d":"0%"}},{"$f":"((IF(OR(AH67=\"Renewable\",AH67=\"Responsibly sourced renewable\"),'Bill of Materials'!J67,0))*AG67)+((IF(OR(AF67=\"Renewable\",AF67=\"Responsibly sourced renewable\"),'Bill of Materials'!J67,0))*AE67)","v":{"v":0,"d":"0%"}},{"$f":"(IF(AH67 = \"Post-consumer\", 'Bill of Materials'!J67, 0) * AG67)+(IF(AF67=\"Post-consumer\",'Bill of Materials'!J67,0)*AE67)","v":{"v":0,"d":"0%"}},{"$f":"((IF(AH67= \"Responsibly sourced renewable\", 'Bill of Materials'!J67, 0)) * AG67)+((IF(AF67= \"Responsibly sourced renewable\", 'Bill of Materials'!J67, 0)) * AE67)","v":{"v":0,"d":"0%"}},"[Please select]",{"v":0,"d":"0%"},"[Please select]",{"v":0,"d":"0%"}]
[{"$nulls":8},{"v":0,"d":"0.0"},{"$error":"#DIV/0!"},{"$nulls":3},"[Select country]",null,null,{"$f":"IF(VLOOKUP(N68,'pick lists'!$L$2:$M$217,2,FALSE) =\"Yes\",\"Yes\",\"No\")","v":{"$error":"#N/A"}},"[Please select]",null,"[Please select]",null,null,"[Please select]",null,null,"[Please select]","[Please select]","[Please select]","[Please select]","[Please select]",null,"[Please select]",null,"[Please select]",{"$nulls":7},"[Please select]",null,{"v":0,"d":"0%"},{"$f":"((IF(OR(AH68= \"Pre-consumer\", AH68 = \"Post-consumer\"), 'Bill of Materials'!J68, 0)) * AG68)+((IF(OR(AF68= \"Pre-consumer\", AF68 = \"Post-consumer\"), 'Bill of Materials'!J68, 0)) * AE68)","v":{"v":0,"d":"0%"}},{"$f":"((IF(OR(AH68=\"Renewable\",AH68=\"Responsibly sourced renewable\"),'Bill of Materials'!J68,0))*AG68)+((IF(OR(AF68=\"Renewable\",AF68=\"Responsibly sourced renewable\"),'Bill of Materials'!J68,0))*AE68)","v":{"v":0,"d":"0%"}},{"$f":"(IF(AH68 = \"Post-consumer\", 'Bill of Materials'!J68, 0) * AG68)+(IF(AF68=\"Post-consumer\",'Bill of Materials'!J68,0)*AE68)","v":{"v":0,"d":"0%"}},{"$f":"((IF(AH68= \"Responsibly sourced renewable\", 'Bill of Materials'!J68, 0)) * AG68)+((IF(AF68= \"Responsibly sourced renewable\", 'Bill of Materials'!J68, 0)) * AE68)","v":{"v":0,"d":"0%"}},"[Please select]",{"v":0,"d":"0%"},"[Please select]",{"v":0,"d":"0%"}]
[{"$nulls":8},{"v":0,"d":"0.0"},{"$error":"#DIV/0!"},{"$nulls":3},"[Select country]",null,null,{"$f":"IF(VLOOKUP(N69,'pick lists'!$L$2:$M$217,2,FALSE) =\"Yes\",\"Yes\",\"No\")","v":{"$error":"#N/A"}},"[Please select]",null,"[Please select]",null,null,"[Please select]",null,null,"[Please select]","[Please select]","[Please select]","[Please select]","[Please select]",null,"[Please select]",null,"[Please select]",{"$nulls":7},"[Please select]",null,{"v":0,"d":"0%"},{"$f":"((IF(OR(AH69= \"Pre-consumer\", AH69 = \"Post-consumer\"), 'Bill of Materials'!J69, 0)) * AG69)+((IF(OR(AF69= \"Pre-consumer\", AF69 = \"Post-consumer\"), 'Bill of Materials'!J69, 0)) * AE69)","v":{"v":0,"d":"0%"}},{"$f":"((IF(OR(AH69=\"Renewable\",AH69=\"Responsibly sourced renewable\"),'Bill of Materials'!J69,0))*AG69)+((IF(OR(AF69=\"Renewable\",AF69=\"Responsibly sourced renewable\"),'Bill of Materials'!J69,0))*AE69)","v":{"v":0,"d":"0%"}},{"$f":"(IF(AH69 = \"Post-consumer\", 'Bill of Materials'!J69, 0) * AG69)+(IF(AF69=\"Post-consumer\",'Bill of Materials'!J69,0)*AE69)","v":{"v":0,"d":"0%"}},{"$f":"((IF(AH69= \"Responsibly sourced renewable\", 'Bill of Materials'!J69, 0)) * AG69)+((IF(AF69= \"Responsibly sourced renewable\", 'Bill of Materials'!J69, 0)) * AE69)","v":{"v":0,"d":"0%"}},"[Please select]",{"v":0,"d":"0%"},"[Please select]",{"v":0,"d":"0%"}]
[{"$nulls":8},{"v":0,"d":"0.0"},{"$error":"#DIV/0!"},{"$nulls":3},"[Select country]",null,null,{"$f":"IF(VLOOKUP(N70,'pick lists'!$L$2:$M$217,2,FALSE) =\"Yes\",\"Yes\",\"No\")","v":{"$error":"#N/A"}},"[Please select]",null,"[Please select]",null,null,"[Please select]",null,null,"[Please select]","[Please select]","[Please select]","[Please select]","[Please select]",null,"[Please select]",null,"[Please select]",{"$nulls":7},"[Please select]",null,{"v":0,"d":"0%"},{"$f":"((IF(OR(AH70= \"Pre-consumer\", AH70 = \"Post-consumer\"), 'Bill of Materials'!J70, 0)) * AG70)+((IF(OR(AF70= \"Pre-consumer\", AF70 = \"Post-consumer\"), 'Bill of Materials'!J70, 0)) * AE70)","v":{"v":0,"d":"0%"}},{"$f":"((IF(OR(AH70=\"Renewable\",AH70=\"Responsibly sourced renewable\"),'Bill of Materials'!J70,0))*AG70)+((IF(OR(AF70=\"Renewable\",AF70=\"Responsibly sourced renewable\"),'Bill of Materials'!J70,0))*AE70)","v":{"v":0,"d":"0%"}},{"$f":"(IF(AH70 = \"Post-consumer\", 'Bill of Materials'!J70, 0) * AG70)+(IF(AF70=\"Post-consumer\",'Bill of Materials'!J70,0)*AE70)","v":{"v":0,"d":"0%"}},{"$f":"((IF(AH70= \"Responsibly sourced renewable\", 'Bill of Materials'!J70, 0)) * AG70)+((IF(AF70= \"Responsibly sourced renewable\", 'Bill of Materials'!J70, 0)) * AE70)","v":{"v":0,"d":"0%"}},"[Please select]",{"v":0,"d":"0%"},"[Please select]",{"v":0,"d":"0%"}]
[{"$nulls":8},{"v":0,"d":"0.0"},{"$error":"#DIV/0!"},{"$nulls":3},"[Select country]",null,null,{"$f":"IF(VLOOKUP(N71,'pick lists'!$L$2:$M$217,2,FALSE) =\"Yes\",\"Yes\",\"No\")","v":{"$error":"#N/A"}},"[Please select]",null,"[Please select]",null,null,"[Please select]",null,null,"[Please select]","[Please select]","[Please select]","[Please select]","[Please select]",null,"[Please select]",null,"[Please select]",{"$nulls":7},"[Please select]",null,{"v":0,"d":"0%"},{"$f":"((IF(OR(AH71= \"Pre-consumer\", AH71 = \"Post-consumer\"), 'Bill of Materials'!J71, 0)) * AG71)+((IF(OR(AF71= \"Pre-consumer\", AF71 = \"Post-consumer\"), 'Bill of Materials'!J71, 0)) * AE71)","v":{"v":0,"d":"0%"}},{"$f":"((IF(OR(AH71=\"Renewable\",AH71=\"Responsibly sourced renewable\"),'Bill of Materials'!J71,0))*AG71)+((IF(OR(AF71=\"Renewable\",AF71=\"Responsibly sourced renewable\"),'Bill of Materials'!J71,0))*AE71)","v":{"v":0,"d":"0%"}},{"$f":"(IF(AH71 = \"Post-consumer\", 'Bill of Materials'!J71, 0) * AG71)+(IF(AF71=\"Post-consumer\",'Bill of Materials'!J71,0)*AE71)","v":{"v":0,"d":"0%"}},{"$f":"((IF(AH71= \"Responsibly sourced renewable\", 'Bill of Materials'!J71, 0)) * AG71)+((IF(AF71= \"Responsibly sourced renewable\", 'Bill of Materials'!J71, 0)) * AE71)","v":{"v":0,"d":"0%"}},"[Please select]",{"v":0,"d":"0%"},"[Please select]",{"v":0,"d":"0%"}]
[{"$nulls":8},{"v":0,"d":"0.0"},{"$error":"#DIV/0!"},{"$nulls":3},"[Select country]",null,null,{"$f":"IF(VLOOKUP(N72,'pick lists'!$L$2:$M$217,2,FALSE) =\"Yes\",\"Yes\",\"No\")","v":{"$error":"#N/A"}},"[Please select]",null,"[Please select]",null,null,"[Please select]",null,null,"[Please select]","[Please select]","[Please select]","[Please select]","[Please select]",null,"[Please select]",null,"[Please select]",{"$nulls":7},"[Please select]",null,{"v":0,"d":"0%"},{"$f":"((IF(OR(AH72= \"Pre-consumer\", AH72 = \"Post-consumer\"), 'Bill of Materials'!J72, 0)) * AG72)+((IF(OR(AF72= \"Pre-consumer\", AF72 = \"Post-consumer\"), 'Bill of Materials'!J72, 0)) * AE72)","v":{"v":0,"d":"0%"}},{"$f":"((IF(OR(AH72=\"Renewable\",AH72=\"Responsibly sourced renewable\"),'Bill of Materials'!J72,0))*AG72)+((IF(OR(AF72=\"Renewable\",AF72=\"Responsibly sourced renewable\"),'Bill of Materials'!J72,0))*AE72)","v":{"v":0,"d":"0%"}},{"$f":"(IF(AH72 = \"Post-consumer\", 'Bill of Materials'!J72, 0) * AG72)+(IF(AF72=\"Post-consumer\",'Bill of Materials'!J72,0)*AE72)","v":{"v":0,"d":"0%"}},{"$f":"((IF(AH72= \"Responsibly sourced renewable\", 'Bill of Materials'!J72, 0)) * AG72)+((IF(AF72= \"Responsibly sourced renewable\", 'Bill of Materials'!J72, 0)) * AE72)","v":{"v":0,"d":"0%"}},"[Please select]",{"v":0,"d":"0%"},"[Please select]",{"v":0,"d":"0%"}]
[{"$nulls":8},{"v":0,"d":"0.0"},{"$error":"#DIV/0!"},{"$nulls":3},"[Select country]",null,null,{"$f":"IF(VLOOKUP(N73,'pick lists'!$L$2:$M$217,2,FALSE) =\"Yes\",\"Yes\",\"No\")","v":{"$error":"#N/A"}},"[Please select]",null,"[Please select]",null,null,"[Please select]",null,null,"[Please select]","[Please select]","[Please select]","[Please select]","[Please select]",null,"[Please select]",null,"[Please select]",{"$nulls":7},"[Please select]",null,{"v":0,"d":"0%"},{"$f":"((IF(OR(AH73= \"Pre-consumer\", AH73 = \"Post-consumer\"), 'Bill of Materials'!J73, 0)) * AG73)+((IF(OR(AF73= \"Pre-consumer\", AF73 = \"Post-consumer\"), 'Bill of Materials'!J73, 0)) * AE73)","v":{"v":0,"d":"0%"}},{"$f":"((IF(OR(AH73=\"Renewable\",AH73=\"Responsibly sourced renewable\"),'Bill of Materials'!J73,0))*AG73)+((IF(OR(AF73=\"Renewable\",AF73=\"Responsibly sourced renewable\"),'Bill of Materials'!J73,0))*AE73)","v":{"v":0,"d":"0%"}},{"$f":"(IF(AH73 = \"Post-consumer\", 'Bill of Materials'!J73, 0) * AG73)+(IF(AF73=\"Post-consumer\",'Bill of Materials'!J73,0)*AE73)","v":{"v":0,"d":"0%"}},{"$f":"((IF(AH73= \"Responsibly sourced renewable\", 'Bill of Materials'!J73, 0)) * AG73)+((IF(AF73= \"Responsibly sourced renewable\", 'Bill of Materials'!J73, 0)) * AE73)","v":{"v":0,"d":"0%"}},"[Please select]",{"v":0,"d":"0%"},"[Please select]",{"v":0,"d":"0%"}]
[{"$nulls":8},{"v":0,"d":"0.0"},{"$error":"#DIV/0!"},{"$nulls":3},"[Select country]",null,null,{"$f":"IF(VLOOKUP(N74,'pick lists'!$L$2:$M$217,2,FALSE) =\"Yes\",\"Yes\",\"No\")","v":{"$error":"#N/A"}},"[Please select]",null,"[Please select]",null,null,"[Please select]",null,null,"[Please select]","[Please select]","[Please select]","[Please select]","[Please select]",null,"[Please select]",null,"[Please select]",{"$nulls":7},"[Please select]",null,{"v":0,"d":"0%"},{"$f":"((IF(OR(AH74= \"Pre-consumer\", AH74 = \"Post-consumer\"), 'Bill of Materials'!J74, 0)) * AG74)+((IF(OR(AF74= \"Pre-consumer\", AF74 = \"Post-consumer\"), 'Bill of Materials'!J74, 0)) * AE74)","v":{"v":0,"d":"0%"}},{"$f":"((IF(OR(AH74=\"Renewable\",AH74=\"Responsibly sourced renewable\"),'Bill of Materials'!J74,0))*AG74)+((IF(OR(AF74=\"Renewable\",AF74=\"Responsibly sourced renewable\"),'Bill of Materials'!J74,0))*AE74)","v":{"v":0,"d":"0%"}},{"$f":"(IF(AH74 = \"Post-consumer\", 'Bill of Materials'!J74, 0) * AG74)+(IF(AF74=\"Post-consumer\",'Bill of Materials'!J74,0)*AE74)","v":{"v":0,"d":"0%"}},{"$f":"((IF(AH74= \"Responsibly sourced renewable\", 'Bill of Materials'!J74, 0)) * AG74)+((IF(AF74= \"Responsibly sourced renewable\", 'Bill of Materials'!J74, 0)) * AE74)","v":{"v":0,"d":"0%"}},"[Please select]",{"v":0,"d":"0%"},"[Please select]",{"v":0,"d":"0%"}]
[{"$nulls":8},{"v":0,"d":"0.0"},{"$error":"#DIV/0!"},{"$nulls":3},"[Select country]",null,null,{"$f":"IF(VLOOKUP(N75,'pick lists'!$L$2:$M$217,2,FALSE) =\"Yes\",\"Yes\",\"No\")","v":{"$error":"#N/A"}},"[Please select]",null,"[Please select]",null,null,"[Please select]",null,null,"[Please select]","[Please select]","[Please select]","[Please select]","[Please select]",null,"[Please select]",null,"[Please select]",{"$nulls":7},"[Please select]",null,{"v":0,"d":"0%"},{"$f":"((IF(OR(AH75= \"Pre-consumer\", AH75 = \"Post-consumer\"), 'Bill of Materials'!J75, 0)) * AG75)+((IF(OR(AF75= \"Pre-consumer\", AF75 = \"Post-consumer\"), 'Bill of Materials'!J75, 0)) * AE75)","v":{"v":0,"d":"0%"}},{"$f":"((IF(OR(AH75=\"Renewable\",AH75=\"Responsibly sourced renewable\"),'Bill of Materials'!J75,0))*AG75)+((IF(OR(AF75=\"Renewable\",AF75=\"Responsibly sourced renewable\"),'Bill of Materials'!J75,0))*AE75)","v":{"v":0,"d":"0%"}},{"$f":"(IF(AH75 = \"Post-consumer\", 'Bill of Materials'!J75, 0) * AG75)+(IF(AF75=\"Post-consumer\",'Bill of Materials'!J75,0)*AE75)","v":{"v":0,"d":"0%"}},{"$f":"((IF(AH75= \"Responsibly sourced renewable\", 'Bill of Materials'!J75, 0)) * AG75)+((IF(AF75= \"Responsibly sourced renewable\", 'Bill of Materials'!J75, 0)) * AE75)","v":{"v":0,"d":"0%"}},"[Please select]",{"v":0,"d":"0%"},"[Please select]",{"v":0,"d":"0%"}]
[{"$nulls":8},{"v":0,"d":"0.0"},{"$error":"#DIV/0!"},{"$nulls":3},"[Select country]",null,null,{"$f":"IF(VLOOKUP(N76,'pick lists'!$L$2:$M$217,2,FALSE) =\"Yes\",\"Yes\",\"No\")","v":{"$error":"#N/A"}},"[Please select]",null,"[Please select]",null,null,"[Please select]",null,null,"[Please select]","[Please select]","[Please select]","[Please select]","[Please select]",null,"[Please select]",null,"[Please select]",{"$nulls":7},"[Please select]",null,{"v":0,"d":"0%"},{"$f":"((IF(OR(AH76= \"Pre-consumer\", AH76 = \"Post-consumer\"), 'Bill of Materials'!J76, 0)) * AG76)+((IF(OR(AF76= \"Pre-consumer\", AF76 = \"Post-consumer\"), 'Bill of Materials'!J76, 0)) * AE76)","v":{"v":0,"d":"0%"}},{"$f":"((IF(OR(AH76=\"Renewable\",AH76=\"Responsibly sourced renewable\"),'Bill of Materials'!J76,0))*AG76)+((IF(OR(AF76=\"Renewable\",AF76=\"Responsibly sourced renewable\"),'Bill of Materials'!J76,0))*AE76)","v":{"v":0,"d":"0%"}},{"$f":"(IF(AH76 = \"Post-consumer\", 'Bill of Materials'!J76, 0) * AG76)+(IF(AF76=\"Post-consumer\",'Bill of Materials'!J76,0)*AE76)","v":{"v":0,"d":"0%"}},{"$f":"((IF(AH76= \"Responsibly sourced renewable\", 'Bill of Materials'!J76, 0)) * AG76)+((IF(AF76= \"Responsibly sourced renewable\", 'Bill of Materials'!J76, 0)) * AE76)","v":{"v":0,"d":"0%"}},"[Please select]",{"v":0,"d":"0%"},"[Please select]",{"v":0,"d":"0%"}]
[{"$nulls":8},{"v":0,"d":"0.0"},{"$error":"#DIV/0!"},{"$nulls":3},"[Select country]",null,null,{"$f":"IF(VLOOKUP(N77,'pick lists'!$L$2:$M$217,2,FALSE) =\"Yes\",\"Yes\",\"No\")","v":{"$error":"#N/A"}},"[Please select]",null,"[Please select]",null,null,"[Please select]",null,null,"[Please select]","[Please select]","[Please select]","[Please select]","[Please select]",null,"[Please select]",null,"[Please select]",{"$nulls":7},"[Please select]",null,{"v":0,"d":"0%"},{"$f":"((IF(OR(AH77= \"Pre-consumer\", AH77 = \"Post-consumer\"), 'Bill of Materials'!J77, 0)) * AG77)+((IF(OR(AF77= \"Pre-consumer\", AF77 = \"Post-consumer\"), 'Bill of Materials'!J77, 0)) * AE77)","v":{"v":0,"d":"0%"}},{"$f":"((IF(OR(AH77=\"Renewable\",AH77=\"Responsibly sourced renewable\"),'Bill of Materials'!J77,0))*AG77)+((IF(OR(AF77=\"Renewable\",AF77=\"Responsibly sourced renewable\"),'Bill of Materials'!J77,0))*AE77)","v":{"v":0,"d":"0%"}},{"$f":"(IF(AH77 = \"Post-consumer\", 'Bill of Materials'!J77, 0) * AG77)+(IF(AF77=\"Post-consumer\",'Bill of Materials'!J77,0)*AE77)","v":{"v":0,"d":"0%"}},{"$f":"((IF(AH77= \"Responsibly sourced renewable\", 'Bill of Materials'!J77, 0)) * AG77)+((IF(AF77= \"Responsibly sourced renewable\", 'Bill of Materials'!J77, 0)) * AE77)","v":{"v":0,"d":"0%"}},"[Please select]",{"v":0,"d":"0%"},"[Please select]",{"v":0,"d":"0%"}]
[{"$nulls":8},{"v":0,"d":"0.0"},{"$error":"#DIV/0!"},{"$nulls":3},"[Select country]",null,null,{"$f":"IF(VLOOKUP(N78,'pick lists'!$L$2:$M$217,2,FALSE) =\"Yes\",\"Yes\",\"No\")","v":{"$error":"#N/A"}},"[Please select]",null,"[Please select]",null,null,"[Please select]",null,null,"[Please select]","[Please select]","[Please select]","[Please select]","[Please select]",null,"[Please select]",null,"[Please select]",{"$nulls":7},"[Please select]",null,{"v":0,"d":"0%"},{"$f":"((IF(OR(AH78= \"Pre-consumer\", AH78 = \"Post-consumer\"), 'Bill of Materials'!J78, 0)) * AG78)+((IF(OR(AF78= \"Pre-consumer\", AF78 = \"Post-consumer\"), 'Bill of Materials'!J78, 0)) * AE78)","v":{"v":0,"d":"0%"}},{"$f":"((IF(OR(AH78=\"Renewable\",AH78=\"Responsibly sourced renewable\"),'Bill of Materials'!J78,0))*AG78)+((IF(OR(AF78=\"Renewable\",AF78=\"Responsibly sourced renewable\"),'Bill of Materials'!J78,0))*AE78)","v":{"v":0,"d":"0%"}},{"$f":"(IF(AH78 = \"Post-consumer\", 'Bill of Materials'!J78, 0) * AG78)+(IF(AF78=\"Post-consumer\",'Bill of Materials'!J78,0)*AE78)","v":{"v":0,"d":"0%"}},{"$f":"((IF(AH78= \"Responsibly sourced renewable\", 'Bill of Materials'!J78, 0)) * AG78)+((IF(AF78= \"Responsibly sourced renewable\", 'Bill of Materials'!J78, 0)) * AE78)","v":{"v":0,"d":"0%"}},"[Please select]",{"v":0,"d":"0%"},"[Please select]",{"v":0,"d":"0%"}]
[{"$nulls":8},{"v":0,"d":"0.0"},{"$error":"#DIV/0!"},{"$nulls":3},"[Select country]",null,null,{"$f":"IF(VLOOKUP(N79,'pick lists'!$L$2:$M$217,2,FALSE) =\"Yes\",\"Yes\",\"No\")","v":{"$error":"#N/A"}},"[Please select]",null,"[Please select]",null,null,"[Please select]",null,null,"[Please select]","[Please select]","[Please select]","[Please select]","[Please select]",null,"[Please select]",null,"[Please select]",{"$nulls":7},"[Please select]",null,{"v":0,"d":"0%"},{"$f":"((IF(OR(AH79= \"Pre-consumer\", AH79 = \"Post-consumer\"), 'Bill of Materials'!J79, 0)) * AG79)+((IF(OR(AF79= \"Pre-consumer\", AF79 = \"Post-consumer\"), 'Bill of Materials'!J79, 0)) * AE79)","v":{"v":0,"d":"0%"}},{"$f":"((IF(OR(AH79=\"Renewable\",AH79=\"Responsibly sourced renewable\"),'Bill of Materials'!J79,0))*AG79)+((IF(OR(AF79=\"Renewable\",AF79=\"Responsibly sourced renewable\"),'Bill of Materials'!J79,0))*AE79)","v":{"v":0,"d":"0%"}},{"$f":"(IF(AH79 = \"Post-consumer\", 'Bill of Materials'!J79, 0) * AG79)+(IF(AF79=\"Post-consumer\",'Bill of Materials'!J79,0)*AE79)","v":{"v":0,"d":"0%"}},{"$f":"((IF(AH79= \"Responsibly sourced renewable\", 'Bill of Materials'!J79, 0)) * AG79)+((IF(AF79= \"Responsibly sourced renewable\", 'Bill of Materials'!J79, 0)) * AE79)","v":{"v":0,"d":"0%"}},"[Please select]",{"v":0,"d":"0%"},"[Please select]",{"v":0,"d":"0%"}]
[{"$nulls":8},{"v":0,"d":"0.0"},{"$error":"#DIV/0!"},{"$nulls":3},"[Select country]",null,null,{"$f":"IF(VLOOKUP(N80,'pick lists'!$L$2:$M$217,2,FALSE) =\"Yes\",\"Yes\",\"No\")","v":{"$error":"#N/A"}},"[Please select]",null,"[Please select]",null,null,"[Please select]",null,null,"[Please select]","[Please select]","[Please select]","[Please select]","[Please select]",null,"[Please select]",null,"[Please select]",{"$nulls":7},"[Please select]",null,{"v":0,"d":"0%"},{"$f":"((IF(OR(AH80= \"Pre-consumer\", AH80 = \"Post-consumer\"), 'Bill of Materials'!J80, 0)) * AG80)+((IF(OR(AF80= \"Pre-consumer\", AF80 = \"Post-consumer\"), 'Bill of Materials'!J80, 0)) * AE80)","v":{"v":0,"d":"0%"}},{"$f":"((IF(OR(AH80=\"Renewable\",AH80=\"Responsibly sourced renewable\"),'Bill of Materials'!J80,0))*AG80)+((IF(OR(AF80=\"Renewable\",AF80=\"Responsibly sourced renewable\"),'Bill of Materials'!J80,0))*AE80)","v":{"v":0,"d":"0%"}},{"$f":"(IF(AH80 = \"Post-consumer\", 'Bill of Materials'!J80, 0) * AG80)+(IF(AF80=\"Post-consumer\",'Bill of Materials'!J80,0)*AE80)","v":{"v":0,"d":"0%"}},{"$f":"((IF(AH80= \"Responsibly sourced renewable\", 'Bill of Materials'!J80, 0)) * AG80)+((IF(AF80= \"Responsibly sourced renewable\", 'Bill of Materials'!J80, 0)) * AE80)","v":{"v":0,"d":"0%"}},"[Please select]",{"$f":"IF(OR(AW80=\"Biological\",AW80=\"Technical\",AW80=\"Both\"), J80, 0)","v":{"v":0,"d":"0%"}},"[Please select]",{"$f":"IF(AY80=\"Yes\",J80,0)","v":{"v":0,"d":"0%"}}]
[{"$nulls":8},{"$f":"G81*H81","v":{"v":0,"d":"0.0"}},{"$f":"I81/(SUM(I$16:I$200))","v":{"$error":"#DIV/0!"}},{"$nulls":3},"[Select country]",null,null,{"$f":"IF(VLOOKUP(N81,'pick lists'!$L$2:$M$217,2,FALSE) =\"Yes\",\"Yes\",\"No\")","v":{"$error":"#N/A"}},"[Please select]",null,"[Please select]",null,null,"[Please select]",null,null,"[Please select]","[Please select]","[Please select]","[Please select]","[Please select]",null,"[Please select]",null,"[Please select]",{"$nulls":7},"[Please select]",null,{"$f":"IF(AP81=\"Yes\", J81, 0)","v":{"v":0,"d":"0%"}},{"$f":"((IF(OR(AH81= \"Pre-consumer\", AH81 = \"Post-consumer\"), 'Bill of Materials'!J81, 0)) * AG81)+((IF(OR(AF81= \"Pre-consumer\", AF81 = \"Post-consumer\"), 'Bill of Materials'!J81, 0)) * AE81)","v":{"v":0,"d":"0%"}},{"$f":"((IF(OR(AH81=\"Renewable\",AH81=\"Responsibly sourced renewable\"),'Bill of Materials'!J81,0))*AG81)+((IF(OR(AF81=\"Renewable\",AF81=\"Responsibly sourced renewable\"),'Bill of Materials'!J81,0))*AE81)","v":{"v":0,"d":"0%"}},{"$f":"(IF(AH81 = \"Post-consumer\", 'Bill of Materials'!J81, 0) * AG81)+(IF(AF81=\"Post-consumer\",'Bill of Materials'!J81,0)*AE81)","v":{"v":0,"d":"0%"}},{"$f":"((IF(AH81= \"Responsibly sourced renewable\", 'Bill of Materials'!J81, 0)) * AG81)+((IF(AF81= \"Responsibly sourced renewable\", 'Bill of Materials'!J81, 0)) * AE81)","v":{"v":0,"d":"0%"}},"[Please select]",{"v":0,"d":"0%"},"[Please select]",{"v":0,"d":"0%"}]
[{"$nulls":8},{"v":0,"d":"0.0"},{"$error":"#DIV/0!"},{"$nulls":3},"[Select country]",null,null,{"$f":"IF(VLOOKUP(N82,'pick lists'!$L$2:$M$217,2,FALSE) =\"Yes\",\"Yes\",\"No\")","v":{"$error":"#N/A"}},"[Please select]",null,"[Please select]",null,null,"[Please select]",null,null,"[Please select]","[Please select]","[Please select]","[Please select]","[Please select]",null,"[Please select]",null,"[Please select]",{"$nulls":7},"[Please select]",null,{"v":0,"d":"0%"},{"$f":"((IF(OR(AH82= \"Pre-consumer\", AH82 = \"Post-consumer\"), 'Bill of Materials'!J82, 0)) * AG82)+((IF(OR(AF82= \"Pre-consumer\", AF82 = \"Post-consumer\"), 'Bill of Materials'!J82, 0)) * AE82)","v":{"v":0,"d":"0%"}},{"$f":"((IF(OR(AH82=\"Renewable\",AH82=\"Responsibly sourced renewable\"),'Bill of Materials'!J82,0))*AG82)+((IF(OR(AF82=\"Renewable\",AF82=\"Responsibly sourced renewable\"),'Bill of Materials'!J82,0))*AE82)","v":{"v":0,"d":"0%"}},{"$f":"(IF(AH82 = \"Post-consumer\", 'Bill of Materials'!J82, 0) * AG82)+(IF(AF82=\"Post-consumer\",'Bill of Materials'!J82,0)*AE82)","v":{"v":0,"d":"0%"}},{"$f":"((IF(AH82= \"Responsibly sourced renewable\", 'Bill of Materials'!J82, 0)) * AG82)+((IF(AF82= \"Responsibly sourced renewable\", 'Bill of Materials'!J82, 0)) * AE82)","v":{"v":0,"d":"0%"}},"[Please select]",{"v":0,"d":"0%"},"[Please select]",{"v":0,"d":"0%"}]
[{"$nulls":8},{"v":0,"d":"0.0"},{"$error":"#DIV/0!"},{"$nulls":3},"[Select country]",null,null,{"$f":"IF(VLOOKUP(N83,'pick lists'!$L$2:$M$217,2,FALSE) =\"Yes\",\"Yes\",\"No\")","v":{"$error":"#N/A"}},"[Please select]",null,"[Please select]",null,null,"[Please select]",null,null,"[Please select]","[Please select]","[Please select]","[Please select]","[Please select]",null,"[Please select]",null,"[Please select]",{"$nulls":7},"[Please select]",null,{"v":0,"d":"0%"},{"$f":"((IF(OR(AH83= \"Pre-consumer\", AH83 = \"Post-consumer\"), 'Bill of Materials'!J83, 0)) * AG83)+((IF(OR(AF83= \"Pre-consumer\", AF83 = \"Post-consumer\"), 'Bill of Materials'!J83, 0)) * AE83)","v":{"v":0,"d":"0%"}},{"$f":"((IF(OR(AH83=\"Renewable\",AH83=\"Responsibly sourced renewable\"),'Bill of Materials'!J83,0))*AG83)+((IF(OR(AF83=\"Renewable\",AF83=\"Responsibly sourced renewable\"),'Bill of Materials'!J83,0))*AE83)","v":{"v":0,"d":"0%"}},{"$f":"(IF(AH83 = \"Post-consumer\", 'Bill of Materials'!J83, 0) * AG83)+(IF(AF83=\"Post-consumer\",'Bill of Materials'!J83,0)*AE83)","v":{"v":0,"d":"0%"}},{"$f":"((IF(AH83= \"Responsibly sourced renewable\", 'Bill of Materials'!J83, 0)) * AG83)+((IF(AF83= \"Responsibly sourced renewable\", 'Bill of Materials'!J83, 0)) * AE83)","v":{"v":0,"d":"0%"}},"[Please select]",{"v":0,"d":"0%"},"[Please select]",{"v":0,"d":"0%"}]
[{"$nulls":8},{"v":0,"d":"0.0"},{"$error":"#DIV/0!"},{"$nulls":3},"[Select country]",null,null,{"$f":"IF(VLOOKUP(N84,'pick lists'!$L$2:$M$217,2,FALSE) =\"Yes\",\"Yes\",\"No\")","v":{"$error":"#N/A"}},"[Please select]",null,"[Please select]",null,null,"[Please select]",null,null,"[Please select]","[Please select]","[Please select]","[Please select]","[Please select]",null,"[Please select]",null,"[Please select]",{"$nulls":7},"[Please select]",null,{"v":0,"d":"0%"},{"$f":"((IF(OR(AH84= \"Pre-consumer\", AH84 = \"Post-consumer\"), 'Bill of Materials'!J84, 0)) * AG84)+((IF(OR(AF84= \"Pre-consumer\", AF84 = \"Post-consumer\"), 'Bill of Materials'!J84, 0)) * AE84)","v":{"v":0,"d":"0%"}},{"$f":"((IF(OR(AH84=\"Renewable\",AH84=\"Responsibly sourced renewable\"),'Bill of Materials'!J84,0))*AG84)+((IF(OR(AF84=\"Renewable\",AF84=\"Responsibly sourced renewable\"),'Bill of Materials'!J84,0))*AE84)","v":{"v":0,"d":"0%"}},{"$f":"(IF(AH84 = \"Post-consumer\", 'Bill of Materials'!J84, 0) * AG84)+(IF(AF84=\"Post-consumer\",'Bill of Materials'!J84,0)*AE84)","v":{"v":0,"d":"0%"}},{"$f":"((IF(AH84= \"Responsibly sourced renewable\", 'Bill of Materials'!J84, 0)) * AG84)+((IF(AF84= \"Responsibly sourced renewable\", 'Bill of Materials'!J84, 0)) * AE84)","v":{"v":0,"d":"0%"}},"[Please select]",{"v":0,"d":"0%"},"[Please select]",{"v":0,"d":"0%"}]
[{"$nulls":8},{"v":0,"d":"0.0"},{"$error":"#DIV/0!"},{"$nulls":3},"[Select country]",null,null,{"$f":"IF(VLOOKUP(N85,'pick lists'!$L$2:$M$217,2,FALSE) =\"Yes\",\"Yes\",\"No\")","v":{"$error":"#N/A"}},"[Please select]",null,"[Please select]",null,null,"[Please select]",null,null,"[Please select]","[Please select]","[Please select]","[Please select]","[Please select]",null,"[Please select]",null,"[Please select]",{"$nulls":7},"[Please select]",null,{"v":0,"d":"0%"},{"$f":"((IF(OR(AH85= \"Pre-consumer\", AH85 = \"Post-consumer\"), 'Bill of Materials'!J85, 0)) * AG85)+((IF(OR(AF85= \"Pre-consumer\", AF85 = \"Post-consumer\"), 'Bill of Materials'!J85, 0)) * AE85)","v":{"v":0,"d":"0%"}},{"$f":"((IF(OR(AH85=\"Renewable\",AH85=\"Responsibly sourced renewable\"),'Bill of Materials'!J85,0))*AG85)+((IF(OR(AF85=\"Renewable\",AF85=\"Responsibly sourced renewable\"),'Bill of Materials'!J85,0))*AE85)","v":{"v":0,"d":"0%"}},{"$f":"(IF(AH85 = \"Post-consumer\", 'Bill of Materials'!J85, 0) * AG85)+(IF(AF85=\"Post-consumer\",'Bill of Materials'!J85,0)*AE85)","v":{"v":0,"d":"0%"}},{"$f":"((IF(AH85= \"Responsibly sourced renewable\", 'Bill of Materials'!J85, 0)) * AG85)+((IF(AF85= \"Responsibly sourced renewable\", 'Bill of Materials'!J85, 0)) * AE85)","v":{"v":0,"d":"0%"}},"[Please select]",{"v":0,"d":"0%"},"[Please select]",{"v":0,"d":"0%"}]
[{"$nulls":8},{"v":0,"d":"0.0"},{"$error":"#DIV/0!"},{"$nulls":3},"[Select country]",null,null,{"$f":"IF(VLOOKUP(N86,'pick lists'!$L$2:$M$217,2,FALSE) =\"Yes\",\"Yes\",\"No\")","v":{"$error":"#N/A"}},"[Please select]",null,"[Please select]",null,null,"[Please select]",null,null,"[Please select]","[Please select]","[Please select]","[Please select]","[Please select]",null,"[Please select]",null,"[Please select]",{"$nulls":7},"[Please select]",null,{"v":0,"d":"0%"},{"$f":"((IF(OR(AH86= \"Pre-consumer\", AH86 = \"Post-consumer\"), 'Bill of Materials'!J86, 0)) * AG86)+((IF(OR(AF86= \"Pre-consumer\", AF86 = \"Post-consumer\"), 'Bill of Materials'!J86, 0)) * AE86)","v":{"v":0,"d":"0%"}},{"$f":"((IF(OR(AH86=\"Renewable\",AH86=\"Responsibly sourced renewable\"),'Bill of Materials'!J86,0))*AG86)+((IF(OR(AF86=\"Renewable\",AF86=\"Responsibly sourced renewable\"),'Bill of Materials'!J86,0))*AE86)","v":{"v":0,"d":"0%"}},{"$f":"(IF(AH86 = \"Post-consumer\", 'Bill of Materials'!J86, 0) * AG86)+(IF(AF86=\"Post-consumer\",'Bill of Materials'!J86,0)*AE86)","v":{"v":0,"d":"0%"}},{"$f":"((IF(AH86= \"Responsibly sourced renewable\", 'Bill of Materials'!J86, 0)) * AG86)+((IF(AF86= \"Responsibly sourced renewable\", 'Bill of Materials'!J86, 0)) * AE86)","v":{"v":0,"d":"0%"}},"[Please select]",{"v":0,"d":"0%"},"[Please select]",{"v":0,"d":"0%"}]
[{"$nulls":8},{"v":0,"d":"0.0"},{"$error":"#DIV/0!"},{"$nulls":3},"[Select country]",null,null,{"$f":"IF(VLOOKUP(N87,'pick lists'!$L$2:$M$217,2,FALSE) =\"Yes\",\"Yes\",\"No\")","v":{"$error":"#N/A"}},"[Please select]",null,"[Please select]",null,null,"[Please select]",null,null,"[Please select]","[Please select]","[Please select]","[Please select]","[Please select]",null,"[Please select]",null,"[Please select]",{"$nulls":7},"[Please select]",null,{"v":0,"d":"0%"},{"$f":"((IF(OR(AH87= \"Pre-consumer\", AH87 = \"Post-consumer\"), 'Bill of Materials'!J87, 0)) * AG87)+((IF(OR(AF87= \"Pre-consumer\", AF87 = \"Post-consumer\"), 'Bill of Materials'!J87, 0)) * AE87)","v":{"v":0,"d":"0%"}},{"$f":"((IF(OR(AH87=\"Renewable\",AH87=\"Responsibly sourced renewable\"),'Bill of Materials'!J87,0))*AG87)+((IF(OR(AF87=\"Renewable\",AF87=\"Responsibly sourced renewable\"),'Bill of Materials'!J87,0))*AE87)","v":{"v":0,"d":"0%"}},{"$f":"(IF(AH87 = \"Post-consumer\", 'Bill of Materials'!J87, 0) * AG87)+(IF(AF87=\"Post-consumer\",'Bill of Materials'!J87,0)*AE87)","v":{"v":0,"d":"0%"}},{"$f":"((IF(AH87= \"Responsibly sourced renewable\", 'Bill of Materials'!J87, 0)) * AG87)+((IF(AF87= \"Responsibly sourced renewable\", 'Bill of Materials'!J87, 0)) * AE87)","v":{"v":0,"d":"0%"}},"[Please select]",{"v":0,"d":"0%"},"[Please select]",{"v":0,"d":"0%"}]
[{"$nulls":8},{"v":0,"d":"0.0"},{"$error":"#DIV/0!"},{"$nulls":3},"[Select country]",null,null,{"$f":"IF(VLOOKUP(N88,'pick lists'!$L$2:$M$217,2,FALSE) =\"Yes\",\"Yes\",\"No\")","v":{"$error":"#N/A"}},"[Please select]",null,"[Please select]",null,null,"[Please select]",null,null,"[Please select]","[Please select]","[Please select]","[Please select]","[Please select]",null,"[Please select]",null,"[Please select]",{"$nulls":7},"[Please select]",null,{"v":0,"d":"0%"},{"$f":"((IF(OR(AH88= \"Pre-consumer\", AH88 = \"Post-consumer\"), 'Bill of Materials'!J88, 0)) * AG88)+((IF(OR(AF88= \"Pre-consumer\", AF88 = \"Post-consumer\"), 'Bill of Materials'!J88, 0)) * AE88)","v":{"v":0,"d":"0%"}},{"$f":"((IF(OR(AH88=\"Renewable\",AH88=\"Responsibly sourced renewable\"),'Bill of Materials'!J88,0))*AG88)+((IF(OR(AF88=\"Renewable\",AF88=\"Responsibly sourced renewable\"),'Bill of Materials'!J88,0))*AE88)","v":{"v":0,"d":"0%"}},{"$f":"(IF(AH88 = \"Post-consumer\", 'Bill of Materials'!J88, 0) * AG88)+(IF(AF88=\"Post-consumer\",'Bill of Materials'!J88,0)*AE88)","v":{"v":0,"d":"0%"}},{"$f":"((IF(AH88= \"Responsibly sourced renewable\", 'Bill of Materials'!J88, 0)) * AG88)+((IF(AF88= \"Responsibly sourced renewable\", 'Bill of Materials'!J88, 0)) * AE88)","v":{"v":0,"d":"0%"}},"[Please select]",{"v":0,"d":"0%"},"[Please select]",{"v":0,"d":"0%"}]
[{"$nulls":8},{"v":0,"d":"0.0"},{"$error":"#DIV/0!"},{"$nulls":3},"[Select country]",null,null,{"$f":"IF(VLOOKUP(N89,'pick lists'!$L$2:$M$217,2,FALSE) =\"Yes\",\"Yes\",\"No\")","v":{"$error":"#N/A"}},"[Please select]",null,"[Please select]",null,null,"[Please select]",null,null,"[Please select]","[Please select]","[Please select]","[Please select]","[Please select]",null,"[Please select]",null,"[Please select]",{"$nulls":7},"[Please select]",null,{"v":0,"d":"0%"},{"$f":"((IF(OR(AH89= \"Pre-consumer\", AH89 = \"Post-consumer\"), 'Bill of Materials'!J89, 0)) * AG89)+((IF(OR(AF89= \"Pre-consumer\", AF89 = \"Post-consumer\"), 'Bill of Materials'!J89, 0)) * AE89)","v":{"v":0,"d":"0%"}},{"$f":"((IF(OR(AH89=\"Renewable\",AH89=\"Responsibly sourced renewable\"),'Bill of Materials'!J89,0))*AG89)+((IF(OR(AF89=\"Renewable\",AF89=\"Responsibly sourced renewable\"),'Bill of Materials'!J89,0))*AE89)","v":{"v":0,"d":"0%"}},{"$f":"(IF(AH89 = \"Post-consumer\", 'Bill of Materials'!J89, 0) * AG89)+(IF(AF89=\"Post-consumer\",'Bill of Materials'!J89,0)*AE89)","v":{"v":0,"d":"0%"}},{"$f":"((IF(AH89= \"Responsibly sourced renewable\", 'Bill of Materials'!J89, 0)) * AG89)+((IF(AF89= \"Responsibly sourced renewable\", 'Bill of Materials'!J89, 0)) * AE89)","v":{"v":0,"d":"0%"}},"[Please select]",{"v":0,"d":"0%"},"[Please select]",{"v":0,"d":"0%"}]
[{"$nulls":8},{"v":0,"d":"0.0"},{"$error":"#DIV/0!"},{"$nulls":3},"[Select country]",null,null,{"$f":"IF(VLOOKUP(N90,'pick lists'!$L$2:$M$217,2,FALSE) =\"Yes\",\"Yes\",\"No\")","v":{"$error":"#N/A"}},"[Please select]",null,"[Please select]",null,null,"[Please select]",null,null,"[Please select]","[Please select]","[Please select]","[Please select]","[Please select]",null,"[Please select]",null,"[Please select]",{"$nulls":7},"[Please select]",null,{"v":0,"d":"0%"},{"$f":"((IF(OR(AH90= \"Pre-consumer\", AH90 = \"Post-consumer\"), 'Bill of Materials'!J90, 0)) * AG90)+((IF(OR(AF90= \"Pre-consumer\", AF90 = \"Post-consumer\"), 'Bill of Materials'!J90, 0)) * AE90)","v":{"v":0,"d":"0%"}},{"$f":"((IF(OR(AH90=\"Renewable\",AH90=\"Responsibly sourced renewable\"),'Bill of Materials'!J90,0))*AG90)+((IF(OR(AF90=\"Renewable\",AF90=\"Responsibly sourced renewable\"),'Bill of Materials'!J90,0))*AE90)","v":{"v":0,"d":"0%"}},{"$f":"(IF(AH90 = \"Post-consumer\", 'Bill of Materials'!J90, 0) * AG90)+(IF(AF90=\"Post-consumer\",'Bill of Materials'!J90,0)*AE90)","v":{"v":0,"d":"0%"}},{"$f":"((IF(AH90= \"Responsibly sourced renewable\", 'Bill of Materials'!J90, 0)) * AG90)+((IF(AF90= \"Responsibly sourced renewable\", 'Bill of Materials'!J90, 0)) * AE90)","v":{"v":0,"d":"0%"}},"[Please select]",{"v":0,"d":"0%"},"[Please select]",{"v":0,"d":"0%"}]
[{"$nulls":8},{"v":0,"d":"0.0"},{"$error":"#DIV/0!"},{"$nulls":3},"[Select country]",null,null,{"$f":"IF(VLOOKUP(N91,'pick lists'!$L$2:$M$217,2,FALSE) =\"Yes\",\"Yes\",\"No\")","v":{"$error":"#N/A"}},"[Please select]",null,"[Please select]",null,null,"[Please select]",null,null,"[Please select]","[Please select]","[Please select]","[Please select]","[Please select]",null,"[Please select]",null,"[Please select]",{"$nulls":7},"[Please select]",null,{"v":0,"d":"0%"},{"$f":"((IF(OR(AH91= \"Pre-consumer\", AH91 = \"Post-consumer\"), 'Bill of Materials'!J91, 0)) * AG91)+((IF(OR(AF91= \"Pre-consumer\", AF91 = \"Post-consumer\"), 'Bill of Materials'!J91, 0)) * AE91)","v":{"v":0,"d":"0%"}},{"$f":"((IF(OR(AH91=\"Renewable\",AH91=\"Responsibly sourced renewable\"),'Bill of Materials'!J91,0))*AG91)+((IF(OR(AF91=\"Renewable\",AF91=\"Responsibly sourced renewable\"),'Bill of Materials'!J91,0))*AE91)","v":{"v":0,"d":"0%"}},{"$f":"(IF(AH91 = \"Post-consumer\", 'Bill of Materials'!J91, 0) * AG91)+(IF(AF91=\"Post-consumer\",'Bill of Materials'!J91,0)*AE91)","v":{"v":0,"d":"0%"}},{"$f":"((IF(AH91= \"Responsibly sourced renewable\", 'Bill of Materials'!J91, 0)) * AG91)+((IF(AF91= \"Responsibly sourced renewable\", 'Bill of Materials'!J91, 0)) * AE91)","v":{"v":0,"d":"0%"}},"[Please select]",{"v":0,"d":"0%"},"[Please select]",{"v":0,"d":"0%"}]
[{"$nulls":8},{"v":0,"d":"0.0"},{"$error":"#DIV/0!"},{"$nulls":3},"[Select country]",null,null,{"$f":"IF(VLOOKUP(N92,'pick lists'!$L$2:$M$217,2,FALSE) =\"Yes\",\"Yes\",\"No\")","v":{"$error":"#N/A"}},"[Please select]",null,"[Please select]",null,null,"[Please select]",null,null,"[Please select]","[Please select]","[Please select]","[Please select]","[Please select]",null,"[Please select]",null,"[Please select]",{"$nulls":7},"[Please select]",null,{"v":0,"d":"0%"},{"$f":"((IF(OR(AH92= \"Pre-consumer\", AH92 = \"Post-consumer\"), 'Bill of Materials'!J92, 0)) * AG92)+((IF(OR(AF92= \"Pre-consumer\", AF92 = \"Post-consumer\"), 'Bill of Materials'!J92, 0)) * AE92)","v":{"v":0,"d":"0%"}},{"$f":"((IF(OR(AH92=\"Renewable\",AH92=\"Responsibly sourced renewable\"),'Bill of Materials'!J92,0))*AG92)+((IF(OR(AF92=\"Renewable\",AF92=\"Responsibly sourced renewable\"),'Bill of Materials'!J92,0))*AE92)","v":{"v":0,"d":"0%"}},{"$f":"(IF(AH92 = \"Post-consumer\", 'Bill of Materials'!J92, 0) * AG92)+(IF(AF92=\"Post-consumer\",'Bill of Materials'!J92,0)*AE92)","v":{"v":0,"d":"0%"}},{"$f":"((IF(AH92= \"Responsibly sourced renewable\", 'Bill of Materials'!J92, 0)) * AG92)+((IF(AF92= \"Responsibly sourced renewable\", 'Bill of Materials'!J92, 0)) * AE92)","v":{"v":0,"d":"0%"}},"[Please select]",{"v":0,"d":"0%"},"[Please select]",{"v":0,"d":"0%"}]
[{"$nulls":8},{"v":0,"d":"0.0"},{"$error":"#DIV/0!"},{"$nulls":3},"[Select country]",null,null,{"$f":"IF(VLOOKUP(N93,'pick lists'!$L$2:$M$217,2,FALSE) =\"Yes\",\"Yes\",\"No\")","v":{"$error":"#N/A"}},"[Please select]",null,"[Please select]",null,null,"[Please select]",null,null,"[Please select]","[Please select]","[Please select]","[Please select]","[Please select]",null,"[Please select]",null,"[Please select]",{"$nulls":7},"[Please select]",null,{"v":0,"d":"0%"},{"$f":"((IF(OR(AH93= \"Pre-consumer\", AH93 = \"Post-consumer\"), 'Bill of Materials'!J93, 0)) * AG93)+((IF(OR(AF93= \"Pre-consumer\", AF93 = \"Post-consumer\"), 'Bill of Materials'!J93, 0)) * AE93)","v":{"v":0,"d":"0%"}},{"$f":"((IF(OR(AH93=\"Renewable\",AH93=\"Responsibly sourced renewable\"),'Bill of Materials'!J93,0))*AG93)+((IF(OR(AF93=\"Renewable\",AF93=\"Responsibly sourced renewable\"),'Bill of Materials'!J93,0))*AE93)","v":{"v":0,"d":"0%"}},{"$f":"(IF(AH93 = \"Post-consumer\", 'Bill of Materials'!J93, 0) * AG93)+(IF(AF93=\"Post-consumer\",'Bill of Materials'!J93,0)*AE93)","v":{"v":0,"d":"0%"}},{"$f":"((IF(AH93= \"Responsibly sourced renewable\", 'Bill of Materials'!J93, 0)) * AG93)+((IF(AF93= \"Responsibly sourced renewable\", 'Bill of Materials'!J93, 0)) * AE93)","v":{"v":0,"d":"0%"}},"[Please select]",{"v":0,"d":"0%"},"[Please select]",{"v":0,"d":"0%"}]
[{"$nulls":8},{"v":0,"d":"0.0"},{"$error":"#DIV/0!"},{"$nulls":3},"[Select country]",null,null,{"$f":"IF(VLOOKUP(N94,'pick lists'!$L$2:$M$217,2,FALSE) =\"Yes\",\"Yes\",\"No\")","v":{"$error":"#N/A"}},"[Please select]",null,"[Please select]",null,null,"[Please select]",null,null,"[Please select]","[Please select]","[Please select]","[Please select]","[Please select]",null,"[Please select]",null,"[Please select]",{"$nulls":7},"[Please select]",null,{"v":0,"d":"0%"},{"$f":"((IF(OR(AH94= \"Pre-consumer\", AH94 = \"Post-consumer\"), 'Bill of Materials'!J94, 0)) * AG94)+((IF(OR(AF94= \"Pre-consumer\", AF94 = \"Post-consumer\"), 'Bill of Materials'!J94, 0)) * AE94)","v":{"v":0,"d":"0%"}},{"$f":"((IF(OR(AH94=\"Renewable\",AH94=\"Responsibly sourced renewable\"),'Bill of Materials'!J94,0))*AG94)+((IF(OR(AF94=\"Renewable\",AF94=\"Responsibly sourced renewable\"),'Bill of Materials'!J94,0))*AE94)","v":{"v":0,"d":"0%"}},{"$f":"(IF(AH94 = \"Post-consumer\", 'Bill of Materials'!J94, 0) * AG94)+(IF(AF94=\"Post-consumer\",'Bill of Materials'!J94,0)*AE94)","v":{"v":0,"d":"0%"}},{"$f":"((IF(AH94= \"Responsibly sourced renewable\", 'Bill of Materials'!J94, 0)) * AG94)+((IF(AF94= \"Responsibly sourced renewable\", 'Bill of Materials'!J94, 0)) * AE94)","v":{"v":0,"d":"0%"}},"[Please select]",{"v":0,"d":"0%"},"[Please select]",{"v":0,"d":"0%"}]
[{"$nulls":8},{"v":0,"d":"0.0"},{"$error":"#DIV/0!"},{"$nulls":3},"[Select country]",null,null,{"$f":"IF(VLOOKUP(N95,'pick lists'!$L$2:$M$217,2,FALSE) =\"Yes\",\"Yes\",\"No\")","v":{"$error":"#N/A"}},"[Please select]",null,"[Please select]",null,null,"[Please select]",null,null,"[Please select]","[Please select]","[Please select]","[Please select]","[Please select]",null,"[Please select]",null,"[Please select]",{"$nulls":7},"[Please select]",null,{"v":0,"d":"0%"},{"$f":"((IF(OR(AH95= \"Pre-consumer\", AH95 = \"Post-consumer\"), 'Bill of Materials'!J95, 0)) * AG95)+((IF(OR(AF95= \"Pre-consumer\", AF95 = \"Post-consumer\"), 'Bill of Materials'!J95, 0)) * AE95)","v":{"v":0,"d":"0%"}},{"$f":"((IF(OR(AH95=\"Renewable\",AH95=\"Responsibly sourced renewable\"),'Bill of Materials'!J95,0))*AG95)+((IF(OR(AF95=\"Renewable\",AF95=\"Responsibly sourced renewable\"),'Bill of Materials'!J95,0))*AE95)","v":{"v":0,"d":"0%"}},{"$f":"(IF(AH95 = \"Post-consumer\", 'Bill of Materials'!J95, 0) * AG95)+(IF(AF95=\"Post-consumer\",'Bill of Materials'!J95,0)*AE95)","v":{"v":0,"d":"0%"}},{"$f":"((IF(AH95= \"Responsibly sourced renewable\", 'Bill of Materials'!J95, 0)) * AG95)+((IF(AF95= \"Responsibly sourced renewable\", 'Bill of Materials'!J95, 0)) * AE95)","v":{"v":0,"d":"0%"}},"[Please select]",{"v":0,"d":"0%"},"[Please select]",{"v":0,"d":"0%"}]
[{"$nulls":8},{"v":0,"d":"0.0"},{"$error":"#DIV/0!"},{"$nulls":3},"[Select country]",null,null,{"$f":"IF(VLOOKUP(N96,'pick lists'!$L$2:$M$217,2,FALSE) =\"Yes\",\"Yes\",\"No\")","v":{"$error":"#N/A"}},"[Please select]",null,"[Please select]",null,null,"[Please select]",null,null,"[Please select]","[Please select]","[Please select]","[Please select]","[Please select]",null,"[Please select]",null,"[Please select]",{"$nulls":7},"[Please select]",null,{"v":0,"d":"0%"},{"$f":"((IF(OR(AH96= \"Pre-consumer\", AH96 = \"Post-consumer\"), 'Bill of Materials'!J96, 0)) * AG96)+((IF(OR(AF96= \"Pre-consumer\", AF96 = \"Post-consumer\"), 'Bill of Materials'!J96, 0)) * AE96)","v":{"v":0,"d":"0%"}},{"$f":"((IF(OR(AH96=\"Renewable\",AH96=\"Responsibly sourced renewable\"),'Bill of Materials'!J96,0))*AG96)+((IF(OR(AF96=\"Renewable\",AF96=\"Responsibly sourced renewable\"),'Bill of Materials'!J96,0))*AE96)","v":{"v":0,"d":"0%"}},{"$f":"(IF(AH96 = \"Post-consumer\", 'Bill of Materials'!J96, 0) * AG96)+(IF(AF96=\"Post-consumer\",'Bill of Materials'!J96,0)*AE96)","v":{"v":0,"d":"0%"}},{"$f":"((IF(AH96= \"Responsibly sourced renewable\", 'Bill of Materials'!J96, 0)) * AG96)+((IF(AF96= \"Responsibly sourced renewable\", 'Bill of Materials'!J96, 0)) * AE96)","v":{"v":0,"d":"0%"}},"[Please select]",{"v":0,"d":"0%"},"[Please select]",{"v":0,"d":"0%"}]
[{"$nulls":8},{"v":0,"d":"0.0"},{"$error":"#DIV/0!"},{"$nulls":3},"[Select country]",null,null,{"$f":"IF(VLOOKUP(N97,'pick lists'!$L$2:$M$217,2,FALSE) =\"Yes\",\"Yes\",\"No\")","v":{"$error":"#N/A"}},"[Please select]",null,"[Please select]",null,null,"[Please select]",null,null,"[Please select]","[Please select]","[Please select]","[Please select]","[Please select]",null,"[Please select]",null,"[Please select]",{"$nulls":7},"[Please select]",null,{"v":0,"d":"0%"},{"$f":"((IF(OR(AH97= \"Pre-consumer\", AH97 = \"Post-consumer\"), 'Bill of Materials'!J97, 0)) * AG97)+((IF(OR(AF97= \"Pre-consumer\", AF97 = \"Post-consumer\"), 'Bill of Materials'!J97, 0)) * AE97)","v":{"v":0,"d":"0%"}},{"$f":"((IF(OR(AH97=\"Renewable\",AH97=\"Responsibly sourced renewable\"),'Bill of Materials'!J97,0))*AG97)+((IF(OR(AF97=\"Renewable\",AF97=\"Responsibly sourced renewable\"),'Bill of Materials'!J97,0))*AE97)","v":{"v":0,"d":"0%"}},{"$f":"(IF(AH97 = \"Post-consumer\", 'Bill of Materials'!J97, 0) * AG97)+(IF(AF97=\"Post-consumer\",'Bill of Materials'!J97,0)*AE97)","v":{"v":0,"d":"0%"}},{"$f":"((IF(AH97= \"Responsibly sourced renewable\", 'Bill of Materials'!J97, 0)) * AG97)+((IF(AF97= \"Responsibly sourced renewable\", 'Bill of Materials'!J97, 0)) * AE97)","v":{"v":0,"d":"0%"}},"[Please select]",{"v":0,"d":"0%"},"[Please select]",{"v":0,"d":"0%"}]
[{"$nulls":8},{"v":0,"d":"0.0"},{"$error":"#DIV/0!"},{"$nulls":3},"[Select country]",null,null,{"$f":"IF(VLOOKUP(N98,'pick lists'!$L$2:$M$217,2,FALSE) =\"Yes\",\"Yes\",\"No\")","v":{"$error":"#N/A"}},"[Please select]",null,"[Please select]",null,null,"[Please select]",null,null,"[Please select]","[Please select]","[Please select]","[Please select]","[Please select]",null,"[Please select]",null,"[Please select]",{"$nulls":7},"[Please select]",null,{"v":0,"d":"0%"},{"$f":"((IF(OR(AH98= \"Pre-consumer\", AH98 = \"Post-consumer\"), 'Bill of Materials'!J98, 0)) * AG98)+((IF(OR(AF98= \"Pre-consumer\", AF98 = \"Post-consumer\"), 'Bill of Materials'!J98, 0)) * AE98)","v":{"v":0,"d":"0%"}},{"$f":"((IF(OR(AH98=\"Renewable\",AH98=\"Responsibly sourced renewable\"),'Bill of Materials'!J98,0))*AG98)+((IF(OR(AF98=\"Renewable\",AF98=\"Responsibly sourced renewable\"),'Bill of Materials'!J98,0))*AE98)","v":{"v":0,"d":"0%"}},{"$f":"(IF(AH98 = \"Post-consumer\", 'Bill of Materials'!J98, 0) * AG98)+(IF(AF98=\"Post-consumer\",'Bill of Materials'!J98,0)*AE98)","v":{"v":0,"d":"0%"}},{"$f":"((IF(AH98= \"Responsibly sourced renewable\", 'Bill of Materials'!J98, 0)) * AG98)+((IF(AF98= \"Responsibly sourced renewable\", 'Bill of Materials'!J98, 0)) * AE98)","v":{"v":0,"d":"0%"}},"[Please select]",{"v":0,"d":"0%"},"[Please select]",{"v":0,"d":"0%"}]
[{"$nulls":8},{"v":0,"d":"0.0"},{"$error":"#DIV/0!"},{"$nulls":3},"[Select country]",null,null,{"$f":"IF(VLOOKUP(N99,'pick lists'!$L$2:$M$217,2,FALSE) =\"Yes\",\"Yes\",\"No\")","v":{"$error":"#N/A"}},"[Please select]",null,"[Please select]",null,null,"[Please select]",null,null,"[Please select]","[Please select]","[Please select]","[Please select]","[Please select]",null,"[Please select]",null,"[Please select]",{"$nulls":7},"[Please select]",null,{"v":0,"d":"0%"},{"$f":"((IF(OR(AH99= \"Pre-consumer\", AH99 = \"Post-consumer\"), 'Bill of Materials'!J99, 0)) * AG99)+((IF(OR(AF99= \"Pre-consumer\", AF99 = \"Post-consumer\"), 'Bill of Materials'!J99, 0)) * AE99)","v":{"v":0,"d":"0%"}},{"$f":"((IF(OR(AH99=\"Renewable\",AH99=\"Responsibly sourced renewable\"),'Bill of Materials'!J99,0))*AG99)+((IF(OR(AF99=\"Renewable\",AF99=\"Responsibly sourced renewable\"),'Bill of Materials'!J99,0))*AE99)","v":{"v":0,"d":"0%"}},{"$f":"(IF(AH99 = \"Post-consumer\", 'Bill of Materials'!J99, 0) * AG99)+(IF(AF99=\"Post-consumer\",'Bill of Materials'!J99,0)*AE99)","v":{"v":0,"d":"0%"}},{"$f":"((IF(AH99= \"Responsibly sourced renewable\", 'Bill of Materials'!J99, 0)) * AG99)+((IF(AF99= \"Responsibly sourced renewable\", 'Bill of Materials'!J99, 0)) * AE99)","v":{"v":0,"d":"0%"}},"[Please select]",{"v":0,"d":"0%"},"[Please select]",{"v":0,"d":"0%"}]
[{"$nulls":8},{"v":0,"d":"0.0"},{"$error":"#DIV/0!"},{"$nulls":3},"[Select country]",null,null,{"$f":"IF(VLOOKUP(N100,'pick lists'!$L$2:$M$217,2,FALSE) =\"Yes\",\"Yes\",\"No\")","v":{"$error":"#N/A"}},"[Please select]",null,"[Please select]",null,null,"[Please select]",null,null,"[Please select]","[Please select]","[Please select]","[Please select]","[Please select]",null,"[Please select]",null,"[Please select]",{"$nulls":7},"[Please select]",null,{"v":0,"d":"0%"},{"$f":"((IF(OR(AH100= \"Pre-consumer\", AH100 = \"Post-consumer\"), 'Bill of Materials'!J100, 0)) * AG100)+((IF(OR(AF100= \"Pre-consumer\", AF100 = \"Post-consumer\"), 'Bill of Materials'!J100, 0)) * AE100)","v":{"v":0,"d":"0%"}},{"$f":"((IF(OR(AH100=\"Renewable\",AH100=\"Responsibly sourced renewable\"),'Bill of Materials'!J100,0))*AG100)+((IF(OR(AF100=\"Renewable\",AF100=\"Responsibly sourced renewable\"),'Bill of Materials'!J100,0))*AE100)","v":{"v":0,"d":"0%"}},{"$f":"(IF(AH100 = \"Post-consumer\", 'Bill of Materials'!J100, 0) * AG100)+(IF(AF100=\"Post-consumer\",'Bill of Materials'!J100,0)*AE100)","v":{"v":0,"d":"0%"}},{"$f":"((IF(AH100= \"Responsibly sourced renewable\", 'Bill of Materials'!J100, 0)) * AG100)+((IF(AF100= \"Responsibly sourced renewable\", 'Bill of Materials'!J100, 0)) * AE100)","v":{"v":0,"d":"0%"}},"[Please select]",{"v":0,"d":"0%"},"[Please select]",{"v":0,"d":"0%"}]
[{"$nulls":8},{"v":0,"d":"0.0"},{"$error":"#DIV/0!"},{"$nulls":3},"[Select country]",null,null,{"$f":"IF(VLOOKUP(N101,'pick lists'!$L$2:$M$217,2,FALSE) =\"Yes\",\"Yes\",\"No\")","v":{"$error":"#N/A"}},"[Please select]",null,"[Please select]",null,null,"[Please select]",null,null,"[Please select]","[Please select]","[Please select]","[Please select]","[Please select]",null,"[Please select]",null,"[Please select]",{"$nulls":7},"[Please select]",null,{"v":0,"d":"0%"},{"$f":"((IF(OR(AH101= \"Pre-consumer\", AH101 = \"Post-consumer\"), 'Bill of Materials'!J101, 0)) * AG101)+((IF(OR(AF101= \"Pre-consumer\", AF101 = \"Post-consumer\"), 'Bill of Materials'!J101, 0)) * AE101)","v":{"v":0,"d":"0%"}},{"$f":"((IF(OR(AH101=\"Renewable\",AH101=\"Responsibly sourced renewable\"),'Bill of Materials'!J101,0))*AG101)+((IF(OR(AF101=\"Renewable\",AF101=\"Responsibly sourced renewable\"),'Bill of Materials'!J101,0))*AE101)","v":{"v":0,"d":"0%"}},{"$f":"(IF(AH101 = \"Post-consumer\", 'Bill of Materials'!J101, 0) * AG101)+(IF(AF101=\"Post-consumer\",'Bill of Materials'!J101,0)*AE101)","v":{"v":0,"d":"0%"}},{"$f":"((IF(AH101= \"Responsibly sourced renewable\", 'Bill of Materials'!J101, 0)) * AG101)+((IF(AF101= \"Responsibly sourced renewable\", 'Bill of Materials'!J101, 0)) * AE101)","v":{"v":0,"d":"0%"}},"[Please select]",{"v":0,"d":"0%"},"[Please select]",{"v":0,"d":"0%"}]
[{"$nulls":8},{"v":0,"d":"0.0"},{"$error":"#DIV/0!"},{"$nulls":3},"[Select country]",null,null,{"$f":"IF(VLOOKUP(N102,'pick lists'!$L$2:$M$217,2,FALSE) =\"Yes\",\"Yes\",\"No\")","v":{"$error":"#N/A"}},"[Please select]",null,"[Please select]",null,null,"[Please select]",null,null,"[Please select]","[Please select]","[Please select]","[Please select]","[Please select]",null,"[Please select]",null,"[Please select]",{"$nulls":7},"[Please select]",null,{"v":0,"d":"0%"},{"$f":"((IF(OR(AH102= \"Pre-consumer\", AH102 = \"Post-consumer\"), 'Bill of Materials'!J102, 0)) * AG102)+((IF(OR(AF102= \"Pre-consumer\", AF102 = \"Post-consumer\"), 'Bill of Materials'!J102, 0)) * AE102)","v":{"v":0,"d":"0%"}},{"$f":"((IF(OR(AH102=\"Renewable\",AH102=\"Responsibly sourced renewable\"),'Bill of Materials'!J102,0))*AG102)+((IF(OR(AF102=\"Renewable\",AF102=\"Responsibly sourced renewable\"),'Bill of Materials'!J102,0))*AE102)","v":{"v":0,"d":"0%"}},{"$f":"(IF(AH102 = \"Post-consumer\", 'Bill of Materials'!J102, 0) * AG102)+(IF(AF102=\"Post-consumer\",'Bill of Materials'!J102,0)*AE102)","v":{"v":0,"d":"0%"}},{"$f":"((IF(AH102= \"Responsibly sourced renewable\", 'Bill of Materials'!J102, 0)) * AG102)+((IF(AF102= \"Responsibly sourced renewable\", 'Bill of Materials'!J102, 0)) * AE102)","v":{"v":0,"d":"0%"}},"[Please select]",{"v":0,"d":"0%"},"[Please select]",{"v":0,"d":"0%"}]
[{"$nulls":8},{"v":0,"d":"0.0"},{"$error":"#DIV/0!"},{"$nulls":3},"[Select country]",null,null,{"$f":"IF(VLOOKUP(N103,'pick lists'!$L$2:$M$217,2,FALSE) =\"Yes\",\"Yes\",\"No\")","v":{"$error":"#N/A"}},"[Please select]",null,"[Please select]",null,null,"[Please select]",null,null,"[Please select]","[Please select]","[Please select]","[Please select]","[Please select]",null,"[Please select]",null,"[Please select]",{"$nulls":7},"[Please select]",null,{"v":0,"d":"0%"},{"$f":"((IF(OR(AH103= \"Pre-consumer\", AH103 = \"Post-consumer\"), 'Bill of Materials'!J103, 0)) * AG103)+((IF(OR(AF103= \"Pre-consumer\", AF103 = \"Post-consumer\"), 'Bill of Materials'!J103, 0)) * AE103)","v":{"v":0,"d":"0%"}},{"$f":"((IF(OR(AH103=\"Renewable\",AH103=\"Responsibly sourced renewable\"),'Bill of Materials'!J103,0))*AG103)+((IF(OR(AF103=\"Renewable\",AF103=\"Responsibly sourced renewable\"),'Bill of Materials'!J103,0))*AE103)","v":{"v":0,"d":"0%"}},{"$f":"(IF(AH103 = \"Post-consumer\", 'Bill of Materials'!J103, 0) * AG103)+(IF(AF103=\"Post-consumer\",'Bill of Materials'!J103,0)*AE103)","v":{"v":0,"d":"0%"}},{"$f":"((IF(AH103= \"Responsibly sourced renewable\", 'Bill of Materials'!J103, 0)) * AG103)+((IF(AF103= \"Responsibly sourced renewable\", 'Bill of Materials'!J103, 0)) * AE103)","v":{"v":0,"d":"0%"}},"[Please select]",{"v":0,"d":"0%"},"[Please select]",{"v":0,"d":"0%"}]
[{"$nulls":8},{"v":0,"d":"0.0"},{"$error":"#DIV/0!"},{"$nulls":3},"[Select country]",null,null,{"$f":"IF(VLOOKUP(N104,'pick lists'!$L$2:$M$217,2,FALSE) =\"Yes\",\"Yes\",\"No\")","v":{"$error":"#N/A"}},"[Please select]",null,"[Please select]",null,null,"[Please select]",null,null,"[Please select]","[Please select]","[Please select]","[Please select]","[Please select]",null,"[Please select]",null,"[Please select]",{"$nulls":7},"[Please select]",null,{"v":0,"d":"0%"},{"$f":"((IF(OR(AH104= \"Pre-consumer\", AH104 = \"Post-consumer\"), 'Bill of Materials'!J104, 0)) * AG104)+((IF(OR(AF104= \"Pre-consumer\", AF104 = \"Post-consumer\"), 'Bill of Materials'!J104, 0)) * AE104)","v":{"v":0,"d":"0%"}},{"$f":"((IF(OR(AH104=\"Renewable\",AH104=\"Responsibly sourced renewable\"),'Bill of Materials'!J104,0))*AG104)+((IF(OR(AF104=\"Renewable\",AF104=\"Responsibly sourced renewable\"),'Bill of Materials'!J104,0))*AE104)","v":{"v":0,"d":"0%"}},{"$f":"(IF(AH104 = \"Post-consumer\", 'Bill of Materials'!J104, 0) * AG104)+(IF(AF104=\"Post-consumer\",'Bill of Materials'!J104,0)*AE104)","v":{"v":0,"d":"0%"}},{"$f":"((IF(AH104= \"Responsibly sourced renewable\", 'Bill of Materials'!J104, 0)) * AG104)+((IF(AF104= \"Responsibly sourced renewable\", 'Bill of Materials'!J104, 0)) * AE104)","v":{"v":0,"d":"0%"}},"[Please select]",{"v":0,"d":"0%"},"[Please select]",{"v":0,"d":"0%"}]
[{"$nulls":8},{"v":0,"d":"0.0"},{"$error":"#DIV/0!"},{"$nulls":3},"[Select country]",null,null,{"$f":"IF(VLOOKUP(N105,'pick lists'!$L$2:$M$217,2,FALSE) =\"Yes\",\"Yes\",\"No\")","v":{"$error":"#N/A"}},"[Please select]",null,"[Please select]",null,null,"[Please select]",null,null,"[Please select]","[Please select]","[Please select]","[Please select]","[Please select]",null,"[Please select]",null,"[Please select]",{"$nulls":7},"[Please select]",null,{"v":0,"d":"0%"},{"$f":"((IF(OR(AH105= \"Pre-consumer\", AH105 = \"Post-consumer\"), 'Bill of Materials'!J105, 0)) * AG105)+((IF(OR(AF105= \"Pre-consumer\", AF105 = \"Post-consumer\"), 'Bill of Materials'!J105, 0)) * AE105)","v":{"v":0,"d":"0%"}},{"$f":"((IF(OR(AH105=\"Renewable\",AH105=\"Responsibly sourced renewable\"),'Bill of Materials'!J105,0))*AG105)+((IF(OR(AF105=\"Renewable\",AF105=\"Responsibly sourced renewable\"),'Bill of Materials'!J105,0))*AE105)","v":{"v":0,"d":"0%"}},{"$f":"(IF(AH105 = \"Post-consumer\", 'Bill of Materials'!J105, 0) * AG105)+(IF(AF105=\"Post-consumer\",'Bill of Materials'!J105,0)*AE105)","v":{"v":0,"d":"0%"}},{"$f":"((IF(AH105= \"Responsibly sourced renewable\", 'Bill of Materials'!J105, 0)) * AG105)+((IF(AF105= \"Responsibly sourced renewable\", 'Bill of Materials'!J105, 0)) * AE105)","v":{"v":0,"d":"0%"}},"[Please select]",{"v":0,"d":"0%"},"[Please select]",{"v":0,"d":"0%"}]
[{"$nulls":8},{"v":0,"d":"0.0"},{"$error":"#DIV/0!"},{"$nulls":3},"[Select country]",null,null,{"$f":"IF(VLOOKUP(N106,'pick lists'!$L$2:$M$217,2,FALSE) =\"Yes\",\"Yes\",\"No\")","v":{"$error":"#N/A"}},"[Please select]",null,"[Please select]",null,null,"[Please select]",null,null,"[Please select]","[Please select]","[Please select]","[Please select]","[Please select]",null,"[Please select]",null,"[Please select]",{"$nulls":7},"[Please select]",null,{"v":0,"d":"0%"},{"$f":"((IF(OR(AH106= \"Pre-consumer\", AH106 = \"Post-consumer\"), 'Bill of Materials'!J106, 0)) * AG106)+((IF(OR(AF106= \"Pre-consumer\", AF106 = \"Post-consumer\"), 'Bill of Materials'!J106, 0)) * AE106)","v":{"v":0,"d":"0%"}},{"$f":"((IF(OR(AH106=\"Renewable\",AH106=\"Responsibly sourced renewable\"),'Bill of Materials'!J106,0))*AG106)+((IF(OR(AF106=\"Renewable\",AF106=\"Responsibly sourced renewable\"),'Bill of Materials'!J106,0))*AE106)","v":{"v":0,"d":"0%"}},{"$f":"(IF(AH106 = \"Post-consumer\", 'Bill of Materials'!J106, 0) * AG106)+(IF(AF106=\"Post-consumer\",'Bill of Materials'!J106,0)*AE106)","v":{"v":0,"d":"0%"}},{"$f":"((IF(AH106= \"Responsibly sourced renewable\", 'Bill of Materials'!J106, 0)) * AG106)+((IF(AF106= \"Responsibly sourced renewable\", 'Bill of Materials'!J106, 0)) * AE106)","v":{"v":0,"d":"0%"}},"[Please select]",{"v":0,"d":"0%"},"[Please select]",{"v":0,"d":"0%"}]
[{"$nulls":8},{"v":0,"d":"0.0"},{"$error":"#DIV/0!"},{"$nulls":3},"[Select country]",null,null,{"$f":"IF(VLOOKUP(N107,'pick lists'!$L$2:$M$217,2,FALSE) =\"Yes\",\"Yes\",\"No\")","v":{"$error":"#N/A"}},"[Please select]",null,"[Please select]",null,null,"[Please select]",null,null,"[Please select]","[Please select]","[Please select]","[Please select]","[Please select]",null,"[Please select]",null,"[Please select]",{"$nulls":7},"[Please select]",null,{"v":0,"d":"0%"},{"$f":"((IF(OR(AH107= \"Pre-consumer\", AH107 = \"Post-consumer\"), 'Bill of Materials'!J107, 0)) * AG107)+((IF(OR(AF107= \"Pre-consumer\", AF107 = \"Post-consumer\"), 'Bill of Materials'!J107, 0)) * AE107)","v":{"v":0,"d":"0%"}},{"$f":"((IF(OR(AH107=\"Renewable\",AH107=\"Responsibly sourced renewable\"),'Bill of Materials'!J107,0))*AG107)+((IF(OR(AF107=\"Renewable\",AF107=\"Responsibly sourced renewable\"),'Bill of Materials'!J107,0))*AE107)","v":{"v":0,"d":"0%"}},{"$f":"(IF(AH107 = \"Post-consumer\", 'Bill of Materials'!J107, 0) * AG107)+(IF(AF107=\"Post-consumer\",'Bill of Materials'!J107,0)*AE107)","v":{"v":0,"d":"0%"}},{"$f":"((IF(AH107= \"Responsibly sourced renewable\", 'Bill of Materials'!J107, 0)) * AG107)+((IF(AF107= \"Responsibly sourced renewable\", 'Bill of Materials'!J107, 0)) * AE107)","v":{"v":0,"d":"0%"}},"[Please select]",{"v":0,"d":"0%"},"[Please select]",{"v":0,"d":"0%"}]
[{"$nulls":8},{"v":0,"d":"0.0"},{"$error":"#DIV/0!"},{"$nulls":3},"[Select country]",null,null,{"$f":"IF(VLOOKUP(N108,'pick lists'!$L$2:$M$217,2,FALSE) =\"Yes\",\"Yes\",\"No\")","v":{"$error":"#N/A"}},"[Please select]",null,"[Please select]",null,null,"[Please select]",null,null,"[Please select]","[Please select]","[Please select]","[Please select]","[Please select]",null,"[Please select]",null,"[Please select]",{"$nulls":7},"[Please select]",null,{"v":0,"d":"0%"},{"$f":"((IF(OR(AH108= \"Pre-consumer\", AH108 = \"Post-consumer\"), 'Bill of Materials'!J108, 0)) * AG108)+((IF(OR(AF108= \"Pre-consumer\", AF108 = \"Post-consumer\"), 'Bill of Materials'!J108, 0)) * AE108)","v":{"v":0,"d":"0%"}},{"$f":"((IF(OR(AH108=\"Renewable\",AH108=\"Responsibly sourced renewable\"),'Bill of Materials'!J108,0))*AG108)+((IF(OR(AF108=\"Renewable\",AF108=\"Responsibly sourced renewable\"),'Bill of Materials'!J108,0))*AE108)","v":{"v":0,"d":"0%"}},{"$f":"(IF(AH108 = \"Post-consumer\", 'Bill of Materials'!J108, 0) * AG108)+(IF(AF108=\"Post-consumer\",'Bill of Materials'!J108,0)*AE108)","v":{"v":0,"d":"0%"}},{"$f":"((IF(AH108= \"Responsibly sourced renewable\", 'Bill of Materials'!J108, 0)) * AG108)+((IF(AF108= \"Responsibly sourced renewable\", 'Bill of Materials'!J108, 0)) * AE108)","v":{"v":0,"d":"0%"}},"[Please select]",{"v":0,"d":"0%"},"[Please select]",{"v":0,"d":"0%"}]
[{"$nulls":8},{"v":0,"d":"0.0"},{"$error":"#DIV/0!"},{"$nulls":3},"[Select country]",null,null,{"$f":"IF(VLOOKUP(N109,'pick lists'!$L$2:$M$217,2,FALSE) =\"Yes\",\"Yes\",\"No\")","v":{"$error":"#N/A"}},"[Please select]",null,"[Please select]",null,null,"[Please select]",null,null,"[Please select]","[Please select]","[Please select]","[Please select]","[Please select]",null,"[Please select]",null,"[Please select]",{"$nulls":7},"[Please select]",null,{"v":0,"d":"0%"},{"$f":"((IF(OR(AH109= \"Pre-consumer\", AH109 = \"Post-consumer\"), 'Bill of Materials'!J109, 0)) * AG109)+((IF(OR(AF109= \"Pre-consumer\", AF109 = \"Post-consumer\"), 'Bill of Materials'!J109, 0)) * AE109)","v":{"v":0,"d":"0%"}},{"$f":"((IF(OR(AH109=\"Renewable\",AH109=\"Responsibly sourced renewable\"),'Bill of Materials'!J109,0))*AG109)+((IF(OR(AF109=\"Renewable\",AF109=\"Responsibly sourced renewable\"),'Bill of Materials'!J109,0))*AE109)","v":{"v":0,"d":"0%"}},{"$f":"(IF(AH109 = \"Post-consumer\", 'Bill of Materials'!J109, 0) * AG109)+(IF(AF109=\"Post-consumer\",'Bill of Materials'!J109,0)*AE109)","v":{"v":0,"d":"0%"}},{"$f":"((IF(AH109= \"Responsibly sourced renewable\", 'Bill of Materials'!J109, 0)) * AG109)+((IF(AF109= \"Responsibly sourced renewable\", 'Bill of Materials'!J109, 0)) * AE109)","v":{"v":0,"d":"0%"}},"[Please select]",{"v":0,"d":"0%"},"[Please select]",{"v":0,"d":"0%"}]
[{"$nulls":8},{"v":0,"d":"0.0"},{"$error":"#DIV/0!"},{"$nulls":3},"[Select country]",null,null,{"$f":"IF(VLOOKUP(N110,'pick lists'!$L$2:$M$217,2,FALSE) =\"Yes\",\"Yes\",\"No\")","v":{"$error":"#N/A"}},"[Please select]",null,"[Please select]",null,null,"[Please select]",null,null,"[Please select]","[Please select]","[Please select]","[Please select]","[Please select]",null,"[Please select]",null,"[Please select]",{"$nulls":7},"[Please select]",null,{"v":0,"d":"0%"},{"$f":"((IF(OR(AH110= \"Pre-consumer\", AH110 = \"Post-consumer\"), 'Bill of Materials'!J110, 0)) * AG110)+((IF(OR(AF110= \"Pre-consumer\", AF110 = \"Post-consumer\"), 'Bill of Materials'!J110, 0)) * AE110)","v":{"v":0,"d":"0%"}},{"$f":"((IF(OR(AH110=\"Renewable\",AH110=\"Responsibly sourced renewable\"),'Bill of Materials'!J110,0))*AG110)+((IF(OR(AF110=\"Renewable\",AF110=\"Responsibly sourced renewable\"),'Bill of Materials'!J110,0))*AE110)","v":{"v":0,"d":"0%"}},{"$f":"(IF(AH110 = \"Post-consumer\", 'Bill of Materials'!J110, 0) * AG110)+(IF(AF110=\"Post-consumer\",'Bill of Materials'!J110,0)*AE110)","v":{"v":0,"d":"0%"}},{"$f":"((IF(AH110= \"Responsibly sourced renewable\", 'Bill of Materials'!J110, 0)) * AG110)+((IF(AF110= \"Responsibly sourced renewable\", 'Bill of Materials'!J110, 0)) * AE110)","v":{"v":0,"d":"0%"}},"[Please select]",{"v":0,"d":"0%"},"[Please select]",{"v":0,"d":"0%"}]
[{"$nulls":8},{"v":0,"d":"0.0"},{"$error":"#DIV/0!"},{"$nulls":3},"[Select country]",null,null,{"$f":"IF(VLOOKUP(N111,'pick lists'!$L$2:$M$217,2,FALSE) =\"Yes\",\"Yes\",\"No\")","v":{"$error":"#N/A"}},"[Please select]",null,"[Please select]",null,null,"[Please select]",null,null,"[Please select]","[Please select]","[Please select]","[Please select]","[Please select]",null,"[Please select]",null,"[Please select]",{"$nulls":7},"[Please select]",null,{"v":0,"d":"0%"},{"$f":"((IF(OR(AH111= \"Pre-consumer\", AH111 = \"Post-consumer\"), 'Bill of Materials'!J111, 0)) * AG111)+((IF(OR(AF111= \"Pre-consumer\", AF111 = \"Post-consumer\"), 'Bill of Materials'!J111, 0)) * AE111)","v":{"v":0,"d":"0%"}},{"$f":"((IF(OR(AH111=\"Renewable\",AH111=\"Responsibly sourced renewable\"),'Bill of Materials'!J111,0))*AG111)+((IF(OR(AF111=\"Renewable\",AF111=\"Responsibly sourced renewable\"),'Bill of Materials'!J111,0))*AE111)","v":{"v":0,"d":"0%"}},{"$f":"(IF(AH111 = \"Post-consumer\", 'Bill of Materials'!J111, 0) * AG111)+(IF(AF111=\"Post-consumer\",'Bill of Materials'!J111,0)*AE111)","v":{"v":0,"d":"0%"}},{"$f":"((IF(AH111= \"Responsibly sourced renewable\", 'Bill of Materials'!J111, 0)) * AG111)+((IF(AF111= \"Responsibly sourced renewable\", 'Bill of Materials'!J111, 0)) * AE111)","v":{"v":0,"d":"0%"}},"[Please select]",{"v":0,"d":"0%"},"[Please select]",{"v":0,"d":"0%"}]
[{"$nulls":8},{"v":0,"d":"0.0"},{"$error":"#DIV/0!"},{"$nulls":3},"[Select country]",null,null,{"$f":"IF(VLOOKUP(N112,'pick lists'!$L$2:$M$217,2,FALSE) =\"Yes\",\"Yes\",\"No\")","v":{"$error":"#N/A"}},"[Please select]",null,"[Please select]",null,null,"[Please select]",null,null,"[Please select]","[Please select]","[Please select]","[Please select]","[Please select]",null,"[Please select]",null,"[Please select]",{"$nulls":7},"[Please select]",null,{"v":0,"d":"0%"},{"$f":"((IF(OR(AH112= \"Pre-consumer\", AH112 = \"Post-consumer\"), 'Bill of Materials'!J112, 0)) * AG112)+((IF(OR(AF112= \"Pre-consumer\", AF112 = \"Post-consumer\"), 'Bill of Materials'!J112, 0)) * AE112)","v":{"v":0,"d":"0%"}},{"$f":"((IF(OR(AH112=\"Renewable\",AH112=\"Responsibly sourced renewable\"),'Bill of Materials'!J112,0))*AG112)+((IF(OR(AF112=\"Renewable\",AF112=\"Responsibly sourced renewable\"),'Bill of Materials'!J112,0))*AE112)","v":{"v":0,"d":"0%"}},{"$f":"(IF(AH112 = \"Post-consumer\", 'Bill of Materials'!J112, 0) * AG112)+(IF(AF112=\"Post-consumer\",'Bill of Materials'!J112,0)*AE112)","v":{"v":0,"d":"0%"}},{"$f":"((IF(AH112= \"Responsibly sourced renewable\", 'Bill of Materials'!J112, 0)) * AG112)+((IF(AF112= \"Responsibly sourced renewable\", 'Bill of Materials'!J112, 0)) * AE112)","v":{"v":0,"d":"0%"}},"[Please select]",{"$f":"IF(OR(AW112=\"Biological\",AW112=\"Technical\",AW112=\"Both\"), J112, 0)","v":{"v":0,"d":"0%"}},"[Please select]",{"$f":"IF(AY112=\"Yes\",J112,0)","v":{"v":0,"d":"0%"}}]
[{"$nulls":8},{"v":0,"d":"0.0"},{"$error":"#DIV/0!"},{"$nulls":3},"[Select country]",null,null,{"$f":"IF(VLOOKUP(N113,'pick lists'!$L$2:$M$217,2,FALSE) =\"Yes\",\"Yes\",\"No\")","v":{"$error":"#N/A"}},"[Please select]",null,"[Please select]",null,null,"[Please select]",null,null,"[Please select]","[Please select]","[Please select]","[Please select]","[Please select]",null,"[Please select]",null,"[Please select]",{"$nulls":7},"[Please select]",null,{"v":0,"d":"0%"},{"$f":"((IF(OR(AH113= \"Pre-consumer\", AH113 = \"Post-consumer\"), 'Bill of Materials'!J113, 0)) * AG113)+((IF(OR(AF113= \"Pre-consumer\", AF113 = \"Post-consumer\"), 'Bill of Materials'!J113, 0)) * AE113)","v":{"v":0,"d":"0%"}},{"$f":"((IF(OR(AH113=\"Renewable\",AH113=\"Responsibly sourced renewable\"),'Bill of Materials'!J113,0))*AG113)+((IF(OR(AF113=\"Renewable\",AF113=\"Responsibly sourced renewable\"),'Bill of Materials'!J113,0))*AE113)","v":{"v":0,"d":"0%"}},{"$f":"(IF(AH113 = \"Post-consumer\", 'Bill of Materials'!J113, 0) * AG113)+(IF(AF113=\"Post-consumer\",'Bill of Materials'!J113,0)*AE113)","v":{"v":0,"d":"0%"}},{"$f":"((IF(AH113= \"Responsibly sourced renewable\", 'Bill of Materials'!J113, 0)) * AG113)+((IF(AF113= \"Responsibly sourced renewable\", 'Bill of Materials'!J113, 0)) * AE113)","v":{"v":0,"d":"0%"}},"[Please select]",{"v":0,"d":"0%"},"[Please select]",{"v":0,"d":"0%"}]
[{"$nulls":8},{"v":0,"d":"0.0"},{"$error":"#DIV/0!"},{"$nulls":3},"[Select country]",null,null,{"$f":"IF(VLOOKUP(N114,'pick lists'!$L$2:$M$217,2,FALSE) =\"Yes\",\"Yes\",\"No\")","v":{"$error":"#N/A"}},"[Please select]",null,"[Please select]",null,null,"[Please select]",null,null,"[Please select]","[Please select]","[Please select]","[Please select]","[Please select]",null,"[Please select]",null,"[Please select]",{"$nulls":7},"[Please select]",null,{"v":0,"d":"0%"},{"$f":"((IF(OR(AH114= \"Pre-consumer\", AH114 = \"Post-consumer\"), 'Bill of Materials'!J114, 0)) * AG114)+((IF(OR(AF114= \"Pre-consumer\", AF114 = \"Post-consumer\"), 'Bill of Materials'!J114, 0)) * AE114)","v":{"v":0,"d":"0%"}},{"$f":"((IF(OR(AH114=\"Renewable\",AH114=\"Responsibly sourced renewable\"),'Bill of Materials'!J114,0))*AG114)+((IF(OR(AF114=\"Renewable\",AF114=\"Responsibly sourced renewable\"),'Bill of Materials'!J114,0))*AE114)","v":{"v":0,"d":"0%"}},{"$f":"(IF(AH114 = \"Post-consumer\", 'Bill of Materials'!J114, 0) * AG114)+(IF(AF114=\"Post-consumer\",'Bill of Materials'!J114,0)*AE114)","v":{"v":0,"d":"0%"}},{"$f":"((IF(AH114= \"Responsibly sourced renewable\", 'Bill of Materials'!J114, 0)) * AG114)+((IF(AF114= \"Responsibly sourced renewable\", 'Bill of Materials'!J114, 0)) * AE114)","v":{"v":0,"d":"0%"}},"[Please select]",{"v":0,"d":"0%"},"[Please select]",{"v":0,"d":"0%"}]
[{"$nulls":8},{"v":0,"d":"0.0"},{"$error":"#DIV/0!"},{"$nulls":3},"[Select country]",null,null,{"$f":"IF(VLOOKUP(N115,'pick lists'!$L$2:$M$217,2,FALSE) =\"Yes\",\"Yes\",\"No\")","v":{"$error":"#N/A"}},"[Please select]",null,"[Please select]",null,null,"[Please select]",null,null,"[Please select]","[Please select]","[Please select]","[Please select]","[Please select]",null,"[Please select]",null,"[Please select]",{"$nulls":7},"[Please select]",null,{"v":0,"d":"0%"},{"$f":"((IF(OR(AH115= \"Pre-consumer\", AH115 = \"Post-consumer\"), 'Bill of Materials'!J115, 0)) * AG115)+((IF(OR(AF115= \"Pre-consumer\", AF115 = \"Post-consumer\"), 'Bill of Materials'!J115, 0)) * AE115)","v":{"v":0,"d":"0%"}},{"$f":"((IF(OR(AH115=\"Renewable\",AH115=\"Responsibly sourced renewable\"),'Bill of Materials'!J115,0))*AG115)+((IF(OR(AF115=\"Renewable\",AF115=\"Responsibly sourced renewable\"),'Bill of Materials'!J115,0))*AE115)","v":{"v":0,"d":"0%"}},{"$f":"(IF(AH115 = \"Post-consumer\", 'Bill of Materials'!J115, 0) * AG115)+(IF(AF115=\"Post-consumer\",'Bill of Materials'!J115,0)*AE115)","v":{"v":0,"d":"0%"}},{"$f":"((IF(AH115= \"Responsibly sourced renewable\", 'Bill of Materials'!J115, 0)) * AG115)+((IF(AF115= \"Responsibly sourced renewable\", 'Bill of Materials'!J115, 0)) * AE115)","v":{"v":0,"d":"0%"}},"[Please select]",{"v":0,"d":"0%"},"[Please select]",{"v":0,"d":"0%"}]
[{"$nulls":8},{"v":0,"d":"0.0"},{"$error":"#DIV/0!"},{"$nulls":3},"[Select country]",null,null,{"$f":"IF(VLOOKUP(N116,'pick lists'!$L$2:$M$217,2,FALSE) =\"Yes\",\"Yes\",\"No\")","v":{"$error":"#N/A"}},"[Please select]",null,"[Please select]",null,null,"[Please select]",null,null,"[Please select]","[Please select]","[Please select]","[Please select]","[Please select]",null,"[Please select]",null,"[Please select]",{"$nulls":7},"[Please select]",null,{"v":0,"d":"0%"},{"$f":"((IF(OR(AH116= \"Pre-consumer\", AH116 = \"Post-consumer\"), 'Bill of Materials'!J116, 0)) * AG116)+((IF(OR(AF116= \"Pre-consumer\", AF116 = \"Post-consumer\"), 'Bill of Materials'!J116, 0)) * AE116)","v":{"v":0,"d":"0%"}},{"$f":"((IF(OR(AH116=\"Renewable\",AH116=\"Responsibly sourced renewable\"),'Bill of Materials'!J116,0))*AG116)+((IF(OR(AF116=\"Renewable\",AF116=\"Responsibly sourced renewable\"),'Bill of Materials'!J116,0))*AE116)","v":{"v":0,"d":"0%"}},{"$f":"(IF(AH116 = \"Post-consumer\", 'Bill of Materials'!J116, 0) * AG116)+(IF(AF116=\"Post-consumer\",'Bill of Materials'!J116,0)*AE116)","v":{"v":0,"d":"0%"}},{"$f":"((IF(AH116= \"Responsibly sourced renewable\", 'Bill of Materials'!J116, 0)) * AG116)+((IF(AF116= \"Responsibly sourced renewable\", 'Bill of Materials'!J116, 0)) * AE116)","v":{"v":0,"d":"0%"}},"[Please select]",{"v":0,"d":"0%"},"[Please select]",{"v":0,"d":"0%"}]
[{"$nulls":8},{"v":0,"d":"0.0"},{"$error":"#DIV/0!"},{"$nulls":3},"[Select country]",null,null,{"$f":"IF(VLOOKUP(N117,'pick lists'!$L$2:$M$217,2,FALSE) =\"Yes\",\"Yes\",\"No\")","v":{"$error":"#N/A"}},"[Please select]",null,"[Please select]",null,null,"[Please select]",null,null,"[Please select]","[Please select]","[Please select]","[Please select]","[Please select]",null,"[Please select]",null,"[Please select]",{"$nulls":7},"[Please select]",null,{"v":0,"d":"0%"},{"$f":"((IF(OR(AH117= \"Pre-consumer\", AH117 = \"Post-consumer\"), 'Bill of Materials'!J117, 0)) * AG117)+((IF(OR(AF117= \"Pre-consumer\", AF117 = \"Post-consumer\"), 'Bill of Materials'!J117, 0)) * AE117)","v":{"v":0,"d":"0%"}},{"$f":"((IF(OR(AH117=\"Renewable\",AH117=\"Responsibly sourced renewable\"),'Bill of Materials'!J117,0))*AG117)+((IF(OR(AF117=\"Renewable\",AF117=\"Responsibly sourced renewable\"),'Bill of Materials'!J117,0))*AE117)","v":{"v":0,"d":"0%"}},{"$f":"(IF(AH117 = \"Post-consumer\", 'Bill of Materials'!J117, 0) * AG117)+(IF(AF117=\"Post-consumer\",'Bill of Materials'!J117,0)*AE117)","v":{"v":0,"d":"0%"}},{"$f":"((IF(AH117= \"Responsibly sourced renewable\", 'Bill of Materials'!J117, 0)) * AG117)+((IF(AF117= \"Responsibly sourced renewable\", 'Bill of Materials'!J117, 0)) * AE117)","v":{"v":0,"d":"0%"}},"[Please select]",{"v":0,"d":"0%"},"[Please select]",{"v":0,"d":"0%"}]
[{"$nulls":8},{"v":0,"d":"0.0"},{"$error":"#DIV/0!"},{"$nulls":3},"[Select country]",null,null,{"$f":"IF(VLOOKUP(N118,'pick lists'!$L$2:$M$217,2,FALSE) =\"Yes\",\"Yes\",\"No\")","v":{"$error":"#N/A"}},"[Please select]",null,"[Please select]",null,null,"[Please select]",null,null,"[Please select]","[Please select]","[Please select]","[Please select]","[Please select]",null,"[Please select]",null,"[Please select]",{"$nulls":7},"[Please select]",null,{"v":0,"d":"0%"},{"$f":"((IF(OR(AH118= \"Pre-consumer\", AH118 = \"Post-consumer\"), 'Bill of Materials'!J118, 0)) * AG118)+((IF(OR(AF118= \"Pre-consumer\", AF118 = \"Post-consumer\"), 'Bill of Materials'!J118, 0)) * AE118)","v":{"v":0,"d":"0%"}},{"$f":"((IF(OR(AH118=\"Renewable\",AH118=\"Responsibly sourced renewable\"),'Bill of Materials'!J118,0))*AG118)+((IF(OR(AF118=\"Renewable\",AF118=\"Responsibly sourced renewable\"),'Bill of Materials'!J118,0))*AE118)","v":{"v":0,"d":"0%"}},{"$f":"(IF(AH118 = \"Post-consumer\", 'Bill of Materials'!J118, 0) * AG118)+(IF(AF118=\"Post-consumer\",'Bill of Materials'!J118,0)*AE118)","v":{"v":0,"d":"0%"}},{"$f":"((IF(AH118= \"Responsibly sourced renewable\", 'Bill of Materials'!J118, 0)) * AG118)+((IF(AF118= \"Responsibly sourced renewable\", 'Bill of Materials'!J118, 0)) * AE118)","v":{"v":0,"d":"0%"}},"[Please select]",{"v":0,"d":"0%"},"[Please select]",{"v":0,"d":"0%"}]
[{"$nulls":8},{"v":0,"d":"0.0"},{"$error":"#DIV/0!"},{"$nulls":3},"[Select country]",null,null,{"$f":"IF(VLOOKUP(N119,'pick lists'!$L$2:$M$217,2,FALSE) =\"Yes\",\"Yes\",\"No\")","v":{"$error":"#N/A"}},"[Please select]",null,"[Please select]",null,null,"[Please select]",null,null,"[Please select]","[Please select]","[Please select]","[Please select]","[Please select]",null,"[Please select]",null,"[Please select]",{"$nulls":7},"[Please select]",null,{"v":0,"d":"0%"},{"$f":"((IF(OR(AH119= \"Pre-consumer\", AH119 = \"Post-consumer\"), 'Bill of Materials'!J119, 0)) * AG119)+((IF(OR(AF119= \"Pre-consumer\", AF119 = \"Post-consumer\"), 'Bill of Materials'!J119, 0)) * AE119)","v":{"v":0,"d":"0%"}},{"$f":"((IF(OR(AH119=\"Renewable\",AH119=\"Responsibly sourced renewable\"),'Bill of Materials'!J119,0))*AG119)+((IF(OR(AF119=\"Renewable\",AF119=\"Responsibly sourced renewable\"),'Bill of Materials'!J119,0))*AE119)","v":{"v":0,"d":"0%"}},{"$f":"(IF(AH119 = \"Post-consumer\", 'Bill of Materials'!J119, 0) * AG119)+(IF(AF119=\"Post-consumer\",'Bill of Materials'!J119,0)*AE119)","v":{"v":0,"d":"0%"}},{"$f":"((IF(AH119= \"Responsibly sourced renewable\", 'Bill of Materials'!J119, 0)) * AG119)+((IF(AF119= \"Responsibly sourced renewable\", 'Bill of Materials'!J119, 0)) * AE119)","v":{"v":0,"d":"0%"}},"[Please select]",{"v":0,"d":"0%"},"[Please select]",{"v":0,"d":"0%"}]
[{"$nulls":8},{"v":0,"d":"0.0"},{"$error":"#DIV/0!"},{"$nulls":3},"[Select country]",null,null,{"$f":"IF(VLOOKUP(N120,'pick lists'!$L$2:$M$217,2,FALSE) =\"Yes\",\"Yes\",\"No\")","v":{"$error":"#N/A"}},"[Please select]",null,"[Please select]",null,null,"[Please select]",null,null,"[Please select]","[Please select]","[Please select]","[Please select]","[Please select]",null,"[Please select]",null,"[Please select]",{"$nulls":7},"[Please select]",null,{"v":0,"d":"0%"},{"$f":"((IF(OR(AH120= \"Pre-consumer\", AH120 = \"Post-consumer\"), 'Bill of Materials'!J120, 0)) * AG120)+((IF(OR(AF120= \"Pre-consumer\", AF120 = \"Post-consumer\"), 'Bill of Materials'!J120, 0)) * AE120)","v":{"v":0,"d":"0%"}},{"$f":"((IF(OR(AH120=\"Renewable\",AH120=\"Responsibly sourced renewable\"),'Bill of Materials'!J120,0))*AG120)+((IF(OR(AF120=\"Renewable\",AF120=\"Responsibly sourced renewable\"),'Bill of Materials'!J120,0))*AE120)","v":{"v":0,"d":"0%"}},{"$f":"(IF(AH120 = \"Post-consumer\", 'Bill of Materials'!J120, 0) * AG120)+(IF(AF120=\"Post-consumer\",'Bill of Materials'!J120,0)*AE120)","v":{"v":0,"d":"0%"}},{"$f":"((IF(AH120= \"Responsibly sourced renewable\", 'Bill of Materials'!J120, 0)) * AG120)+((IF(AF120= \"Responsibly sourced renewable\", 'Bill of Materials'!J120, 0)) * AE120)","v":{"v":0,"d":"0%"}},"[Please select]",{"v":0,"d":"0%"},"[Please select]",{"v":0,"d":"0%"}]
[{"$nulls":8},{"v":0,"d":"0.0"},{"$error":"#DIV/0!"},{"$nulls":3},"[Select country]",null,null,{"$f":"IF(VLOOKUP(N121,'pick lists'!$L$2:$M$217,2,FALSE) =\"Yes\",\"Yes\",\"No\")","v":{"$error":"#N/A"}},"[Please select]",null,"[Please select]",null,null,"[Please select]",null,null,"[Please select]","[Please select]","[Please select]","[Please select]","[Please select]",null,"[Please select]",null,"[Please select]",{"$nulls":7},"[Please select]",null,{"v":0,"d":"0%"},{"$f":"((IF(OR(AH121= \"Pre-consumer\", AH121 = \"Post-consumer\"), 'Bill of Materials'!J121, 0)) * AG121)+((IF(OR(AF121= \"Pre-consumer\", AF121 = \"Post-consumer\"), 'Bill of Materials'!J121, 0)) * AE121)","v":{"v":0,"d":"0%"}},{"$f":"((IF(OR(AH121=\"Renewable\",AH121=\"Responsibly sourced renewable\"),'Bill of Materials'!J121,0))*AG121)+((IF(OR(AF121=\"Renewable\",AF121=\"Responsibly sourced renewable\"),'Bill of Materials'!J121,0))*AE121)","v":{"v":0,"d":"0%"}},{"$f":"(IF(AH121 = \"Post-consumer\", 'Bill of Materials'!J121, 0) * AG121)+(IF(AF121=\"Post-consumer\",'Bill of Materials'!J121,0)*AE121)","v":{"v":0,"d":"0%"}},{"$f":"((IF(AH121= \"Responsibly sourced renewable\", 'Bill of Materials'!J121, 0)) * AG121)+((IF(AF121= \"Responsibly sourced renewable\", 'Bill of Materials'!J121, 0)) * AE121)","v":{"v":0,"d":"0%"}},"[Please select]",{"v":0,"d":"0%"},"[Please select]",{"v":0,"d":"0%"}]
[{"$nulls":8},{"v":0,"d":"0.0"},{"$error":"#DIV/0!"},{"$nulls":3},"[Select country]",null,null,{"$f":"IF(VLOOKUP(N122,'pick lists'!$L$2:$M$217,2,FALSE) =\"Yes\",\"Yes\",\"No\")","v":{"$error":"#N/A"}},"[Please select]",null,"[Please select]",null,null,"[Please select]",null,null,"[Please select]","[Please select]","[Please select]","[Please select]","[Please select]",null,"[Please select]",null,"[Please select]",{"$nulls":7},"[Please select]",null,{"v":0,"d":"0%"},{"$f":"((IF(OR(AH122= \"Pre-consumer\", AH122 = \"Post-consumer\"), 'Bill of Materials'!J122, 0)) * AG122)+((IF(OR(AF122= \"Pre-consumer\", AF122 = \"Post-consumer\"), 'Bill of Materials'!J122, 0)) * AE122)","v":{"v":0,"d":"0%"}},{"$f":"((IF(OR(AH122=\"Renewable\",AH122=\"Responsibly sourced renewable\"),'Bill of Materials'!J122,0))*AG122)+((IF(OR(AF122=\"Renewable\",AF122=\"Responsibly sourced renewable\"),'Bill of Materials'!J122,0))*AE122)","v":{"v":0,"d":"0%"}},{"$f":"(IF(AH122 = \"Post-consumer\", 'Bill of Materials'!J122, 0) * AG122)+(IF(AF122=\"Post-consumer\",'Bill of Materials'!J122,0)*AE122)","v":{"v":0,"d":"0%"}},{"$f":"((IF(AH122= \"Responsibly sourced renewable\", 'Bill of Materials'!J122, 0)) * AG122)+((IF(AF122= \"Responsibly sourced renewable\", 'Bill of Materials'!J122, 0)) * AE122)","v":{"v":0,"d":"0%"}},"[Please select]",{"v":0,"d":"0%"},"[Please select]",{"v":0,"d":"0%"}]
[{"$nulls":8},{"v":0,"d":"0.0"},{"$error":"#DIV/0!"},{"$nulls":3},"[Select country]",null,null,{"$f":"IF(VLOOKUP(N123,'pick lists'!$L$2:$M$217,2,FALSE) =\"Yes\",\"Yes\",\"No\")","v":{"$error":"#N/A"}},"[Please select]",null,"[Please select]",null,null,"[Please select]",null,null,"[Please select]","[Please select]","[Please select]","[Please select]","[Please select]",null,"[Please select]",null,"[Please select]",{"$nulls":7},"[Please select]",null,{"v":0,"d":"0%"},{"$f":"((IF(OR(AH123= \"Pre-consumer\", AH123 = \"Post-consumer\"), 'Bill of Materials'!J123, 0)) * AG123)+((IF(OR(AF123= \"Pre-consumer\", AF123 = \"Post-consumer\"), 'Bill of Materials'!J123, 0)) * AE123)","v":{"v":0,"d":"0%"}},{"$f":"((IF(OR(AH123=\"Renewable\",AH123=\"Responsibly sourced renewable\"),'Bill of Materials'!J123,0))*AG123)+((IF(OR(AF123=\"Renewable\",AF123=\"Responsibly sourced renewable\"),'Bill of Materials'!J123,0))*AE123)","v":{"v":0,"d":"0%"}},{"$f":"(IF(AH123 = \"Post-consumer\", 'Bill of Materials'!J123, 0) * AG123)+(IF(AF123=\"Post-consumer\",'Bill of Materials'!J123,0)*AE123)","v":{"v":0,"d":"0%"}},{"$f":"((IF(AH123= \"Responsibly sourced renewable\", 'Bill of Materials'!J123, 0)) * AG123)+((IF(AF123= \"Responsibly sourced renewable\", 'Bill of Materials'!J123, 0)) * AE123)","v":{"v":0,"d":"0%"}},"[Please select]",{"v":0,"d":"0%"},"[Please select]",{"v":0,"d":"0%"}]
[{"$nulls":8},{"v":0,"d":"0.0"},{"$error":"#DIV/0!"},{"$nulls":3},"[Select country]",null,null,{"$f":"IF(VLOOKUP(N124,'pick lists'!$L$2:$M$217,2,FALSE) =\"Yes\",\"Yes\",\"No\")","v":{"$error":"#N/A"}},"[Please select]",null,"[Please select]",null,null,"[Please select]",null,null,"[Please select]","[Please select]","[Please select]","[Please select]","[Please select]",null,"[Please select]",null,"[Please select]",{"$nulls":7},"[Please select]",null,{"v":0,"d":"0%"},{"$f":"((IF(OR(AH124= \"Pre-consumer\", AH124 = \"Post-consumer\"), 'Bill of Materials'!J124, 0)) * AG124)+((IF(OR(AF124= \"Pre-consumer\", AF124 = \"Post-consumer\"), 'Bill of Materials'!J124, 0)) * AE124)","v":{"v":0,"d":"0%"}},{"$f":"((IF(OR(AH124=\"Renewable\",AH124=\"Responsibly sourced renewable\"),'Bill of Materials'!J124,0))*AG124)+((IF(OR(AF124=\"Renewable\",AF124=\"Responsibly sourced renewable\"),'Bill of Materials'!J124,0))*AE124)","v":{"v":0,"d":"0%"}},{"$f":"(IF(AH124 = \"Post-consumer\", 'Bill of Materials'!J124, 0) * AG124)+(IF(AF124=\"Post-consumer\",'Bill of Materials'!J124,0)*AE124)","v":{"v":0,"d":"0%"}},{"$f":"((IF(AH124= \"Responsibly sourced renewable\", 'Bill of Materials'!J124, 0)) * AG124)+((IF(AF124= \"Responsibly sourced renewable\", 'Bill of Materials'!J124, 0)) * AE124)","v":{"v":0,"d":"0%"}},"[Please select]",{"v":0,"d":"0%"},"[Please select]",{"v":0,"d":"0%"}]
[{"$nulls":8},{"v":0,"d":"0.0"},{"$error":"#DIV/0!"},{"$nulls":3},"[Select country]",null,null,{"$f":"IF(VLOOKUP(N125,'pick lists'!$L$2:$M$217,2,FALSE) =\"Yes\",\"Yes\",\"No\")","v":{"$error":"#N/A"}},"[Please select]",null,"[Please select]",null,null,"[Please select]",null,null,"[Please select]","[Please select]","[Please select]","[Please select]","[Please select]",null,"[Please select]",null,"[Please select]",{"$nulls":7},"[Please select]",null,{"v":0,"d":"0%"},{"$f":"((IF(OR(AH125= \"Pre-consumer\", AH125 = \"Post-consumer\"), 'Bill of Materials'!J125, 0)) * AG125)+((IF(OR(AF125= \"Pre-consumer\", AF125 = \"Post-consumer\"), 'Bill of Materials'!J125, 0)) * AE125)","v":{"v":0,"d":"0%"}},{"$f":"((IF(OR(AH125=\"Renewable\",AH125=\"Responsibly sourced renewable\"),'Bill of Materials'!J125,0))*AG125)+((IF(OR(AF125=\"Renewable\",AF125=\"Responsibly sourced renewable\"),'Bill of Materials'!J125,0))*AE125)","v":{"v":0,"d":"0%"}},{"$f":"(IF(AH125 = \"Post-consumer\", 'Bill of Materials'!J125, 0) * AG125)+(IF(AF125=\"Post-consumer\",'Bill of Materials'!J125,0)*AE125)","v":{"v":0,"d":"0%"}},{"$f":"((IF(AH125= \"Responsibly sourced renewable\", 'Bill of Materials'!J125, 0)) * AG125)+((IF(AF125= \"Responsibly sourced renewable\", 'Bill of Materials'!J125, 0)) * AE125)","v":{"v":0,"d":"0%"}},"[Please select]",{"v":0,"d":"0%"},"[Please select]",{"v":0,"d":"0%"}]
[{"$nulls":8},{"v":0,"d":"0.0"},{"$error":"#DIV/0!"},{"$nulls":3},"[Select country]",null,null,{"$f":"IF(VLOOKUP(N126,'pick lists'!$L$2:$M$217,2,FALSE) =\"Yes\",\"Yes\",\"No\")","v":{"$error":"#N/A"}},"[Please select]",null,"[Please select]",null,null,"[Please select]",null,null,"[Please select]","[Please select]","[Please select]","[Please select]","[Please select]",null,"[Please select]",null,"[Please select]",{"$nulls":7},"[Please select]",null,{"v":0,"d":"0%"},{"$f":"((IF(OR(AH126= \"Pre-consumer\", AH126 = \"Post-consumer\"), 'Bill of Materials'!J126, 0)) * AG126)+((IF(OR(AF126= \"Pre-consumer\", AF126 = \"Post-consumer\"), 'Bill of Materials'!J126, 0)) * AE126)","v":{"v":0,"d":"0%"}},{"$f":"((IF(OR(AH126=\"Renewable\",AH126=\"Responsibly sourced renewable\"),'Bill of Materials'!J126,0))*AG126)+((IF(OR(AF126=\"Renewable\",AF126=\"Responsibly sourced renewable\"),'Bill of Materials'!J126,0))*AE126)","v":{"v":0,"d":"0%"}},{"$f":"(IF(AH126 = \"Post-consumer\", 'Bill of Materials'!J126, 0) * AG126)+(IF(AF126=\"Post-consumer\",'Bill of Materials'!J126,0)*AE126)","v":{"v":0,"d":"0%"}},{"$f":"((IF(AH126= \"Responsibly sourced renewable\", 'Bill of Materials'!J126, 0)) * AG126)+((IF(AF126= \"Responsibly sourced renewable\", 'Bill of Materials'!J126, 0)) * AE126)","v":{"v":0,"d":"0%"}},"[Please select]",{"v":0,"d":"0%"},"[Please select]",{"v":0,"d":"0%"}]
[{"$nulls":8},{"v":0,"d":"0.0"},{"$error":"#DIV/0!"},{"$nulls":3},"[Select country]",null,null,{"$f":"IF(VLOOKUP(N127,'pick lists'!$L$2:$M$217,2,FALSE) =\"Yes\",\"Yes\",\"No\")","v":{"$error":"#N/A"}},"[Please select]",null,"[Please select]",null,null,"[Please select]",null,null,"[Please select]","[Please select]","[Please select]","[Please select]","[Please select]",null,"[Please select]",null,"[Please select]",{"$nulls":7},"[Please select]",null,{"v":0,"d":"0%"},{"$f":"((IF(OR(AH127= \"Pre-consumer\", AH127 = \"Post-consumer\"), 'Bill of Materials'!J127, 0)) * AG127)+((IF(OR(AF127= \"Pre-consumer\", AF127 = \"Post-consumer\"), 'Bill of Materials'!J127, 0)) * AE127)","v":{"v":0,"d":"0%"}},{"$f":"((IF(OR(AH127=\"Renewable\",AH127=\"Responsibly sourced renewable\"),'Bill of Materials'!J127,0))*AG127)+((IF(OR(AF127=\"Renewable\",AF127=\"Responsibly sourced renewable\"),'Bill of Materials'!J127,0))*AE127)","v":{"v":0,"d":"0%"}},{"$f":"(IF(AH127 = \"Post-consumer\", 'Bill of Materials'!J127, 0) * AG127)+(IF(AF127=\"Post-consumer\",'Bill of Materials'!J127,0)*AE127)","v":{"v":0,"d":"0%"}},{"$f":"((IF(AH127= \"Responsibly sourced renewable\", 'Bill of Materials'!J127, 0)) * AG127)+((IF(AF127= \"Responsibly sourced renewable\", 'Bill of Materials'!J127, 0)) * AE127)","v":{"v":0,"d":"0%"}},"[Please select]",{"v":0,"d":"0%"},"[Please select]",{"v":0,"d":"0%"}]
[{"$nulls":8},{"v":0,"d":"0.0"},{"$error":"#DIV/0!"},{"$nulls":3},"[Select country]",null,null,{"$f":"IF(VLOOKUP(N128,'pick lists'!$L$2:$M$217,2,FALSE) =\"Yes\",\"Yes\",\"No\")","v":{"$error":"#N/A"}},"[Please select]",null,"[Please select]",null,null,"[Please select]",null,null,"[Please select]","[Please select]","[Please select]","[Please select]","[Please select]",null,"[Please select]",null,"[Please select]",{"$nulls":7},"[Please select]",null,{"v":0,"d":"0%"},{"$f":"((IF(OR(AH128= \"Pre-consumer\", AH128 = \"Post-consumer\"), 'Bill of Materials'!J128, 0)) * AG128)+((IF(OR(AF128= \"Pre-consumer\", AF128 = \"Post-consumer\"), 'Bill of Materials'!J128, 0)) * AE128)","v":{"v":0,"d":"0%"}},{"$f":"((IF(OR(AH128=\"Renewable\",AH128=\"Responsibly sourced renewable\"),'Bill of Materials'!J128,0))*AG128)+((IF(OR(AF128=\"Renewable\",AF128=\"Responsibly sourced renewable\"),'Bill of Materials'!J128,0))*AE128)","v":{"v":0,"d":"0%"}},{"$f":"(IF(AH128 = \"Post-consumer\", 'Bill of Materials'!J128, 0) * AG128)+(IF(AF128=\"Post-consumer\",'Bill of Materials'!J128,0)*AE128)","v":{"v":0,"d":"0%"}},{"$f":"((IF(AH128= \"Responsibly sourced renewable\", 'Bill of Materials'!J128, 0)) * AG128)+((IF(AF128= \"Responsibly sourced renewable\", 'Bill of Materials'!J128, 0)) * AE128)","v":{"v":0,"d":"0%"}},"[Please select]",{"v":0,"d":"0%"},"[Please select]",{"v":0,"d":"0%"}]
[{"$nulls":8},{"v":0,"d":"0.0"},{"$error":"#DIV/0!"},{"$nulls":3},"[Select country]",null,null,{"$f":"IF(VLOOKUP(N129,'pick lists'!$L$2:$M$217,2,FALSE) =\"Yes\",\"Yes\",\"No\")","v":{"$error":"#N/A"}},"[Please select]",null,"[Please select]",null,null,"[Please select]",null,null,"[Please select]","[Please select]","[Please select]","[Please select]","[Please select]",null,"[Please select]",null,"[Please select]",{"$nulls":7},"[Please select]",null,{"v":0,"d":"0%"},{"$f":"((IF(OR(AH129= \"Pre-consumer\", AH129 = \"Post-consumer\"), 'Bill of Materials'!J129, 0)) * AG129)+((IF(OR(AF129= \"Pre-consumer\", AF129 = \"Post-consumer\"), 'Bill of Materials'!J129, 0)) * AE129)","v":{"v":0,"d":"0%"}},{"$f":"((IF(OR(AH129=\"Renewable\",AH129=\"Responsibly sourced renewable\"),'Bill of Materials'!J129,0))*AG129)+((IF(OR(AF129=\"Renewable\",AF129=\"Responsibly sourced renewable\"),'Bill of Materials'!J129,0))*AE129)","v":{"v":0,"d":"0%"}},{"$f":"(IF(AH129 = \"Post-consumer\", 'Bill of Materials'!J129, 0) * AG129)+(IF(AF129=\"Post-consumer\",'Bill of Materials'!J129,0)*AE129)","v":{"v":0,"d":"0%"}},{"$f":"((IF(AH129= \"Responsibly sourced renewable\", 'Bill of Materials'!J129, 0)) * AG129)+((IF(AF129= \"Responsibly sourced renewable\", 'Bill of Materials'!J129, 0)) * AE129)","v":{"v":0,"d":"0%"}},"[Please select]",{"v":0,"d":"0%"},"[Please select]",{"v":0,"d":"0%"}]
[{"$nulls":8},{"v":0,"d":"0.0"},{"$error":"#DIV/0!"},{"$nulls":3},"[Select country]",null,null,{"$f":"IF(VLOOKUP(N130,'pick lists'!$L$2:$M$217,2,FALSE) =\"Yes\",\"Yes\",\"No\")","v":{"$error":"#N/A"}},"[Please select]",null,"[Please select]",null,null,"[Please select]",null,null,"[Please select]","[Please select]","[Please select]","[Please select]","[Please select]",null,"[Please select]",null,"[Please select]",{"$nulls":7},"[Please select]",null,{"v":0,"d":"0%"},{"$f":"((IF(OR(AH130= \"Pre-consumer\", AH130 = \"Post-consumer\"), 'Bill of Materials'!J130, 0)) * AG130)+((IF(OR(AF130= \"Pre-consumer\", AF130 = \"Post-consumer\"), 'Bill of Materials'!J130, 0)) * AE130)","v":{"v":0,"d":"0%"}},{"$f":"((IF(OR(AH130=\"Renewable\",AH130=\"Responsibly sourced renewable\"),'Bill of Materials'!J130,0))*AG130)+((IF(OR(AF130=\"Renewable\",AF130=\"Responsibly sourced renewable\"),'Bill of Materials'!J130,0))*AE130)","v":{"v":0,"d":"0%"}},{"$f":"(IF(AH130 = \"Post-consumer\", 'Bill of Materials'!J130, 0) * AG130)+(IF(AF130=\"Post-consumer\",'Bill of Materials'!J130,0)*AE130)","v":{"v":0,"d":"0%"}},{"$f":"((IF(AH130= \"Responsibly sourced renewable\", 'Bill of Materials'!J130, 0)) * AG130)+((IF(AF130= \"Responsibly sourced renewable\", 'Bill of Materials'!J130, 0)) * AE130)","v":{"v":0,"d":"0%"}},"[Please select]",{"v":0,"d":"0%"},"[Please select]",{"v":0,"d":"0%"}]
[{"$nulls":8},{"v":0,"d":"0.0"},{"$error":"#DIV/0!"},{"$nulls":3},"[Select country]",null,null,{"$f":"IF(VLOOKUP(N131,'pick lists'!$L$2:$M$217,2,FALSE) =\"Yes\",\"Yes\",\"No\")","v":{"$error":"#N/A"}},"[Please select]",null,"[Please select]",null,null,"[Please select]",null,null,"[Please select]","[Please select]","[Please select]","[Please select]","[Please select]",null,"[Please select]",null,"[Please select]",{"$nulls":7},"[Please select]",null,{"v":0,"d":"0%"},{"$f":"((IF(OR(AH131= \"Pre-consumer\", AH131 = \"Post-consumer\"), 'Bill of Materials'!J131, 0)) * AG131)+((IF(OR(AF131= \"Pre-consumer\", AF131 = \"Post-consumer\"), 'Bill of Materials'!J131, 0)) * AE131)","v":{"v":0,"d":"0%"}},{"$f":"((IF(OR(AH131=\"Renewable\",AH131=\"Responsibly sourced renewable\"),'Bill of Materials'!J131,0))*AG131)+((IF(OR(AF131=\"Renewable\",AF131=\"Responsibly sourced renewable\"),'Bill of Materials'!J131,0))*AE131)","v":{"v":0,"d":"0%"}},{"$f":"(IF(AH131 = \"Post-consumer\", 'Bill of Materials'!J131, 0) * AG131)+(IF(AF131=\"Post-consumer\",'Bill of Materials'!J131,0)*AE131)","v":{"v":0,"d":"0%"}},{"$f":"((IF(AH131= \"Responsibly sourced renewable\", 'Bill of Materials'!J131, 0)) * AG131)+((IF(AF131= \"Responsibly sourced renewable\", 'Bill of Materials'!J131, 0)) * AE131)","v":{"v":0,"d":"0%"}},"[Please select]",{"v":0,"d":"0%"},"[Please select]",{"v":0,"d":"0%"}]
[{"$nulls":8},{"v":0,"d":"0.0"},{"$error":"#DIV/0!"},{"$nulls":3},"[Select country]",null,null,{"$f":"IF(VLOOKUP(N132,'pick lists'!$L$2:$M$217,2,FALSE) =\"Yes\",\"Yes\",\"No\")","v":{"$error":"#N/A"}},"[Please select]",null,"[Please select]",null,null,"[Please select]",null,null,"[Please select]","[Please select]","[Please select]","[Please select]","[Please select]",null,"[Please select]",null,"[Please select]",{"$nulls":7},"[Please select]",null,{"v":0,"d":"0%"},{"$f":"((IF(OR(AH132= \"Pre-consumer\", AH132 = \"Post-consumer\"), 'Bill of Materials'!J132, 0)) * AG132)+((IF(OR(AF132= \"Pre-consumer\", AF132 = \"Post-consumer\"), 'Bill of Materials'!J132, 0)) * AE132)","v":{"v":0,"d":"0%"}},{"$f":"((IF(OR(AH132=\"Renewable\",AH132=\"Responsibly sourced renewable\"),'Bill of Materials'!J132,0))*AG132)+((IF(OR(AF132=\"Renewable\",AF132=\"Responsibly sourced renewable\"),'Bill of Materials'!J132,0))*AE132)","v":{"v":0,"d":"0%"}},{"$f":"(IF(AH132 = \"Post-consumer\", 'Bill of Materials'!J132, 0) * AG132)+(IF(AF132=\"Post-consumer\",'Bill of Materials'!J132,0)*AE132)","v":{"v":0,"d":"0%"}},{"$f":"((IF(AH132= \"Responsibly sourced renewable\", 'Bill of Materials'!J132, 0)) * AG132)+((IF(AF132= \"Responsibly sourced renewable\", 'Bill of Materials'!J132, 0)) * AE132)","v":{"v":0,"d":"0%"}},"[Please select]",{"v":0,"d":"0%"},"[Please select]",{"v":0,"d":"0%"}]
[{"$nulls":8},{"v":0,"d":"0.0"},{"$error":"#DIV/0!"},{"$nulls":3},"[Select country]",null,null,{"$f":"IF(VLOOKUP(N133,'pick lists'!$L$2:$M$217,2,FALSE) =\"Yes\",\"Yes\",\"No\")","v":{"$error":"#N/A"}},"[Please select]",null,"[Please select]",null,null,"[Please select]",null,null,"[Please select]","[Please select]","[Please select]","[Please select]","[Please select]",null,"[Please select]",null,"[Please select]",{"$nulls":7},"[Please select]",null,{"v":0,"d":"0%"},{"$f":"((IF(OR(AH133= \"Pre-consumer\", AH133 = \"Post-consumer\"), 'Bill of Materials'!J133, 0)) * AG133)+((IF(OR(AF133= \"Pre-consumer\", AF133 = \"Post-consumer\"), 'Bill of Materials'!J133, 0)) * AE133)","v":{"v":0,"d":"0%"}},{"$f":"((IF(OR(AH133=\"Renewable\",AH133=\"Responsibly sourced renewable\"),'Bill of Materials'!J133,0))*AG133)+((IF(OR(AF133=\"Renewable\",AF133=\"Responsibly sourced renewable\"),'Bill of Materials'!J133,0))*AE133)","v":{"v":0,"d":"0%"}},{"$f":"(IF(AH133 = \"Post-consumer\", 'Bill of Materials'!J133, 0) * AG133)+(IF(AF133=\"Post-consumer\",'Bill of Materials'!J133,0)*AE133)","v":{"v":0,"d":"0%"}},{"$f":"((IF(AH133= \"Responsibly sourced renewable\", 'Bill of Materials'!J133, 0)) * AG133)+((IF(AF133= \"Responsibly sourced renewable\", 'Bill of Materials'!J133, 0)) * AE133)","v":{"v":0,"d":"0%"}},"[Please select]",{"v":0,"d":"0%"},"[Please select]",{"v":0,"d":"0%"}]
[{"$nulls":8},{"v":0,"d":"0.0"},{"$error":"#DIV/0!"},{"$nulls":3},"[Select country]",null,null,{"$f":"IF(VLOOKUP(N134,'pick lists'!$L$2:$M$217,2,FALSE) =\"Yes\",\"Yes\",\"No\")","v":{"$error":"#N/A"}},"[Please select]",null,"[Please select]",null,null,"[Please select]",null,null,"[Please select]","[Please select]","[Please select]","[Please select]","[Please select]",null,"[Please select]",null,"[Please select]",{"$nulls":7},"[Please select]",null,{"v":0,"d":"0%"},{"$f":"((IF(OR(AH134= \"Pre-consumer\", AH134 = \"Post-consumer\"), 'Bill of Materials'!J134, 0)) * AG134)+((IF(OR(AF134= \"Pre-consumer\", AF134 = \"Post-consumer\"), 'Bill of Materials'!J134, 0)) * AE134)","v":{"v":0,"d":"0%"}},{"$f":"((IF(OR(AH134=\"Renewable\",AH134=\"Responsibly sourced renewable\"),'Bill of Materials'!J134,0))*AG134)+((IF(OR(AF134=\"Renewable\",AF134=\"Responsibly sourced renewable\"),'Bill of Materials'!J134,0))*AE134)","v":{"v":0,"d":"0%"}},{"$f":"(IF(AH134 = \"Post-consumer\", 'Bill of Materials'!J134, 0) * AG134)+(IF(AF134=\"Post-consumer\",'Bill of Materials'!J134,0)*AE134)","v":{"v":0,"d":"0%"}},{"$f":"((IF(AH134= \"Responsibly sourced renewable\", 'Bill of Materials'!J134, 0)) * AG134)+((IF(AF134= \"Responsibly sourced renewable\", 'Bill of Materials'!J134, 0)) * AE134)","v":{"v":0,"d":"0%"}},"[Please select]",{"v":0,"d":"0%"},"[Please select]",{"v":0,"d":"0%"}]
[{"$nulls":8},{"v":0,"d":"0.0"},{"$error":"#DIV/0!"},{"$nulls":3},"[Select country]",null,null,{"$f":"IF(VLOOKUP(N135,'pick lists'!$L$2:$M$217,2,FALSE) =\"Yes\",\"Yes\",\"No\")","v":{"$error":"#N/A"}},"[Please select]",null,"[Please select]",null,null,"[Please select]",null,null,"[Please select]","[Please select]","[Please select]","[Please select]","[Please select]",null,"[Please select]",null,"[Please select]",{"$nulls":7},"[Please select]",null,{"v":0,"d":"0%"},{"$f":"((IF(OR(AH135= \"Pre-consumer\", AH135 = \"Post-consumer\"), 'Bill of Materials'!J135, 0)) * AG135)+((IF(OR(AF135= \"Pre-consumer\", AF135 = \"Post-consumer\"), 'Bill of Materials'!J135, 0)) * AE135)","v":{"v":0,"d":"0%"}},{"$f":"((IF(OR(AH135=\"Renewable\",AH135=\"Responsibly sourced renewable\"),'Bill of Materials'!J135,0))*AG135)+((IF(OR(AF135=\"Renewable\",AF135=\"Responsibly sourced renewable\"),'Bill of Materials'!J135,0))*AE135)","v":{"v":0,"d":"0%"}},{"$f":"(IF(AH135 = \"Post-consumer\", 'Bill of Materials'!J135, 0) * AG135)+(IF(AF135=\"Post-consumer\",'Bill of Materials'!J135,0)*AE135)","v":{"v":0,"d":"0%"}},{"$f":"((IF(AH135= \"Responsibly sourced renewable\", 'Bill of Materials'!J135, 0)) * AG135)+((IF(AF135= \"Responsibly sourced renewable\", 'Bill of Materials'!J135, 0)) * AE135)","v":{"v":0,"d":"0%"}},"[Please select]",{"v":0,"d":"0%"},"[Please select]",{"v":0,"d":"0%"}]
[{"$nulls":8},{"v":0,"d":"0.0"},{"$error":"#DIV/0!"},{"$nulls":3},"[Select country]",null,null,{"$f":"IF(VLOOKUP(N136,'pick lists'!$L$2:$M$217,2,FALSE) =\"Yes\",\"Yes\",\"No\")","v":{"$error":"#N/A"}},"[Please select]",null,"[Please select]",null,null,"[Please select]",null,null,"[Please select]","[Please select]","[Please select]","[Please select]","[Please select]",null,"[Please select]",null,"[Please select]",{"$nulls":7},"[Please select]",null,{"v":0,"d":"0%"},{"$f":"((IF(OR(AH136= \"Pre-consumer\", AH136 = \"Post-consumer\"), 'Bill of Materials'!J136, 0)) * AG136)+((IF(OR(AF136= \"Pre-consumer\", AF136 = \"Post-consumer\"), 'Bill of Materials'!J136, 0)) * AE136)","v":{"v":0,"d":"0%"}},{"$f":"((IF(OR(AH136=\"Renewable\",AH136=\"Responsibly sourced renewable\"),'Bill of Materials'!J136,0))*AG136)+((IF(OR(AF136=\"Renewable\",AF136=\"Responsibly sourced renewable\"),'Bill of Materials'!J136,0))*AE136)","v":{"v":0,"d":"0%"}},{"$f":"(IF(AH136 = \"Post-consumer\", 'Bill of Materials'!J136, 0) * AG136)+(IF(AF136=\"Post-consumer\",'Bill of Materials'!J136,0)*AE136)","v":{"v":0,"d":"0%"}},{"$f":"((IF(AH136= \"Responsibly sourced renewable\", 'Bill of Materials'!J136, 0)) * AG136)+((IF(AF136= \"Responsibly sourced renewable\", 'Bill of Materials'!J136, 0)) * AE136)","v":{"v":0,"d":"0%"}},"[Please select]",{"v":0,"d":"0%"},"[Please select]",{"v":0,"d":"0%"}]
[{"$nulls":8},{"v":0,"d":"0.0"},{"$error":"#DIV/0!"},{"$nulls":3},"[Select country]",null,null,{"$f":"IF(VLOOKUP(N137,'pick lists'!$L$2:$M$217,2,FALSE) =\"Yes\",\"Yes\",\"No\")","v":{"$error":"#N/A"}},"[Please select]",null,"[Please select]",null,null,"[Please select]",null,null,"[Please select]","[Please select]","[Please select]","[Please select]","[Please select]",null,"[Please select]",null,"[Please select]",{"$nulls":7},"[Please select]",null,{"v":0,"d":"0%"},{"$f":"((IF(OR(AH137= \"Pre-consumer\", AH137 = \"Post-consumer\"), 'Bill of Materials'!J137, 0)) * AG137)+((IF(OR(AF137= \"Pre-consumer\", AF137 = \"Post-consumer\"), 'Bill of Materials'!J137, 0)) * AE137)","v":{"v":0,"d":"0%"}},{"$f":"((IF(OR(AH137=\"Renewable\",AH137=\"Responsibly sourced renewable\"),'Bill of Materials'!J137,0))*AG137)+((IF(OR(AF137=\"Renewable\",AF137=\"Responsibly sourced renewable\"),'Bill of Materials'!J137,0))*AE137)","v":{"v":0,"d":"0%"}},{"$f":"(IF(AH137 = \"Post-consumer\", 'Bill of Materials'!J137, 0) * AG137)+(IF(AF137=\"Post-consumer\",'Bill of Materials'!J137,0)*AE137)","v":{"v":0,"d":"0%"}},{"$f":"((IF(AH137= \"Responsibly sourced renewable\", 'Bill of Materials'!J137, 0)) * AG137)+((IF(AF137= \"Responsibly sourced renewable\", 'Bill of Materials'!J137, 0)) * AE137)","v":{"v":0,"d":"0%"}},"[Please select]",{"v":0,"d":"0%"},"[Please select]",{"v":0,"d":"0%"}]
[{"$nulls":8},{"v":0,"d":"0.0"},{"$error":"#DIV/0!"},{"$nulls":3},"[Select country]",null,null,{"$f":"IF(VLOOKUP(N138,'pick lists'!$L$2:$M$217,2,FALSE) =\"Yes\",\"Yes\",\"No\")","v":{"$error":"#N/A"}},"[Please select]",null,"[Please select]",null,null,"[Please select]",null,null,"[Please select]","[Please select]","[Please select]","[Please select]","[Please select]",null,"[Please select]",null,"[Please select]",{"$nulls":7},"[Please select]",null,{"v":0,"d":"0%"},{"$f":"((IF(OR(AH138= \"Pre-consumer\", AH138 = \"Post-consumer\"), 'Bill of Materials'!J138, 0)) * AG138)+((IF(OR(AF138= \"Pre-consumer\", AF138 = \"Post-consumer\"), 'Bill of Materials'!J138, 0)) * AE138)","v":{"v":0,"d":"0%"}},{"$f":"((IF(OR(AH138=\"Renewable\",AH138=\"Responsibly sourced renewable\"),'Bill of Materials'!J138,0))*AG138)+((IF(OR(AF138=\"Renewable\",AF138=\"Responsibly sourced renewable\"),'Bill of Materials'!J138,0))*AE138)","v":{"v":0,"d":"0%"}},{"$f":"(IF(AH138 = \"Post-consumer\", 'Bill of Materials'!J138, 0) * AG138)+(IF(AF138=\"Post-consumer\",'Bill of Materials'!J138,0)*AE138)","v":{"v":0,"d":"0%"}},{"$f":"((IF(AH138= \"Responsibly sourced renewable\", 'Bill of Materials'!J138, 0)) * AG138)+((IF(AF138= \"Responsibly sourced renewable\", 'Bill of Materials'!J138, 0)) * AE138)","v":{"v":0,"d":"0%"}},"[Please select]",{"v":0,"d":"0%"},"[Please select]",{"v":0,"d":"0%"}]
[{"$nulls":8},{"v":0,"d":"0.0"},{"$error":"#DIV/0!"},{"$nulls":3},"[Select country]",null,null,{"$f":"IF(VLOOKUP(N139,'pick lists'!$L$2:$M$217,2,FALSE) =\"Yes\",\"Yes\",\"No\")","v":{"$error":"#N/A"}},"[Please select]",null,"[Please select]",null,null,"[Please select]",null,null,"[Please select]","[Please select]","[Please select]","[Please select]","[Please select]",null,"[Please select]",null,"[Please select]",{"$nulls":7},"[Please select]",null,{"v":0,"d":"0%"},{"$f":"((IF(OR(AH139= \"Pre-consumer\", AH139 = \"Post-consumer\"), 'Bill of Materials'!J139, 0)) * AG139)+((IF(OR(AF139= \"Pre-consumer\", AF139 = \"Post-consumer\"), 'Bill of Materials'!J139, 0)) * AE139)","v":{"v":0,"d":"0%"}},{"$f":"((IF(OR(AH139=\"Renewable\",AH139=\"Responsibly sourced renewable\"),'Bill of Materials'!J139,0))*AG139)+((IF(OR(AF139=\"Renewable\",AF139=\"Responsibly sourced renewable\"),'Bill of Materials'!J139,0))*AE139)","v":{"v":0,"d":"0%"}},{"$f":"(IF(AH139 = \"Post-consumer\", 'Bill of Materials'!J139, 0) * AG139)+(IF(AF139=\"Post-consumer\",'Bill of Materials'!J139,0)*AE139)","v":{"v":0,"d":"0%"}},{"$f":"((IF(AH139= \"Responsibly sourced renewable\", 'Bill of Materials'!J139, 0)) * AG139)+((IF(AF139= \"Responsibly sourced renewable\", 'Bill of Materials'!J139, 0)) * AE139)","v":{"v":0,"d":"0%"}},"[Please select]",{"v":0,"d":"0%"},"[Please select]",{"v":0,"d":"0%"}]
[{"$nulls":8},{"v":0,"d":"0.0"},{"$error":"#DIV/0!"},{"$nulls":3},"[Select country]",null,null,{"$f":"IF(VLOOKUP(N140,'pick lists'!$L$2:$M$217,2,FALSE) =\"Yes\",\"Yes\",\"No\")","v":{"$error":"#N/A"}},"[Please select]",null,"[Please select]",null,null,"[Please select]",null,null,"[Please select]","[Please select]","[Please select]","[Please select]","[Please select]",null,"[Please select]",null,"[Please select]",{"$nulls":7},"[Please select]",null,{"v":0,"d":"0%"},{"$f":"((IF(OR(AH140= \"Pre-consumer\", AH140 = \"Post-consumer\"), 'Bill of Materials'!J140, 0)) * AG140)+((IF(OR(AF140= \"Pre-consumer\", AF140 = \"Post-consumer\"), 'Bill of Materials'!J140, 0)) * AE140)","v":{"v":0,"d":"0%"}},{"$f":"((IF(OR(AH140=\"Renewable\",AH140=\"Responsibly sourced renewable\"),'Bill of Materials'!J140,0))*AG140)+((IF(OR(AF140=\"Renewable\",AF140=\"Responsibly sourced renewable\"),'Bill of Materials'!J140,0))*AE140)","v":{"v":0,"d":"0%"}},{"$f":"(IF(AH140 = \"Post-consumer\", 'Bill of Materials'!J140, 0) * AG140)+(IF(AF140=\"Post-consumer\",'Bill of Materials'!J140,0)*AE140)","v":{"v":0,"d":"0%"}},{"$f":"((IF(AH140= \"Responsibly sourced renewable\", 'Bill of Materials'!J140, 0)) * AG140)+((IF(AF140= \"Responsibly sourced renewable\", 'Bill of Materials'!J140, 0)) * AE140)","v":{"v":0,"d":"0%"}},"[Please select]",{"v":0,"d":"0%"},"[Please select]",{"v":0,"d":"0%"}]
[{"$nulls":8},{"v":0,"d":"0.0"},{"$error":"#DIV/0!"},{"$nulls":3},"[Select country]",null,null,{"$f":"IF(VLOOKUP(N141,'pick lists'!$L$2:$M$217,2,FALSE) =\"Yes\",\"Yes\",\"No\")","v":{"$error":"#N/A"}},"[Please select]",null,"[Please select]",null,null,"[Please select]",null,null,"[Please select]","[Please select]","[Please select]","[Please select]","[Please select]",null,"[Please select]",null,"[Please select]",{"$nulls":7},"[Please select]",null,{"v":0,"d":"0%"},{"$f":"((IF(OR(AH141= \"Pre-consumer\", AH141 = \"Post-consumer\"), 'Bill of Materials'!J141, 0)) * AG141)+((IF(OR(AF141= \"Pre-consumer\", AF141 = \"Post-consumer\"), 'Bill of Materials'!J141, 0)) * AE141)","v":{"v":0,"d":"0%"}},{"$f":"((IF(OR(AH141=\"Renewable\",AH141=\"Responsibly sourced renewable\"),'Bill of Materials'!J141,0))*AG141)+((IF(OR(AF141=\"Renewable\",AF141=\"Responsibly sourced renewable\"),'Bill of Materials'!J141,0))*AE141)","v":{"v":0,"d":"0%"}},{"$f":"(IF(AH141 = \"Post-consumer\", 'Bill of Materials'!J141, 0) * AG141)+(IF(AF141=\"Post-consumer\",'Bill of Materials'!J141,0)*AE141)","v":{"v":0,"d":"0%"}},{"$f":"((IF(AH141= \"Responsibly sourced renewable\", 'Bill of Materials'!J141, 0)) * AG141)+((IF(AF141= \"Responsibly sourced renewable\", 'Bill of Materials'!J141, 0)) * AE141)","v":{"v":0,"d":"0%"}},"[Please select]",{"v":0,"d":"0%"},"[Please select]",{"v":0,"d":"0%"}]
[{"$nulls":8},{"v":0,"d":"0.0"},{"$error":"#DIV/0!"},{"$nulls":3},"[Select country]",null,null,{"$f":"IF(VLOOKUP(N142,'pick lists'!$L$2:$M$217,2,FALSE) =\"Yes\",\"Yes\",\"No\")","v":{"$error":"#N/A"}},"[Please select]",null,"[Please select]",null,null,"[Please select]",null,null,"[Please select]","[Please select]","[Please select]","[Please select]","[Please select]",null,"[Please select]",null,"[Please select]",{"$nulls":7},"[Please select]",null,{"v":0,"d":"0%"},{"$f":"((IF(OR(AH142= \"Pre-consumer\", AH142 = \"Post-consumer\"), 'Bill of Materials'!J142, 0)) * AG142)+((IF(OR(AF142= \"Pre-consumer\", AF142 = \"Post-consumer\"), 'Bill of Materials'!J142, 0)) * AE142)","v":{"v":0,"d":"0%"}},{"$f":"((IF(OR(AH142=\"Renewable\",AH142=\"Responsibly sourced renewable\"),'Bill of Materials'!J142,0))*AG142)+((IF(OR(AF142=\"Renewable\",AF142=\"Responsibly sourced renewable\"),'Bill of Materials'!J142,0))*AE142)","v":{"v":0,"d":"0%"}},{"$f":"(IF(AH142 = \"Post-consumer\", 'Bill of Materials'!J142, 0) * AG142)+(IF(AF142=\"Post-consumer\",'Bill of Materials'!J142,0)*AE142)","v":{"v":0,"d":"0%"}},{"$f":"((IF(AH142= \"Responsibly sourced renewable\", 'Bill of Materials'!J142, 0)) * AG142)+((IF(AF142= \"Responsibly sourced renewable\", 'Bill of Materials'!J142, 0)) * AE142)","v":{"v":0,"d":"0%"}},"[Please select]",{"v":0,"d":"0%"},"[Please select]",{"v":0,"d":"0%"}]
[{"$nulls":8},{"v":0,"d":"0.0"},{"$error":"#DIV/0!"},{"$nulls":3},"[Select country]",null,null,{"$f":"IF(VLOOKUP(N143,'pick lists'!$L$2:$M$217,2,FALSE) =\"Yes\",\"Yes\",\"No\")","v":{"$error":"#N/A"}},"[Please select]",null,"[Please select]",null,null,"[Please select]",null,null,"[Please select]","[Please select]","[Please select]","[Please select]","[Please select]",null,"[Please select]",null,"[Please select]",{"$nulls":7},"[Please select]",null,{"v":0,"d":"0%"},{"$f":"((IF(OR(AH143= \"Pre-consumer\", AH143 = \"Post-consumer\"), 'Bill of Materials'!J143, 0)) * AG143)+((IF(OR(AF143= \"Pre-consumer\", AF143 = \"Post-consumer\"), 'Bill of Materials'!J143, 0)) * AE143)","v":{"v":0,"d":"0%"}},{"$f":"((IF(OR(AH143=\"Renewable\",AH143=\"Responsibly sourced renewable\"),'Bill of Materials'!J143,0))*AG143)+((IF(OR(AF143=\"Renewable\",AF143=\"Responsibly sourced renewable\"),'Bill of Materials'!J143,0))*AE143)","v":{"v":0,"d":"0%"}},{"$f":"(IF(AH143 = \"Post-consumer\", 'Bill of Materials'!J143, 0) * AG143)+(IF(AF143=\"Post-consumer\",'Bill of Materials'!J143,0)*AE143)","v":{"v":0,"d":"0%"}},{"$f":"((IF(AH143= \"Responsibly sourced renewable\", 'Bill of Materials'!J143, 0)) * AG143)+((IF(AF143= \"Responsibly sourced renewable\", 'Bill of Materials'!J143, 0)) * AE143)","v":{"v":0,"d":"0%"}},"[Please select]",{"v":0,"d":"0%"},"[Please select]",{"v":0,"d":"0%"}]
[{"$nulls":8},{"v":0,"d":"0.0"},{"$error":"#DIV/0!"},{"$nulls":3},"[Select country]",null,null,{"$f":"IF(VLOOKUP(N144,'pick lists'!$L$2:$M$217,2,FALSE) =\"Yes\",\"Yes\",\"No\")","v":{"$error":"#N/A"}},"[Please select]",null,"[Please select]",null,null,"[Please select]",null,null,"[Please select]","[Please select]","[Please select]","[Please select]","[Please select]",null,"[Please select]",null,"[Please select]",{"$nulls":7},"[Please select]",null,{"v":0,"d":"0%"},{"$f":"((IF(OR(AH144= \"Pre-consumer\", AH144 = \"Post-consumer\"), 'Bill of Materials'!J144, 0)) * AG144)+((IF(OR(AF144= \"Pre-consumer\", AF144 = \"Post-consumer\"), 'Bill of Materials'!J144, 0)) * AE144)","v":{"v":0,"d":"0%"}},{"$f":"((IF(OR(AH144=\"Renewable\",AH144=\"Responsibly sourced renewable\"),'Bill of Materials'!J144,0))*AG144)+((IF(OR(AF144=\"Renewable\",AF144=\"Responsibly sourced renewable\"),'Bill of Materials'!J144,0))*AE144)","v":{"v":0,"d":"0%"}},{"$f":"(IF(AH144 = \"Post-consumer\", 'Bill of Materials'!J144, 0) * AG144)+(IF(AF144=\"Post-consumer\",'Bill of Materials'!J144,0)*AE144)","v":{"v":0,"d":"0%"}},{"$f":"((IF(AH144= \"Responsibly sourced renewable\", 'Bill of Materials'!J144, 0)) * AG144)+((IF(AF144= \"Responsibly sourced renewable\", 'Bill of Materials'!J144, 0)) * AE144)","v":{"v":0,"d":"0%"}},"[Please select]",{"$f":"IF(OR(AW144=\"Biological\",AW144=\"Technical\",AW144=\"Both\"), J144, 0)","v":{"v":0,"d":"0%"}},"[Please select]",{"$f":"IF(AY144=\"Yes\",J144,0)","v":{"v":0,"d":"0%"}}]
[{"$nulls":8},{"$f":"G145*H145","v":{"v":0,"d":"0.0"}},{"$f":"I145/(SUM(I$16:I$200))","v":{"$error":"#DIV/0!"}},{"$nulls":3},"[Select country]",null,null,{"$f":"IF(VLOOKUP(N145,'pick lists'!$L$2:$M$217,2,FALSE) =\"Yes\",\"Yes\",\"No\")","v":{"$error":"#N/A"}},"[Please select]",null,"[Please select]",null,null,"[Please select]",null,null,"[Please select]","[Please select]","[Please select]","[Please select]","[Please select]",null,"[Please select]",null,"[Please select]",{"$nulls":7},"[Please select]",null,{"$f":"IF(AP145=\"Yes\", J145, 0)","v":{"v":0,"d":"0%"}},{"$f":"((IF(OR(AH145= \"Pre-consumer\", AH145 = \"Post-consumer\"), 'Bill of Materials'!J145, 0)) * AG145)+((IF(OR(AF145= \"Pre-consumer\", AF145 = \"Post-consumer\"), 'Bill of Materials'!J145, 0)) * AE145)","v":{"v":0,"d":"0%"}},{"$f":"((IF(OR(AH145=\"Renewable\",AH145=\"Responsibly sourced renewable\"),'Bill of Materials'!J145,0))*AG145)+((IF(OR(AF145=\"Renewable\",AF145=\"Responsibly sourced renewable\"),'Bill of Materials'!J145,0))*AE145)","v":{"v":0,"d":"0%"}},{"$f":"(IF(AH145 = \"Post-consumer\", 'Bill of Materials'!J145, 0) * AG145)+(IF(AF145=\"Post-consumer\",'Bill of Materials'!J145,0)*AE145)","v":{"v":0,"d":"0%"}},{"$f":"((IF(AH145= \"Responsibly sourced renewable\", 'Bill of Materials'!J145, 0)) * AG145)+((IF(AF145= \"Responsibly sourced renewable\", 'Bill of Materials'!J145, 0)) * AE145)","v":{"v":0,"d":"0%"}},"[Please select]",{"v":0,"d":"0%"},"[Please select]",{"v":0,"d":"0%"}]
[{"$nulls":8},{"v":0,"d":"0.0"},{"$error":"#DIV/0!"},{"$nulls":3},"[Select country]",null,null,{"$f":"IF(VLOOKUP(N146,'pick lists'!$L$2:$M$217,2,FALSE) =\"Yes\",\"Yes\",\"No\")","v":{"$error":"#N/A"}},"[Please select]",null,"[Please select]",null,null,"[Please select]",null,null,"[Please select]","[Please select]","[Please select]","[Please select]","[Please select]",null,"[Please select]",null,"[Please select]",{"$nulls":7},"[Please select]",null,{"v":0,"d":"0%"},{"$f":"((IF(OR(AH146= \"Pre-consumer\", AH146 = \"Post-consumer\"), 'Bill of Materials'!J146, 0)) * AG146)+((IF(OR(AF146= \"Pre-consumer\", AF146 = \"Post-consumer\"), 'Bill of Materials'!J146, 0)) * AE146)","v":{"v":0,"d":"0%"}},{"$f":"((IF(OR(AH146=\"Renewable\",AH146=\"Responsibly sourced renewable\"),'Bill of Materials'!J146,0))*AG146)+((IF(OR(AF146=\"Renewable\",AF146=\"Responsibly sourced renewable\"),'Bill of Materials'!J146,0))*AE146)","v":{"v":0,"d":"0%"}},{"$f":"(IF(AH146 = \"Post-consumer\", 'Bill of Materials'!J146, 0) * AG146)+(IF(AF146=\"Post-consumer\",'Bill of Materials'!J146,0)*AE146)","v":{"v":0,"d":"0%"}},{"$f":"((IF(AH146= \"Responsibly sourced renewable\", 'Bill of Materials'!J146, 0)) * AG146)+((IF(AF146= \"Responsibly sourced renewable\", 'Bill of Materials'!J146, 0)) * AE146)","v":{"v":0,"d":"0%"}},"[Please select]",{"v":0,"d":"0%"},"[Please select]",{"v":0,"d":"0%"}]
[{"$nulls":8},{"v":0,"d":"0.0"},{"$error":"#DIV/0!"},{"$nulls":3},"[Select country]",null,null,{"$f":"IF(VLOOKUP(N147,'pick lists'!$L$2:$M$217,2,FALSE) =\"Yes\",\"Yes\",\"No\")","v":{"$error":"#N/A"}},"[Please select]",null,"[Please select]",null,null,"[Please select]",null,null,"[Please select]","[Please select]","[Please select]","[Please select]","[Please select]",null,"[Please select]",null,"[Please select]",{"$nulls":7},"[Please select]",null,{"v":0,"d":"0%"},{"$f":"((IF(OR(AH147= \"Pre-consumer\", AH147 = \"Post-consumer\"), 'Bill of Materials'!J147, 0)) * AG147)+((IF(OR(AF147= \"Pre-consumer\", AF147 = \"Post-consumer\"), 'Bill of Materials'!J147, 0)) * AE147)","v":{"v":0,"d":"0%"}},{"$f":"((IF(OR(AH147=\"Renewable\",AH147=\"Responsibly sourced renewable\"),'Bill of Materials'!J147,0))*AG147)+((IF(OR(AF147=\"Renewable\",AF147=\"Responsibly sourced renewable\"),'Bill of Materials'!J147,0))*AE147)","v":{"v":0,"d":"0%"}},{"$f":"(IF(AH147 = \"Post-consumer\", 'Bill of Materials'!J147, 0) * AG147)+(IF(AF147=\"Post-consumer\",'Bill of Materials'!J147,0)*AE147)","v":{"v":0,"d":"0%"}},{"$f":"((IF(AH147= \"Responsibly sourced renewable\", 'Bill of Materials'!J147, 0)) * AG147)+((IF(AF147= \"Responsibly sourced renewable\", 'Bill of Materials'!J147, 0)) * AE147)","v":{"v":0,"d":"0%"}},"[Please select]",{"v":0,"d":"0%"},"[Please select]",{"v":0,"d":"0%"}]
[{"$nulls":8},{"v":0,"d":"0.0"},{"$error":"#DIV/0!"},{"$nulls":3},"[Select country]",null,null,{"$f":"IF(VLOOKUP(N148,'pick lists'!$L$2:$M$217,2,FALSE) =\"Yes\",\"Yes\",\"No\")","v":{"$error":"#N/A"}},"[Please select]",null,"[Please select]",null,null,"[Please select]",null,null,"[Please select]","[Please select]","[Please select]","[Please select]","[Please select]",null,"[Please select]",null,"[Please select]",{"$nulls":7},"[Please select]",null,{"v":0,"d":"0%"},{"$f":"((IF(OR(AH148= \"Pre-consumer\", AH148 = \"Post-consumer\"), 'Bill of Materials'!J148, 0)) * AG148)+((IF(OR(AF148= \"Pre-consumer\", AF148 = \"Post-consumer\"), 'Bill of Materials'!J148, 0)) * AE148)","v":{"v":0,"d":"0%"}},{"$f":"((IF(OR(AH148=\"Renewable\",AH148=\"Responsibly sourced renewable\"),'Bill of Materials'!J148,0))*AG148)+((IF(OR(AF148=\"Renewable\",AF148=\"Responsibly sourced renewable\"),'Bill of Materials'!J148,0))*AE148)","v":{"v":0,"d":"0%"}},{"$f":"(IF(AH148 = \"Post-consumer\", 'Bill of Materials'!J148, 0) * AG148)+(IF(AF148=\"Post-consumer\",'Bill of Materials'!J148,0)*AE148)","v":{"v":0,"d":"0%"}},{"$f":"((IF(AH148= \"Responsibly sourced renewable\", 'Bill of Materials'!J148, 0)) * AG148)+((IF(AF148= \"Responsibly sourced renewable\", 'Bill of Materials'!J148, 0)) * AE148)","v":{"v":0,"d":"0%"}},"[Please select]",{"v":0,"d":"0%"},"[Please select]",{"v":0,"d":"0%"}]
[{"$nulls":8},{"v":0,"d":"0.0"},{"$error":"#DIV/0!"},{"$nulls":3},"[Select country]",null,null,{"$f":"IF(VLOOKUP(N149,'pick lists'!$L$2:$M$217,2,FALSE) =\"Yes\",\"Yes\",\"No\")","v":{"$error":"#N/A"}},"[Please select]",null,"[Please select]",null,null,"[Please select]",null,null,"[Please select]","[Please select]","[Please select]","[Please select]","[Please select]",null,"[Please select]",null,"[Please select]",{"$nulls":7},"[Please select]",null,{"v":0,"d":"0%"},{"$f":"((IF(OR(AH149= \"Pre-consumer\", AH149 = \"Post-consumer\"), 'Bill of Materials'!J149, 0)) * AG149)+((IF(OR(AF149= \"Pre-consumer\", AF149 = \"Post-consumer\"), 'Bill of Materials'!J149, 0)) * AE149)","v":{"v":0,"d":"0%"}},{"$f":"((IF(OR(AH149=\"Renewable\",AH149=\"Responsibly sourced renewable\"),'Bill of Materials'!J149,0))*AG149)+((IF(OR(AF149=\"Renewable\",AF149=\"Responsibly sourced renewable\"),'Bill of Materials'!J149,0))*AE149)","v":{"v":0,"d":"0%"}},{"$f":"(IF(AH149 = \"Post-consumer\", 'Bill of Materials'!J149, 0) * AG149)+(IF(AF149=\"Post-consumer\",'Bill of Materials'!J149,0)*AE149)","v":{"v":0,"d":"0%"}},{"$f":"((IF(AH149= \"Responsibly sourced renewable\", 'Bill of Materials'!J149, 0)) * AG149)+((IF(AF149= \"Responsibly sourced renewable\", 'Bill of Materials'!J149, 0)) * AE149)","v":{"v":0,"d":"0%"}},"[Please select]",{"v":0,"d":"0%"},"[Please select]",{"v":0,"d":"0%"}]
[{"$nulls":8},{"v":0,"d":"0.0"},{"$error":"#DIV/0!"},{"$nulls":3},"[Select country]",null,null,{"$f":"IF(VLOOKUP(N150,'pick lists'!$L$2:$M$217,2,FALSE) =\"Yes\",\"Yes\",\"No\")","v":{"$error":"#N/A"}},"[Please select]",null,"[Please select]",null,null,"[Please select]",null,null,"[Please select]","[Please select]","[Please select]","[Please select]","[Please select]",null,"[Please select]",null,"[Please select]",{"$nulls":7},"[Please select]",null,{"v":0,"d":"0%"},{"$f":"((IF(OR(AH150= \"Pre-consumer\", AH150 = \"Post-consumer\"), 'Bill of Materials'!J150, 0)) * AG150)+((IF(OR(AF150= \"Pre-consumer\", AF150 = \"Post-consumer\"), 'Bill of Materials'!J150, 0)) * AE150)","v":{"v":0,"d":"0%"}},{"$f":"((IF(OR(AH150=\"Renewable\",AH150=\"Responsibly sourced renewable\"),'Bill of Materials'!J150,0))*AG150)+((IF(OR(AF150=\"Renewable\",AF150=\"Responsibly sourced renewable\"),'Bill of Materials'!J150,0))*AE150)","v":{"v":0,"d":"0%"}},{"$f":"(IF(AH150 = \"Post-consumer\", 'Bill of Materials'!J150, 0) * AG150)+(IF(AF150=\"Post-consumer\",'Bill of Materials'!J150,0)*AE150)","v":{"v":0,"d":"0%"}},{"$f":"((IF(AH150= \"Responsibly sourced renewable\", 'Bill of Materials'!J150, 0)) * AG150)+((IF(AF150= \"Responsibly sourced renewable\", 'Bill of Materials'!J150, 0)) * AE150)","v":{"v":0,"d":"0%"}},"[Please select]",{"v":0,"d":"0%"},"[Please select]",{"v":0,"d":"0%"}]
[{"$nulls":8},{"v":0,"d":"0.0"},{"$error":"#DIV/0!"},{"$nulls":3},"[Select country]",null,null,{"$f":"IF(VLOOKUP(N151,'pick lists'!$L$2:$M$217,2,FALSE) =\"Yes\",\"Yes\",\"No\")","v":{"$error":"#N/A"}},"[Please select]",null,"[Please select]",null,null,"[Please select]",null,null,"[Please select]","[Please select]","[Please select]","[Please select]","[Please select]",null,"[Please select]",null,"[Please select]",{"$nulls":7},"[Please select]",null,{"v":0,"d":"0%"},{"$f":"((IF(OR(AH151= \"Pre-consumer\", AH151 = \"Post-consumer\"), 'Bill of Materials'!J151, 0)) * AG151)+((IF(OR(AF151= \"Pre-consumer\", AF151 = \"Post-consumer\"), 'Bill of Materials'!J151, 0)) * AE151)","v":{"v":0,"d":"0%"}},{"$f":"((IF(OR(AH151=\"Renewable\",AH151=\"Responsibly sourced renewable\"),'Bill of Materials'!J151,0))*AG151)+((IF(OR(AF151=\"Renewable\",AF151=\"Responsibly sourced renewable\"),'Bill of Materials'!J151,0))*AE151)","v":{"v":0,"d":"0%"}},{"$f":"(IF(AH151 = \"Post-consumer\", 'Bill of Materials'!J151, 0) * AG151)+(IF(AF151=\"Post-consumer\",'Bill of Materials'!J151,0)*AE151)","v":{"v":0,"d":"0%"}},{"$f":"((IF(AH151= \"Responsibly sourced renewable\", 'Bill of Materials'!J151, 0)) * AG151)+((IF(AF151= \"Responsibly sourced renewable\", 'Bill of Materials'!J151, 0)) * AE151)","v":{"v":0,"d":"0%"}},"[Please select]",{"v":0,"d":"0%"},"[Please select]",{"v":0,"d":"0%"}]
[{"$nulls":8},{"v":0,"d":"0.0"},{"$error":"#DIV/0!"},{"$nulls":3},"[Select country]",null,null,{"$f":"IF(VLOOKUP(N152,'pick lists'!$L$2:$M$217,2,FALSE) =\"Yes\",\"Yes\",\"No\")","v":{"$error":"#N/A"}},"[Please select]",null,"[Please select]",null,null,"[Please select]",null,null,"[Please select]","[Please select]","[Please select]","[Please select]","[Please select]",null,"[Please select]",null,"[Please select]",{"$nulls":7},"[Please select]",null,{"v":0,"d":"0%"},{"$f":"((IF(OR(AH152= \"Pre-consumer\", AH152 = \"Post-consumer\"), 'Bill of Materials'!J152, 0)) * AG152)+((IF(OR(AF152= \"Pre-consumer\", AF152 = \"Post-consumer\"), 'Bill of Materials'!J152, 0)) * AE152)","v":{"v":0,"d":"0%"}},{"$f":"((IF(OR(AH152=\"Renewable\",AH152=\"Responsibly sourced renewable\"),'Bill of Materials'!J152,0))*AG152)+((IF(OR(AF152=\"Renewable\",AF152=\"Responsibly sourced renewable\"),'Bill of Materials'!J152,0))*AE152)","v":{"v":0,"d":"0%"}},{"$f":"(IF(AH152 = \"Post-consumer\", 'Bill of Materials'!J152, 0) * AG152)+(IF(AF152=\"Post-consumer\",'Bill of Materials'!J152,0)*AE152)","v":{"v":0,"d":"0%"}},{"$f":"((IF(AH152= \"Responsibly sourced renewable\", 'Bill of Materials'!J152, 0)) * AG152)+((IF(AF152= \"Responsibly sourced renewable\", 'Bill of Materials'!J152, 0)) * AE152)","v":{"v":0,"d":"0%"}},"[Please select]",{"v":0,"d":"0%"},"[Please select]",{"v":0,"d":"0%"}]
[{"$nulls":8},{"v":0,"d":"0.0"},{"$error":"#DIV/0!"},{"$nulls":3},"[Select country]",null,null,{"$f":"IF(VLOOKUP(N153,'pick lists'!$L$2:$M$217,2,FALSE) =\"Yes\",\"Yes\",\"No\")","v":{"$error":"#N/A"}},"[Please select]",null,"[Please select]",null,null,"[Please select]",null,null,"[Please select]","[Please select]","[Please select]","[Please select]","[Please select]",null,"[Please select]",null,"[Please select]",{"$nulls":7},"[Please select]",null,{"v":0,"d":"0%"},{"$f":"((IF(OR(AH153= \"Pre-consumer\", AH153 = \"Post-consumer\"), 'Bill of Materials'!J153, 0)) * AG153)+((IF(OR(AF153= \"Pre-consumer\", AF153 = \"Post-consumer\"), 'Bill of Materials'!J153, 0)) * AE153)","v":{"v":0,"d":"0%"}},{"$f":"((IF(OR(AH153=\"Renewable\",AH153=\"Responsibly sourced renewable\"),'Bill of Materials'!J153,0))*AG153)+((IF(OR(AF153=\"Renewable\",AF153=\"Responsibly sourced renewable\"),'Bill of Materials'!J153,0))*AE153)","v":{"v":0,"d":"0%"}},{"$f":"(IF(AH153 = \"Post-consumer\", 'Bill of Materials'!J153, 0) * AG153)+(IF(AF153=\"Post-consumer\",'Bill of Materials'!J153,0)*AE153)","v":{"v":0,"d":"0%"}},{"$f":"((IF(AH153= \"Responsibly sourced renewable\", 'Bill of Materials'!J153, 0)) * AG153)+((IF(AF153= \"Responsibly sourced renewable\", 'Bill of Materials'!J153, 0)) * AE153)","v":{"v":0,"d":"0%"}},"[Please select]",{"v":0,"d":"0%"},"[Please select]",{"v":0,"d":"0%"}]
[{"$nulls":8},{"v":0,"d":"0.0"},{"$error":"#DIV/0!"},{"$nulls":3},"[Select country]",null,null,{"$f":"IF(VLOOKUP(N154,'pick lists'!$L$2:$M$217,2,FALSE) =\"Yes\",\"Yes\",\"No\")","v":{"$error":"#N/A"}},"[Please select]",null,"[Please select]",null,null,"[Please select]",null,null,"[Please select]","[Please select]","[Please select]","[Please select]","[Please select]",null,"[Please select]",null,"[Please select]",{"$nulls":7},"[Please select]",null,{"v":0,"d":"0%"},{"$f":"((IF(OR(AH154= \"Pre-consumer\", AH154 = \"Post-consumer\"), 'Bill of Materials'!J154, 0)) * AG154)+((IF(OR(AF154= \"Pre-consumer\", AF154 = \"Post-consumer\"), 'Bill of Materials'!J154, 0)) * AE154)","v":{"v":0,"d":"0%"}},{"$f":"((IF(OR(AH154=\"Renewable\",AH154=\"Responsibly sourced renewable\"),'Bill of Materials'!J154,0))*AG154)+((IF(OR(AF154=\"Renewable\",AF154=\"Responsibly sourced renewable\"),'Bill of Materials'!J154,0))*AE154)","v":{"v":0,"d":"0%"}},{"$f":"(IF(AH154 = \"Post-consumer\", 'Bill of Materials'!J154, 0) * AG154)+(IF(AF154=\"Post-consumer\",'Bill of Materials'!J154,0)*AE154)","v":{"v":0,"d":"0%"}},{"$f":"((IF(AH154= \"Responsibly sourced renewable\", 'Bill of Materials'!J154, 0)) * AG154)+((IF(AF154= \"Responsibly sourced renewable\", 'Bill of Materials'!J154, 0)) * AE154)","v":{"v":0,"d":"0%"}},"[Please select]",{"v":0,"d":"0%"},"[Please select]",{"v":0,"d":"0%"}]
[{"$nulls":8},{"v":0,"d":"0.0"},{"$error":"#DIV/0!"},{"$nulls":3},"[Select country]",null,null,{"$f":"IF(VLOOKUP(N155,'pick lists'!$L$2:$M$217,2,FALSE) =\"Yes\",\"Yes\",\"No\")","v":{"$error":"#N/A"}},"[Please select]",null,"[Please select]",null,null,"[Please select]",null,null,"[Please select]","[Please select]","[Please select]","[Please select]","[Please select]",null,"[Please select]",null,"[Please select]",{"$nulls":7},"[Please select]",null,{"v":0,"d":"0%"},{"$f":"((IF(OR(AH155= \"Pre-consumer\", AH155 = \"Post-consumer\"), 'Bill of Materials'!J155, 0)) * AG155)+((IF(OR(AF155= \"Pre-consumer\", AF155 = \"Post-consumer\"), 'Bill of Materials'!J155, 0)) * AE155)","v":{"v":0,"d":"0%"}},{"$f":"((IF(OR(AH155=\"Renewable\",AH155=\"Responsibly sourced renewable\"),'Bill of Materials'!J155,0))*AG155)+((IF(OR(AF155=\"Renewable\",AF155=\"Responsibly sourced renewable\"),'Bill of Materials'!J155,0))*AE155)","v":{"v":0,"d":"0%"}},{"$f":"(IF(AH155 = \"Post-consumer\", 'Bill of Materials'!J155, 0) * AG155)+(IF(AF155=\"Post-consumer\",'Bill of Materials'!J155,0)*AE155)","v":{"v":0,"d":"0%"}},{"$f":"((IF(AH155= \"Responsibly sourced renewable\", 'Bill of Materials'!J155, 0)) * AG155)+((IF(AF155= \"Responsibly sourced renewable\", 'Bill of Materials'!J155, 0)) * AE155)","v":{"v":0,"d":"0%"}},"[Please select]",{"v":0,"d":"0%"},"[Please select]",{"v":0,"d":"0%"}]
[{"$nulls":8},{"v":0,"d":"0.0"},{"$error":"#DIV/0!"},{"$nulls":3},"[Select country]",null,null,{"$f":"IF(VLOOKUP(N156,'pick lists'!$L$2:$M$217,2,FALSE) =\"Yes\",\"Yes\",\"No\")","v":{"$error":"#N/A"}},"[Please select]",null,"[Please select]",null,null,"[Please select]",null,null,"[Please select]","[Please select]","[Please select]","[Please select]","[Please select]",null,"[Please select]",null,"[Please select]",{"$nulls":7},"[Please select]",null,{"v":0,"d":"0%"},{"$f":"((IF(OR(AH156= \"Pre-consumer\", AH156 = \"Post-consumer\"), 'Bill of Materials'!J156, 0)) * AG156)+((IF(OR(AF156= \"Pre-consumer\", AF156 = \"Post-consumer\"), 'Bill of Materials'!J156, 0)) * AE156)","v":{"v":0,"d":"0%"}},{"$f":"((IF(OR(AH156=\"Renewable\",AH156=\"Responsibly sourced renewable\"),'Bill of Materials'!J156,0))*AG156)+((IF(OR(AF156=\"Renewable\",AF156=\"Responsibly sourced renewable\"),'Bill of Materials'!J156,0))*AE156)","v":{"v":0,"d":"0%"}},{"$f":"(IF(AH156 = \"Post-consumer\", 'Bill of Materials'!J156, 0) * AG156)+(IF(AF156=\"Post-consumer\",'Bill of Materials'!J156,0)*AE156)","v":{"v":0,"d":"0%"}},{"$f":"((IF(AH156= \"Responsibly sourced renewable\", 'Bill of Materials'!J156, 0)) * AG156)+((IF(AF156= \"Responsibly sourced renewable\", 'Bill of Materials'!J156, 0)) * AE156)","v":{"v":0,"d":"0%"}},"[Please select]",{"v":0,"d":"0%"},"[Please select]",{"v":0,"d":"0%"}]
[{"$nulls":8},{"v":0,"d":"0.0"},{"$error":"#DIV/0!"},{"$nulls":3},"[Select country]",null,null,{"$f":"IF(VLOOKUP(N157,'pick lists'!$L$2:$M$217,2,FALSE) =\"Yes\",\"Yes\",\"No\")","v":{"$error":"#N/A"}},"[Please select]",null,"[Please select]",null,null,"[Please select]",null,null,"[Please select]","[Please select]","[Please select]","[Please select]","[Please select]",null,"[Please select]",null,"[Please select]",{"$nulls":7},"[Please select]",null,{"v":0,"d":"0%"},{"$f":"((IF(OR(AH157= \"Pre-consumer\", AH157 = \"Post-consumer\"), 'Bill of Materials'!J157, 0)) * AG157)+((IF(OR(AF157= \"Pre-consumer\", AF157 = \"Post-consumer\"), 'Bill of Materials'!J157, 0)) * AE157)","v":{"v":0,"d":"0%"}},{"$f":"((IF(OR(AH157=\"Renewable\",AH157=\"Responsibly sourced renewable\"),'Bill of Materials'!J157,0))*AG157)+((IF(OR(AF157=\"Renewable\",AF157=\"Responsibly sourced renewable\"),'Bill of Materials'!J157,0))*AE157)","v":{"v":0,"d":"0%"}},{"$f":"(IF(AH157 = \"Post-consumer\", 'Bill of Materials'!J157, 0) * AG157)+(IF(AF157=\"Post-consumer\",'Bill of Materials'!J157,0)*AE157)","v":{"v":0,"d":"0%"}},{"$f":"((IF(AH157= \"Responsibly sourced renewable\", 'Bill of Materials'!J157, 0)) * AG157)+((IF(AF157= \"Responsibly sourced renewable\", 'Bill of Materials'!J157, 0)) * AE157)","v":{"v":0,"d":"0%"}},"[Please select]",{"v":0,"d":"0%"},"[Please select]",{"v":0,"d":"0%"}]
[{"$nulls":8},{"v":0,"d":"0.0"},{"$error":"#DIV/0!"},{"$nulls":3},"[Select country]",null,null,{"$f":"IF(VLOOKUP(N158,'pick lists'!$L$2:$M$217,2,FALSE) =\"Yes\",\"Yes\",\"No\")","v":{"$error":"#N/A"}},"[Please select]",null,"[Please select]",null,null,"[Please select]",null,null,"[Please select]","[Please select]","[Please select]","[Please select]","[Please select]",null,"[Please select]",null,"[Please select]",{"$nulls":7},"[Please select]",null,{"v":0,"d":"0%"},{"$f":"((IF(OR(AH158= \"Pre-consumer\", AH158 = \"Post-consumer\"), 'Bill of Materials'!J158, 0)) * AG158)+((IF(OR(AF158= \"Pre-consumer\", AF158 = \"Post-consumer\"), 'Bill of Materials'!J158, 0)) * AE158)","v":{"v":0,"d":"0%"}},{"$f":"((IF(OR(AH158=\"Renewable\",AH158=\"Responsibly sourced renewable\"),'Bill of Materials'!J158,0))*AG158)+((IF(OR(AF158=\"Renewable\",AF158=\"Responsibly sourced renewable\"),'Bill of Materials'!J158,0))*AE158)","v":{"v":0,"d":"0%"}},{"$f":"(IF(AH158 = \"Post-consumer\", 'Bill of Materials'!J158, 0) * AG158)+(IF(AF158=\"Post-consumer\",'Bill of Materials'!J158,0)*AE158)","v":{"v":0,"d":"0%"}},{"$f":"((IF(AH158= \"Responsibly sourced renewable\", 'Bill of Materials'!J158, 0)) * AG158)+((IF(AF158= \"Responsibly sourced renewable\", 'Bill of Materials'!J158, 0)) * AE158)","v":{"v":0,"d":"0%"}},"[Please select]",{"v":0,"d":"0%"},"[Please select]",{"v":0,"d":"0%"}]
[{"$nulls":8},{"v":0,"d":"0.0"},{"$error":"#DIV/0!"},{"$nulls":3},"[Select country]",null,null,{"$f":"IF(VLOOKUP(N159,'pick lists'!$L$2:$M$217,2,FALSE) =\"Yes\",\"Yes\",\"No\")","v":{"$error":"#N/A"}},"[Please select]",null,"[Please select]",null,null,"[Please select]",null,null,"[Please select]","[Please select]","[Please select]","[Please select]","[Please select]",null,"[Please select]",null,"[Please select]",{"$nulls":7},"[Please select]",null,{"v":0,"d":"0%"},{"$f":"((IF(OR(AH159= \"Pre-consumer\", AH159 = \"Post-consumer\"), 'Bill of Materials'!J159, 0)) * AG159)+((IF(OR(AF159= \"Pre-consumer\", AF159 = \"Post-consumer\"), 'Bill of Materials'!J159, 0)) * AE159)","v":{"v":0,"d":"0%"}},{"$f":"((IF(OR(AH159=\"Renewable\",AH159=\"Responsibly sourced renewable\"),'Bill of Materials'!J159,0))*AG159)+((IF(OR(AF159=\"Renewable\",AF159=\"Responsibly sourced renewable\"),'Bill of Materials'!J159,0))*AE159)","v":{"v":0,"d":"0%"}},{"$f":"(IF(AH159 = \"Post-consumer\", 'Bill of Materials'!J159, 0) * AG159)+(IF(AF159=\"Post-consumer\",'Bill of Materials'!J159,0)*AE159)","v":{"v":0,"d":"0%"}},{"$f":"((IF(AH159= \"Responsibly sourced renewable\", 'Bill of Materials'!J159, 0)) * AG159)+((IF(AF159= \"Responsibly sourced renewable\", 'Bill of Materials'!J159, 0)) * AE159)","v":{"v":0,"d":"0%"}},"[Please select]",{"v":0,"d":"0%"},"[Please select]",{"v":0,"d":"0%"}]
[{"$nulls":8},{"v":0,"d":"0.0"},{"$error":"#DIV/0!"},{"$nulls":3},"[Select country]",null,null,{"$f":"IF(VLOOKUP(N160,'pick lists'!$L$2:$M$217,2,FALSE) =\"Yes\",\"Yes\",\"No\")","v":{"$error":"#N/A"}},"[Please select]",null,"[Please select]",null,null,"[Please select]",null,null,"[Please select]","[Please select]","[Please select]","[Please select]","[Please select]",null,"[Please select]",null,"[Please select]",{"$nulls":7},"[Please select]",null,{"v":0,"d":"0%"},{"$f":"((IF(OR(AH160= \"Pre-consumer\", AH160 = \"Post-consumer\"), 'Bill of Materials'!J160, 0)) * AG160)+((IF(OR(AF160= \"Pre-consumer\", AF160 = \"Post-consumer\"), 'Bill of Materials'!J160, 0)) * AE160)","v":{"v":0,"d":"0%"}},{"$f":"((IF(OR(AH160=\"Renewable\",AH160=\"Responsibly sourced renewable\"),'Bill of Materials'!J160,0))*AG160)+((IF(OR(AF160=\"Renewable\",AF160=\"Responsibly sourced renewable\"),'Bill of Materials'!J160,0))*AE160)","v":{"v":0,"d":"0%"}},{"$f":"(IF(AH160 = \"Post-consumer\", 'Bill of Materials'!J160, 0) * AG160)+(IF(AF160=\"Post-consumer\",'Bill of Materials'!J160,0)*AE160)","v":{"v":0,"d":"0%"}},{"$f":"((IF(AH160= \"Responsibly sourced renewable\", 'Bill of Materials'!J160, 0)) * AG160)+((IF(AF160= \"Responsibly sourced renewable\", 'Bill of Materials'!J160, 0)) * AE160)","v":{"v":0,"d":"0%"}},"[Please select]",{"v":0,"d":"0%"},"[Please select]",{"v":0,"d":"0%"}]
[{"$nulls":8},{"v":0,"d":"0.0"},{"$error":"#DIV/0!"},{"$nulls":3},"[Select country]",null,null,{"$f":"IF(VLOOKUP(N161,'pick lists'!$L$2:$M$217,2,FALSE) =\"Yes\",\"Yes\",\"No\")","v":{"$error":"#N/A"}},"[Please select]",null,"[Please select]",null,null,"[Please select]",null,null,"[Please select]","[Please select]","[Please select]","[Please select]","[Please select]",null,"[Please select]",null,"[Please select]",{"$nulls":7},"[Please select]",null,{"v":0,"d":"0%"},{"$f":"((IF(OR(AH161= \"Pre-consumer\", AH161 = \"Post-consumer\"), 'Bill of Materials'!J161, 0)) * AG161)+((IF(OR(AF161= \"Pre-consumer\", AF161 = \"Post-consumer\"), 'Bill of Materials'!J161, 0)) * AE161)","v":{"v":0,"d":"0%"}},{"$f":"((IF(OR(AH161=\"Renewable\",AH161=\"Responsibly sourced renewable\"),'Bill of Materials'!J161,0))*AG161)+((IF(OR(AF161=\"Renewable\",AF161=\"Responsibly sourced renewable\"),'Bill of Materials'!J161,0))*AE161)","v":{"v":0,"d":"0%"}},{"$f":"(IF(AH161 = \"Post-consumer\", 'Bill of Materials'!J161, 0) * AG161)+(IF(AF161=\"Post-consumer\",'Bill of Materials'!J161,0)*AE161)","v":{"v":0,"d":"0%"}},{"$f":"((IF(AH161= \"Responsibly sourced renewable\", 'Bill of Materials'!J161, 0)) * AG161)+((IF(AF161= \"Responsibly sourced renewable\", 'Bill of Materials'!J161, 0)) * AE161)","v":{"v":0,"d":"0%"}},"[Please select]",{"v":0,"d":"0%"},"[Please select]",{"v":0,"d":"0%"}]
[{"$nulls":8},{"v":0,"d":"0.0"},{"$error":"#DIV/0!"},{"$nulls":3},"[Select country]",null,null,{"$f":"IF(VLOOKUP(N162,'pick lists'!$L$2:$M$217,2,FALSE) =\"Yes\",\"Yes\",\"No\")","v":{"$error":"#N/A"}},"[Please select]",null,"[Please select]",null,null,"[Please select]",null,null,"[Please select]","[Please select]","[Please select]","[Please select]","[Please select]",null,"[Please select]",null,"[Please select]",{"$nulls":7},"[Please select]",null,{"v":0,"d":"0%"},{"$f":"((IF(OR(AH162= \"Pre-consumer\", AH162 = \"Post-consumer\"), 'Bill of Materials'!J162, 0)) * AG162)+((IF(OR(AF162= \"Pre-consumer\", AF162 = \"Post-consumer\"), 'Bill of Materials'!J162, 0)) * AE162)","v":{"v":0,"d":"0%"}},{"$f":"((IF(OR(AH162=\"Renewable\",AH162=\"Responsibly sourced renewable\"),'Bill of Materials'!J162,0))*AG162)+((IF(OR(AF162=\"Renewable\",AF162=\"Responsibly sourced renewable\"),'Bill of Materials'!J162,0))*AE162)","v":{"v":0,"d":"0%"}},{"$f":"(IF(AH162 = \"Post-consumer\", 'Bill of Materials'!J162, 0) * AG162)+(IF(AF162=\"Post-consumer\",'Bill of Materials'!J162,0)*AE162)","v":{"v":0,"d":"0%"}},{"$f":"((IF(AH162= \"Responsibly sourced renewable\", 'Bill of Materials'!J162, 0)) * AG162)+((IF(AF162= \"Responsibly sourced renewable\", 'Bill of Materials'!J162, 0)) * AE162)","v":{"v":0,"d":"0%"}},"[Please select]",{"v":0,"d":"0%"},"[Please select]",{"v":0,"d":"0%"}]
[{"$nulls":8},{"v":0,"d":"0.0"},{"$error":"#DIV/0!"},{"$nulls":3},"[Select country]",null,null,{"$f":"IF(VLOOKUP(N163,'pick lists'!$L$2:$M$217,2,FALSE) =\"Yes\",\"Yes\",\"No\")","v":{"$error":"#N/A"}},"[Please select]",null,"[Please select]",null,null,"[Please select]",null,null,"[Please select]","[Please select]","[Please select]","[Please select]","[Please select]",null,"[Please select]",null,"[Please select]",{"$nulls":7},"[Please select]",null,{"v":0,"d":"0%"},{"$f":"((IF(OR(AH163= \"Pre-consumer\", AH163 = \"Post-consumer\"), 'Bill of Materials'!J163, 0)) * AG163)+((IF(OR(AF163= \"Pre-consumer\", AF163 = \"Post-consumer\"), 'Bill of Materials'!J163, 0)) * AE163)","v":{"v":0,"d":"0%"}},{"$f":"((IF(OR(AH163=\"Renewable\",AH163=\"Responsibly sourced renewable\"),'Bill of Materials'!J163,0))*AG163)+((IF(OR(AF163=\"Renewable\",AF163=\"Responsibly sourced renewable\"),'Bill of Materials'!J163,0))*AE163)","v":{"v":0,"d":"0%"}},{"$f":"(IF(AH163 = \"Post-consumer\", 'Bill of Materials'!J163, 0) * AG163)+(IF(AF163=\"Post-consumer\",'Bill of Materials'!J163,0)*AE163)","v":{"v":0,"d":"0%"}},{"$f":"((IF(AH163= \"Responsibly sourced renewable\", 'Bill of Materials'!J163, 0)) * AG163)+((IF(AF163= \"Responsibly sourced renewable\", 'Bill of Materials'!J163, 0)) * AE163)","v":{"v":0,"d":"0%"}},"[Please select]",{"v":0,"d":"0%"},"[Please select]",{"v":0,"d":"0%"}]
[{"$nulls":8},{"v":0,"d":"0.0"},{"$error":"#DIV/0!"},{"$nulls":3},"[Select country]",null,null,{"$f":"IF(VLOOKUP(N164,'pick lists'!$L$2:$M$217,2,FALSE) =\"Yes\",\"Yes\",\"No\")","v":{"$error":"#N/A"}},"[Please select]",null,"[Please select]",null,null,"[Please select]",null,null,"[Please select]","[Please select]","[Please select]","[Please select]","[Please select]",null,"[Please select]",null,"[Please select]",{"$nulls":7},"[Please select]",null,{"v":0,"d":"0%"},{"$f":"((IF(OR(AH164= \"Pre-consumer\", AH164 = \"Post-consumer\"), 'Bill of Materials'!J164, 0)) * AG164)+((IF(OR(AF164= \"Pre-consumer\", AF164 = \"Post-consumer\"), 'Bill of Materials'!J164, 0)) * AE164)","v":{"v":0,"d":"0%"}},{"$f":"((IF(OR(AH164=\"Renewable\",AH164=\"Responsibly sourced renewable\"),'Bill of Materials'!J164,0))*AG164)+((IF(OR(AF164=\"Renewable\",AF164=\"Responsibly sourced renewable\"),'Bill of Materials'!J164,0))*AE164)","v":{"v":0,"d":"0%"}},{"$f":"(IF(AH164 = \"Post-consumer\", 'Bill of Materials'!J164, 0) * AG164)+(IF(AF164=\"Post-consumer\",'Bill of Materials'!J164,0)*AE164)","v":{"v":0,"d":"0%"}},{"$f":"((IF(AH164= \"Responsibly sourced renewable\", 'Bill of Materials'!J164, 0)) * AG164)+((IF(AF164= \"Responsibly sourced renewable\", 'Bill of Materials'!J164, 0)) * AE164)","v":{"v":0,"d":"0%"}},"[Please select]",{"v":0,"d":"0%"},"[Please select]",{"v":0,"d":"0%"}]
[{"$nulls":8},{"v":0,"d":"0.0"},{"$error":"#DIV/0!"},{"$nulls":3},"[Select country]",null,null,{"$f":"IF(VLOOKUP(N165,'pick lists'!$L$2:$M$217,2,FALSE) =\"Yes\",\"Yes\",\"No\")","v":{"$error":"#N/A"}},"[Please select]",null,"[Please select]",null,null,"[Please select]",null,null,"[Please select]","[Please select]","[Please select]","[Please select]","[Please select]",null,"[Please select]",null,"[Please select]",{"$nulls":7},"[Please select]",null,{"v":0,"d":"0%"},{"$f":"((IF(OR(AH165= \"Pre-consumer\", AH165 = \"Post-consumer\"), 'Bill of Materials'!J165, 0)) * AG165)+((IF(OR(AF165= \"Pre-consumer\", AF165 = \"Post-consumer\"), 'Bill of Materials'!J165, 0)) * AE165)","v":{"v":0,"d":"0%"}},{"$f":"((IF(OR(AH165=\"Renewable\",AH165=\"Responsibly sourced renewable\"),'Bill of Materials'!J165,0))*AG165)+((IF(OR(AF165=\"Renewable\",AF165=\"Responsibly sourced renewable\"),'Bill of Materials'!J165,0))*AE165)","v":{"v":0,"d":"0%"}},{"$f":"(IF(AH165 = \"Post-consumer\", 'Bill of Materials'!J165, 0) * AG165)+(IF(AF165=\"Post-consumer\",'Bill of Materials'!J165,0)*AE165)","v":{"v":0,"d":"0%"}},{"$f":"((IF(AH165= \"Responsibly sourced renewable\", 'Bill of Materials'!J165, 0)) * AG165)+((IF(AF165= \"Responsibly sourced renewable\", 'Bill of Materials'!J165, 0)) * AE165)","v":{"v":0,"d":"0%"}},"[Please select]",{"v":0,"d":"0%"},"[Please select]",{"v":0,"d":"0%"}]
[{"$nulls":8},{"v":0,"d":"0.0"},{"$error":"#DIV/0!"},{"$nulls":3},"[Select country]",null,null,{"$f":"IF(VLOOKUP(N166,'pick lists'!$L$2:$M$217,2,FALSE) =\"Yes\",\"Yes\",\"No\")","v":{"$error":"#N/A"}},"[Please select]",null,"[Please select]",null,null,"[Please select]",null,null,"[Please select]","[Please select]","[Please select]","[Please select]","[Please select]",null,"[Please select]",null,"[Please select]",{"$nulls":7},"[Please select]",null,{"v":0,"d":"0%"},{"$f":"((IF(OR(AH166= \"Pre-consumer\", AH166 = \"Post-consumer\"), 'Bill of Materials'!J166, 0)) * AG166)+((IF(OR(AF166= \"Pre-consumer\", AF166 = \"Post-consumer\"), 'Bill of Materials'!J166, 0)) * AE166)","v":{"v":0,"d":"0%"}},{"$f":"((IF(OR(AH166=\"Renewable\",AH166=\"Responsibly sourced renewable\"),'Bill of Materials'!J166,0))*AG166)+((IF(OR(AF166=\"Renewable\",AF166=\"Responsibly sourced renewable\"),'Bill of Materials'!J166,0))*AE166)","v":{"v":0,"d":"0%"}},{"$f":"(IF(AH166 = \"Post-consumer\", 'Bill of Materials'!J166, 0) * AG166)+(IF(AF166=\"Post-consumer\",'Bill of Materials'!J166,0)*AE166)","v":{"v":0,"d":"0%"}},{"$f":"((IF(AH166= \"Responsibly sourced renewable\", 'Bill of Materials'!J166, 0)) * AG166)+((IF(AF166= \"Responsibly sourced renewable\", 'Bill of Materials'!J166, 0)) * AE166)","v":{"v":0,"d":"0%"}},"[Please select]",{"v":0,"d":"0%"},"[Please select]",{"v":0,"d":"0%"}]
[{"$nulls":8},{"v":0,"d":"0.0"},{"$error":"#DIV/0!"},{"$nulls":3},"[Select country]",null,null,{"$f":"IF(VLOOKUP(N167,'pick lists'!$L$2:$M$217,2,FALSE) =\"Yes\",\"Yes\",\"No\")","v":{"$error":"#N/A"}},"[Please select]",null,"[Please select]",null,null,"[Please select]",null,null,"[Please select]","[Please select]","[Please select]","[Please select]","[Please select]",null,"[Please select]",null,"[Please select]",{"$nulls":7},"[Please select]",null,{"v":0,"d":"0%"},{"$f":"((IF(OR(AH167= \"Pre-consumer\", AH167 = \"Post-consumer\"), 'Bill of Materials'!J167, 0)) * AG167)+((IF(OR(AF167= \"Pre-consumer\", AF167 = \"Post-consumer\"), 'Bill of Materials'!J167, 0)) * AE167)","v":{"v":0,"d":"0%"}},{"$f":"((IF(OR(AH167=\"Renewable\",AH167=\"Responsibly sourced renewable\"),'Bill of Materials'!J167,0))*AG167)+((IF(OR(AF167=\"Renewable\",AF167=\"Responsibly sourced renewable\"),'Bill of Materials'!J167,0))*AE167)","v":{"v":0,"d":"0%"}},{"$f":"(IF(AH167 = \"Post-consumer\", 'Bill of Materials'!J167, 0) * AG167)+(IF(AF167=\"Post-consumer\",'Bill of Materials'!J167,0)*AE167)","v":{"v":0,"d":"0%"}},{"$f":"((IF(AH167= \"Responsibly sourced renewable\", 'Bill of Materials'!J167, 0)) * AG167)+((IF(AF167= \"Responsibly sourced renewable\", 'Bill of Materials'!J167, 0)) * AE167)","v":{"v":0,"d":"0%"}},"[Please select]",{"v":0,"d":"0%"},"[Please select]",{"v":0,"d":"0%"}]
[{"$nulls":8},{"v":0,"d":"0.0"},{"$error":"#DIV/0!"},{"$nulls":3},"[Select country]",null,null,{"$f":"IF(VLOOKUP(N168,'pick lists'!$L$2:$M$217,2,FALSE) =\"Yes\",\"Yes\",\"No\")","v":{"$error":"#N/A"}},"[Please select]",null,"[Please select]",null,null,"[Please select]",null,null,"[Please select]","[Please select]","[Please select]","[Please select]","[Please select]",null,"[Please select]",null,"[Please select]",{"$nulls":7},"[Please select]",null,{"v":0,"d":"0%"},{"$f":"((IF(OR(AH168= \"Pre-consumer\", AH168 = \"Post-consumer\"), 'Bill of Materials'!J168, 0)) * AG168)+((IF(OR(AF168= \"Pre-consumer\", AF168 = \"Post-consumer\"), 'Bill of Materials'!J168, 0)) * AE168)","v":{"v":0,"d":"0%"}},{"$f":"((IF(OR(AH168=\"Renewable\",AH168=\"Responsibly sourced renewable\"),'Bill of Materials'!J168,0))*AG168)+((IF(OR(AF168=\"Renewable\",AF168=\"Responsibly sourced renewable\"),'Bill of Materials'!J168,0))*AE168)","v":{"v":0,"d":"0%"}},{"$f":"(IF(AH168 = \"Post-consumer\", 'Bill of Materials'!J168, 0) * AG168)+(IF(AF168=\"Post-consumer\",'Bill of Materials'!J168,0)*AE168)","v":{"v":0,"d":"0%"}},{"$f":"((IF(AH168= \"Responsibly sourced renewable\", 'Bill of Materials'!J168, 0)) * AG168)+((IF(AF168= \"Responsibly sourced renewable\", 'Bill of Materials'!J168, 0)) * AE168)","v":{"v":0,"d":"0%"}},"[Please select]",{"v":0,"d":"0%"},"[Please select]",{"v":0,"d":"0%"}]
[{"$nulls":8},{"v":0,"d":"0.0"},{"$error":"#DIV/0!"},{"$nulls":3},"[Select country]",null,null,{"$f":"IF(VLOOKUP(N169,'pick lists'!$L$2:$M$217,2,FALSE) =\"Yes\",\"Yes\",\"No\")","v":{"$error":"#N/A"}},"[Please select]",null,"[Please select]",null,null,"[Please select]",null,null,"[Please select]","[Please select]","[Please select]","[Please select]","[Please select]",null,"[Please select]",null,"[Please select]",{"$nulls":7},"[Please select]",null,{"v":0,"d":"0%"},{"$f":"((IF(OR(AH169= \"Pre-consumer\", AH169 = \"Post-consumer\"), 'Bill of Materials'!J169, 0)) * AG169)+((IF(OR(AF169= \"Pre-consumer\", AF169 = \"Post-consumer\"), 'Bill of Materials'!J169, 0)) * AE169)","v":{"v":0,"d":"0%"}},{"$f":"((IF(OR(AH169=\"Renewable\",AH169=\"Responsibly sourced renewable\"),'Bill of Materials'!J169,0))*AG169)+((IF(OR(AF169=\"Renewable\",AF169=\"Responsibly sourced renewable\"),'Bill of Materials'!J169,0))*AE169)","v":{"v":0,"d":"0%"}},{"$f":"(IF(AH169 = \"Post-consumer\", 'Bill of Materials'!J169, 0) * AG169)+(IF(AF169=\"Post-consumer\",'Bill of Materials'!J169,0)*AE169)","v":{"v":0,"d":"0%"}},{"$f":"((IF(AH169= \"Responsibly sourced renewable\", 'Bill of Materials'!J169, 0)) * AG169)+((IF(AF169= \"Responsibly sourced renewable\", 'Bill of Materials'!J169, 0)) * AE169)","v":{"v":0,"d":"0%"}},"[Please select]",{"v":0,"d":"0%"},"[Please select]",{"v":0,"d":"0%"}]
[{"$nulls":8},{"v":0,"d":"0.0"},{"$error":"#DIV/0!"},{"$nulls":3},"[Select country]",null,null,{"$f":"IF(VLOOKUP(N170,'pick lists'!$L$2:$M$217,2,FALSE) =\"Yes\",\"Yes\",\"No\")","v":{"$error":"#N/A"}},"[Please select]",null,"[Please select]",null,null,"[Please select]",null,null,"[Please select]","[Please select]","[Please select]","[Please select]","[Please select]",null,"[Please select]",null,"[Please select]",{"$nulls":7},"[Please select]",null,{"v":0,"d":"0%"},{"$f":"((IF(OR(AH170= \"Pre-consumer\", AH170 = \"Post-consumer\"), 'Bill of Materials'!J170, 0)) * AG170)+((IF(OR(AF170= \"Pre-consumer\", AF170 = \"Post-consumer\"), 'Bill of Materials'!J170, 0)) * AE170)","v":{"v":0,"d":"0%"}},{"$f":"((IF(OR(AH170=\"Renewable\",AH170=\"Responsibly sourced renewable\"),'Bill of Materials'!J170,0))*AG170)+((IF(OR(AF170=\"Renewable\",AF170=\"Responsibly sourced renewable\"),'Bill of Materials'!J170,0))*AE170)","v":{"v":0,"d":"0%"}},{"$f":"(IF(AH170 = \"Post-consumer\", 'Bill of Materials'!J170, 0) * AG170)+(IF(AF170=\"Post-consumer\",'Bill of Materials'!J170,0)*AE170)","v":{"v":0,"d":"0%"}},{"$f":"((IF(AH170= \"Responsibly sourced renewable\", 'Bill of Materials'!J170, 0)) * AG170)+((IF(AF170= \"Responsibly sourced renewable\", 'Bill of Materials'!J170, 0)) * AE170)","v":{"v":0,"d":"0%"}},"[Please select]",{"v":0,"d":"0%"},"[Please select]",{"v":0,"d":"0%"}]
[{"$nulls":8},{"v":0,"d":"0.0"},{"$error":"#DIV/0!"},{"$nulls":3},"[Select country]",null,null,{"$f":"IF(VLOOKUP(N171,'pick lists'!$L$2:$M$217,2,FALSE) =\"Yes\",\"Yes\",\"No\")","v":{"$error":"#N/A"}},"[Please select]",null,"[Please select]",null,null,"[Please select]",null,null,"[Please select]","[Please select]","[Please select]","[Please select]","[Please select]",null,"[Please select]",null,"[Please select]",{"$nulls":7},"[Please select]",null,{"v":0,"d":"0%"},{"$f":"((IF(OR(AH171= \"Pre-consumer\", AH171 = \"Post-consumer\"), 'Bill of Materials'!J171, 0)) * AG171)+((IF(OR(AF171= \"Pre-consumer\", AF171 = \"Post-consumer\"), 'Bill of Materials'!J171, 0)) * AE171)","v":{"v":0,"d":"0%"}},{"$f":"((IF(OR(AH171=\"Renewable\",AH171=\"Responsibly sourced renewable\"),'Bill of Materials'!J171,0))*AG171)+((IF(OR(AF171=\"Renewable\",AF171=\"Responsibly sourced renewable\"),'Bill of Materials'!J171,0))*AE171)","v":{"v":0,"d":"0%"}},{"$f":"(IF(AH171 = \"Post-consumer\", 'Bill of Materials'!J171, 0) * AG171)+(IF(AF171=\"Post-consumer\",'Bill of Materials'!J171,0)*AE171)","v":{"v":0,"d":"0%"}},{"$f":"((IF(AH171= \"Responsibly sourced renewable\", 'Bill of Materials'!J171, 0)) * AG171)+((IF(AF171= \"Responsibly sourced renewable\", 'Bill of Materials'!J171, 0)) * AE171)","v":{"v":0,"d":"0%"}},"[Please select]",{"v":0,"d":"0%"},"[Please select]",{"v":0,"d":"0%"}]
[{"$nulls":8},{"v":0,"d":"0.0"},{"$error":"#DIV/0!"},{"$nulls":3},"[Select country]",null,null,{"$f":"IF(VLOOKUP(N172,'pick lists'!$L$2:$M$217,2,FALSE) =\"Yes\",\"Yes\",\"No\")","v":{"$error":"#N/A"}},"[Please select]",null,"[Please select]",null,null,"[Please select]",null,null,"[Please select]","[Please select]","[Please select]","[Please select]","[Please select]",null,"[Please select]",null,"[Please select]",{"$nulls":7},"[Please select]",null,{"v":0,"d":"0%"},{"$f":"((IF(OR(AH172= \"Pre-consumer\", AH172 = \"Post-consumer\"), 'Bill of Materials'!J172, 0)) * AG172)+((IF(OR(AF172= \"Pre-consumer\", AF172 = \"Post-consumer\"), 'Bill of Materials'!J172, 0)) * AE172)","v":{"v":0,"d":"0%"}},{"$f":"((IF(OR(AH172=\"Renewable\",AH172=\"Responsibly sourced renewable\"),'Bill of Materials'!J172,0))*AG172)+((IF(OR(AF172=\"Renewable\",AF172=\"Responsibly sourced renewable\"),'Bill of Materials'!J172,0))*AE172)","v":{"v":0,"d":"0%"}},{"$f":"(IF(AH172 = \"Post-consumer\", 'Bill of Materials'!J172, 0) * AG172)+(IF(AF172=\"Post-consumer\",'Bill of Materials'!J172,0)*AE172)","v":{"v":0,"d":"0%"}},{"$f":"((IF(AH172= \"Responsibly sourced renewable\", 'Bill of Materials'!J172, 0)) * AG172)+((IF(AF172= \"Responsibly sourced renewable\", 'Bill of Materials'!J172, 0)) * AE172)","v":{"v":0,"d":"0%"}},"[Please select]",{"v":0,"d":"0%"},"[Please select]",{"v":0,"d":"0%"}]
[{"$nulls":8},{"v":0,"d":"0.0"},{"$error":"#DIV/0!"},{"$nulls":3},"[Select country]",null,null,{"$f":"IF(VLOOKUP(N173,'pick lists'!$L$2:$M$217,2,FALSE) =\"Yes\",\"Yes\",\"No\")","v":{"$error":"#N/A"}},"[Please select]",null,"[Please select]",null,null,"[Please select]",null,null,"[Please select]","[Please select]","[Please select]","[Please select]","[Please select]",null,"[Please select]",null,"[Please select]",{"$nulls":7},"[Please select]",null,{"v":0,"d":"0%"},{"$f":"((IF(OR(AH173= \"Pre-consumer\", AH173 = \"Post-consumer\"), 'Bill of Materials'!J173, 0)) * AG173)+((IF(OR(AF173= \"Pre-consumer\", AF173 = \"Post-consumer\"), 'Bill of Materials'!J173, 0)) * AE173)","v":{"v":0,"d":"0%"}},{"$f":"((IF(OR(AH173=\"Renewable\",AH173=\"Responsibly sourced renewable\"),'Bill of Materials'!J173,0))*AG173)+((IF(OR(AF173=\"Renewable\",AF173=\"Responsibly sourced renewable\"),'Bill of Materials'!J173,0))*AE173)","v":{"v":0,"d":"0%"}},{"$f":"(IF(AH173 = \"Post-consumer\", 'Bill of Materials'!J173, 0) * AG173)+(IF(AF173=\"Post-consumer\",'Bill of Materials'!J173,0)*AE173)","v":{"v":0,"d":"0%"}},{"$f":"((IF(AH173= \"Responsibly sourced renewable\", 'Bill of Materials'!J173, 0)) * AG173)+((IF(AF173= \"Responsibly sourced renewable\", 'Bill of Materials'!J173, 0)) * AE173)","v":{"v":0,"d":"0%"}},"[Please select]",{"v":0,"d":"0%"},"[Please select]",{"v":0,"d":"0%"}]
[{"$nulls":8},{"v":0,"d":"0.0"},{"$error":"#DIV/0!"},{"$nulls":3},"[Select country]",null,null,{"$f":"IF(VLOOKUP(N174,'pick lists'!$L$2:$M$217,2,FALSE) =\"Yes\",\"Yes\",\"No\")","v":{"$error":"#N/A"}},"[Please select]",null,"[Please select]",null,null,"[Please select]",null,null,"[Please select]","[Please select]","[Please select]","[Please select]","[Please select]",null,"[Please select]",null,"[Please select]",{"$nulls":7},"[Please select]",null,{"v":0,"d":"0%"},{"$f":"((IF(OR(AH174= \"Pre-consumer\", AH174 = \"Post-consumer\"), 'Bill of Materials'!J174, 0)) * AG174)+((IF(OR(AF174= \"Pre-consumer\", AF174 = \"Post-consumer\"), 'Bill of Materials'!J174, 0)) * AE174)","v":{"v":0,"d":"0%"}},{"$f":"((IF(OR(AH174=\"Renewable\",AH174=\"Responsibly sourced renewable\"),'Bill of Materials'!J174,0))*AG174)+((IF(OR(AF174=\"Renewable\",AF174=\"Responsibly sourced renewable\"),'Bill of Materials'!J174,0))*AE174)","v":{"v":0,"d":"0%"}},{"$f":"(IF(AH174 = \"Post-consumer\", 'Bill of Materials'!J174, 0) * AG174)+(IF(AF174=\"Post-consumer\",'Bill of Materials'!J174,0)*AE174)","v":{"v":0,"d":"0%"}},{"$f":"((IF(AH174= \"Responsibly sourced renewable\", 'Bill of Materials'!J174, 0)) * AG174)+((IF(AF174= \"Responsibly sourced renewable\", 'Bill of Materials'!J174, 0)) * AE174)","v":{"v":0,"d":"0%"}},"[Please select]",{"v":0,"d":"0%"},"[Please select]",{"v":0,"d":"0%"}]
[{"$nulls":8},{"v":0,"d":"0.0"},{"$error":"#DIV/0!"},{"$nulls":3},"[Select country]",null,null,{"$f":"IF(VLOOKUP(N175,'pick lists'!$L$2:$M$217,2,FALSE) =\"Yes\",\"Yes\",\"No\")","v":{"$error":"#N/A"}},"[Please select]",null,"[Please select]",null,null,"[Please select]",null,null,"[Please select]","[Please select]","[Please select]","[Please select]","[Please select]",null,"[Please select]",null,"[Please select]",{"$nulls":7},"[Please select]",null,{"v":0,"d":"0%"},{"$f":"((IF(OR(AH175= \"Pre-consumer\", AH175 = \"Post-consumer\"), 'Bill of Materials'!J175, 0)) * AG175)+((IF(OR(AF175= \"Pre-consumer\", AF175 = \"Post-consumer\"), 'Bill of Materials'!J175, 0)) * AE175)","v":{"v":0,"d":"0%"}},{"$f":"((IF(OR(AH175=\"Renewable\",AH175=\"Responsibly sourced renewable\"),'Bill of Materials'!J175,0))*AG175)+((IF(OR(AF175=\"Renewable\",AF175=\"Responsibly sourced renewable\"),'Bill of Materials'!J175,0))*AE175)","v":{"v":0,"d":"0%"}},{"$f":"(IF(AH175 = \"Post-consumer\", 'Bill of Materials'!J175, 0) * AG175)+(IF(AF175=\"Post-consumer\",'Bill of Materials'!J175,0)*AE175)","v":{"v":0,"d":"0%"}},{"$f":"((IF(AH175= \"Responsibly sourced renewable\", 'Bill of Materials'!J175, 0)) * AG175)+((IF(AF175= \"Responsibly sourced renewable\", 'Bill of Materials'!J175, 0)) * AE175)","v":{"v":0,"d":"0%"}},"[Please select]",{"v":0,"d":"0%"},"[Please select]",{"v":0,"d":"0%"}]
[{"$nulls":8},{"v":0,"d":"0.0"},{"$error":"#DIV/0!"},{"$nulls":3},"[Select country]",null,null,{"$f":"IF(VLOOKUP(N176,'pick lists'!$L$2:$M$217,2,FALSE) =\"Yes\",\"Yes\",\"No\")","v":{"$error":"#N/A"}},"[Please select]",null,"[Please select]",null,null,"[Please select]",null,null,"[Please select]","[Please select]","[Please select]","[Please select]","[Please select]",null,"[Please select]",null,"[Please select]",{"$nulls":7},"[Please select]",null,{"v":0,"d":"0%"},{"$f":"((IF(OR(AH176= \"Pre-consumer\", AH176 = \"Post-consumer\"), 'Bill of Materials'!J176, 0)) * AG176)+((IF(OR(AF176= \"Pre-consumer\", AF176 = \"Post-consumer\"), 'Bill of Materials'!J176, 0)) * AE176)","v":{"v":0,"d":"0%"}},{"$f":"((IF(OR(AH176=\"Renewable\",AH176=\"Responsibly sourced renewable\"),'Bill of Materials'!J176,0))*AG176)+((IF(OR(AF176=\"Renewable\",AF176=\"Responsibly sourced renewable\"),'Bill of Materials'!J176,0))*AE176)","v":{"v":0,"d":"0%"}},{"$f":"(IF(AH176 = \"Post-consumer\", 'Bill of Materials'!J176, 0) * AG176)+(IF(AF176=\"Post-consumer\",'Bill of Materials'!J176,0)*AE176)","v":{"v":0,"d":"0%"}},{"$f":"((IF(AH176= \"Responsibly sourced renewable\", 'Bill of Materials'!J176, 0)) * AG176)+((IF(AF176= \"Responsibly sourced renewable\", 'Bill of Materials'!J176, 0)) * AE176)","v":{"v":0,"d":"0%"}},"[Please select]",{"$f":"IF(OR(AW176=\"Biological\",AW176=\"Technical\",AW176=\"Both\"), J176, 0)","v":{"v":0,"d":"0%"}},"[Please select]",{"$f":"IF(AY176=\"Yes\",J176,0)","v":{"v":0,"d":"0%"}}]
[{"$nulls":8},{"v":0,"d":"0.0"},{"$error":"#DIV/0!"},{"$nulls":3},"[Select country]",null,null,{"$f":"IF(VLOOKUP(N177,'pick lists'!$L$2:$M$217,2,FALSE) =\"Yes\",\"Yes\",\"No\")","v":{"$error":"#N/A"}},"[Please select]",null,"[Please select]",null,null,"[Please select]",null,null,"[Please select]","[Please select]","[Please select]","[Please select]","[Please select]",null,"[Please select]",null,"[Please select]",{"$nulls":7},"[Please select]",null,{"v":0,"d":"0%"},{"$f":"((IF(OR(AH177= \"Pre-consumer\", AH177 = \"Post-consumer\"), 'Bill of Materials'!J177, 0)) * AG177)+((IF(OR(AF177= \"Pre-consumer\", AF177 = \"Post-consumer\"), 'Bill of Materials'!J177, 0)) * AE177)","v":{"v":0,"d":"0%"}},{"$f":"((IF(OR(AH177=\"Renewable\",AH177=\"Responsibly sourced renewable\"),'Bill of Materials'!J177,0))*AG177)+((IF(OR(AF177=\"Renewable\",AF177=\"Responsibly sourced renewable\"),'Bill of Materials'!J177,0))*AE177)","v":{"v":0,"d":"0%"}},{"$f":"(IF(AH177 = \"Post-consumer\", 'Bill of Materials'!J177, 0) * AG177)+(IF(AF177=\"Post-consumer\",'Bill of Materials'!J177,0)*AE177)","v":{"v":0,"d":"0%"}},{"$f":"((IF(AH177= \"Responsibly sourced renewable\", 'Bill of Materials'!J177, 0)) * AG177)+((IF(AF177= \"Responsibly sourced renewable\", 'Bill of Materials'!J177, 0)) * AE177)","v":{"v":0,"d":"0%"}},"[Please select]",{"v":0,"d":"0%"},"[Please select]",{"v":0,"d":"0%"}]
[{"$nulls":8},{"v":0,"d":"0.0"},{"$error":"#DIV/0!"},{"$nulls":3},"[Select country]",null,null,{"$f":"IF(VLOOKUP(N178,'pick lists'!$L$2:$M$217,2,FALSE) =\"Yes\",\"Yes\",\"No\")","v":{"$error":"#N/A"}},"[Please select]",null,"[Please select]",null,null,"[Please select]",null,null,"[Please select]","[Please select]","[Please select]","[Please select]","[Please select]",null,"[Please select]",null,"[Please select]",{"$nulls":7},"[Please select]",null,{"v":0,"d":"0%"},{"$f":"((IF(OR(AH178= \"Pre-consumer\", AH178 = \"Post-consumer\"), 'Bill of Materials'!J178, 0)) * AG178)+((IF(OR(AF178= \"Pre-consumer\", AF178 = \"Post-consumer\"), 'Bill of Materials'!J178, 0)) * AE178)","v":{"v":0,"d":"0%"}},{"$f":"((IF(OR(AH178=\"Renewable\",AH178=\"Responsibly sourced renewable\"),'Bill of Materials'!J178,0))*AG178)+((IF(OR(AF178=\"Renewable\",AF178=\"Responsibly sourced renewable\"),'Bill of Materials'!J178,0))*AE178)","v":{"v":0,"d":"0%"}},{"$f":"(IF(AH178 = \"Post-consumer\", 'Bill of Materials'!J178, 0) * AG178)+(IF(AF178=\"Post-consumer\",'Bill of Materials'!J178,0)*AE178)","v":{"v":0,"d":"0%"}},{"$f":"((IF(AH178= \"Responsibly sourced renewable\", 'Bill of Materials'!J178, 0)) * AG178)+((IF(AF178= \"Responsibly sourced renewable\", 'Bill of Materials'!J178, 0)) * AE178)","v":{"v":0,"d":"0%"}},"[Please select]",{"v":0,"d":"0%"},"[Please select]",{"v":0,"d":"0%"}]
[{"$nulls":8},{"v":0,"d":"0.0"},{"$error":"#DIV/0!"},{"$nulls":3},"[Select country]",null,null,{"$f":"IF(VLOOKUP(N179,'pick lists'!$L$2:$M$217,2,FALSE) =\"Yes\",\"Yes\",\"No\")","v":{"$error":"#N/A"}},"[Please select]",null,"[Please select]",null,null,"[Please select]",null,null,"[Please select]","[Please select]","[Please select]","[Please select]","[Please select]",null,"[Please select]",null,"[Please select]",{"$nulls":7},"[Please select]",null,{"v":0,"d":"0%"},{"$f":"((IF(OR(AH179= \"Pre-consumer\", AH179 = \"Post-consumer\"), 'Bill of Materials'!J179, 0)) * AG179)+((IF(OR(AF179= \"Pre-consumer\", AF179 = \"Post-consumer\"), 'Bill of Materials'!J179, 0)) * AE179)","v":{"v":0,"d":"0%"}},{"$f":"((IF(OR(AH179=\"Renewable\",AH179=\"Responsibly sourced renewable\"),'Bill of Materials'!J179,0))*AG179)+((IF(OR(AF179=\"Renewable\",AF179=\"Responsibly sourced renewable\"),'Bill of Materials'!J179,0))*AE179)","v":{"v":0,"d":"0%"}},{"$f":"(IF(AH179 = \"Post-consumer\", 'Bill of Materials'!J179, 0) * AG179)+(IF(AF179=\"Post-consumer\",'Bill of Materials'!J179,0)*AE179)","v":{"v":0,"d":"0%"}},{"$f":"((IF(AH179= \"Responsibly sourced renewable\", 'Bill of Materials'!J179, 0)) * AG179)+((IF(AF179= \"Responsibly sourced renewable\", 'Bill of Materials'!J179, 0)) * AE179)","v":{"v":0,"d":"0%"}},"[Please select]",{"v":0,"d":"0%"},"[Please select]",{"v":0,"d":"0%"}]
[{"$nulls":8},{"v":0,"d":"0.0"},{"$error":"#DIV/0!"},{"$nulls":3},"[Select country]",null,null,{"$f":"IF(VLOOKUP(N180,'pick lists'!$L$2:$M$217,2,FALSE) =\"Yes\",\"Yes\",\"No\")","v":{"$error":"#N/A"}},"[Please select]",null,"[Please select]",null,null,"[Please select]",null,null,"[Please select]","[Please select]","[Please select]","[Please select]","[Please select]",null,"[Please select]",null,"[Please select]",{"$nulls":7},"[Please select]",null,{"v":0,"d":"0%"},{"$f":"((IF(OR(AH180= \"Pre-consumer\", AH180 = \"Post-consumer\"), 'Bill of Materials'!J180, 0)) * AG180)+((IF(OR(AF180= \"Pre-consumer\", AF180 = \"Post-consumer\"), 'Bill of Materials'!J180, 0)) * AE180)","v":{"v":0,"d":"0%"}},{"$f":"((IF(OR(AH180=\"Renewable\",AH180=\"Responsibly sourced renewable\"),'Bill of Materials'!J180,0))*AG180)+((IF(OR(AF180=\"Renewable\",AF180=\"Responsibly sourced renewable\"),'Bill of Materials'!J180,0))*AE180)","v":{"v":0,"d":"0%"}},{"$f":"(IF(AH180 = \"Post-consumer\", 'Bill of Materials'!J180, 0) * AG180)+(IF(AF180=\"Post-consumer\",'Bill of Materials'!J180,0)*AE180)","v":{"v":0,"d":"0%"}},{"$f":"((IF(AH180= \"Responsibly sourced renewable\", 'Bill of Materials'!J180, 0)) * AG180)+((IF(AF180= \"Responsibly sourced renewable\", 'Bill of Materials'!J180, 0)) * AE180)","v":{"v":0,"d":"0%"}},"[Please select]",{"v":0,"d":"0%"},"[Please select]",{"v":0,"d":"0%"}]
[{"$nulls":8},{"v":0,"d":"0.0"},{"$error":"#DIV/0!"},{"$nulls":3},"[Select country]",null,null,{"$f":"IF(VLOOKUP(N181,'pick lists'!$L$2:$M$217,2,FALSE) =\"Yes\",\"Yes\",\"No\")","v":{"$error":"#N/A"}},"[Please select]",null,"[Please select]",null,null,"[Please select]",null,null,"[Please select]","[Please select]","[Please select]","[Please select]","[Please select]",null,"[Please select]",null,"[Please select]",{"$nulls":7},"[Please select]",null,{"v":0,"d":"0%"},{"$f":"((IF(OR(AH181= \"Pre-consumer\", AH181 = \"Post-consumer\"), 'Bill of Materials'!J181, 0)) * AG181)+((IF(OR(AF181= \"Pre-consumer\", AF181 = \"Post-consumer\"), 'Bill of Materials'!J181, 0)) * AE181)","v":{"v":0,"d":"0%"}},{"$f":"((IF(OR(AH181=\"Renewable\",AH181=\"Responsibly sourced renewable\"),'Bill of Materials'!J181,0))*AG181)+((IF(OR(AF181=\"Renewable\",AF181=\"Responsibly sourced renewable\"),'Bill of Materials'!J181,0))*AE181)","v":{"v":0,"d":"0%"}},{"$f":"(IF(AH181 = \"Post-consumer\", 'Bill of Materials'!J181, 0) * AG181)+(IF(AF181=\"Post-consumer\",'Bill of Materials'!J181,0)*AE181)","v":{"v":0,"d":"0%"}},{"$f":"((IF(AH181= \"Responsibly sourced renewable\", 'Bill of Materials'!J181, 0)) * AG181)+((IF(AF181= \"Responsibly sourced renewable\", 'Bill of Materials'!J181, 0)) * AE181)","v":{"v":0,"d":"0%"}},"[Please select]",{"v":0,"d":"0%"},"[Please select]",{"v":0,"d":"0%"}]
[{"$nulls":8},{"v":0,"d":"0.0"},{"$error":"#DIV/0!"},{"$nulls":3},"[Select country]",null,null,{"$f":"IF(VLOOKUP(N182,'pick lists'!$L$2:$M$217,2,FALSE) =\"Yes\",\"Yes\",\"No\")","v":{"$error":"#N/A"}},"[Please select]",null,"[Please select]",null,null,"[Please select]",null,null,"[Please select]","[Please select]","[Please select]","[Please select]","[Please select]",null,"[Please select]",null,"[Please select]",{"$nulls":7},"[Please select]",null,{"v":0,"d":"0%"},{"$f":"((IF(OR(AH182= \"Pre-consumer\", AH182 = \"Post-consumer\"), 'Bill of Materials'!J182, 0)) * AG182)+((IF(OR(AF182= \"Pre-consumer\", AF182 = \"Post-consumer\"), 'Bill of Materials'!J182, 0)) * AE182)","v":{"v":0,"d":"0%"}},{"$f":"((IF(OR(AH182=\"Renewable\",AH182=\"Responsibly sourced renewable\"),'Bill of Materials'!J182,0))*AG182)+((IF(OR(AF182=\"Renewable\",AF182=\"Responsibly sourced renewable\"),'Bill of Materials'!J182,0))*AE182)","v":{"v":0,"d":"0%"}},{"$f":"(IF(AH182 = \"Post-consumer\", 'Bill of Materials'!J182, 0) * AG182)+(IF(AF182=\"Post-consumer\",'Bill of Materials'!J182,0)*AE182)","v":{"v":0,"d":"0%"}},{"$f":"((IF(AH182= \"Responsibly sourced renewable\", 'Bill of Materials'!J182, 0)) * AG182)+((IF(AF182= \"Responsibly sourced renewable\", 'Bill of Materials'!J182, 0)) * AE182)","v":{"v":0,"d":"0%"}},"[Please select]",{"v":0,"d":"0%"},"[Please select]",{"v":0,"d":"0%"}]
[{"$nulls":8},{"v":0,"d":"0.0"},{"$error":"#DIV/0!"},{"$nulls":3},"[Select country]",null,null,{"$f":"IF(VLOOKUP(N183,'pick lists'!$L$2:$M$217,2,FALSE) =\"Yes\",\"Yes\",\"No\")","v":{"$error":"#N/A"}},"[Please select]",null,"[Please select]",null,null,"[Please select]",null,null,"[Please select]","[Please select]","[Please select]","[Please select]","[Please select]",null,"[Please select]",null,"[Please select]",{"$nulls":7},"[Please select]",null,{"v":0,"d":"0%"},{"$f":"((IF(OR(AH183= \"Pre-consumer\", AH183 = \"Post-consumer\"), 'Bill of Materials'!J183, 0)) * AG183)+((IF(OR(AF183= \"Pre-consumer\", AF183 = \"Post-consumer\"), 'Bill of Materials'!J183, 0)) * AE183)","v":{"v":0,"d":"0%"}},{"$f":"((IF(OR(AH183=\"Renewable\",AH183=\"Responsibly sourced renewable\"),'Bill of Materials'!J183,0))*AG183)+((IF(OR(AF183=\"Renewable\",AF183=\"Responsibly sourced renewable\"),'Bill of Materials'!J183,0))*AE183)","v":{"v":0,"d":"0%"}},{"$f":"(IF(AH183 = \"Post-consumer\", 'Bill of Materials'!J183, 0) * AG183)+(IF(AF183=\"Post-consumer\",'Bill of Materials'!J183,0)*AE183)","v":{"v":0,"d":"0%"}},{"$f":"((IF(AH183= \"Responsibly sourced renewable\", 'Bill of Materials'!J183, 0)) * AG183)+((IF(AF183= \"Responsibly sourced renewable\", 'Bill of Materials'!J183, 0)) * AE183)","v":{"v":0,"d":"0%"}},"[Please select]",{"v":0,"d":"0%"},"[Please select]",{"v":0,"d":"0%"}]
[{"$nulls":8},{"v":0,"d":"0.0"},{"$error":"#DIV/0!"},{"$nulls":3},"[Select country]",null,null,{"$f":"IF(VLOOKUP(N184,'pick lists'!$L$2:$M$217,2,FALSE) =\"Yes\",\"Yes\",\"No\")","v":{"$error":"#N/A"}},"[Please select]",null,"[Please select]",null,null,"[Please select]",null,null,"[Please select]","[Please select]","[Please select]","[Please select]","[Please select]",null,"[Please select]",null,"[Please select]",{"$nulls":7},"[Please select]",null,{"v":0,"d":"0%"},{"$f":"((IF(OR(AH184= \"Pre-consumer\", AH184 = \"Post-consumer\"), 'Bill of Materials'!J184, 0)) * AG184)+((IF(OR(AF184= \"Pre-consumer\", AF184 = \"Post-consumer\"), 'Bill of Materials'!J184, 0)) * AE184)","v":{"v":0,"d":"0%"}},{"$f":"((IF(OR(AH184=\"Renewable\",AH184=\"Responsibly sourced renewable\"),'Bill of Materials'!J184,0))*AG184)+((IF(OR(AF184=\"Renewable\",AF184=\"Responsibly sourced renewable\"),'Bill of Materials'!J184,0))*AE184)","v":{"v":0,"d":"0%"}},{"$f":"(IF(AH184 = \"Post-consumer\", 'Bill of Materials'!J184, 0) * AG184)+(IF(AF184=\"Post-consumer\",'Bill of Materials'!J184,0)*AE184)","v":{"v":0,"d":"0%"}},{"$f":"((IF(AH184= \"Responsibly sourced renewable\", 'Bill of Materials'!J184, 0)) * AG184)+((IF(AF184= \"Responsibly sourced renewable\", 'Bill of Materials'!J184, 0)) * AE184)","v":{"v":0,"d":"0%"}},"[Please select]",{"v":0,"d":"0%"},"[Please select]",{"v":0,"d":"0%"}]
[{"$nulls":8},{"v":0,"d":"0.0"},{"$error":"#DIV/0!"},{"$nulls":3},"[Select country]",null,null,{"$f":"IF(VLOOKUP(N185,'pick lists'!$L$2:$M$217,2,FALSE) =\"Yes\",\"Yes\",\"No\")","v":{"$error":"#N/A"}},"[Please select]",null,"[Please select]",null,null,"[Please select]",null,null,"[Please select]","[Please select]","[Please select]","[Please select]","[Please select]",null,"[Please select]",null,"[Please select]",{"$nulls":7},"[Please select]",null,{"v":0,"d":"0%"},{"$f":"((IF(OR(AH185= \"Pre-consumer\", AH185 = \"Post-consumer\"), 'Bill of Materials'!J185, 0)) * AG185)+((IF(OR(AF185= \"Pre-consumer\", AF185 = \"Post-consumer\"), 'Bill of Materials'!J185, 0)) * AE185)","v":{"v":0,"d":"0%"}},{"$f":"((IF(OR(AH185=\"Renewable\",AH185=\"Responsibly sourced renewable\"),'Bill of Materials'!J185,0))*AG185)+((IF(OR(AF185=\"Renewable\",AF185=\"Responsibly sourced renewable\"),'Bill of Materials'!J185,0))*AE185)","v":{"v":0,"d":"0%"}},{"$f":"(IF(AH185 = \"Post-consumer\", 'Bill of Materials'!J185, 0) * AG185)+(IF(AF185=\"Post-consumer\",'Bill of Materials'!J185,0)*AE185)","v":{"v":0,"d":"0%"}},{"$f":"((IF(AH185= \"Responsibly sourced renewable\", 'Bill of Materials'!J185, 0)) * AG185)+((IF(AF185= \"Responsibly sourced renewable\", 'Bill of Materials'!J185, 0)) * AE185)","v":{"v":0,"d":"0%"}},"[Please select]",{"v":0,"d":"0%"},"[Please select]",{"v":0,"d":"0%"}]
[{"$nulls":8},{"v":0,"d":"0.0"},{"$error":"#DIV/0!"},{"$nulls":3},"[Select country]",null,null,{"$f":"IF(VLOOKUP(N186,'pick lists'!$L$2:$M$217,2,FALSE) =\"Yes\",\"Yes\",\"No\")","v":{"$error":"#N/A"}},"[Please select]",null,"[Please select]",null,null,"[Please select]",null,null,"[Please select]","[Please select]","[Please select]","[Please select]","[Please select]",null,"[Please select]",null,"[Please select]",{"$nulls":7},"[Please select]",null,{"v":0,"d":"0%"},{"$f":"((IF(OR(AH186= \"Pre-consumer\", AH186 = \"Post-consumer\"), 'Bill of Materials'!J186, 0)) * AG186)+((IF(OR(AF186= \"Pre-consumer\", AF186 = \"Post-consumer\"), 'Bill of Materials'!J186, 0)) * AE186)","v":{"v":0,"d":"0%"}},{"$f":"((IF(OR(AH186=\"Renewable\",AH186=\"Responsibly sourced renewable\"),'Bill of Materials'!J186,0))*AG186)+((IF(OR(AF186=\"Renewable\",AF186=\"Responsibly sourced renewable\"),'Bill of Materials'!J186,0))*AE186)","v":{"v":0,"d":"0%"}},{"$f":"(IF(AH186 = \"Post-consumer\", 'Bill of Materials'!J186, 0) * AG186)+(IF(AF186=\"Post-consumer\",'Bill of Materials'!J186,0)*AE186)","v":{"v":0,"d":"0%"}},{"$f":"((IF(AH186= \"Responsibly sourced renewable\", 'Bill of Materials'!J186, 0)) * AG186)+((IF(AF186= \"Responsibly sourced renewable\", 'Bill of Materials'!J186, 0)) * AE186)","v":{"v":0,"d":"0%"}},"[Please select]",{"v":0,"d":"0%"},"[Please select]",{"v":0,"d":"0%"}]
[{"$nulls":8},{"v":0,"d":"0.0"},{"$error":"#DIV/0!"},{"$nulls":3},"[Select country]",null,null,{"$f":"IF(VLOOKUP(N187,'pick lists'!$L$2:$M$217,2,FALSE) =\"Yes\",\"Yes\",\"No\")","v":{"$error":"#N/A"}},"[Please select]",null,"[Please select]",null,null,"[Please select]",null,null,"[Please select]","[Please select]","[Please select]","[Please select]","[Please select]",null,"[Please select]",null,"[Please select]",{"$nulls":7},"[Please select]",null,{"v":0,"d":"0%"},{"$f":"((IF(OR(AH187= \"Pre-consumer\", AH187 = \"Post-consumer\"), 'Bill of Materials'!J187, 0)) * AG187)+((IF(OR(AF187= \"Pre-consumer\", AF187 = \"Post-consumer\"), 'Bill of Materials'!J187, 0)) * AE187)","v":{"v":0,"d":"0%"}},{"$f":"((IF(OR(AH187=\"Renewable\",AH187=\"Responsibly sourced renewable\"),'Bill of Materials'!J187,0))*AG187)+((IF(OR(AF187=\"Renewable\",AF187=\"Responsibly sourced renewable\"),'Bill of Materials'!J187,0))*AE187)","v":{"v":0,"d":"0%"}},{"$f":"(IF(AH187 = \"Post-consumer\", 'Bill of Materials'!J187, 0) * AG187)+(IF(AF187=\"Post-consumer\",'Bill of Materials'!J187,0)*AE187)","v":{"v":0,"d":"0%"}},{"$f":"((IF(AH187= \"Responsibly sourced renewable\", 'Bill of Materials'!J187, 0)) * AG187)+((IF(AF187= \"Responsibly sourced renewable\", 'Bill of Materials'!J187, 0)) * AE187)","v":{"v":0,"d":"0%"}},"[Please select]",{"v":0,"d":"0%"},"[Please select]",{"v":0,"d":"0%"}]
[{"$nulls":8},{"v":0,"d":"0.0"},{"$error":"#DIV/0!"},{"$nulls":3},"[Select country]",null,null,{"$f":"IF(VLOOKUP(N188,'pick lists'!$L$2:$M$217,2,FALSE) =\"Yes\",\"Yes\",\"No\")","v":{"$error":"#N/A"}},"[Please select]",null,"[Please select]",null,null,"[Please select]",null,null,"[Please select]","[Please select]","[Please select]","[Please select]","[Please select]",null,"[Please select]",null,"[Please select]",{"$nulls":7},"[Please select]",null,{"v":0,"d":"0%"},{"$f":"((IF(OR(AH188= \"Pre-consumer\", AH188 = \"Post-consumer\"), 'Bill of Materials'!J188, 0)) * AG188)+((IF(OR(AF188= \"Pre-consumer\", AF188 = \"Post-consumer\"), 'Bill of Materials'!J188, 0)) * AE188)","v":{"v":0,"d":"0%"}},{"$f":"((IF(OR(AH188=\"Renewable\",AH188=\"Responsibly sourced renewable\"),'Bill of Materials'!J188,0))*AG188)+((IF(OR(AF188=\"Renewable\",AF188=\"Responsibly sourced renewable\"),'Bill of Materials'!J188,0))*AE188)","v":{"v":0,"d":"0%"}},{"$f":"(IF(AH188 = \"Post-consumer\", 'Bill of Materials'!J188, 0) * AG188)+(IF(AF188=\"Post-consumer\",'Bill of Materials'!J188,0)*AE188)","v":{"v":0,"d":"0%"}},{"$f":"((IF(AH188= \"Responsibly sourced renewable\", 'Bill of Materials'!J188, 0)) * AG188)+((IF(AF188= \"Responsibly sourced renewable\", 'Bill of Materials'!J188, 0)) * AE188)","v":{"v":0,"d":"0%"}},"[Please select]",{"v":0,"d":"0%"},"[Please select]",{"v":0,"d":"0%"}]
[{"$nulls":8},{"v":0,"d":"0.0"},{"$error":"#DIV/0!"},{"$nulls":3},"[Select country]",null,null,{"$f":"IF(VLOOKUP(N189,'pick lists'!$L$2:$M$217,2,FALSE) =\"Yes\",\"Yes\",\"No\")","v":{"$error":"#N/A"}},"[Please select]",null,"[Please select]",null,null,"[Please select]",null,null,"[Please select]","[Please select]","[Please select]","[Please select]","[Please select]",null,"[Please select]",null,"[Please select]",{"$nulls":7},"[Please select]",null,{"v":0,"d":"0%"},{"$f":"((IF(OR(AH189= \"Pre-consumer\", AH189 = \"Post-consumer\"), 'Bill of Materials'!J189, 0)) * AG189)+((IF(OR(AF189= \"Pre-consumer\", AF189 = \"Post-consumer\"), 'Bill of Materials'!J189, 0)) * AE189)","v":{"v":0,"d":"0%"}},{"$f":"((IF(OR(AH189=\"Renewable\",AH189=\"Responsibly sourced renewable\"),'Bill of Materials'!J189,0))*AG189)+((IF(OR(AF189=\"Renewable\",AF189=\"Responsibly sourced renewable\"),'Bill of Materials'!J189,0))*AE189)","v":{"v":0,"d":"0%"}},{"$f":"(IF(AH189 = \"Post-consumer\", 'Bill of Materials'!J189, 0) * AG189)+(IF(AF189=\"Post-consumer\",'Bill of Materials'!J189,0)*AE189)","v":{"v":0,"d":"0%"}},{"$f":"((IF(AH189= \"Responsibly sourced renewable\", 'Bill of Materials'!J189, 0)) * AG189)+((IF(AF189= \"Responsibly sourced renewable\", 'Bill of Materials'!J189, 0)) * AE189)","v":{"v":0,"d":"0%"}},"[Please select]",{"v":0,"d":"0%"},"[Please select]",{"v":0,"d":"0%"}]
[{"$nulls":8},{"v":0,"d":"0.0"},{"$error":"#DIV/0!"},{"$nulls":3},"[Select country]",null,null,{"$f":"IF(VLOOKUP(N190,'pick lists'!$L$2:$M$217,2,FALSE) =\"Yes\",\"Yes\",\"No\")","v":{"$error":"#N/A"}},"[Please select]",null,"[Please select]",null,null,"[Please select]",null,null,"[Please select]","[Please select]","[Please select]","[Please select]","[Please select]",null,"[Please select]",null,"[Please select]",{"$nulls":7},"[Please select]",null,{"v":0,"d":"0%"},{"$f":"((IF(OR(AH190= \"Pre-consumer\", AH190 = \"Post-consumer\"), 'Bill of Materials'!J190, 0)) * AG190)+((IF(OR(AF190= \"Pre-consumer\", AF190 = \"Post-consumer\"), 'Bill of Materials'!J190, 0)) * AE190)","v":{"v":0,"d":"0%"}},{"$f":"((IF(OR(AH190=\"Renewable\",AH190=\"Responsibly sourced renewable\"),'Bill of Materials'!J190,0))*AG190)+((IF(OR(AF190=\"Renewable\",AF190=\"Responsibly sourced renewable\"),'Bill of Materials'!J190,0))*AE190)","v":{"v":0,"d":"0%"}},{"$f":"(IF(AH190 = \"Post-consumer\", 'Bill of Materials'!J190, 0) * AG190)+(IF(AF190=\"Post-consumer\",'Bill of Materials'!J190,0)*AE190)","v":{"v":0,"d":"0%"}},{"$f":"((IF(AH190= \"Responsibly sourced renewable\", 'Bill of Materials'!J190, 0)) * AG190)+((IF(AF190= \"Responsibly sourced renewable\", 'Bill of Materials'!J190, 0)) * AE190)","v":{"v":0,"d":"0%"}},"[Please select]",{"v":0,"d":"0%"},"[Please select]",{"v":0,"d":"0%"}]
[{"$nulls":8},{"v":0,"d":"0.0"},{"$error":"#DIV/0!"},{"$nulls":3},"[Select country]",null,null,{"$f":"IF(VLOOKUP(N191,'pick lists'!$L$2:$M$217,2,FALSE) =\"Yes\",\"Yes\",\"No\")","v":{"$error":"#N/A"}},"[Please select]",null,"[Please select]",null,null,"[Please select]",null,null,"[Please select]","[Please select]","[Please select]","[Please select]","[Please select]",null,"[Please select]",null,"[Please select]",{"$nulls":7},"[Please select]",null,{"v":0,"d":"0%"},{"$f":"((IF(OR(AH191= \"Pre-consumer\", AH191 = \"Post-consumer\"), 'Bill of Materials'!J191, 0)) * AG191)+((IF(OR(AF191= \"Pre-consumer\", AF191 = \"Post-consumer\"), 'Bill of Materials'!J191, 0)) * AE191)","v":{"v":0,"d":"0%"}},{"$f":"((IF(OR(AH191=\"Renewable\",AH191=\"Responsibly sourced renewable\"),'Bill of Materials'!J191,0))*AG191)+((IF(OR(AF191=\"Renewable\",AF191=\"Responsibly sourced renewable\"),'Bill of Materials'!J191,0))*AE191)","v":{"v":0,"d":"0%"}},{"$f":"(IF(AH191 = \"Post-consumer\", 'Bill of Materials'!J191, 0) * AG191)+(IF(AF191=\"Post-consumer\",'Bill of Materials'!J191,0)*AE191)","v":{"v":0,"d":"0%"}},{"$f":"((IF(AH191= \"Responsibly sourced renewable\", 'Bill of Materials'!J191, 0)) * AG191)+((IF(AF191= \"Responsibly sourced renewable\", 'Bill of Materials'!J191, 0)) * AE191)","v":{"v":0,"d":"0%"}},"[Please select]",{"v":0,"d":"0%"},"[Please select]",{"v":0,"d":"0%"}]
[{"$nulls":8},{"v":0,"d":"0.0"},{"$error":"#DIV/0!"},{"$nulls":3},"[Select country]",null,null,{"$f":"IF(VLOOKUP(N192,'pick lists'!$L$2:$M$217,2,FALSE) =\"Yes\",\"Yes\",\"No\")","v":{"$error":"#N/A"}},"[Please select]",null,"[Please select]",null,null,"[Please select]",null,null,"[Please select]","[Please select]","[Please select]","[Please select]","[Please select]",null,"[Please select]",null,"[Please select]",{"$nulls":7},"[Please select]",null,{"v":0,"d":"0%"},{"$f":"((IF(OR(AH192= \"Pre-consumer\", AH192 = \"Post-consumer\"), 'Bill of Materials'!J192, 0)) * AG192)+((IF(OR(AF192= \"Pre-consumer\", AF192 = \"Post-consumer\"), 'Bill of Materials'!J192, 0)) * AE192)","v":{"v":0,"d":"0%"}},{"$f":"((IF(OR(AH192=\"Renewable\",AH192=\"Responsibly sourced renewable\"),'Bill of Materials'!J192,0))*AG192)+((IF(OR(AF192=\"Renewable\",AF192=\"Responsibly sourced renewable\"),'Bill of Materials'!J192,0))*AE192)","v":{"v":0,"d":"0%"}},{"$f":"(IF(AH192 = \"Post-consumer\", 'Bill of Materials'!J192, 0) * AG192)+(IF(AF192=\"Post-consumer\",'Bill of Materials'!J192,0)*AE192)","v":{"v":0,"d":"0%"}},{"$f":"((IF(AH192= \"Responsibly sourced renewable\", 'Bill of Materials'!J192, 0)) * AG192)+((IF(AF192= \"Responsibly sourced renewable\", 'Bill of Materials'!J192, 0)) * AE192)","v":{"v":0,"d":"0%"}},"[Please select]",{"v":0,"d":"0%"},"[Please select]",{"v":0,"d":"0%"}]
[{"$nulls":8},{"v":0,"d":"0.0"},{"$error":"#DIV/0!"},{"$nulls":3},"[Select country]",null,null,{"$f":"IF(VLOOKUP(N193,'pick lists'!$L$2:$M$217,2,FALSE) =\"Yes\",\"Yes\",\"No\")","v":{"$error":"#N/A"}},"[Please select]",null,"[Please select]",null,null,"[Please select]",null,null,"[Please select]","[Please select]","[Please select]","[Please select]","[Please select]",null,"[Please select]",null,"[Please select]",{"$nulls":7},"[Please select]",null,{"v":0,"d":"0%"},{"$f":"((IF(OR(AH193= \"Pre-consumer\", AH193 = \"Post-consumer\"), 'Bill of Materials'!J193, 0)) * AG193)+((IF(OR(AF193= \"Pre-consumer\", AF193 = \"Post-consumer\"), 'Bill of Materials'!J193, 0)) * AE193)","v":{"v":0,"d":"0%"}},{"$f":"((IF(OR(AH193=\"Renewable\",AH193=\"Responsibly sourced renewable\"),'Bill of Materials'!J193,0))*AG193)+((IF(OR(AF193=\"Renewable\",AF193=\"Responsibly sourced renewable\"),'Bill of Materials'!J193,0))*AE193)","v":{"v":0,"d":"0%"}},{"$f":"(IF(AH193 = \"Post-consumer\", 'Bill of Materials'!J193, 0) * AG193)+(IF(AF193=\"Post-consumer\",'Bill of Materials'!J193,0)*AE193)","v":{"v":0,"d":"0%"}},{"$f":"((IF(AH193= \"Responsibly sourced renewable\", 'Bill of Materials'!J193, 0)) * AG193)+((IF(AF193= \"Responsibly sourced renewable\", 'Bill of Materials'!J193, 0)) * AE193)","v":{"v":0,"d":"0%"}},"[Please select]",{"v":0,"d":"0%"},"[Please select]",{"v":0,"d":"0%"}]
[{"$nulls":8},{"v":0,"d":"0.0"},{"$error":"#DIV/0!"},{"$nulls":3},"[Select country]",null,null,{"$f":"IF(VLOOKUP(N194,'pick lists'!$L$2:$M$217,2,FALSE) =\"Yes\",\"Yes\",\"No\")","v":{"$error":"#N/A"}},"[Please select]",null,"[Please select]",null,null,"[Please select]",null,null,"[Please select]","[Please select]","[Please select]","[Please select]","[Please select]",null,"[Please select]",null,"[Please select]",{"$nulls":7},"[Please select]",null,{"v":0,"d":"0%"},{"$f":"((IF(OR(AH194= \"Pre-consumer\", AH194 = \"Post-consumer\"), 'Bill of Materials'!J194, 0)) * AG194)+((IF(OR(AF194= \"Pre-consumer\", AF194 = \"Post-consumer\"), 'Bill of Materials'!J194, 0)) * AE194)","v":{"v":0,"d":"0%"}},{"$f":"((IF(OR(AH194=\"Renewable\",AH194=\"Responsibly sourced renewable\"),'Bill of Materials'!J194,0))*AG194)+((IF(OR(AF194=\"Renewable\",AF194=\"Responsibly sourced renewable\"),'Bill of Materials'!J194,0))*AE194)","v":{"v":0,"d":"0%"}},{"$f":"(IF(AH194 = \"Post-consumer\", 'Bill of Materials'!J194, 0) * AG194)+(IF(AF194=\"Post-consumer\",'Bill of Materials'!J194,0)*AE194)","v":{"v":0,"d":"0%"}},{"$f":"((IF(AH194= \"Responsibly sourced renewable\", 'Bill of Materials'!J194, 0)) * AG194)+((IF(AF194= \"Responsibly sourced renewable\", 'Bill of Materials'!J194, 0)) * AE194)","v":{"v":0,"d":"0%"}},"[Please select]",{"v":0,"d":"0%"},"[Please select]",{"v":0,"d":"0%"}]
[{"$nulls":8},{"v":0,"d":"0.0"},{"$error":"#DIV/0!"},{"$nulls":3},"[Select country]",null,null,{"$f":"IF(VLOOKUP(N195,'pick lists'!$L$2:$M$217,2,FALSE) =\"Yes\",\"Yes\",\"No\")","v":{"$error":"#N/A"}},"[Please select]",null,"[Please select]",null,null,"[Please select]",null,null,"[Please select]","[Please select]","[Please select]","[Please select]","[Please select]",null,"[Please select]",null,"[Please select]",{"$nulls":7},"[Please select]",null,{"v":0,"d":"0%"},{"$f":"((IF(OR(AH195= \"Pre-consumer\", AH195 = \"Post-consumer\"), 'Bill of Materials'!J195, 0)) * AG195)+((IF(OR(AF195= \"Pre-consumer\", AF195 = \"Post-consumer\"), 'Bill of Materials'!J195, 0)) * AE195)","v":{"v":0,"d":"0%"}},{"$f":"((IF(OR(AH195=\"Renewable\",AH195=\"Responsibly sourced renewable\"),'Bill of Materials'!J195,0))*AG195)+((IF(OR(AF195=\"Renewable\",AF195=\"Responsibly sourced renewable\"),'Bill of Materials'!J195,0))*AE195)","v":{"v":0,"d":"0%"}},{"$f":"(IF(AH195 = \"Post-consumer\", 'Bill of Materials'!J195, 0) * AG195)+(IF(AF195=\"Post-consumer\",'Bill of Materials'!J195,0)*AE195)","v":{"v":0,"d":"0%"}},{"$f":"((IF(AH195= \"Responsibly sourced renewable\", 'Bill of Materials'!J195, 0)) * AG195)+((IF(AF195= \"Responsibly sourced renewable\", 'Bill of Materials'!J195, 0)) * AE195)","v":{"v":0,"d":"0%"}},"[Please select]",{"v":0,"d":"0%"},"[Please select]",{"v":0,"d":"0%"}]
[{"$nulls":8},{"$f":"G196*H196","v":{"v":0,"d":"0.0"}},{"$f":"I196/(SUM(I$16:I$200))","v":{"$error":"#DIV/0!"}},{"$nulls":3},"[Select country]",null,null,{"$f":"IF(VLOOKUP(N196,'pick lists'!$L$2:$M$217,2,FALSE) =\"Yes\",\"Yes\",\"No\")","v":{"$error":"#N/A"}},"[Please select]",null,"[Please select]",null,null,"[Please select]",null,null,"[Please select]","[Please select]","[Please select]","[Please select]","[Please select]",null,"[Please select]",null,"[Please select]",{"$nulls":7},"[Please select]",null,{"v":0,"d":"0%"},{"$f":"((IF(OR(AH196= \"Pre-consumer\", AH196 = \"Post-consumer\"), 'Bill of Materials'!J196, 0)) * AG196)+((IF(OR(AF196= \"Pre-consumer\", AF196 = \"Post-consumer\"), 'Bill of Materials'!J196, 0)) * AE196)","v":{"v":0,"d":"0%"}},{"$f":"((IF(OR(AH196=\"Renewable\",AH196=\"Responsibly sourced renewable\"),'Bill of Materials'!J196,0))*AG196)+((IF(OR(AF196=\"Renewable\",AF196=\"Responsibly sourced renewable\"),'Bill of Materials'!J196,0))*AE196)","v":{"v":0,"d":"0%"}},{"$f":"(IF(AH196 = \"Post-consumer\", 'Bill of Materials'!J196, 0) * AG196)+(IF(AF196=\"Post-consumer\",'Bill of Materials'!J196,0)*AE196)","v":{"v":0,"d":"0%"}},{"$f":"((IF(AH196= \"Responsibly sourced renewable\", 'Bill of Materials'!J196, 0)) * AG196)+((IF(AF196= \"Responsibly sourced renewable\", 'Bill of Materials'!J196, 0)) * AE196)","v":{"v":0,"d":"0%"}},"[Please select]",{"$f":"IF(OR(AW196=\"Biological\",AW196=\"Technical\",AW196=\"Both\"), J196, 0)","v":{"v":0,"d":"0%"}},"[Please select]",{"$f":"IF(AY196=\"Yes\",J196,0)","v":{"v":0,"d":"0%"}}]
[{"$nulls":8},{"v":0,"d":"0.0"},{"$error":"#DIV/0!"},{"$nulls":3},"[Select country]",null,null,{"$f":"IF(VLOOKUP(N197,'pick lists'!$L$2:$M$217,2,FALSE) =\"Yes\",\"Yes\",\"No\")","v":{"$error":"#N/A"}},"[Please select]",null,"[Please select]",null,null,"[Please select]",null,null,"[Please select]","[Please select]","[Please select]","[Please select]","[Please select]",null,"[Please select]",null,"[Please select]",{"$nulls":7},"[Please select]",null,{"v":0,"d":"0%"},{"$f":"((IF(OR(AH197= \"Pre-consumer\", AH197 = \"Post-consumer\"), 'Bill of Materials'!J197, 0)) * AG197)+((IF(OR(AF197= \"Pre-consumer\", AF197 = \"Post-consumer\"), 'Bill of Materials'!J197, 0)) * AE197)","v":{"v":0,"d":"0%"}},{"$f":"((IF(OR(AH197=\"Renewable\",AH197=\"Responsibly sourced renewable\"),'Bill of Materials'!J197,0))*AG197)+((IF(OR(AF197=\"Renewable\",AF197=\"Responsibly sourced renewable\"),'Bill of Materials'!J197,0))*AE197)","v":{"v":0,"d":"0%"}},{"$f":"(IF(AH197 = \"Post-consumer\", 'Bill of Materials'!J197, 0) * AG197)+(IF(AF197=\"Post-consumer\",'Bill of Materials'!J197,0)*AE197)","v":{"v":0,"d":"0%"}},{"$f":"((IF(AH197= \"Responsibly sourced renewable\", 'Bill of Materials'!J197, 0)) * AG197)+((IF(AF197= \"Responsibly sourced renewable\", 'Bill of Materials'!J197, 0)) * AE197)","v":{"v":0,"d":"0%"}},"[Please select]",{"v":0,"d":"0%"},"[Please select]",{"v":0,"d":"0%"}]
[{"$nulls":8},{"v":0,"d":"0.0"},{"$error":"#DIV/0!"},{"$nulls":3},"[Select country]",null,null,{"$f":"IF(VLOOKUP(N198,'pick lists'!$L$2:$M$217,2,FALSE) =\"Yes\",\"Yes\",\"No\")","v":{"$error":"#N/A"}},"[Please select]",null,"[Please select]",null,null,"[Please select]",null,null,"[Please select]","[Please select]","[Please select]","[Please select]","[Please select]",null,"[Please select]",null,"[Please select]",{"$nulls":7},"[Please select]",null,{"v":0,"d":"0%"},{"$f":"((IF(OR(AH198= \"Pre-consumer\", AH198 = \"Post-consumer\"), 'Bill of Materials'!J198, 0)) * AG198)+((IF(OR(AF198= \"Pre-consumer\", AF198 = \"Post-consumer\"), 'Bill of Materials'!J198, 0)) * AE198)","v":{"v":0,"d":"0%"}},{"$f":"((IF(OR(AH198=\"Renewable\",AH198=\"Responsibly sourced renewable\"),'Bill of Materials'!J198,0))*AG198)+((IF(OR(AF198=\"Renewable\",AF198=\"Responsibly sourced renewable\"),'Bill of Materials'!J198,0))*AE198)","v":{"v":0,"d":"0%"}},{"$f":"(IF(AH198 = \"Post-consumer\", 'Bill of Materials'!J198, 0) * AG198)+(IF(AF198=\"Post-consumer\",'Bill of Materials'!J198,0)*AE198)","v":{"v":0,"d":"0%"}},{"$f":"((IF(AH198= \"Responsibly sourced renewable\", 'Bill of Materials'!J198, 0)) * AG198)+((IF(AF198= \"Responsibly sourced renewable\", 'Bill of Materials'!J198, 0)) * AE198)","v":{"v":0,"d":"0%"}},"[Please select]",{"v":0,"d":"0%"},"[Please select]",{"v":0,"d":"0%"}]
[{"$nulls":8},{"v":0,"d":"0.0"},{"$error":"#DIV/0!"},{"$nulls":3},"[Select country]",null,null,{"$f":"IF(VLOOKUP(N199,'pick lists'!$L$2:$M$217,2,FALSE) =\"Yes\",\"Yes\",\"No\")","v":{"$error":"#N/A"}},"[Please select]",null,"[Please select]",null,null,"[Please select]",null,null,"[Please select]","[Please select]","[Please select]","[Please select]","[Please select]",null,"[Please select]",null,"[Please select]",{"$nulls":7},"[Please select]",null,{"v":0,"d":"0%"},{"$f":"((IF(OR(AH199= \"Pre-consumer\", AH199 = \"Post-consumer\"), 'Bill of Materials'!J199, 0)) * AG199)+((IF(OR(AF199= \"Pre-consumer\", AF199 = \"Post-consumer\"), 'Bill of Materials'!J199, 0)) * AE199)","v":{"v":0,"d":"0%"}},{"$f":"((IF(OR(AH199=\"Renewable\",AH199=\"Responsibly sourced renewable\"),'Bill of Materials'!J199,0))*AG199)+((IF(OR(AF199=\"Renewable\",AF199=\"Responsibly sourced renewable\"),'Bill of Materials'!J199,0))*AE199)","v":{"v":0,"d":"0%"}},{"$f":"(IF(AH199 = \"Post-consumer\", 'Bill of Materials'!J199, 0) * AG199)+(IF(AF199=\"Post-consumer\",'Bill of Materials'!J199,0)*AE199)","v":{"v":0,"d":"0%"}},{"$f":"((IF(AH199= \"Responsibly sourced renewable\", 'Bill of Materials'!J199, 0)) * AG199)+((IF(AF199= \"Responsibly sourced renewable\", 'Bill of Materials'!J199, 0)) * AE199)","v":{"v":0,"d":"0%"}},"[Please select]",{"v":0,"d":"0%"},"[Please select]",{"v":0,"d":"0%"}]
[{"$nulls":8},{"v":0,"d":"0.0"},{"$error":"#DIV/0!"},{"$nulls":3},"[Select country]",null,null,{"$f":"IF(VLOOKUP(N200,'pick lists'!$L$2:$M$217,2,FALSE) =\"Yes\",\"Yes\",\"No\")","v":{"$error":"#N/A"}},"[Please select]",null,"[Please select]",null,null,"[Please select]",null,null,"[Please select]","[Please select]","[Please select]","[Please select]","[Please select]",null,"[Please select]",null,"[Please select]",{"$nulls":7},"[Please select]",null,{"v":0,"d":"0%"},{"$f":"((IF(OR(AH200= \"Pre-consumer\", AH200 = \"Post-consumer\"), 'Bill of Materials'!J200, 0)) * AG200)+((IF(OR(AF200= \"Pre-consumer\", AF200 = \"Post-consumer\"), 'Bill of Materials'!J200, 0)) * AE200)","v":{"v":0,"d":"0%"}},{"$f":"((IF(OR(AH200=\"Renewable\",AH200=\"Responsibly sourced renewable\"),'Bill of Materials'!J200,0))*AG200)+((IF(OR(AF200=\"Renewable\",AF200=\"Responsibly sourced renewable\"),'Bill of Materials'!J200,0))*AE200)","v":{"v":0,"d":"0%"}},{"$f":"(IF(AH200 = \"Post-consumer\", 'Bill of Materials'!J200, 0) * AG200)+(IF(AF200=\"Post-consumer\",'Bill of Materials'!J200,0)*AE200)","v":{"v":0,"d":"0%"}},{"$f":"((IF(AH200= \"Responsibly sourced renewable\", 'Bill of Materials'!J200, 0)) * AG200)+((IF(AF200= \"Responsibly sourced renewable\", 'Bill of Materials'!J200, 0)) * AE200)","v":{"v":0,"d":"0%"}},"[Please select]",{"v":0,"d":"0%"},"[Please select]",{"v":0,"d":"0%"}]
["Please copy and paste calculation and validation fields down if you need additional rows",{"$nulls":8},{"$f":"IF(I201=0,\"\",I201/SUM(I$16:I$576))","v":""},{"$nulls":7},"Please copy and paste calculation and validation fields down if you need additional rows",{"$nulls":7},"Please copy and paste calculation and validation fields down if you need additional rows"]
[{"$nulls":9},""]
[{"$nulls":9},""]
[{"$nulls":9},""]
[{"$nulls":9},""]
[{"$nulls":9},""]
[{"$nulls":9},""]
[{"$nulls":9},""]
[{"$nulls":9},""]
[{"$nulls":9},""]
[{"$nulls":9},""]
[{"$nulls":9},{"$f":"IF(I212=0,\"\",I212/SUM(I$16:I$576))","v":""}]
[{"$nulls":9},""]
[{"$nulls":9},""]
[{"$nulls":9},""]
[{"$nulls":9},""]
[{"$nulls":9},""]
[{"$nulls":9},""]
[{"$nulls":9},""]
[{"$nulls":9},""]
[{"$nulls":9},""]
[{"$nulls":9},""]
[{"$nulls":9},""]
[{"$nulls":9},""]
[{"$nulls":9},""]
[{"$nulls":9},""]
[{"$nulls":9},""]
[{"$nulls":9},""]
[{"$nulls":9},""]
[{"$nulls":9},""]
[{"$nulls":9},""]
[{"$nulls":9},""]
[{"$nulls":9},""]
[{"$nulls":9},""]
[{"$nulls":9},""]
[{"$nulls":9},""]
[{"$nulls":9},""]
[{"$nulls":9},""]
[{"$nulls":9},""]
[{"$nulls":9},""]
[{"$nulls":9},""]
[{"$nulls":9},""]
[{"$nulls":9},""]
[{"$nulls":9},""]
[{"$nulls":9},""]
[{"$nulls":9},""]
[{"$nulls":9},""]
[{"$nulls":9},""]
[{"$nulls":9},""]
[{"$nulls":9},""]
[{"$nulls":9},""]
[{"$nulls":9},""]
[{"$nulls":9},""]
[{"$nulls":9},""]
[{"$nulls":9},""]
[{"$nulls":9},""]
[{"$nulls":9},""]
[{"$nulls":9},""]
[{"$nulls":9},""]
[{"$nulls":9},""]
[{"$nulls":9},""]
[{"$nulls":9},""]
[{"$nulls":9},""]
[{"$nulls":9},""]
[{"$nulls":9},""]
[{"$nulls":9},""]
[{"$nulls":9},""]
[{"$nulls":9},""]
[{"$nulls":9},""]
[{"$nulls":9},""]
[{"$nulls":9},""]
[{"$nulls":9},""]
[{"$nulls":9},""]
[{"$nulls":9},""]
[{"$nulls":9},""]
[{"$nulls":9},{"$f":"IF(I276=0,\"\",I276/SUM(I$16:I$576))","v":""}]
[{"$nulls":9},""]
[{"$nulls":9},""]
[{"$nulls":9},""]
[{"$nulls":9},""]
[{"$nulls":9},""]
[{"$nulls":9},""]
[{"$nulls":9},""]
[{"$nulls":9},""]
[{"$nulls":9},""]
[{"$nulls":9},""]
[{"$nulls":9},""]
[{"$nulls":9},""]
[{"$nulls":9},""]
[{"$nulls":9},""]
[{"$nulls":9},""]
[{"$nulls":9},""]
[{"$nulls":9},""]
[{"$nulls":9},""]
[{"$nulls":9},""]
[{"$nulls":9},""]
[{"$nulls":9},""]
[{"$nulls":9},""]
[{"$nulls":9},""]
[{"$nulls":9},""]
[{"$nulls":9},""]
[{"$nulls":9},""]
[{"$nulls":9},""]
[{"$nulls":9},""]
[{"$nulls":9},""]
[{"$nulls":9},""]
[{"$nulls":9},""]
[{"$nulls":9},""]
[{"$nulls":9},""]
[{"$nulls":9},""]
[{"$nulls":9},""]
[{"$nulls":9},""]
[{"$nulls":9},""]
[{"$nulls":9},""]
[{"$nulls":9},""]
[{"$nulls":9},""]
[{"$nulls":9},""]
[{"$nulls":9},""]
[{"$nulls":9},""]
[{"$nulls":9},""]
[{"$nulls":9},""]
[{"$nulls":9},""]
[{"$nulls":9},""]
[{"$nulls":9},""]
[{"$nulls":9},""]
[{"$nulls":9},""]
[{"$nulls":9},""]
[{"$nulls":9},""]
[{"$nulls":9},""]
[{"$nulls":9},""]
[{"$nulls":9},""]
[{"$nulls":9},""]
[{"$nulls":9},""]
[{"$nulls":9},""]
[{"$nulls":9},""]
[{"$nulls":9},""]
[{"$nulls":9},""]
[{"$nulls":9},""]
[{"$nulls":9},""]
[{"$nulls":9},{"$f":"IF(I340=0,\"\",I340/SUM(I$16:I$576))","v":""}]
[{"$nulls":9},""]
[{"$nulls":9},""]
[{"$nulls":9},""]
[{"$nulls":9},""]
[{"$nulls":9},""]
[{"$nulls":9},""]
[{"$nulls":9},""]
[{"$nulls":9},""]
[{"$nulls":9},""]
[{"$nulls":9},""]
[{"$nulls":9},""]
[{"$nulls":9},""]
[{"$nulls":9},""]
[{"$nulls":9},""]
[{"$nulls":9},""]
[{"$nulls":9},""]
[{"$nulls":9},""]
[{"$nulls":9},""]
[{"$nulls":9},""]
[{"$nulls":9},""]
[{"$nulls":9},""]
[{"$nulls":9},""]
[{"$nulls":9},""]
[{"$nulls":9},""]
[{"$nulls":9},""]
[{"$nulls":9},""]
[{"$nulls":9},""]
[{"$nulls":9},""]
[{"$nulls":9},""]
[{"$nulls":9},""]
[{"$nulls":9},""]
[{"$nulls":9},""]
[{"$nulls":9},""]
[{"$nulls":9},""]
[{"$nulls":9},""]
[{"$nulls":9},""]
[{"$nulls":9},""]
[{"$nulls":9},""]
[{"$nulls":9},""]
[{"$nulls":9},""]
[{"$nulls":9},""]
[{"$nulls":9},""]
[{"$nulls":9},""]
[{"$nulls":9},""]
[{"$nulls":9},""]
[{"$nulls":9},""]
[{"$nulls":9},""]
[{"$nulls":9},""]
[{"$nulls":9},""]
[{"$nulls":9},""]
[{"$nulls":9},""]
[{"$nulls":9},""]
[{"$nulls":9},""]
[{"$nulls":9},""]
[{"$nulls":9},""]
[{"$nulls":9},""]
[{"$nulls":9},""]
[{"$nulls":9},""]
[{"$nulls":9},""]
[{"$nulls":9},""]
[{"$nulls":9},""]
[{"$nulls":9},""]
[{"$nulls":9},""]
[{"$nulls":9},{"$f":"IF(I404=0,\"\",I404/SUM(I$16:I$576))","v":""}]
[{"$nulls":9},""]
[{"$nulls":9},""]
[{"$nulls":9},""]
[{"$nulls":9},""]
[{"$nulls":9},""]
[{"$nulls":9},""]
[{"$nulls":9},""]
[{"$nulls":9},""]
[{"$nulls":9},""]
[{"$nulls":9},""]
[{"$nulls":9},""]
[{"$nulls":9},""]
[{"$nulls":9},""]
[{"$nulls":9},""]
[{"$nulls":9},""]
[{"$nulls":9},""]
[{"$nulls":9},""]
[{"$nulls":9},""]
[{"$nulls":9},""]
[{"$nulls":9},""]
[{"$nulls":9},""]
[{"$nulls":9},""]
[{"$nulls":9},""]
[{"$nulls":9},""]
[{"$nulls":9},""]
[{"$nulls":9},""]
[{"$nulls":9},""]
[{"$nulls":9},""]
[{"$nulls":9},""]
[{"$nulls":9},""]
[{"$nulls":9},""]
[{"$nulls":9},""]
[{"$nulls":9},""]
[{"$nulls":9},""]
[{"$nulls":9},""]
[{"$nulls":9},""]
[{"$nulls":9},""]
[{"$nulls":9},""]
[{"$nulls":9},""]
[{"$nulls":9},""]
[{"$nulls":9},""]
[{"$nulls":9},""]
[{"$nulls":9},""]
[{"$nulls":9},""]
[{"$nulls":9},""]
[{"$nulls":9},""]
[{"$nulls":9},""]
[{"$nulls":9},""]
[{"$nulls":9},""]
[{"$nulls":9},""]
[{"$nulls":9},""]
[{"$nulls":9},""]
[{"$nulls":9},""]
[{"$nulls":9},""]
[{"$nulls":9},""]
[{"$nulls":9},""]
[{"$nulls":9},""]
[{"$nulls":9},""]
[{"$nulls":9},""]
[{"$nulls":9},""]
[{"$nulls":9},""]
[{"$nulls":9},""]
[{"$nulls":9},""]
[{"$nulls":9},{"$f":"IF(I468=0,\"\",I468/SUM(I$16:I$576))","v":""}]
[{"$nulls":9},""]
[{"$nulls":9},""]
[{"$nulls":9},""]
[{"$nulls":9},""]
[{"$nulls":9},""]
[{"$nulls":9},""]
[{"$nulls":9},""]
[{"$nulls":9},""]
[{"$nulls":9},""]
[{"$nulls":9},""]
[{"$nulls":9},""]
[{"$nulls":9},""]
[{"$nulls":9},""]
[{"$nulls":9},""]
[{"$nulls":9},""]
[{"$nulls":9},""]
[{"$nulls":9},""]
[{"$nulls":9},""]
[{"$nulls":9},""]
[{"$nulls":9},""]
[{"$nulls":9},""]
[{"$nulls":9},""]
[{"$nulls":9},""]
[{"$nulls":9},""]
[{"$nulls":9},""]
[{"$nulls":9},""]
[{"$nulls":9},""]
[{"$nulls":9},""]
[{"$nulls":9},""]
[{"$nulls":9},""]
[{"$nulls":9},""]
[{"$nulls":9},""]

{"sheet":"%Assessed","index":2,"n_rows":209,"n_cols":25,"rows_kept":209}
["Cradle to Cradle Certified® Version 4.0 Bill of Materials (BoM) Worksheet - Material Health: Percentage Assessed",{"$nulls":23},"Cradle to Cradle Certified® Products Program"]
["This worksheet calculates percentage assessed per the requirements in standard Section 4.3. It will function properly once the weights for each material, number of parts, Material Health assessment ratings, and numbers of chemicals per material (if relevant) are entered on the Bill of Materials tab."]
["It is not necessary to enter data directly into this tab. It is left visible for reference only."]
["The assumption is that continuous integers have been assigned as material IDs in the Bill of Materials worksheet (column V). If different identifiers have been used, paste them into column A on this sheet (enter only one instance of each ID in column A) and the spreadsheet should function properly."]
["Note: This sheet is protected, but there is no associated password."]
[]
["Total percentage assessed:",null,{"$f":"SUM(X10:X209)","v":{"v":0,"d":"0.0%"}}]
[]
["Homogeneous material ID","% of total weight (product)","% assessed calculation method","% grey by weight","% grey by number","% grey contribution to total % assessed","% A/a by weight","% A/a by number","% A/a contribution to total % assessed","% B/b by weight","% B/b by number","% B/b contribution to total % assessed","% A/a + B/b by weight","% A/a + B/b by number","% C/c by weight","% C/c by number","% C/c contribution to total % assessed","% X/x by weight","% X/x by number","% X/x contribution to total % assessed","% assessed, other by weight","% assessed, other by number","% other contribution to total % assessed","% assessed contribution total"]
[1,{"$f":"SUMIF('Bill of Materials'!$V$16:$V$200,A10,'Bill of Materials'!$J$16:$J$200)","v":{"v":0,"d":"0%"}},{"$f":"IF(AND(D10=0,N10<>\"\",N10<M10,R10=0),\"number\",IF(AND(E10<>\"\",E10>D10),\"number\",\"weight\"))","v":{"$error":"#DIV/0!"}},{"$f":"SUMIFS('Bill of Materials'!$I$16:$I$200,'Bill of Materials'!$V$16:$V$200,A10,'Bill of Materials'!$W$16:$W$200,\"Grey\")/SUMIF('Bill of Materials'!$V$16:$V$200,A10,'Bill of Materials'!$I$16:$I$200)","v":{"$error":"#DIV/0!"}},{"$f":"IFERROR((SUMIFS('Bill of Materials'!$Y$16:$Y$200,'Bill of Materials'!$V$16:$V$200,A10,'Bill of Materials'!$W$16:$W$200,\"Grey\")/SUMIF('Bill of Materials'!$V$16:$V$200,A10,'Bill of Materials'!$Y$16:$Y$200)),\"\")","v":""},{"$f":"IFERROR((IF($C10=\"weight\",D10*$B10,E10*$B10)),\"\")","v":""},{"$f":"SUMIFS('Bill of Materials'!$I$16:$I$200,'Bill of Materials'!$V$16:$V$200,$A10,'Bill of Materials'!$W$16:$W$200,\"a\")/SUMIF('Bill of Materials'!$V$16:$V$200,$A10,'Bill of Materials'!$I$16:$I$200)","v":{"$error":"#DIV/0!"}},{"$f":"IFERROR((SUMIFS('Bill of Materials'!$Y$16:$Y$200,'Bill of Materials'!$V$16:$V$200,A10,'Bill of Materials'!$W$16:$W$200,\"a\")/SUMIF('Bill of Materials'!$V$16:$V$200,A10,'Bill of Materials'!$Y$16:$Y$200)),\"\")","v":""},{"$f":"IFERROR((IF($C10=\"weight\",G10*$B10,H10*$B10)),\"\")","v":""},{"$f":"SUMIFS('Bill of Materials'!$I$16:$I$200,'Bill of Materials'!$V$16:$V$200,$A10,'Bill of Materials'!$W$16:$W$200,\"b\")/SUMIF('Bill of Materials'!$V$16:$V$200,$A10,'Bill of Materials'!$I$16:$I$200)","v":{"$error":"#DIV/0!"}},{"$f":"IFERROR((SUMIFS('Bill of Materials'!$Y$16:$Y$200,'Bill of Materials'!$V$16:$V$200,$A10,'Bill of Materials'!$W$16:$W$200,\"b\")/SUMIF('Bill of Materials'!$V$16:$V$200,$A10,'Bill of Materials'!$Y$16:$Y$200)),\"\")","v":""},{"$f":"IFERROR((IF($C10=\"weight\",J10*$B10,K10*$B10)),\"\")","v":""},{"$f":"G10+J10","v":{"$error":"#DIV/0!"}},{"$f":"IF(AND(H10=\"\",K10=\"\"),\"\",H10+K10)","v":""},{"$f":"SUMIFS('Bill of Materials'!$I$16:$I$200,'Bill of Materials'!$V$16:$V$200,$A10,'Bill of Materials'!$W$16:$W$200,\"c\")/SUMIF('Bill of Materials'!$V$16:$V$200,$A10,'Bill of Materials'!$I$16:$I$200)","v":{"$error":"#DIV/0!"}},{"$f":"IFERROR((SUMIFS('Bill of Materials'!$Y$16:$Y$200,'Bill of Materials'!$V$16:$V$200,$A10,'Bill of Materials'!$W$16:$W$200,\"c\")/SUMIF('Bill of Materials'!$V$16:$V$200,$A10,'Bill of Materials'!$Y$16:$Y$200)),\"\")","v":""},{"$f":"IFERROR((IF($C10=\"weight\",O10*$B10,P10*$B10)),\"\")","v":""},{"$f":"(SUMIFS('Bill of Materials'!$I$16:$I$200,'Bill of Materials'!$V$16:$V$200,$A10,'Bill of Materials'!$W$16:$W$200,\"x\")+SUMIFS('Bill of Materials'!$I$16:$I$200,'Bill of Materials'!$V$16:$V$200,$A10,'Bill of Materials'!$W$16:$W$200,\"x - CMR or SVHC\"))/SUMIF('Bill of Materials'!$V$16:$V$200,$A10,'Bill of Materials'!$I$16:$I$200)","v":{"$error":"#DIV/0!"}},{"$f":"IFERROR(((SUMIFS('Bill of Materials'!$Y$16:$Y$200,'Bill of Materials'!$V$16:$V$200,$A10,'Bill of Materials'!$W$16:$W$200,\"x\")+SUMIFS('Bill of Materials'!$Y$16:$Y$200,'Bill of Materials'!$V$16:$V$200,$A10,'Bill of Materials'!$W$16:$W$200,\"x - CMR or SVHC\"))/SUMIF('Bill of Materials'!$V$16:$V$200,$A10,'Bill of Materials'!$Y$16:$Y$200)),\"\")","v":""},{"$f":"IFERROR((IF($C10=\"weight\",R10*$B10,S10*$B10)),\"\")","v":""},{"$f":"(1-D10)-(G10+J10+O10+R10)","v":{"$error":"#DIV/0!"}},{"$f":"IF(E10=\"\",\"\",((1-E10)-(H10+K10+P10+S10)))","v":""},{"$f":"IFERROR((IF($C10=\"weight\",U10*$B10,V10*$B10)),\"\")","v":""},{"$f":"IFERROR((IF(C10=\"number\",((H10+K10+P10+S10+V10)*B10),((G10+J10+O10+R10+U10)*B10))),\"\")","v":""}]
[2,{"$f":"SUMIF('Bill of Materials'!$V$16:$V$200,A11,'Bill of Materials'!$J$16:$J$200)","v":{"v":0,"d":"0%"}},{"$f":"IF(AND(D11=0,N11<>\"\",N11<M11,R11=0),\"number\",IF(AND(E11<>\"\",E11>D11),\"number\",\"weight\"))","v":{"$error":"#DIV/0!"}},{"$f":"SUMIFS('Bill of Materials'!$I$16:$I$200,'Bill of Materials'!$V$16:$V$200,A11,'Bill of Materials'!$W$16:$W$200,\"Grey\")/SUMIF('Bill of Materials'!$V$16:$V$200,A11,'Bill of Materials'!$I$16:$I$200)","v":{"$error":"#DIV/0!"}},{"$f":"IFERROR((SUMIFS('Bill of Materials'!$Y$16:$Y$200,'Bill of Materials'!$V$16:$V$200,A11,'Bill of Materials'!$W$16:$W$200,\"Grey\")/SUMIF('Bill of Materials'!$V$16:$V$200,A11,'Bill of Materials'!$Y$16:$Y$200)),\"\")","v":""},{"$f":"IFERROR((IF($C11=\"weight\",D11*$B11,E11*$B11)),\"\")","v":""},{"$f":"SUMIFS('Bill of Materials'!$I$16:$I$200,'Bill of Materials'!$V$16:$V$200,$A11,'Bill of Materials'!$W$16:$W$200,\"a\")/SUMIF('Bill of Materials'!$V$16:$V$200,$A11,'Bill of Materials'!$I$16:$I$200)","v":{"$error":"#DIV/0!"}},{"$f":"IFERROR((SUMIFS('Bill of Materials'!$Y$16:$Y$200,'Bill of Materials'!$V$16:$V$200,A11,'Bill of Materials'!$W$16:$W$200,\"a\")/SUMIF('Bill of Materials'!$V$16:$V$200,A11,'Bill of Materials'!$Y$16:$Y$200)),\"\")","v":""},{"$f":"IFERROR((IF($C11=\"weight\",G11*$B11,H11*$B11)),\"\")","v":""},{"$f":"SUMIFS('Bill of Materials'!$I$16:$I$200,'Bill of Materials'!$V$16:$V$200,$A11,'Bill of Materials'!$W$16:$W$200,\"b\")/SUMIF('Bill of Materials'!$V$16:$V$200,$A11,'Bill of Materials'!$I$16:$I$200)","v":{"$error":"#DIV/0!"}},{"$f":"IFERROR((SUMIFS('Bill of Materials'!$Y$16:$Y$200,'Bill of Materials'!$V$16:$V$200,$A11,'Bill of Materials'!$W$16:$W$200,\"b\")/SUMIF('Bill of Materials'!$V$16:$V$200,$A11,'Bill of Materials'!$Y$16:$Y$200)),\"\")","v":""},{"$f":"IFERROR((IF($C11=\"weight\",J11*$B11,K11*$B11)),\"\")","v":""},{"$f":"G11+J11","v":{"$error":"#DIV/0!"}},{"$f":"IF(AND(H11=\"\",K11=\"\"),\"\",H11+K11)","v":""},{"$f":"SUMIFS('Bill of Materials'!$I$16:$I$200,'Bill of Materials'!$V$16:$V$200,$A11,'Bill of Materials'!$W$16:$W$200,\"c\")/SUMIF('Bill of Materials'!$V$16:$V$200,$A11,'Bill of Materials'!$I$16:$I$200)","v":{"$error":"#DIV/0!"}},{"$f":"IFERROR((SUMIFS('Bill of Materials'!$Y$16:$Y$200,'Bill of Materials'!$V$16:$V$200,$A11,'Bill of Materials'!$W$16:$W$200,\"c\")/SUMIF('Bill of Materials'!$V$16:$V$200,$A11,'Bill of Materials'!$Y$16:$Y$200)),\"\")","v":""},{"$f":"IFERROR((IF($C11=\"weight\",O11*$B11,P11*$B11)),\"\")","v":""},{"$f":"(SUMIFS('Bill of Materials'!$I$16:$I$200,'Bill of Materials'!$V$16:$V$200,$A11,'Bill of Materials'!$W$16:$W$200,\"x\")+SUMIFS('Bill of Materials'!$I$16:$I$200,'Bill of Materials'!$V$16:$V$200,$A11,'Bill of Materials'!$W$16:$W$200,\"x - CMR or SVHC\"))/SUMIF('Bill of Materials'!$V$16:$V$200,$A11,'Bill of Materials'!$I$16:$I$200)","v":{"$error":"#DIV/0!"}},{"$f":"IFERROR(((SUMIFS('Bill of Materials'!$Y$16:$Y$200,'Bill of Materials'!$V$16:$V$200,$A11,'Bill of Materials'!$W$16:$W$200,\"x\")+SUMIFS('Bill of Materials'!$Y$16:$Y$200,'Bill of Materials'!$V$16:$V$200,$A11,'Bill of Materials'!$W$16:$W$200,\"x - CMR or SVHC\"))/SUMIF('Bill of Materials'!$V$16:$V$200,$A11,'Bill of Materials'!$Y$16:$Y$200)),\"\")","v":""},{"$f":"IFERROR((IF($C11=\"weight\",R11*$B11,S11*$B11)),\"\")","v":""},{"$f":"(1-D11)-(G11+J11+O11+R11)","v":{"$error":"#DIV/0!"}},{"$f":"IF(E11=\"\",\"\",((1-E11)-(H11+K11+P11+S11)))","v":""},{"$f":"IFERROR((IF($C11=\"weight\",U11*$B11,V11*$B11)),\"\")","v":""},{"$f":"IFERROR((IF(C11=\"number\",((H11+K11+P11+S11+V11)*B11),((G11+J11+O11+R11+U11)*B11))),\"\")","v":""}]
[3,{"$f":"SUMIF('Bill of Materials'!$V$16:$V$200,A12,'Bill of Materials'!$J$16:$J$200)","v":{"v":0,"d":"0%"}},{"$error":"#DIV/0!"},{"$f":"SUMIFS('Bill of Materials'!$I$16:$I$200,'Bill of Materials'!$V$16:$V$200,A12,'Bill of Materials'!$W$16:$W$200,\"Grey\")/SUMIF('Bill of Materials'!$V$16:$V$200,A12,'Bill of Materials'!$I$16:$I$200)","v":{"$error":"#DIV/0!"}},{"$f":"IFERROR((SUMIFS('Bill of Materials'!$Y$16:$Y$200,'Bill of Materials'!$V$16:$V$200,A12,'Bill of Materials'!$W$16:$W$200,\"Grey\")/SUMIF('Bill of Materials'!$V$16:$V$200,A12,'Bill of Materials'!$Y$16:$Y$200)),\"\")","v":""},"",{"$f":"SUMIFS('Bill of Materials'!$I$16:$I$200,'Bill of Materials'!$V$16:$V$200,$A12,'Bill of Materials'!$W$16:$W$200,\"a\")/SUMIF('Bill of Materials'!$V$16:$V$200,$A12,'Bill of Materials'!$I$16:$I$200)","v":{"$error":"#DIV/0!"}},{"$f":"IFERROR((SUMIFS('Bill of Materials'!$Y$16:$Y$200,'Bill of Materials'!$V$16:$V$200,A12,'Bill of Materials'!$W$16:$W$200,\"a\")/SUMIF('Bill of Materials'!$V$16:$V$200,A12,'Bill of Materials'!$Y$16:$Y$200)),\"\")","v":""},"",{"$f":"SUMIFS('Bill of Materials'!$I$16:$I$200,'Bill of Materials'!$V$16:$V$200,$A12,'Bill of Materials'!$W$16:$W$200,\"b\")/SUMIF('Bill of Materials'!$V$16:$V$200,$A12,'Bill of Materials'!$I$16:$I$200)","v":{"$error":"#DIV/0!"}},{"$f":"IFERROR((SUMIFS('Bill of Materials'!$Y$16:$Y$200,'Bill of Materials'!$V$16:$V$200,$A12,'Bill of Materials'!$W$16:$W$200,\"b\")/SUMIF('Bill of Materials'!$V$16:$V$200,$A12,'Bill of Materials'!$Y$16:$Y$200)),\"\")","v":""},"",{"$error":"#DIV/0!"},"",{"$f":"SUMIFS('Bill of Materials'!$I$16:$I$200,'Bill of Materials'!$V$16:$V$200,$A12,'Bill of Materials'!$W$16:$W$200,\"c\")/SUMIF('Bill of Materials'!$V$16:$V$200,$A12,'Bill of Materials'!$I$16:$I$200)","v":{"$error":"#DIV/0!"}},{"$f":"IFERROR((SUMIFS('Bill of Materials'!$Y$16:$Y$200,'Bill of Materials'!$V$16:$V$200,$A12,'Bill of Materials'!$W$16:$W$200,\"c\")/SUMIF('Bill of Materials'!$V$16:$V$200,$A12,'Bill of Materials'!$Y$16:$Y$200)),\"\")","v":""},"",{"$f":"(SUMIFS('Bill of Materials'!$I$16:$I$200,'Bill of Materials'!$V$16:$V$200,$A12,'Bill of Materials'!$W$16:$W$200,\"x\")+SUMIFS('Bill of Materials'!$I$16:$I$200,'Bill of Materials'!$V$16:$V$200,$A12,'Bill of Materials'!$W$16:$W$200,\"x - CMR or SVHC\"))/SUMIF('Bill of Materials'!$V$16:$V$200,$A12,'Bill of Materials'!$I$16:$I$200)","v":{"$error":"#DIV/0!"}},{"$f":"IFERROR(((SUMIFS('Bill of Materials'!$Y$16:$Y$200,'Bill of Materials'!$V$16:$V$200,$A12,'Bill of Materials'!$W$16:$W$200,\"x\")+SUMIFS('Bill of Materials'!$Y$16:$Y$200,'Bill of Materials'!$V$16:$V$200,$A12,'Bill of Materials'!$W$16:$W$200,\"x - CMR or SVHC\"))/SUMIF('Bill of Materials'!$V$16:$V$200,$A12,'Bill of Materials'!$Y$16:$Y$200)),\"\")","v":""},"",{"$error":"#DIV/0!"},"","",""]
[4,{"$f":"SUMIF('Bill of Materials'!$V$16:$V$200,A13,'Bill of Materials'!$J$16:$J$200)","v":{"v":0,"d":"0%"}},{"$error":"#DIV/0!"},{"$f":"SUMIFS('Bill of Materials'!$I$16:$I$200,'Bill of Materials'!$V$16:$V$200,A13,'Bill of Materials'!$W$16:$W$200,\"Grey\")/SUMIF('Bill of Materials'!$V$16:$V$200,A13,'Bill of Materials'!$I$16:$I$200)","v":{"$error":"#DIV/0!"}},{"$f":"IFERROR((SUMIFS('Bill of Materials'!$Y$16:$Y$200,'Bill of Materials'!$V$16:$V$200,A13,'Bill of Materials'!$W$16:$W$200,\"Grey\")/SUMIF('Bill of Materials'!$V$16:$V$200,A13,'Bill of Materials'!$Y$16:$Y$200)),\"\")","v":""},"",{"$f":"SUMIFS('Bill of Materials'!$I$16:$I$200,'Bill of Materials'!$V$16:$V$200,$A13,'Bill of Materials'!$W$16:$W$200,\"a\")/SUMIF('Bill of Materials'!$V$16:$V$200,$A13,'Bill of Materials'!$I$16:$I$200)","v":{"$error":"#DIV/0!"}},{"$f":"IFERROR((SUMIFS('Bill of Materials'!$Y$16:$Y$200,'Bill of Materials'!$V$16:$V$200,A13,'Bill of Materials'!$W$16:$W$200,\"a\")/SUMIF('Bill of Materials'!$V$16:$V$200,A13,'Bill of Materials'!$Y$16:$Y$200)),\"\")","v":""},"",{"$f":"SUMIFS('Bill of Materials'!$I$16:$I$200,'Bill of Materials'!$V$16:$V$200,$A13,'Bill of Materials'!$W$16:$W$200,\"b\")/SUMIF('Bill of Materials'!$V$16:$V$200,$A13,'Bill of Materials'!$I$16:$I$200)","v":{"$error":"#DIV/0!"}},{"$f":"IFERROR((SUMIFS('Bill of Materials'!$Y$16:$Y$200,'Bill of Materials'!$V$16:$V$200,$A13,'Bill of Materials'!$W$16:$W$200,\"b\")/SUMIF('Bill of Materials'!$V$16:$V$200,$A13,'Bill of Materials'!$Y$16:$Y$200)),\"\")","v":""},"",{"$error":"#DIV/0!"},"",{"$f":"SUMIFS('Bill of Materials'!$I$16:$I$200,'Bill of Materials'!$V$16:$V$200,$A13,'Bill of Materials'!$W$16:$W$200,\"c\")/SUMIF('Bill of Materials'!$V$16:$V$200,$A13,'Bill of Materials'!$I$16:$I$200)","v":{"$error":"#DIV/0!"}},{"$f":"IFERROR((SUMIFS('Bill of Materials'!$Y$16:$Y$200,'Bill of Materials'!$V$16:$V$200,$A13,'Bill of Materials'!$W$16:$W$200,\"c\")/SUMIF('Bill of Materials'!$V$16:$V$200,$A13,'Bill of Materials'!$Y$16:$Y$200)),\"\")","v":""},"",{"$f":"(SUMIFS('Bill of Materials'!$I$16:$I$200,'Bill of Materials'!$V$16:$V$200,$A13,'Bill of Materials'!$W$16:$W$200,\"x\")+SUMIFS('Bill of Materials'!$I$16:$I$200,'Bill of Materials'!$V$16:$V$200,$A13,'Bill of Materials'!$W$16:$W$200,\"x - CMR or SVHC\"))/SUMIF('Bill of Materials'!$V$16:$V$200,$A13,'Bill of Materials'!$I$16:$I$200)","v":{"$error":"#DIV/0!"}},{"$f":"IFERROR(((SUMIFS('Bill of Materials'!$Y$16:$Y$200,'Bill of Materials'!$V$16:$V$200,$A13,'Bill of Materials'!$W$16:$W$200,\"x\")+SUMIFS('Bill of Materials'!$Y$16:$Y$200,'Bill of Materials'!$V$16:$V$200,$A13,'Bill of Materials'!$W$16:$W$200,\"x - CMR or SVHC\"))/SUMIF('Bill of Materials'!$V$16:$V$200,$A13,'Bill of Materials'!$Y$16:$Y$200)),\"\")","v":""},"",{"$error":"#DIV/0!"},"","",""]
[5,{"$f":"SUMIF('Bill of Materials'!$V$16:$V$200,A14,'Bill of Materials'!$J$16:$J$200)","v":{"v":0,"d":"0%"}},{"$error":"#DIV/0!"},{"$f":"SUMIFS('Bill of Materials'!$I$16:$I$200,'Bill of Materials'!$V$16:$V$200,A14,'Bill of Materials'!$W$16:$W$200,\"Grey\")/SUMIF('Bill of Materials'!$V$16:$V$200,A14,'Bill of Materials'!$I$16:$I$200)","v":{"$error":"#DIV/0!"}},{"$f":"IFERROR((SUMIFS('Bill of Materials'!$Y$16:$Y$200,'Bill of Materials'!$V$16:$V$200,A14,'Bill of Materials'!$W$16:$W$200,\"Grey\")/SUMIF('Bill of Materials'!$V$16:$V$200,A14,'Bill of Materials'!$Y$16:$Y$200)),\"\")","v":""},"",{"$f":"SUMIFS('Bill of Materials'!$I$16:$I$200,'Bill of Materials'!$V$16:$V$200,$A14,'Bill of Materials'!$W$16:$W$200,\"a\")/SUMIF('Bill of Materials'!$V$16:$V$200,$A14,'Bill of Materials'!$I$16:$I$200)","v":{"$error":"#DIV/0!"}},{"$f":"IFERROR((SUMIFS('Bill of Materials'!$Y$16:$Y$200,'Bill of Materials'!$V$16:$V$200,A14,'Bill of Materials'!$W$16:$W$200,\"a\")/SUMIF('Bill of Materials'!$V$16:$V$200,A14,'Bill of Materials'!$Y$16:$Y$200)),\"\")","v":""},"",{"$f":"SUMIFS('Bill of Materials'!$I$16:$I$200,'Bill of Materials'!$V$16:$V$200,$A14,'Bill of Materials'!$W$16:$W$200,\"b\")/SUMIF('Bill of Materials'!$V$16:$V$200,$A14,'Bill of Materials'!$I$16:$I$200)","v":{"$error":"#DIV/0!"}},{"$f":"IFERROR((SUMIFS('Bill of Materials'!$Y$16:$Y$200,'Bill of Materials'!$V$16:$V$200,$A14,'Bill of Materials'!$W$16:$W$200,\"b\")/SUMIF('Bill of Materials'!$V$16:$V$200,$A14,'Bill of Materials'!$Y$16:$Y$200)),\"\")","v":""},"",{"$error":"#DIV/0!"},"",{"$f":"SUMIFS('Bill of Materials'!$I$16:$I$200,'Bill of Materials'!$V$16:$V$200,$A14,'Bill of Materials'!$W$16:$W$200,\"c\")/SUMIF('Bill of Materials'!$V$16:$V$200,$A14,'Bill of Materials'!$I$16:$I$200)","v":{"$error":"#DIV/0!"}},{"$f":"IFERROR((SUMIFS('Bill of Materials'!$Y$16:$Y$200,'Bill of Materials'!$V$16:$V$200,$A14,'Bill of Materials'!$W$16:$W$200,\"c\")/SUMIF('Bill of Materials'!$V$16:$V$200,$A14,'Bill of Materials'!$Y$16:$Y$200)),\"\")","v":""},"",{"$f":"(SUMIFS('Bill of Materials'!$I$16:$I$200,'Bill of Materials'!$V$16:$V$200,$A14,'Bill of Materials'!$W$16:$W$200,\"x\")+SUMIFS('Bill of Materials'!$I$16:$I$200,'Bill of Materials'!$V$16:$V$200,$A14,'Bill of Materials'!$W$16:$W$200,\"x - CMR or SVHC\"))/SUMIF('Bill of Materials'!$V$16:$V$200,$A14,'Bill of Materials'!$I$16:$I$200)","v":{"$error":"#DIV/0!"}},{"$f":"IFERROR(((SUMIFS('Bill of Materials'!$Y$16:$Y$200,'Bill of Materials'!$V$16:$V$200,$A14,'Bill of Materials'!$W$16:$W$200,\"x\")+SUMIFS('Bill of Materials'!$Y$16:$Y$200,'Bill of Materials'!$V$16:$V$200,$A14,'Bill of Materials'!$W$16:$W$200,\"x - CMR or SVHC\"))/SUMIF('Bill of Materials'!$V$16:$V$200,$A14,'Bill of Materials'!$Y$16:$Y$200)),\"\")","v":""},"",{"$error":"#DIV/0!"},"","",""]
[6,{"$f":"SUMIF('Bill of Materials'!$V$16:$V$200,A15,'Bill of Materials'!$J$16:$J$200)","v":{"v":0,"d":"0%"}},{"$error":"#DIV/0!"},{"$f":"SUMIFS('Bill of Materials'!$I$16:$I$200,'Bill of Materials'!$V$16:$V$200,A15,'Bill of Materials'!$W$16:$W$200,\"Grey\")/SUMIF('Bill of Materials'!$V$16:$V$200,A15,'Bill of Materials'!$I$16:$I$200)","v":{"$error":"#DIV/0!"}},{"$f":"IFERROR((SUMIFS('Bill of Materials'!$Y$16:$Y$200,'Bill of Materials'!$V$16:$V$200,A15,'Bill of Materials'!$W$16:$W$200,\"Grey\")/SUMIF('Bill of Materials'!$V$16:$V$200,A15,'Bill of Materials'!$Y$16:$Y$200)),\"\")","v":""},"",{"$f":"SUMIFS('Bill of Materials'!$I$16:$I$200,'Bill of Materials'!$V$16:$V$200,$A15,'Bill of Materials'!$W$16:$W$200,\"a\")/SUMIF('Bill of Materials'!$V$16:$V$200,$A15,'Bill of Materials'!$I$16:$I$200)","v":{"$error":"#DIV/0!"}},{"$f":"IFERROR((SUMIFS('Bill of Materials'!$Y$16:$Y$200,'Bill of Materials'!$V$16:$V$200,A15,'Bill of Materials'!$W$16:$W$200,\"a\")/SUMIF('Bill of Materials'!$V$16:$V$200,A15,'Bill of Materials'!$Y$16:$Y$200)),\"\")","v":""},"",{"$f":"SUMIFS('Bill of Materials'!$I$16:$I$200,'Bill of Materials'!$V$16:$V$200,$A15,'Bill of Materials'!$W$16:$W$200,\"b\")/SUMIF('Bill of Materials'!$V$16:$V$200,$A15,'Bill of Materials'!$I$16:$I$200)","v":{"$error":"#DIV/0!"}},{"$f":"IFERROR((SUMIFS('Bill of Materials'!$Y$16:$Y$200,'Bill of Materials'!$V$16:$V$200,$A15,'Bill of Materials'!$W$16:$W$200,\"b\")/SUMIF('Bill of Materials'!$V$16:$V$200,$A15,'Bill of Materials'!$Y$16:$Y$200)),\"\")","v":""},"",{"$error":"#DIV/0!"},"",{"$f":"SUMIFS('Bill of Materials'!$I$16:$I$200,'Bill of Materials'!$V$16:$V$200,$A15,'Bill of Materials'!$W$16:$W$200,\"c\")/SUMIF('Bill of Materials'!$V$16:$V$200,$A15,'Bill of Materials'!$I$16:$I$200)","v":{"$error":"#DIV/0!"}},{"$f":"IFERROR((SUMIFS('Bill of Materials'!$Y$16:$Y$200,'Bill of Materials'!$V$16:$V$200,$A15,'Bill of Materials'!$W$16:$W$200,\"c\")/SUMIF('Bill of Materials'!$V$16:$V$200,$A15,'Bill of Materials'!$Y$16:$Y$200)),\"\")","v":""},"",{"$f":"(SUMIFS('Bill of Materials'!$I$16:$I$200,'Bill of Materials'!$V$16:$V$200,$A15,'Bill of Materials'!$W$16:$W$200,\"x\")+SUMIFS('Bill of Materials'!$I$16:$I$200,'Bill of Materials'!$V$16:$V$200,$A15,'Bill of Materials'!$W$16:$W$200,\"x - CMR or SVHC\"))/SUMIF('Bill of Materials'!$V$16:$V$200,$A15,'Bill of Materials'!$I$16:$I$200)","v":{"$error":"#DIV/0!"}},{"$f":"IFERROR(((SUMIFS('Bill of Materials'!$Y$16:$Y$200,'Bill of Materials'!$V$16:$V$200,$A15,'Bill of Materials'!$W$16:$W$200,\"x\")+SUMIFS('Bill of Materials'!$Y$16:$Y$200,'Bill of Materials'!$V$16:$V$200,$A15,'Bill of Materials'!$W$16:$W$200,\"x - CMR or SVHC\"))/SUMIF('Bill of Materials'!$V$16:$V$200,$A15,'Bill of Materials'!$Y$16:$Y$200)),\"\")","v":""},"",{"$error":"#DIV/0!"},"","",""]
[7,{"$f":"SUMIF('Bill of Materials'!$V$16:$V$200,A16,'Bill of Materials'!$J$16:$J$200)","v":{"v":0,"d":"0%"}},{"$error":"#DIV/0!"},{"$f":"SUMIFS('Bill of Materials'!$I$16:$I$200,'Bill of Materials'!$V$16:$V$200,A16,'Bill of Materials'!$W$16:$W$200,\"Grey\")/SUMIF('Bill of Materials'!$V$16:$V$200,A16,'Bill of Materials'!$I$16:$I$200)","v":{"$error":"#DIV/0!"}},{"$f":"IFERROR((SUMIFS('Bill of Materials'!$Y$16:$Y$200,'Bill of Materials'!$V$16:$V$200,A16,'Bill of Materials'!$W$16:$W$200,\"Grey\")/SUMIF('Bill of Materials'!$V$16:$V$200,A16,'Bill of Materials'!$Y$16:$Y$200)),\"\")","v":""},"",{"$f":"SUMIFS('Bill of Materials'!$I$16:$I$200,'Bill of Materials'!$V$16:$V$200,$A16,'Bill of Materials'!$W$16:$W$200,\"a\")/SUMIF('Bill of Materials'!$V$16:$V$200,$A16,'Bill of Materials'!$I$16:$I$200)","v":{"$error":"#DIV/0!"}},{"$f":"IFERROR((SUMIFS('Bill of Materials'!$Y$16:$Y$200,'Bill of Materials'!$V$16:$V$200,A16,'Bill of Materials'!$W$16:$W$200,\"a\")/SUMIF('Bill of Materials'!$V$16:$V$200,A16,'Bill of Materials'!$Y$16:$Y$200)),\"\")","v":""},"",{"$f":"SUMIFS('Bill of Materials'!$I$16:$I$200,'Bill of Materials'!$V$16:$V$200,$A16,'Bill of Materials'!$W$16:$W$200,\"b\")/SUMIF('Bill of Materials'!$V$16:$V$200,$A16,'Bill of Materials'!$I$16:$I$200)","v":{"$error":"#DIV/0!"}},{"$f":"IFERROR((SUMIFS('Bill of Materials'!$Y$16:$Y$200,'Bill of Materials'!$V$16:$V$200,$A16,'Bill of Materials'!$W$16:$W$200,\"b\")/SUMIF('Bill of Materials'!$V$16:$V$200,$A16,'Bill of Materials'!$Y$16:$Y$200)),\"\")","v":""},"",{"$error":"#DIV/0!"},"",{"$f":"SUMIFS('Bill of Materials'!$I$16:$I$200,'Bill of Materials'!$V$16:$V$200,$A16,'Bill of Materials'!$W$16:$W$200,\"c\")/SUMIF('Bill of Materials'!$V$16:$V$200,$A16,'Bill of Materials'!$I$16:$I$200)","v":{"$error":"#DIV/0!"}},{"$f":"IFERROR((SUMIFS('Bill of Materials'!$Y$16:$Y$200,'Bill of Materials'!$V$16:$V$200,$A16,'Bill of Materials'!$W$16:$W$200,\"c\")/SUMIF('Bill of Materials'!$V$16:$V$200,$A16,'Bill of Materials'!$Y$16:$Y$200)),\"\")","v":""},"",{"$f":"(SUMIFS('Bill of Materials'!$I$16:$I$200,'Bill of Materials'!$V$16:$V$200,$A16,'Bill of Materials'!$W$16:$W$200,\"x\")+SUMIFS('Bill of Materials'!$I$16:$I$200,'Bill of Materials'!$V$16:$V$200,$A16,'Bill of Materials'!$W$16:$W$200,\"x - CMR or SVHC\"))/SUMIF('Bill of Materials'!$V$16:$V$200,$A16,'Bill of Materials'!$I$16:$I$200)","v":{"$error":"#DIV/0!"}},{"$f":"IFERROR(((SUMIFS('Bill of Materials'!$Y$16:$Y$200,'Bill of Materials'!$V$16:$V$200,$A16,'Bill of Materials'!$W$16:$W$200,\"x\")+SUMIFS('Bill of Materials'!$Y$16:$Y$200,'Bill of Materials'!$V$16:$V$200,$A16,'Bill of Materials'!$W$16:$W$200,\"x - CMR or SVHC\"))/SUMIF('Bill of Materials'!$V$16:$V$200,$A16,'Bill of Materials'!$Y$16:$Y$200)),\"\")","v":""},"",{"$error":"#DIV/0!"},"","",""]
[8,{"$f":"SUMIF('Bill of Materials'!$V$16:$V$200,A17,'Bill of Materials'!$J$16:$J$200)","v":{"v":0,"d":"0%"}},{"$error":"#DIV/0!"},{"$f":"SUMIFS('Bill of Materials'!$I$16:$I$200,'Bill of Materials'!$V$16:$V$200,A17,'Bill of Materials'!$W$16:$W$200,\"Grey\")/SUMIF('Bill of Materials'!$V$16:$V$200,A17,'Bill of Materials'!$I$16:$I$200)","v":{"$error":"#DIV/0!"}},{"$f":"IFERROR((SUMIFS('Bill of Materials'!$Y$16:$Y$200,'Bill of Materials'!$V$16:$V$200,A17,'Bill of Materials'!$W$16:$W$200,\"Grey\")/SUMIF('Bill of Materials'!$V$16:$V$200,A17,'Bill of Materials'!$Y$16:$Y$200)),\"\")","v":""},"",{"$f":"SUMIFS('Bill of Materials'!$I$16:$I$200,'Bill of Materials'!$V$16:$V$200,$A17,'Bill of Materials'!$W$16:$W$200,\"a\")/SUMIF('Bill of Materials'!$V$16:$V$200,$A17,'Bill of Materials'!$I$16:$I$200)","v":{"$error":"#DIV/0!"}},{"$f":"IFERROR((SUMIFS('Bill of Materials'!$Y$16:$Y$200,'Bill of Materials'!$V$16:$V$200,A17,'Bill of Materials'!$W$16:$W$200,\"a\")/SUMIF('Bill of Materials'!$V$16:$V$200,A17,'Bill of Materials'!$Y$16:$Y$200)),\"\")","v":""},"",{"$f":"SUMIFS('Bill of Materials'!$I$16:$I$200,'Bill of Materials'!$V$16:$V$200,$A17,'Bill of Materials'!$W$16:$W$200,\"b\")/SUMIF('Bill of Materials'!$V$16:$V$200,$A17,'Bill of Materials'!$I$16:$I$200)","v":{"$error":"#DIV/0!"}},{"$f":"IFERROR((SUMIFS('Bill of Materials'!$Y$16:$Y$200,'Bill of Materials'!$V$16:$V$200,$A17,'Bill of Materials'!$W$16:$W$200,\"b\")/SUMIF('Bill of Materials'!$V$16:$V$200,$A17,'Bill of Materials'!$Y$16:$Y$200)),\"\")","v":""},"",{"$error":"#DIV/0!"},"",{"$f":"SUMIFS('Bill of Materials'!$I$16:$I$200,'Bill of Materials'!$V$16:$V$200,$A17,'Bill of Materials'!$W$16:$W$200,\"c\")/SUMIF('Bill of Materials'!$V$16:$V$200,$A17,'Bill of Materials'!$I$16:$I$200)","v":{"$error":"#DIV/0!"}},{"$f":"IFERROR((SUMIFS('Bill of Materials'!$Y$16:$Y$200,'Bill of Materials'!$V$16:$V$200,$A17,'Bill of Materials'!$W$16:$W$200,\"c\")/SUMIF('Bill of Materials'!$V$16:$V$200,$A17,'Bill of Materials'!$Y$16:$Y$200)),\"\")","v":""},"",{"$f":"(SUMIFS('Bill of Materials'!$I$16:$I$200,'Bill of Materials'!$V$16:$V$200,$A17,'Bill of Materials'!$W$16:$W$200,\"x\")+SUMIFS('Bill of Materials'!$I$16:$I$200,'Bill of Materials'!$V$16:$V$200,$A17,'Bill of Materials'!$W$16:$W$200,\"x - CMR or SVHC\"))/SUMIF('Bill of Materials'!$V$16:$V$200,$A17,'Bill of Materials'!$I$16:$I$200)","v":{"$error":"#DIV/0!"}},{"$f":"IFERROR(((SUMIFS('Bill of Materials'!$Y$16:$Y$200,'Bill of Materials'!$V$16:$V$200,$A17,'Bill of Materials'!$W$16:$W$200,\"x\")+SUMIFS('Bill of Materials'!$Y$16:$Y$200,'Bill of Materials'!$V$16:$V$200,$A17,'Bill of Materials'!$W$16:$W$200,\"x - CMR or SVHC\"))/SUMIF('Bill of Materials'!$V$16:$V$200,$A17,'Bill of Materials'!$Y$16:$Y$200)),\"\")","v":""},"",{"$error":"#DIV/0!"},"","",""]
[9,{"$f":"SUMIF('Bill of Materials'!$V$16:$V$200,A18,'Bill of Materials'!$J$16:$J$200)","v":{"v":0,"d":"0%"}},{"$error":"#DIV/0!"},{"$f":"SUMIFS('Bill of Materials'!$I$16:$I$200,'Bill of Materials'!$V$16:$V$200,A18,'Bill of Materials'!$W$16:$W$200,\"Grey\")/SUMIF('Bill of Materials'!$V$16:$V$200,A18,'Bill of Materials'!$I$16:$I$200)","v":{"$error":"#DIV/0!"}},{"$f":"IFERROR((SUMIFS('Bill of Materials'!$Y$16:$Y$200,'Bill of Materials'!$V$16:$V$200,A18,'Bill of Materials'!$W$16:$W$200,\"Grey\")/SUMIF('Bill of Materials'!$V$16:$V$200,A18,'Bill of Materials'!$Y$16:$Y$200)),\"\")","v":""},"",{"$f":"SUMIFS('Bill of Materials'!$I$16:$I$200,'Bill of Materials'!$V$16:$V$200,$A18,'Bill of Materials'!$W$16:$W$200,\"a\")/SUMIF('Bill of Materials'!$V$16:$V$200,$A18,'Bill of Materials'!$I$16:$I$200)","v":{"$error":"#DIV/0!"}},{"$f":"IFERROR((SUMIFS('Bill of Materials'!$Y$16:$Y$200,'Bill of Materials'!$V$16:$V$200,A18,'Bill of Materials'!$W$16:$W$200,\"a\")/SUMIF('Bill of Materials'!$V$16:$V$200,A18,'Bill of Materials'!$Y$16:$Y$200)),\"\")","v":""},"",{"$f":"SUMIFS('Bill of Materials'!$I$16:$I$200,'Bill of Materials'!$V$16:$V$200,$A18,'Bill of Materials'!$W$16:$W$200,\"b\")/SUMIF('Bill of Materials'!$V$16:$V$200,$A18,'Bill of Materials'!$I$16:$I$200)","v":{"$error":"#DIV/0!"}},{"$f":"IFERROR((SUMIFS('Bill of Materials'!$Y$16:$Y$200,'Bill of Materials'!$V$16:$V$200,$A18,'Bill of Materials'!$W$16:$W$200,\"b\")/SUMIF('Bill of Materials'!$V$16:$V$200,$A18,'Bill of Materials'!$Y$16:$Y$200)),\"\")","v":""},"",{"$error":"#DIV/0!"},"",{"$f":"SUMIFS('Bill of Materials'!$I$16:$I$200,'Bill of Materials'!$V$16:$V$200,$A18,'Bill of Materials'!$W$16:$W$200,\"c\")/SUMIF('Bill of Materials'!$V$16:$V$200,$A18,'Bill of Materials'!$I$16:$I$200)","v":{"$error":"#DIV/0!"}},{"$f":"IFERROR((SUMIFS('Bill of Materials'!$Y$16:$Y$200,'Bill of Materials'!$V$16:$V$200,$A18,'Bill of Materials'!$W$16:$W$200,\"c\")/SUMIF('Bill of Materials'!$V$16:$V$200,$A18,'Bill of Materials'!$Y$16:$Y$200)),\"\")","v":""},"",{"$f":"(SUMIFS('Bill of Materials'!$I$16:$I$200,'Bill of Materials'!$V$16:$V$200,$A18,'Bill of Materials'!$W$16:$W$200,\"x\")+SUMIFS('Bill of Materials'!$I$16:$I$200,'Bill of Materials'!$V$16:$V$200,$A18,'Bill of Materials'!$W$16:$W$200,\"x - CMR or SVHC\"))/SUMIF('Bill of Materials'!$V$16:$V$200,$A18,'Bill of Materials'!$I$16:$I$200)","v":{"$error":"#DIV/0!"}},{"$f":"IFERROR(((SUMIFS('Bill of Materials'!$Y$16:$Y$200,'Bill of Materials'!$V$16:$V$200,$A18,'Bill of Materials'!$W$16:$W$200,\"x\")+SUMIFS('Bill of Materials'!$Y$16:$Y$200,'Bill of Materials'!$V$16:$V$200,$A18,'Bill of Materials'!$W$16:$W$200,\"x - CMR or SVHC\"))/SUMIF('Bill of Materials'!$V$16:$V$200,$A18,'Bill of Materials'!$Y$16:$Y$200)),\"\")","v":""},"",{"$error":"#DIV/0!"},"","",""]
[10,{"$f":"SUMIF('Bill of Materials'!$V$16:$V$200,A19,'Bill of Materials'!$J$16:$J$200)","v":{"v":0,"d":"0%"}},{"$error":"#DIV/0!"},{"$f":"SUMIFS('Bill of Materials'!$I$16:$I$200,'Bill of Materials'!$V$16:$V$200,A19,'Bill of Materials'!$W$16:$W$200,\"Grey\")/SUMIF('Bill of Materials'!$V$16:$V$200,A19,'Bill of Materials'!$I$16:$I$200)","v":{"$error":"#DIV/0!"}},{"$f":"IFERROR((SUMIFS('Bill of Materials'!$Y$16:$Y$200,'Bill of Materials'!$V$16:$V$200,A19,'Bill of Materials'!$W$16:$W$200,\"Grey\")/SUMIF('Bill of Materials'!$V$16:$V$200,A19,'Bill of Materials'!$Y$16:$Y$200)),\"\")","v":""},"",{"$f":"SUMIFS('Bill of Materials'!$I$16:$I$200,'Bill of Materials'!$V$16:$V$200,$A19,'Bill of Materials'!$W$16:$W$200,\"a\")/SUMIF('Bill of Materials'!$V$16:$V$200,$A19,'Bill of Materials'!$I$16:$I$200)","v":{"$error":"#DIV/0!"}},{"$f":"IFERROR((SUMIFS('Bill of Materials'!$Y$16:$Y$200,'Bill of Materials'!$V$16:$V$200,A19,'Bill of Materials'!$W$16:$W$200,\"a\")/SUMIF('Bill of Materials'!$V$16:$V$200,A19,'Bill of Materials'!$Y$16:$Y$200)),\"\")","v":""},"",{"$f":"SUMIFS('Bill of Materials'!$I$16:$I$200,'Bill of Materials'!$V$16:$V$200,$A19,'Bill of Materials'!$W$16:$W$200,\"b\")/SUMIF('Bill of Materials'!$V$16:$V$200,$A19,'Bill of Materials'!$I$16:$I$200)","v":{"$error":"#DIV/0!"}},{"$f":"IFERROR((SUMIFS('Bill of Materials'!$Y$16:$Y$200,'Bill of Materials'!$V$16:$V$200,$A19,'Bill of Materials'!$W$16:$W$200,\"b\")/SUMIF('Bill of Materials'!$V$16:$V$200,$A19,'Bill of Materials'!$Y$16:$Y$200)),\"\")","v":""},"",{"$error":"#DIV/0!"},"",{"$f":"SUMIFS('Bill of Materials'!$I$16:$I$200,'Bill of Materials'!$V$16:$V$200,$A19,'Bill of Materials'!$W$16:$W$200,\"c\")/SUMIF('Bill of Materials'!$V$16:$V$200,$A19,'Bill of Materials'!$I$16:$I$200)","v":{"$error":"#DIV/0!"}},{"$f":"IFERROR((SUMIFS('Bill of Materials'!$Y$16:$Y$200,'Bill of Materials'!$V$16:$V$200,$A19,'Bill of Materials'!$W$16:$W$200,\"c\")/SUMIF('Bill of Materials'!$V$16:$V$200,$A19,'Bill of Materials'!$Y$16:$Y$200)),\"\")","v":""},"",{"$f":"(SUMIFS('Bill of Materials'!$I$16:$I$200,'Bill of Materials'!$V$16:$V$200,$A19,'Bill of Materials'!$W$16:$W$200,\"x\")+SUMIFS('Bill of Materials'!$I$16:$I$200,'Bill of Materials'!$V$16:$V$200,$A19,'Bill of Materials'!$W$16:$W$200,\"x - CMR or SVHC\"))/SUMIF('Bill of Materials'!$V$16:$V$200,$A19,'Bill of Materials'!$I$16:$I$200)","v":{"$error":"#DIV/0!"}},{"$f":"IFERROR(((SUMIFS('Bill of Materials'!$Y$16:$Y$200,'Bill of Materials'!$V$16:$V$200,$A19,'Bill of Materials'!$W$16:$W$200,\"x\")+SUMIFS('Bill of Materials'!$Y$16:$Y$200,'Bill of Materials'!$V$16:$V$200,$A19,'Bill of Materials'!$W$16:$W$200,\"x - CMR or SVHC\"))/SUMIF('Bill of Materials'!$V$16:$V$200,$A19,'Bill of Materials'!$Y$16:$Y$200)),\"\")","v":""},"",{"$error":"#DIV/0!"},"","",""]
[11,{"$f":"SUMIF('Bill of Materials'!$V$16:$V$200,A20,'Bill of Materials'!$J$16:$J$200)","v":{"v":0,"d":"0%"}},{"$error":"#DIV/0!"},{"$f":"SUMIFS('Bill of Materials'!$I$16:$I$200,'Bill of Materials'!$V$16:$V$200,A20,'Bill of Materials'!$W$16:$W$200,\"Grey\")/SUMIF('Bill of Materials'!$V$16:$V$200,A20,'Bill of Materials'!$I$16:$I$200)","v":{"$error":"#DIV/0!"}},{"$f":"IFERROR((SUMIFS('Bill of Materials'!$Y$16:$Y$200,'Bill of Materials'!$V$16:$V$200,A20,'Bill of Materials'!$W$16:$W$200,\"Grey\")/SUMIF('Bill of Materials'!$V$16:$V$200,A20,'Bill of Materials'!$Y$16:$Y$200)),\"\")","v":""},"",{"$f":"SUMIFS('Bill of Materials'!$I$16:$I$200,'Bill of Materials'!$V$16:$V$200,$A20,'Bill of Materials'!$W$16:$W$200,\"a\")/SUMIF('Bill of Materials'!$V$16:$V$200,$A20,'Bill of Materials'!$I$16:$I$200)","v":{"$error":"#DIV/0!"}},{"$f":"IFERROR((SUMIFS('Bill of Materials'!$Y$16:$Y$200,'Bill of Materials'!$V$16:$V$200,A20,'Bill of Materials'!$W$16:$W$200,\"a\")/SUMIF('Bill of Materials'!$V$16:$V$200,A20,'Bill of Materials'!$Y$16:$Y$200)),\"\")","v":""},"",{"$f":"SUMIFS('Bill of Materials'!$I$16:$I$200,'Bill of Materials'!$V$16:$V$200,$A20,'Bill of Materials'!$W$16:$W$200,\"b\")/SUMIF('Bill of Materials'!$V$16:$V$200,$A20,'Bill of Materials'!$I$16:$I$200)","v":{"$error":"#DIV/0!"}},{"$f":"IFERROR((SUMIFS('Bill of Materials'!$Y$16:$Y$200,'Bill of Materials'!$V$16:$V$200,$A20,'Bill of Materials'!$W$16:$W$200,\"b\")/SUMIF('Bill of Materials'!$V$16:$V$200,$A20,'Bill of Materials'!$Y$16:$Y$200)),\"\")","v":""},"",{"$error":"#DIV/0!"},"",{"$f":"SUMIFS('Bill of Materials'!$I$16:$I$200,'Bill of Materials'!$V$16:$V$200,$A20,'Bill of Materials'!$W$16:$W$200,\"c\")/SUMIF('Bill of Materials'!$V$16:$V$200,$A20,'Bill of Materials'!$I$16:$I$200)","v":{"$error":"#DIV/0!"}},{"$f":"IFERROR((SUMIFS('Bill of Materials'!$Y$16:$Y$200,'Bill of Materials'!$V$16:$V$200,$A20,'Bill of Materials'!$W$16:$W$200,\"c\")/SUMIF('Bill of Materials'!$V$16:$V$200,$A20,'Bill of Materials'!$Y$16:$Y$200)),\"\")","v":""},"",{"$f":"(SUMIFS('Bill of Materials'!$I$16:$I$200,'Bill of Materials'!$V$16:$V$200,$A20,'Bill of Materials'!$W$16:$W$200,\"x\")+SUMIFS('Bill of Materials'!$I$16:$I$200,'Bill of Materials'!$V$16:$V$200,$A20,'Bill of Materials'!$W$16:$W$200,\"x - CMR or SVHC\"))/SUMIF('Bill of Materials'!$V$16:$V$200,$A20,'Bill of Materials'!$I$16:$I$200)","v":{"$error":"#DIV/0!"}},{"$f":"IFERROR(((SUMIFS('Bill of Materials'!$Y$16:$Y$200,'Bill of Materials'!$V$16:$V$200,$A20,'Bill of Materials'!$W$16:$W$200,\"x\")+SUMIFS('Bill of Materials'!$Y$16:$Y$200,'Bill of Materials'!$V$16:$V$200,$A20,'Bill of Materials'!$W$16:$W$200,\"x - CMR or SVHC\"))/SUMIF('Bill of Materials'!$V$16:$V$200,$A20,'Bill of Materials'!$Y$16:$Y$200)),\"\")","v":""},"",{"$error":"#DIV/0!"},"","",""]
[12,{"$f":"SUMIF('Bill of Materials'!$V$16:$V$200,A21,'Bill of Materials'!$J$16:$J$200)","v":{"v":0,"d":"0%"}},{"$error":"#DIV/0!"},{"$f":"SUMIFS('Bill of Materials'!$I$16:$I$200,'Bill of Materials'!$V$16:$V$200,A21,'Bill of Materials'!$W$16:$W$200,\"Grey\")/SUMIF('Bill of Materials'!$V$16:$V$200,A21,'Bill of Materials'!$I$16:$I$200)","v":{"$error":"#DIV/0!"}},{"$f":"IFERROR((SUMIFS('Bill of Materials'!$Y$16:$Y$200,'Bill of Materials'!$V$16:$V$200,A21,'Bill of Materials'!$W$16:$W$200,\"Grey\")/SUMIF('Bill of Materials'!$V$16:$V$200,A21,'Bill of Materials'!$Y$16:$Y$200)),\"\")","v":""},"",{"$f":"SUMIFS('Bill of Materials'!$I$16:$I$200,'Bill of Materials'!$V$16:$V$200,$A21,'Bill of Materials'!$W$16:$W$200,\"a\")/SUMIF('Bill of Materials'!$V$16:$V$200,$A21,'Bill of Materials'!$I$16:$I$200)","v":{"$error":"#DIV/0!"}},{"$f":"IFERROR((SUMIFS('Bill of Materials'!$Y$16:$Y$200,'Bill of Materials'!$V$16:$V$200,A21,'Bill of Materials'!$W$16:$W$200,\"a\")/SUMIF('Bill of Materials'!$V$16:$V$200,A21,'Bill of Materials'!$Y$16:$Y$200)),\"\")","v":""},"",{"$f":"SUMIFS('Bill of Materials'!$I$16:$I$200,'Bill of Materials'!$V$16:$V$200,$A21,'Bill of Materials'!$W$16:$W$200,\"b\")/SUMIF('Bill of Materials'!$V$16:$V$200,$A21,'Bill of Materials'!$I$16:$I$200)","v":{"$error":"#DIV/0!"}},{"$f":"IFERROR((SUMIFS('Bill of Materials'!$Y$16:$Y$200,'Bill of Materials'!$V$16:$V$200,$A21,'Bill of Materials'!$W$16:$W$200,\"b\")/SUMIF('Bill of Materials'!$V$16:$V$200,$A21,'Bill of Materials'!$Y$16:$Y$200)),\"\")","v":""},"",{"$error":"#DIV/0!"},"",{"$f":"SUMIFS('Bill of Materials'!$I$16:$I$200,'Bill of Materials'!$V$16:$V$200,$A21,'Bill of Materials'!$W$16:$W$200,\"c\")/SUMIF('Bill of Materials'!$V$16:$V$200,$A21,'Bill of Materials'!$I$16:$I$200)","v":{"$error":"#DIV/0!"}},{"$f":"IFERROR((SUMIFS('Bill of Materials'!$Y$16:$Y$200,'Bill of Materials'!$V$16:$V$200,$A21,'Bill of Materials'!$W$16:$W$200,\"c\")/SUMIF('Bill of Materials'!$V$16:$V$200,$A21,'Bill of Materials'!$Y$16:$Y$200)),\"\")","v":""},"",{"$f":"(SUMIFS('Bill of Materials'!$I$16:$I$200,'Bill of Materials'!$V$16:$V$200,$A21,'Bill of Materials'!$W$16:$W$200,\"x\")+SUMIFS('Bill of Materials'!$I$16:$I$200,'Bill of Materials'!$V$16:$V$200,$A21,'Bill of Materials'!$W$16:$W$200,\"x - CMR or SVHC\"))/SUMIF('Bill of Materials'!$V$16:$V$200,$A21,'Bill of Materials'!$I$16:$I$200)","v":{"$error":"#DIV/0!"}},{"$f":"IFERROR(((SUMIFS('Bill of Materials'!$Y$16:$Y$200,'Bill of Materials'!$V$16:$V$200,$A21,'Bill of Materials'!$W$16:$W$200,\"x\")+SUMIFS('Bill of Materials'!$Y$16:$Y$200,'Bill of Materials'!$V$16:$V$200,$A21,'Bill of Materials'!$W$16:$W$200,\"x - CMR or SVHC\"))/SUMIF('Bill of Materials'!$V$16:$V$200,$A21,'Bill of Materials'!$Y$16:$Y$200)),\"\")","v":""},"",{"$error":"#DIV/0!"},"","",""]
[13,{"$f":"SUMIF('Bill of Materials'!$V$16:$V$200,A22,'Bill of Materials'!$J$16:$J$200)","v":{"v":0,"d":"0%"}},{"$error":"#DIV/0!"},{"$f":"SUMIFS('Bill of Materials'!$I$16:$I$200,'Bill of Materials'!$V$16:$V$200,A22,'Bill of Materials'!$W$16:$W$200,\"Grey\")/SUMIF('Bill of Materials'!$V$16:$V$200,A22,'Bill of Materials'!$I$16:$I$200)","v":{"$error":"#DIV/0!"}},{"$f":"IFERROR((SUMIFS('Bill of Materials'!$Y$16:$Y$200,'Bill of Materials'!$V$16:$V$200,A22,'Bill of Materials'!$W$16:$W$200,\"Grey\")/SUMIF('Bill of Materials'!$V$16:$V$200,A22,'Bill of Materials'!$Y$16:$Y$200)),\"\")","v":""},"",{"$f":"SUMIFS('Bill of Materials'!$I$16:$I$200,'Bill of Materials'!$V$16:$V$200,$A22,'Bill of Materials'!$W$16:$W$200,\"a\")/SUMIF('Bill of Materials'!$V$16:$V$200,$A22,'Bill of Materials'!$I$16:$I$200)","v":{"$error":"#DIV/0!"}},{"$f":"IFERROR((SUMIFS('Bill of Materials'!$Y$16:$Y$200,'Bill of Materials'!$V$16:$V$200,A22,'Bill of Materials'!$W$16:$W$200,\"a\")/SUMIF('Bill of Materials'!$V$16:$V$200,A22,'Bill of Materials'!$Y$16:$Y$200)),\"\")","v":""},"",{"$f":"SUMIFS('Bill of Materials'!$I$16:$I$200,'Bill of Materials'!$V$16:$V$200,$A22,'Bill of Materials'!$W$16:$W$200,\"b\")/SUMIF('Bill of Materials'!$V$16:$V$200,$A22,'Bill of Materials'!$I$16:$I$200)","v":{"$error":"#DIV/0!"}},{"$f":"IFERROR((SUMIFS('Bill of Materials'!$Y$16:$Y$200,'Bill of Materials'!$V$16:$V$200,$A22,'Bill of Materials'!$W$16:$W$200,\"b\")/SUMIF('Bill of Materials'!$V$16:$V$200,$A22,'Bill of Materials'!$Y$16:$Y$200)),\"\")","v":""},"",{"$error":"#DIV/0!"},"",{"$f":"SUMIFS('Bill of Materials'!$I$16:$I$200,'Bill of Materials'!$V$16:$V$200,$A22,'Bill of Materials'!$W$16:$W$200,\"c\")/SUMIF('Bill of Materials'!$V$16:$V$200,$A22,'Bill of Materials'!$I$16:$I$200)","v":{"$error":"#DIV/0!"}},{"$f":"IFERROR((SUMIFS('Bill of Materials'!$Y$16:$Y$200,'Bill of Materials'!$V$16:$V$200,$A22,'Bill of Materials'!$W$16:$W$200,\"c\")/SUMIF('Bill of Materials'!$V$16:$V$200,$A22,'Bill of Materials'!$Y$16:$Y$200)),\"\")","v":""},"",{"$f":"(SUMIFS('Bill of Materials'!$I$16:$I$200,'Bill of Materials'!$V$16:$V$200,$A22,'Bill of Materials'!$W$16:$W$200,\"x\")+SUMIFS('Bill of Materials'!$I$16:$I$200,'Bill of Materials'!$V$16:$V$200,$A22,'Bill of Materials'!$W$16:$W$200,\"x - CMR or SVHC\"))/SUMIF('Bill of Materials'!$V$16:$V$200,$A22,'Bill of Materials'!$I$16:$I$200)","v":{"$error":"#DIV/0!"}},{"$f":"IFERROR(((SUMIFS('Bill of Materials'!$Y$16:$Y$200,'Bill of Materials'!$V$16:$V$200,$A22,'Bill of Materials'!$W$16:$W$200,\"x\")+SUMIFS('Bill of Materials'!$Y$16:$Y$200,'Bill of Materials'!$V$16:$V$200,$A22,'Bill of Materials'!$W$16:$W$200,\"x - CMR or SVHC\"))/SUMIF('Bill of Materials'!$V$16:$V$200,$A22,'Bill of Materials'!$Y$16:$Y$200)),\"\")","v":""},"",{"$error":"#DIV/0!"},"","",""]
[14,{"$f":"SUMIF('Bill of Materials'!$V$16:$V$200,A23,'Bill of Materials'!$J$16:$J$200)","v":{"v":0,"d":"0%"}},{"$error":"#DIV/0!"},{"$f":"SUMIFS('Bill of Materials'!$I$16:$I$200,'Bill of Materials'!$V$16:$V$200,A23,'Bill of Materials'!$W$16:$W$200,\"Grey\")/SUMIF('Bill of Materials'!$V$16:$V$200,A23,'Bill of Materials'!$I$16:$I$200)","v":{"$error":"#DIV/0!"}},{"$f":"IFERROR((SUMIFS('Bill of Materials'!$Y$16:$Y$200,'Bill of Materials'!$V$16:$V$200,A23,'Bill of Materials'!$W$16:$W$200,\"Grey\")/SUMIF('Bill of Materials'!$V$16:$V$200,A23,'Bill of Materials'!$Y$16:$Y$200)),\"\")","v":""},"",{"$f":"SUMIFS('Bill of Materials'!$I$16:$I$200,'Bill of Materials'!$V$16:$V$200,$A23,'Bill of Materials'!$W$16:$W$200,\"a\")/SUMIF('Bill of Materials'!$V$16:$V$200,$A23,'Bill of Materials'!$I$16:$I$200)","v":{"$error":"#DIV/0!"}},{"$f":"IFERROR((SUMIFS('Bill of Materials'!$Y$16:$Y$200,'Bill of Materials'!$V$16:$V$200,A23,'Bill of Materials'!$W$16:$W$200,\"a\")/SUMIF('Bill of Materials'!$V$16:$V$200,A23,'Bill of Materials'!$Y$16:$Y$200)),\"\")","v":""},"",{"$f":"SUMIFS('Bill of Materials'!$I$16:$I$200,'Bill of Materials'!$V$16:$V$200,$A23,'Bill of Materials'!$W$16:$W$200,\"b\")/SUMIF('Bill of Materials'!$V$16:$V$200,$A23,'Bill of Materials'!$I$16:$I$200)","v":{"$error":"#DIV/0!"}},{"$f":"IFERROR((SUMIFS('Bill of Materials'!$Y$16:$Y$200,'Bill of Materials'!$V$16:$V$200,$A23,'Bill of Materials'!$W$16:$W$200,\"b\")/SUMIF('Bill of Materials'!$V$16:$V$200,$A23,'Bill of Materials'!$Y$16:$Y$200)),\"\")","v":""},"",{"$error":"#DIV/0!"},"",{"$f":"SUMIFS('Bill of Materials'!$I$16:$I$200,'Bill of Materials'!$V$16:$V$200,$A23,'Bill of Materials'!$W$16:$W$200,\"c\")/SUMIF('Bill of Materials'!$V$16:$V$200,$A23,'Bill of Materials'!$I$16:$I$200)","v":{"$error":"#DIV/0!"}},{"$f":"IFERROR((SUMIFS('Bill of Materials'!$Y$16:$Y$200,'Bill of Materials'!$V$16:$V$200,$A23,'Bill of Materials'!$W$16:$W$200,\"c\")/SUMIF('Bill of Materials'!$V$16:$V$200,$A23,'Bill of Materials'!$Y$16:$Y$200)),\"\")","v":""},"",{"$f":"(SUMIFS('Bill of Materials'!$I$16:$I$200,'Bill of Materials'!$V$16:$V$200,$A23,'Bill of Materials'!$W$16:$W$200,\"x\")+SUMIFS('Bill of Materials'!$I$16:$I$200,'Bill of Materials'!$V$16:$V$200,$A23,'Bill of Materials'!$W$16:$W$200,\"x - CMR or SVHC\"))/SUMIF('Bill of Materials'!$V$16:$V$200,$A23,'Bill of Materials'!$I$16:$I$200)","v":{"$error":"#DIV/0!"}},{"$f":"IFERROR(((SUMIFS('Bill of Materials'!$Y$16:$Y$200,'Bill of Materials'!$V$16:$V$200,$A23,'Bill of Materials'!$W$16:$W$200,\"x\")+SUMIFS('Bill of Materials'!$Y$16:$Y$200,'Bill of Materials'!$V$16:$V$200,$A23,'Bill of Materials'!$W$16:$W$200,\"x - CMR or SVHC\"))/SUMIF('Bill of Materials'!$V$16:$V$200,$A23,'Bill of Materials'!$Y$16:$Y$200)),\"\")","v":""},"",{"$error":"#DIV/0!"},"","",""]
[15,{"$f":"SUMIF('Bill of Materials'!$V$16:$V$200,A24,'Bill of Materials'!$J$16:$J$200)","v":{"v":0,"d":"0%"}},{"$error":"#DIV/0!"},{"$f":"SUMIFS('Bill of Materials'!$I$16:$I$200,'Bill of Materials'!$V$16:$V$200,A24,'Bill of Materials'!$W$16:$W$200,\"Grey\")/SUMIF('Bill of Materials'!$V$16:$V$200,A24,'Bill of Materials'!$I$16:$I$200)","v":{"$error":"#DIV/0!"}},{"$f":"IFERROR((SUMIFS('Bill of Materials'!$Y$16:$Y$200,'Bill of Materials'!$V$16:$V$200,A24,'Bill of Materials'!$W$16:$W$200,\"Grey\")/SUMIF('Bill of Materials'!$V$16:$V$200,A24,'Bill of Materials'!$Y$16:$Y$200)),\"\")","v":""},"",{"$f":"SUMIFS('Bill of Materials'!$I$16:$I$200,'Bill of Materials'!$V$16:$V$200,$A24,'Bill of Materials'!$W$16:$W$200,\"a\")/SUMIF('Bill of Materials'!$V$16:$V$200,$A24,'Bill of Materials'!$I$16:$I$200)","v":{"$error":"#DIV/0!"}},{"$f":"IFERROR((SUMIFS('Bill of Materials'!$Y$16:$Y$200,'Bill of Materials'!$V$16:$V$200,A24,'Bill of Materials'!$W$16:$W$200,\"a\")/SUMIF('Bill of Materials'!$V$16:$V$200,A24,'Bill of Materials'!$Y$16:$Y$200)),\"\")","v":""},"",{"$f":"SUMIFS('Bill of Materials'!$I$16:$I$200,'Bill of Materials'!$V$16:$V$200,$A24,'Bill of Materials'!$W$16:$W$200,\"b\")/SUMIF('Bill of Materials'!$V$16:$V$200,$A24,'Bill of Materials'!$I$16:$I$200)","v":{"$error":"#DIV/0!"}},{"$f":"IFERROR((SUMIFS('Bill of Materials'!$Y$16:$Y$200,'Bill of Materials'!$V$16:$V$200,$A24,'Bill of Materials'!$W$16:$W$200,\"b\")/SUMIF('Bill of Materials'!$V$16:$V$200,$A24,'Bill of Materials'!$Y$16:$Y$200)),\"\")","v":""},"",{"$error":"#DIV/0!"},"",{"$f":"SUMIFS('Bill of Materials'!$I$16:$I$200,'Bill of Materials'!$V$16:$V$200,$A24,'Bill of Materials'!$W$16:$W$200,\"c\")/SUMIF('Bill of Materials'!$V$16:$V$200,$A24,'Bill of Materials'!$I$16:$I$200)","v":{"$error":"#DIV/0!"}},{"$f":"IFERROR((SUMIFS('Bill of Materials'!$Y$16:$Y$200,'Bill of Materials'!$V$16:$V$200,$A24,'Bill of Materials'!$W$16:$W$200,\"c\")/SUMIF('Bill of Materials'!$V$16:$V$200,$A24,'Bill of Materials'!$Y$16:$Y$200)),\"\")","v":""},"",{"$f":"(SUMIFS('Bill of Materials'!$I$16:$I$200,'Bill of Materials'!$V$16:$V$200,$A24,'Bill of Materials'!$W$16:$W$200,\"x\")+SUMIFS('Bill of Materials'!$I$16:$I$200,'Bill of Materials'!$V$16:$V$200,$A24,'Bill of Materials'!$W$16:$W$200,\"x - CMR or SVHC\"))/SUMIF('Bill of Materials'!$V$16:$V$200,$A24,'Bill of Materials'!$I$16:$I$200)","v":{"$error":"#DIV/0!"}},{"$f":"IFERROR(((SUMIFS('Bill of Materials'!$Y$16:$Y$200,'Bill of Materials'!$V$16:$V$200,$A24,'Bill of Materials'!$W$16:$W$200,\"x\")+SUMIFS('Bill of Materials'!$Y$16:$Y$200,'Bill of Materials'!$V$16:$V$200,$A24,'Bill of Materials'!$W$16:$W$200,\"x - CMR or SVHC\"))/SUMIF('Bill of Materials'!$V$16:$V$200,$A24,'Bill of Materials'!$Y$16:$Y$200)),\"\")","v":""},"",{"$error":"#DIV/0!"},"","",""]
[16,{"$f":"SUMIF('Bill of Materials'!$V$16:$V$200,A25,'Bill of Materials'!$J$16:$J$200)","v":{"v":0,"d":"0%"}},{"$error":"#DIV/0!"},{"$f":"SUMIFS('Bill of Materials'!$I$16:$I$200,'Bill of Materials'!$V$16:$V$200,A25,'Bill of Materials'!$W$16:$W$200,\"Grey\")/SUMIF('Bill of Materials'!$V$16:$V$200,A25,'Bill of Materials'!$I$16:$I$200)","v":{"$error":"#DIV/0!"}},{"$f":"IFERROR((SUMIFS('Bill of Materials'!$Y$16:$Y$200,'Bill of Materials'!$V$16:$V$200,A25,'Bill of Materials'!$W$16:$W$200,\"Grey\")/SUMIF('Bill of Materials'!$V$16:$V$200,A25,'Bill of Materials'!$Y$16:$Y$200)),\"\")","v":""},"",{"$f":"SUMIFS('Bill of Materials'!$I$16:$I$200,'Bill of Materials'!$V$16:$V$200,$A25,'Bill of Materials'!$W$16:$W$200,\"a\")/SUMIF('Bill of Materials'!$V$16:$V$200,$A25,'Bill of Materials'!$I$16:$I$200)","v":{"$error":"#DIV/0!"}},{"$f":"IFERROR((SUMIFS('Bill of Materials'!$Y$16:$Y$200,'Bill of Materials'!$V$16:$V$200,A25,'Bill of Materials'!$W$16:$W$200,\"a\")/SUMIF('Bill of Materials'!$V$16:$V$200,A25,'Bill of Materials'!$Y$16:$Y$200)),\"\")","v":""},"",{"$f":"SUMIFS('Bill of Materials'!$I$16:$I$200,'Bill of Materials'!$V$16:$V$200,$A25,'Bill of Materials'!$W$16:$W$200,\"b\")/SUMIF('Bill of Materials'!$V$16:$V$200,$A25,'Bill of Materials'!$I$16:$I$200)","v":{"$error":"#DIV/0!"}},{"$f":"IFERROR((SUMIFS('Bill of Materials'!$Y$16:$Y$200,'Bill of Materials'!$V$16:$V$200,$A25,'Bill of Materials'!$W$16:$W$200,\"b\")/SUMIF('Bill of Materials'!$V$16:$V$200,$A25,'Bill of Materials'!$Y$16:$Y$200)),\"\")","v":""},"",{"$error":"#DIV/0!"},"",{"$f":"SUMIFS('Bill of Materials'!$I$16:$I$200,'Bill of Materials'!$V$16:$V$200,$A25,'Bill of Materials'!$W$16:$W$200,\"c\")/SUMIF('Bill of Materials'!$V$16:$V$200,$A25,'Bill of Materials'!$I$16:$I$200)","v":{"$error":"#DIV/0!"}},{"$f":"IFERROR((SUMIFS('Bill of Materials'!$Y$16:$Y$200,'Bill of Materials'!$V$16:$V$200,$A25,'Bill of Materials'!$W$16:$W$200,\"c\")/SUMIF('Bill of Materials'!$V$16:$V$200,$A25,'Bill of Materials'!$Y$16:$Y$200)),\"\")","v":""},"",{"$f":"(SUMIFS('Bill of Materials'!$I$16:$I$200,'Bill of Materials'!$V$16:$V$200,$A25,'Bill of Materials'!$W$16:$W$200,\"x\")+SUMIFS('Bill of Materials'!$I$16:$I$200,'Bill of Materials'!$V$16:$V$200,$A25,'Bill of Materials'!$W$16:$W$200,\"x - CMR or SVHC\"))/SUMIF('Bill of Materials'!$V$16:$V$200,$A25,'Bill of Materials'!$I$16:$I$200)","v":{"$error":"#DIV/0!"}},{"$f":"IFERROR(((SUMIFS('Bill of Materials'!$Y$16:$Y$200,'Bill of Materials'!$V$16:$V$200,$A25,'Bill of Materials'!$W$16:$W$200,\"x\")+SUMIFS('Bill of Materials'!$Y$16:$Y$200,'Bill of Materials'!$V$16:$V$200,$A25,'Bill of Materials'!$W$16:$W$200,\"x - CMR or SVHC\"))/SUMIF('Bill of Materials'!$V$16:$V$200,$A25,'Bill of Materials'!$Y$16:$Y$200)),\"\")","v":""},"",{"$error":"#DIV/0!"},"","",""]
[17,{"$f":"SUMIF('Bill of Materials'!$V$16:$V$200,A26,'Bill of Materials'!$J$16:$J$200)","v":{"v":0,"d":"0%"}},{"$error":"#DIV/0!"},{"$f":"SUMIFS('Bill of Materials'!$I$16:$I$200,'Bill of Materials'!$V$16:$V$200,A26,'Bill of Materials'!$W$16:$W$200,\"Grey\")/SUMIF('Bill of Materials'!$V$16:$V$200,A26,'Bill of Materials'!$I$16:$I$200)","v":{"$error":"#DIV/0!"}},{"$f":"IFERROR((SUMIFS('Bill of Materials'!$Y$16:$Y$200,'Bill of Materials'!$V$16:$V$200,A26,'Bill of Materials'!$W$16:$W$200,\"Grey\")/SUMIF('Bill of Materials'!$V$16:$V$200,A26,'Bill of Materials'!$Y$16:$Y$200)),\"\")","v":""},"",{"$f":"SUMIFS('Bill of Materials'!$I$16:$I$200,'Bill of Materials'!$V$16:$V$200,$A26,'Bill of Materials'!$W$16:$W$200,\"a\")/SUMIF('Bill of Materials'!$V$16:$V$200,$A26,'Bill of Materials'!$I$16:$I$200)","v":{"$error":"#DIV/0!"}},{"$f":"IFERROR((SUMIFS('Bill of Materials'!$Y$16:$Y$200,'Bill of Materials'!$V$16:$V$200,A26,'Bill of Materials'!$W$16:$W$200,\"a\")/SUMIF('Bill of Materials'!$V$16:$V$200,A26,'Bill of Materials'!$Y$16:$Y$200)),\"\")","v":""},"",{"$f":"SUMIFS('Bill of Materials'!$I$16:$I$200,'Bill of Materials'!$V$16:$V$200,$A26,'Bill of Materials'!$W$16:$W$200,\"b\")/SUMIF('Bill of Materials'!$V$16:$V$200,$A26,'Bill of Materials'!$I$16:$I$200)","v":{"$error":"#DIV/0!"}},{"$f":"IFERROR((SUMIFS('Bill of Materials'!$Y$16:$Y$200,'Bill of Materials'!$V$16:$V$200,$A26,'Bill of Materials'!$W$16:$W$200,\"b\")/SUMIF('Bill of Materials'!$V$16:$V$200,$A26,'Bill of Materials'!$Y$16:$Y$200)),\"\")","v":""},"",{"$error":"#DIV/0!"},"",{"$f":"SUMIFS('Bill of Materials'!$I$16:$I$200,'Bill of Materials'!$V$16:$V$200,$A26,'Bill of Materials'!$W$16:$W$200,\"c\")/SUMIF('Bill of Materials'!$V$16:$V$200,$A26,'Bill of Materials'!$I$16:$I$200)","v":{"$error":"#DIV/0!"}},{"$f":"IFERROR((SUMIFS('Bill of Materials'!$Y$16:$Y$200,'Bill of Materials'!$V$16:$V$200,$A26,'Bill of Materials'!$W$16:$W$200,\"c\")/SUMIF('Bill of Materials'!$V$16:$V$200,$A26,'Bill of Materials'!$Y$16:$Y$200)),\"\")","v":""},"",{"$f":"(SUMIFS('Bill of Materials'!$I$16:$I$200,'Bill of Materials'!$V$16:$V$200,$A26,'Bill of Materials'!$W$16:$W$200,\"x\")+SUMIFS('Bill of Materials'!$I$16:$I$200,'Bill of Materials'!$V$16:$V$200,$A26,'Bill of Materials'!$W$16:$W$200,\"x - CMR or SVHC\"))/SUMIF('Bill of Materials'!$V$16:$V$200,$A26,'Bill of Materials'!$I$16:$I$200)","v":{"$error":"#DIV/0!"}},{"$f":"IFERROR(((SUMIFS('Bill of Materials'!$Y$16:$Y$200,'Bill of Materials'!$V$16:$V$200,$A26,'Bill of Materials'!$W$16:$W$200,\"x\")+SUMIFS('Bill of Materials'!$Y$16:$Y$200,'Bill of Materials'!$V$16:$V$200,$A26,'Bill of Materials'!$W$16:$W$200,\"x - CMR or SVHC\"))/SUMIF('Bill of Materials'!$V$16:$V$200,$A26,'Bill of Materials'!$Y$16:$Y$200)),\"\")","v":""},"",{"$error":"#DIV/0!"},"","",""]
[18,{"$f":"SUMIF('Bill of Materials'!$V$16:$V$200,A27,'Bill of Materials'!$J$16:$J$200)","v":{"v":0,"d":"0%"}},{"$error":"#DIV/0!"},{"$f":"SUMIFS('Bill of Materials'!$I$16:$I$200,'Bill of Materials'!$V$16:$V$200,A27,'Bill of Materials'!$W$16:$W$200,\"Grey\")/SUMIF('Bill of Materials'!$V$16:$V$200,A27,'Bill of Materials'!$I$16:$I$200)","v":{"$error":"#DIV/0!"}},{"$f":"IFERROR((SUMIFS('Bill of Materials'!$Y$16:$Y$200,'Bill of Materials'!$V$16:$V$200,A27,'Bill of Materials'!$W$16:$W$200,\"Grey\")/SUMIF('Bill of Materials'!$V$16:$V$200,A27,'Bill of Materials'!$Y$16:$Y$200)),\"\")","v":""},"",{"$f":"SUMIFS('Bill of Materials'!$I$16:$I$200,'Bill of Materials'!$V$16:$V$200,$A27,'Bill of Materials'!$W$16:$W$200,\"a\")/SUMIF('Bill of Materials'!$V$16:$V$200,$A27,'Bill of Materials'!$I$16:$I$200)","v":{"$error":"#DIV/0!"}},{"$f":"IFERROR((SUMIFS('Bill of Materials'!$Y$16:$Y$200,'Bill of Materials'!$V$16:$V$200,A27,'Bill of Materials'!$W$16:$W$200,\"a\")/SUMIF('Bill of Materials'!$V$16:$V$200,A27,'Bill of Materials'!$Y$16:$Y$200)),\"\")","v":""},"",{"$f":"SUMIFS('Bill of Materials'!$I$16:$I$200,'Bill of Materials'!$V$16:$V$200,$A27,'Bill of Materials'!$W$16:$W$200,\"b\")/SUMIF('Bill of Materials'!$V$16:$V$200,$A27,'Bill of Materials'!$I$16:$I$200)","v":{"$error":"#DIV/0!"}},{"$f":"IFERROR((SUMIFS('Bill of Materials'!$Y$16:$Y$200,'Bill of Materials'!$V$16:$V$200,$A27,'Bill of Materials'!$W$16:$W$200,\"b\")/SUMIF('Bill of Materials'!$V$16:$V$200,$A27,'Bill of Materials'!$Y$16:$Y$200)),\"\")","v":""},"",{"$error":"#DIV/0!"},"",{"$f":"SUMIFS('Bill of Materials'!$I$16:$I$200,'Bill of Materials'!$V$16:$V$200,$A27,'Bill of Materials'!$W$16:$W$200,\"c\")/SUMIF('Bill of Materials'!$V$16:$V$200,$A27,'Bill of Materials'!$I$16:$I$200)","v":{"$error":"#DIV/0!"}},{"$f":"IFERROR((SUMIFS('Bill of Materials'!$Y$16:$Y$200,'Bill of Materials'!$V$16:$V$200,$A27,'Bill of Materials'!$W$16:$W$200,\"c\")/SUMIF('Bill of Materials'!$V$16:$V$200,$A27,'Bill of Materials'!$Y$16:$Y$200)),\"\")","v":""},"",{"$f":"(SUMIFS('Bill of Materials'!$I$16:$I$200,'Bill of Materials'!$V$16:$V$200,$A27,'Bill of Materials'!$W$16:$W$200,\"x\")+SUMIFS('Bill of Materials'!$I$16:$I$200,'Bill of Materials'!$V$16:$V$200,$A27,'Bill of Materials'!$W$16:$W$200,\"x - CMR or SVHC\"))/SUMIF('Bill of Materials'!$V$16:$V$200,$A27,'Bill of Materials'!$I$16:$I$200)","v":{"$error":"#DIV/0!"}},{"$f":"IFERROR(((SUMIFS('Bill of Materials'!$Y$16:$Y$200,'Bill of Materials'!$V$16:$V$200,$A27,'Bill of Materials'!$W$16:$W$200,\"x\")+SUMIFS('Bill of Materials'!$Y$16:$Y$200,'Bill of Materials'!$V$16:$V$200,$A27,'Bill of Materials'!$W$16:$W$200,\"x - CMR or SVHC\"))/SUMIF('Bill of Materials'!$V$16:$V$200,$A27,'Bill of Materials'!$Y$16:$Y$200)),\"\")","v":""},"",{"$error":"#DIV/0!"},"","",""]
[19,{"$f":"SUMIF('Bill of Materials'!$V$16:$V$200,A28,'Bill of Materials'!$J$16:$J$200)","v":{"v":0,"d":"0%"}},{"$error":"#DIV/0!"},{"$f":"SUMIFS('Bill of Materials'!$I$16:$I$200,'Bill of Materials'!$V$16:$V$200,A28,'Bill of Materials'!$W$16:$W$200,\"Grey\")/SUMIF('Bill of Materials'!$V$16:$V$200,A28,'Bill of Materials'!$I$16:$I$200)","v":{"$error":"#DIV/0!"}},{"$f":"IFERROR((SUMIFS('Bill of Materials'!$Y$16:$Y$200,'Bill of Materials'!$V$16:$V$200,A28,'Bill of Materials'!$W$16:$W$200,\"Grey\")/SUMIF('Bill of Materials'!$V$16:$V$200,A28,'Bill of Materials'!$Y$16:$Y$200)),\"\")","v":""},"",{"$f":"SUMIFS('Bill of Materials'!$I$16:$I$200,'Bill of Materials'!$V$16:$V$200,$A28,'Bill of Materials'!$W$16:$W$200,\"a\")/SUMIF('Bill of Materials'!$V$16:$V$200,$A28,'Bill of Materials'!$I$16:$I$200)","v":{"$error":"#DIV/0!"}},{"$f":"IFERROR((SUMIFS('Bill of Materials'!$Y$16:$Y$200,'Bill of Materials'!$V$16:$V$200,A28,'Bill of Materials'!$W$16:$W$200,\"a\")/SUMIF('Bill of Materials'!$V$16:$V$200,A28,'Bill of Materials'!$Y$16:$Y$200)),\"\")","v":""},"",{"$f":"SUMIFS('Bill of Materials'!$I$16:$I$200,'Bill of Materials'!$V$16:$V$200,$A28,'Bill of Materials'!$W$16:$W$200,\"b\")/SUMIF('Bill of Materials'!$V$16:$V$200,$A28,'Bill of Materials'!$I$16:$I$200)","v":{"$error":"#DIV/0!"}},{"$f":"IFERROR((SUMIFS('Bill of Materials'!$Y$16:$Y$200,'Bill of Materials'!$V$16:$V$200,$A28,'Bill of Materials'!$W$16:$W$200,\"b\")/SUMIF('Bill of Materials'!$V$16:$V$200,$A28,'Bill of Materials'!$Y$16:$Y$200)),\"\")","v":""},"",{"$error":"#DIV/0!"},"",{"$f":"SUMIFS('Bill of Materials'!$I$16:$I$200,'Bill of Materials'!$V$16:$V$200,$A28,'Bill of Materials'!$W$16:$W$200,\"c\")/SUMIF('Bill of Materials'!$V$16:$V$200,$A28,'Bill of Materials'!$I$16:$I$200)","v":{"$error":"#DIV/0!"}},{"$f":"IFERROR((SUMIFS('Bill of Materials'!$Y$16:$Y$200,'Bill of Materials'!$V$16:$V$200,$A28,'Bill of Materials'!$W$16:$W$200,\"c\")/SUMIF('Bill of Materials'!$V$16:$V$200,$A28,'Bill of Materials'!$Y$16:$Y$200)),\"\")","v":""},"",{"$f":"(SUMIFS('Bill of Materials'!$I$16:$I$200,'Bill of Materials'!$V$16:$V$200,$A28,'Bill of Materials'!$W$16:$W$200,\"x\")+SUMIFS('Bill of Materials'!$I$16:$I$200,'Bill of Materials'!$V$16:$V$200,$A28,'Bill of Materials'!$W$16:$W$200,\"x - CMR or SVHC\"))/SUMIF('Bill of Materials'!$V$16:$V$200,$A28,'Bill of Materials'!$I$16:$I$200)","v":{"$error":"#DIV/0!"}},{"$f":"IFERROR(((SUMIFS('Bill of Materials'!$Y$16:$Y$200,'Bill of Materials'!$V$16:$V$200,$A28,'Bill of Materials'!$W$16:$W$200,\"x\")+SUMIFS('Bill of Materials'!$Y$16:$Y$200,'Bill of Materials'!$V$16:$V$200,$A28,'Bill of Materials'!$W$16:$W$200,\"x - CMR or SVHC\"))/SUMIF('Bill of Materials'!$V$16:$V$200,$A28,'Bill of Materials'!$Y$16:$Y$200)),\"\")","v":""},"",{"$error":"#DIV/0!"},"","",""]
[20,{"$f":"SUMIF('Bill of Materials'!$V$16:$V$200,A29,'Bill of Materials'!$J$16:$J$200)","v":{"v":0,"d":"0%"}},{"$error":"#DIV/0!"},{"$f":"SUMIFS('Bill of Materials'!$I$16:$I$200,'Bill of Materials'!$V$16:$V$200,A29,'Bill of Materials'!$W$16:$W$200,\"Grey\")/SUMIF('Bill of Materials'!$V$16:$V$200,A29,'Bill of Materials'!$I$16:$I$200)","v":{"$error":"#DIV/0!"}},{"$f":"IFERROR((SUMIFS('Bill of Materials'!$Y$16:$Y$200,'Bill of Materials'!$V$16:$V$200,A29,'Bill of Materials'!$W$16:$W$200,\"Grey\")/SUMIF('Bill of Materials'!$V$16:$V$200,A29,'Bill of Materials'!$Y$16:$Y$200)),\"\")","v":""},"",{"$f":"SUMIFS('Bill of Materials'!$I$16:$I$200,'Bill of Materials'!$V$16:$V$200,$A29,'Bill of Materials'!$W$16:$W$200,\"a\")/SUMIF('Bill of Materials'!$V$16:$V$200,$A29,'Bill of Materials'!$I$16:$I$200)","v":{"$error":"#DIV/0!"}},{"$f":"IFERROR((SUMIFS('Bill of Materials'!$Y$16:$Y$200,'Bill of Materials'!$V$16:$V$200,A29,'Bill of Materials'!$W$16:$W$200,\"a\")/SUMIF('Bill of Materials'!$V$16:$V$200,A29,'Bill of Materials'!$Y$16:$Y$200)),\"\")","v":""},"",{"$f":"SUMIFS('Bill of Materials'!$I$16:$I$200,'Bill of Materials'!$V$16:$V$200,$A29,'Bill of Materials'!$W$16:$W$200,\"b\")/SUMIF('Bill of Materials'!$V$16:$V$200,$A29,'Bill of Materials'!$I$16:$I$200)","v":{"$error":"#DIV/0!"}},{"$f":"IFERROR((SUMIFS('Bill of Materials'!$Y$16:$Y$200,'Bill of Materials'!$V$16:$V$200,$A29,'Bill of Materials'!$W$16:$W$200,\"b\")/SUMIF('Bill of Materials'!$V$16:$V$200,$A29,'Bill of Materials'!$Y$16:$Y$200)),\"\")","v":""},"",{"$error":"#DIV/0!"},"",{"$f":"SUMIFS('Bill of Materials'!$I$16:$I$200,'Bill of Materials'!$V$16:$V$200,$A29,'Bill of Materials'!$W$16:$W$200,\"c\")/SUMIF('Bill of Materials'!$V$16:$V$200,$A29,'Bill of Materials'!$I$16:$I$200)","v":{"$error":"#DIV/0!"}},{"$f":"IFERROR((SUMIFS('Bill of Materials'!$Y$16:$Y$200,'Bill of Materials'!$V$16:$V$200,$A29,'Bill of Materials'!$W$16:$W$200,\"c\")/SUMIF('Bill of Materials'!$V$16:$V$200,$A29,'Bill of Materials'!$Y$16:$Y$200)),\"\")","v":""},"",{"$f":"(SUMIFS('Bill of Materials'!$I$16:$I$200,'Bill of Materials'!$V$16:$V$200,$A29,'Bill of Materials'!$W$16:$W$200,\"x\")+SUMIFS('Bill of Materials'!$I$16:$I$200,'Bill of Materials'!$V$16:$V$200,$A29,'Bill of Materials'!$W$16:$W$200,\"x - CMR or SVHC\"))/SUMIF('Bill of Materials'!$V$16:$V$200,$A29,'Bill of Materials'!$I$16:$I$200)","v":{"$error":"#DIV/0!"}},{"$f":"IFERROR(((SUMIFS('Bill of Materials'!$Y$16:$Y$200,'Bill of Materials'!$V$16:$V$200,$A29,'Bill of Materials'!$W$16:$W$200,\"x\")+SUMIFS('Bill of Materials'!$Y$16:$Y$200,'Bill of Materials'!$V$16:$V$200,$A29,'Bill of Materials'!$W$16:$W$200,\"x - CMR or SVHC\"))/SUMIF('Bill of Materials'!$V$16:$V$200,$A29,'Bill of Materials'!$Y$16:$Y$200)),\"\")","v":""},"",{"$error":"#DIV/0!"},"","",""]
[21,{"$f":"SUMIF('Bill of Materials'!$V$16:$V$200,A30,'Bill of Materials'!$J$16:$J$200)","v":{"v":0,"d":"0%"}},{"$error":"#DIV/0!"},{"$f":"SUMIFS('Bill of Materials'!$I$16:$I$200,'Bill of Materials'!$V$16:$V$200,A30,'Bill of Materials'!$W$16:$W$200,\"Grey\")/SUMIF('Bill of Materials'!$V$16:$V$200,A30,'Bill of Materials'!$I$16:$I$200)","v":{"$error":"#DIV/0!"}},{"$f":"IFERROR((SUMIFS('Bill of Materials'!$Y$16:$Y$200,'Bill of Materials'!$V$16:$V$200,A30,'Bill of Materials'!$W$16:$W$200,\"Grey\")/SUMIF('Bill of Materials'!$V$16:$V$200,A30,'Bill of Materials'!$Y$16:$Y$200)),\"\")","v":""},"",{"$f":"SUMIFS('Bill of Materials'!$I$16:$I$200,'Bill of Materials'!$V$16:$V$200,$A30,'Bill of Materials'!$W$16:$W$200,\"a\")/SUMIF('Bill of Materials'!$V$16:$V$200,$A30,'Bill of Materials'!$I$16:$I$200)","v":{"$error":"#DIV/0!"}},{"$f":"IFERROR((SUMIFS('Bill of Materials'!$Y$16:$Y$200,'Bill of Materials'!$V$16:$V$200,A30,'Bill of Materials'!$W$16:$W$200,\"a\")/SUMIF('Bill of Materials'!$V$16:$V$200,A30,'Bill of Materials'!$Y$16:$Y$200)),\"\")","v":""},"",{"$f":"SUMIFS('Bill of Materials'!$I$16:$I$200,'Bill of Materials'!$V$16:$V$200,$A30,'Bill of Materials'!$W$16:$W$200,\"b\")/SUMIF('Bill of Materials'!$V$16:$V$200,$A30,'Bill of Materials'!$I$16:$I$200)","v":{"$error":"#DIV/0!"}},{"$f":"IFERROR((SUMIFS('Bill of Materials'!$Y$16:$Y$200,'Bill of Materials'!$V$16:$V$200,$A30,'Bill of Materials'!$W$16:$W$200,\"b\")/SUMIF('Bill of Materials'!$V$16:$V$200,$A30,'Bill of Materials'!$Y$16:$Y$200)),\"\")","v":""},"",{"$error":"#DIV/0!"},"",{"$f":"SUMIFS('Bill of Materials'!$I$16:$I$200,'Bill of Materials'!$V$16:$V$200,$A30,'Bill of Materials'!$W$16:$W$200,\"c\")/SUMIF('Bill of Materials'!$V$16:$V$200,$A30,'Bill of Materials'!$I$16:$I$200)","v":{"$error":"#DIV/0!"}},{"$f":"IFERROR((SUMIFS('Bill of Materials'!$Y$16:$Y$200,'Bill of Materials'!$V$16:$V$200,$A30,'Bill of Materials'!$W$16:$W$200,\"c\")/SUMIF('Bill of Materials'!$V$16:$V$200,$A30,'Bill of Materials'!$Y$16:$Y$200)),\"\")","v":""},"",{"$f":"(SUMIFS('Bill of Materials'!$I$16:$I$200,'Bill of Materials'!$V$16:$V$200,$A30,'Bill of Materials'!$W$16:$W$200,\"x\")+SUMIFS('Bill of Materials'!$I$16:$I$200,'Bill of Materials'!$V$16:$V$200,$A30,'Bill of Materials'!$W$16:$W$200,\"x - CMR or SVHC\"))/SUMIF('Bill of Materials'!$V$16:$V$200,$A30,'Bill of Materials'!$I$16:$I$200)","v":{"$error":"#DIV/0!"}},{"$f":"IFERROR(((SUMIFS('Bill of Materials'!$Y$16:$Y$200,'Bill of Materials'!$V$16:$V$200,$A30,'Bill of Materials'!$W$16:$W$200,\"x\")+SUMIFS('Bill of Materials'!$Y$16:$Y$200,'Bill of Materials'!$V$16:$V$200,$A30,'Bill of Materials'!$W$16:$W$200,\"x - CMR or SVHC\"))/SUMIF('Bill of Materials'!$V$16:$V$200,$A30,'Bill of Materials'!$Y$16:$Y$200)),\"\")","v":""},"",{"$error":"#DIV/0!"},"","",""]
[22,{"$f":"SUMIF('Bill of Materials'!$V$16:$V$200,A31,'Bill of Materials'!$J$16:$J$200)","v":{"v":0,"d":"0%"}},{"$error":"#DIV/0!"},{"$f":"SUMIFS('Bill of Materials'!$I$16:$I$200,'Bill of Materials'!$V$16:$V$200,A31,'Bill of Materials'!$W$16:$W$200,\"Grey\")/SUMIF('Bill of Materials'!$V$16:$V$200,A31,'Bill of Materials'!$I$16:$I$200)","v":{"$error":"#DIV/0!"}},{"$f":"IFERROR((SUMIFS('Bill of Materials'!$Y$16:$Y$200,'Bill of Materials'!$V$16:$V$200,A31,'Bill of Materials'!$W$16:$W$200,\"Grey\")/SUMIF('Bill of Materials'!$V$16:$V$200,A31,'Bill of Materials'!$Y$16:$Y$200)),\"\")","v":""},"",{"$f":"SUMIFS('Bill of Materials'!$I$16:$I$200,'Bill of Materials'!$V$16:$V$200,$A31,'Bill of Materials'!$W$16:$W$200,\"a\")/SUMIF('Bill of Materials'!$V$16:$V$200,$A31,'Bill of Materials'!$I$16:$I$200)","v":{"$error":"#DIV/0!"}},{"$f":"IFERROR((SUMIFS('Bill of Materials'!$Y$16:$Y$200,'Bill of Materials'!$V$16:$V$200,A31,'Bill of Materials'!$W$16:$W$200,\"a\")/SUMIF('Bill of Materials'!$V$16:$V$200,A31,'Bill of Materials'!$Y$16:$Y$200)),\"\")","v":""},"",{"$f":"SUMIFS('Bill of Materials'!$I$16:$I$200,'Bill of Materials'!$V$16:$V$200,$A31,'Bill of Materials'!$W$16:$W$200,\"b\")/SUMIF('Bill of Materials'!$V$16:$V$200,$A31,'Bill of Materials'!$I$16:$I$200)","v":{"$error":"#DIV/0!"}},{"$f":"IFERROR((SUMIFS('Bill of Materials'!$Y$16:$Y$200,'Bill of Materials'!$V$16:$V$200,$A31,'Bill of Materials'!$W$16:$W$200,\"b\")/SUMIF('Bill of Materials'!$V$16:$V$200,$A31,'Bill of Materials'!$Y$16:$Y$200)),\"\")","v":""},"",{"$error":"#DIV/0!"},"",{"$f":"SUMIFS('Bill of Materials'!$I$16:$I$200,'Bill of Materials'!$V$16:$V$200,$A31,'Bill of Materials'!$W$16:$W$200,\"c\")/SUMIF('Bill of Materials'!$V$16:$V$200,$A31,'Bill of Materials'!$I$16:$I$200)","v":{"$error":"#DIV/0!"}},{"$f":"IFERROR((SUMIFS('Bill of Materials'!$Y$16:$Y$200,'Bill of Materials'!$V$16:$V$200,$A31,'Bill of Materials'!$W$16:$W$200,\"c\")/SUMIF('Bill of Materials'!$V$16:$V$200,$A31,'Bill of Materials'!$Y$16:$Y$200)),\"\")","v":""},"",{"$f":"(SUMIFS('Bill of Materials'!$I$16:$I$200,'Bill of Materials'!$V$16:$V$200,$A31,'Bill of Materials'!$W$16:$W$200,\"x\")+SUMIFS('Bill of Materials'!$I$16:$I$200,'Bill of Materials'!$V$16:$V$200,$A31,'Bill of Materials'!$W$16:$W$200,\"x - CMR or SVHC\"))/SUMIF('Bill of Materials'!$V$16:$V$200,$A31,'Bill of Materials'!$I$16:$I$200)","v":{"$error":"#DIV/0!"}},{"$f":"IFERROR(((SUMIFS('Bill of Materials'!$Y$16:$Y$200,'Bill of Materials'!$V$16:$V$200,$A31,'Bill of Materials'!$W$16:$W$200,\"x\")+SUMIFS('Bill of Materials'!$Y$16:$Y$200,'Bill of Materials'!$V$16:$V$200,$A31,'Bill of Materials'!$W$16:$W$200,\"x - CMR or SVHC\"))/SUMIF('Bill of Materials'!$V$16:$V$200,$A31,'Bill of Materials'!$Y$16:$Y$200)),\"\")","v":""},"",{"$error":"#DIV/0!"},"","",""]
[23,{"$f":"SUMIF('Bill of Materials'!$V$16:$V$200,A32,'Bill of Materials'!$J$16:$J$200)","v":{"v":0,"d":"0%"}},{"$error":"#DIV/0!"},{"$f":"SUMIFS('Bill of Materials'!$I$16:$I$200,'Bill of Materials'!$V$16:$V$200,A32,'Bill of Materials'!$W$16:$W$200,\"Grey\")/SUMIF('Bill of Materials'!$V$16:$V$200,A32,'Bill of Materials'!$I$16:$I$200)","v":{"$error":"#DIV/0!"}},{"$f":"IFERROR((SUMIFS('Bill of Materials'!$Y$16:$Y$200,'Bill of Materials'!$V$16:$V$200,A32,'Bill of Materials'!$W$16:$W$200,\"Grey\")/SUMIF('Bill of Materials'!$V$16:$V$200,A32,'Bill of Materials'!$Y$16:$Y$200)),\"\")","v":""},"",{"$f":"SUMIFS('Bill of Materials'!$I$16:$I$200,'Bill of Materials'!$V$16:$V$200,$A32,'Bill of Materials'!$W$16:$W$200,\"a\")/SUMIF('Bill of Materials'!$V$16:$V$200,$A32,'Bill of Materials'!$I$16:$I$200)","v":{"$error":"#DIV/0!"}},{"$f":"IFERROR((SUMIFS('Bill of Materials'!$Y$16:$Y$200,'Bill of Materials'!$V$16:$V$200,A32,'Bill of Materials'!$W$16:$W$200,\"a\")/SUMIF('Bill of Materials'!$V$16:$V$200,A32,'Bill of Materials'!$Y$16:$Y$200)),\"\")","v":""},"",{"$f":"SUMIFS('Bill of Materials'!$I$16:$I$200,'Bill of Materials'!$V$16:$V$200,$A32,'Bill of Materials'!$W$16:$W$200,\"b\")/SUMIF('Bill of Materials'!$V$16:$V$200,$A32,'Bill of Materials'!$I$16:$I$200)","v":{"$error":"#DIV/0!"}},{"$f":"IFERROR((SUMIFS('Bill of Materials'!$Y$16:$Y$200,'Bill of Materials'!$V$16:$V$200,$A32,'Bill of Materials'!$W$16:$W$200,\"b\")/SUMIF('Bill of Materials'!$V$16:$V$200,$A32,'Bill of Materials'!$Y$16:$Y$200)),\"\")","v":""},"",{"$error":"#DIV/0!"},"",{"$f":"SUMIFS('Bill of Materials'!$I$16:$I$200,'Bill of Materials'!$V$16:$V$200,$A32,'Bill of Materials'!$W$16:$W$200,\"c\")/SUMIF('Bill of Materials'!$V$16:$V$200,$A32,'Bill of Materials'!$I$16:$I$200)","v":{"$error":"#DIV/0!"}},{"$f":"IFERROR((SUMIFS('Bill of Materials'!$Y$16:$Y$200,'Bill of Materials'!$V$16:$V$200,$A32,'Bill of Materials'!$W$16:$W$200,\"c\")/SUMIF('Bill of Materials'!$V$16:$V$200,$A32,'Bill of Materials'!$Y$16:$Y$200)),\"\")","v":""},"",{"$f":"(SUMIFS('Bill of Materials'!$I$16:$I$200,'Bill of Materials'!$V$16:$V$200,$A32,'Bill of Materials'!$W$16:$W$200,\"x\")+SUMIFS('Bill of Materials'!$I$16:$I$200,'Bill of Materials'!$V$16:$V$200,$A32,'Bill of Materials'!$W$16:$W$200,\"x - CMR or SVHC\"))/SUMIF('Bill of Materials'!$V$16:$V$200,$A32,'Bill of Materials'!$I$16:$I$200)","v":{"$error":"#DIV/0!"}},{"$f":"IFERROR(((SUMIFS('Bill of Materials'!$Y$16:$Y$200,'Bill of Materials'!$V$16:$V$200,$A32,'Bill of Materials'!$W$16:$W$200,\"x\")+SUMIFS('Bill of Materials'!$Y$16:$Y$200,'Bill of Materials'!$V$16:$V$200,$A32,'Bill of Materials'!$W$16:$W$200,\"x - CMR or SVHC\"))/SUMIF('Bill of Materials'!$V$16:$V$200,$A32,'Bill of Materials'!$Y$16:$Y$200)),\"\")","v":""},"",{"$error":"#DIV/0!"},"","",""]
[24,{"$f":"SUMIF('Bill of Materials'!$V$16:$V$200,A33,'Bill of Materials'!$J$16:$J$200)","v":{"v":0,"d":"0%"}},{"$error":"#DIV/0!"},{"$f":"SUMIFS('Bill of Materials'!$I$16:$I$200,'Bill of Materials'!$V$16:$V$200,A33,'Bill of Materials'!$W$16:$W$200,\"Grey\")/SUMIF('Bill of Materials'!$V$16:$V$200,A33,'Bill of Materials'!$I$16:$I$200)","v":{"$error":"#DIV/0!"}},{"$f":"IFERROR((SUMIFS('Bill of Materials'!$Y$16:$Y$200,'Bill of Materials'!$V$16:$V$200,A33,'Bill of Materials'!$W$16:$W$200,\"Grey\")/SUMIF('Bill of Materials'!$V$16:$V$200,A33,'Bill of Materials'!$Y$16:$Y$200)),\"\")","v":""},"",{"$f":"SUMIFS('Bill of Materials'!$I$16:$I$200,'Bill of Materials'!$V$16:$V$200,$A33,'Bill of Materials'!$W$16:$W$200,\"a\")/SUMIF('Bill of Materials'!$V$16:$V$200,$A33,'Bill of Materials'!$I$16:$I$200)","v":{"$error":"#DIV/0!"}},{"$f":"IFERROR((SUMIFS('Bill of Materials'!$Y$16:$Y$200,'Bill of Materials'!$V$16:$V$200,A33,'Bill of Materials'!$W$16:$W$200,\"a\")/SUMIF('Bill of Materials'!$V$16:$V$200,A33,'Bill of Materials'!$Y$16:$Y$200)),\"\")","v":""},"",{"$f":"SUMIFS('Bill of Materials'!$I$16:$I$200,'Bill of Materials'!$V$16:$V$200,$A33,'Bill of Materials'!$W$16:$W$200,\"b\")/SUMIF('Bill of Materials'!$V$16:$V$200,$A33,'Bill of Materials'!$I$16:$I$200)","v":{"$error":"#DIV/0!"}},{"$f":"IFERROR((SUMIFS('Bill of Materials'!$Y$16:$Y$200,'Bill of Materials'!$V$16:$V$200,$A33,'Bill of Materials'!$W$16:$W$200,\"b\")/SUMIF('Bill of Materials'!$V$16:$V$200,$A33,'Bill of Materials'!$Y$16:$Y$200)),\"\")","v":""},"",{"$error":"#DIV/0!"},"",{"$f":"SUMIFS('Bill of Materials'!$I$16:$I$200,'Bill of Materials'!$V$16:$V$200,$A33,'Bill of Materials'!$W$16:$W$200,\"c\")/SUMIF('Bill of Materials'!$V$16:$V$200,$A33,'Bill of Materials'!$I$16:$I$200)","v":{"$error":"#DIV/0!"}},{"$f":"IFERROR((SUMIFS('Bill of Materials'!$Y$16:$Y$200,'Bill of Materials'!$V$16:$V$200,$A33,'Bill of Materials'!$W$16:$W$200,\"c\")/SUMIF('Bill of Materials'!$V$16:$V$200,$A33,'Bill of Materials'!$Y$16:$Y$200)),\"\")","v":""},"",{"$f":"(SUMIFS('Bill of Materials'!$I$16:$I$200,'Bill of Materials'!$V$16:$V$200,$A33,'Bill of Materials'!$W$16:$W$200,\"x\")+SUMIFS('Bill of Materials'!$I$16:$I$200,'Bill of Materials'!$V$16:$V$200,$A33,'Bill of Materials'!$W$16:$W$200,\"x - CMR or SVHC\"))/SUMIF('Bill of Materials'!$V$16:$V$200,$A33,'Bill of Materials'!$I$16:$I$200)","v":{"$error":"#DIV/0!"}},{"$f":"IFERROR(((SUMIFS('Bill of Materials'!$Y$16:$Y$200,'Bill of Materials'!$V$16:$V$200,$A33,'Bill of Materials'!$W$16:$W$200,\"x\")+SUMIFS('Bill of Materials'!$Y$16:$Y$200,'Bill of Materials'!$V$16:$V$200,$A33,'Bill of Materials'!$W$16:$W$200,\"x - CMR or SVHC\"))/SUMIF('Bill of Materials'!$V$16:$V$200,$A33,'Bill of Materials'!$Y$16:$Y$200)),\"\")","v":""},"",{"$error":"#DIV/0!"},"","",""]
[25,{"$f":"SUMIF('Bill of Materials'!$V$16:$V$200,A34,'Bill of Materials'!$J$16:$J$200)","v":{"v":0,"d":"0%"}},{"$error":"#DIV/0!"},{"$f":"SUMIFS('Bill of Materials'!$I$16:$I$200,'Bill of Materials'!$V$16:$V$200,A34,'Bill of Materials'!$W$16:$W$200,\"Grey\")/SUMIF('Bill of Materials'!$V$16:$V$200,A34,'Bill of Materials'!$I$16:$I$200)","v":{"$error":"#DIV/0!"}},{"$f":"IFERROR((SUMIFS('Bill of Materials'!$Y$16:$Y$200,'Bill of Materials'!$V$16:$V$200,A34,'Bill of Materials'!$W$16:$W$200,\"Grey\")/SUMIF('Bill of Materials'!$V$16:$V$200,A34,'Bill of Materials'!$Y$16:$Y$200)),\"\")","v":""},"",{"$f":"SUMIFS('Bill of Materials'!$I$16:$I$200,'Bill of Materials'!$V$16:$V$200,$A34,'Bill of Materials'!$W$16:$W$200,\"a\")/SUMIF('Bill of Materials'!$V$16:$V$200,$A34,'Bill of Materials'!$I$16:$I$200)","v":{"$error":"#DIV/0!"}},{"$f":"IFERROR((SUMIFS('Bill of Materials'!$Y$16:$Y$200,'Bill of Materials'!$V$16:$V$200,A34,'Bill of Materials'!$W$16:$W$200,\"a\")/SUMIF('Bill of Materials'!$V$16:$V$200,A34,'Bill of Materials'!$Y$16:$Y$200)),\"\")","v":""},"",{"$f":"SUMIFS('Bill of Materials'!$I$16:$I$200,'Bill of Materials'!$V$16:$V$200,$A34,'Bill of Materials'!$W$16:$W$200,\"b\")/SUMIF('Bill of Materials'!$V$16:$V$200,$A34,'Bill of Materials'!$I$16:$I$200)","v":{"$error":"#DIV/0!"}},{"$f":"IFERROR((SUMIFS('Bill of Materials'!$Y$16:$Y$200,'Bill of Materials'!$V$16:$V$200,$A34,'Bill of Materials'!$W$16:$W$200,\"b\")/SUMIF('Bill of Materials'!$V$16:$V$200,$A34,'Bill of Materials'!$Y$16:$Y$200)),\"\")","v":""},"",{"$error":"#DIV/0!"},"",{"$f":"SUMIFS('Bill of Materials'!$I$16:$I$200,'Bill of Materials'!$V$16:$V$200,$A34,'Bill of Materials'!$W$16:$W$200,\"c\")/SUMIF('Bill of Materials'!$V$16:$V$200,$A34,'Bill of Materials'!$I$16:$I$200)","v":{"$error":"#DIV/0!"}},{"$f":"IFERROR((SUMIFS('Bill of Materials'!$Y$16:$Y$200,'Bill of Materials'!$V$16:$V$200,$A34,'Bill of Materials'!$W$16:$W$200,\"c\")/SUMIF('Bill of Materials'!$V$16:$V$200,$A34,'Bill of Materials'!$Y$16:$Y$200)),\"\")","v":""},"",{"$f":"(SUMIFS('Bill of Materials'!$I$16:$I$200,'Bill of Materials'!$V$16:$V$200,$A34,'Bill of Materials'!$W$16:$W$200,\"x\")+SUMIFS('Bill of Materials'!$I$16:$I$200,'Bill of Materials'!$V$16:$V$200,$A34,'Bill of Materials'!$W$16:$W$200,\"x - CMR or SVHC\"))/SUMIF('Bill of Materials'!$V$16:$V$200,$A34,'Bill of Materials'!$I$16:$I$200)","v":{"$error":"#DIV/0!"}},{"$f":"IFERROR(((SUMIFS('Bill of Materials'!$Y$16:$Y$200,'Bill of Materials'!$V$16:$V$200,$A34,'Bill of Materials'!$W$16:$W$200,\"x\")+SUMIFS('Bill of Materials'!$Y$16:$Y$200,'Bill of Materials'!$V$16:$V$200,$A34,'Bill of Materials'!$W$16:$W$200,\"x - CMR or SVHC\"))/SUMIF('Bill of Materials'!$V$16:$V$200,$A34,'Bill of Materials'!$Y$16:$Y$200)),\"\")","v":""},"",{"$error":"#DIV/0!"},"","",""]
[26,{"$f":"SUMIF('Bill of Materials'!$V$16:$V$200,A35,'Bill of Materials'!$J$16:$J$200)","v":{"v":0,"d":"0%"}},{"$error":"#DIV/0!"},{"$f":"SUMIFS('Bill of Materials'!$I$16:$I$200,'Bill of Materials'!$V$16:$V$200,A35,'Bill of Materials'!$W$16:$W$200,\"Grey\")/SUMIF('Bill of Materials'!$V$16:$V$200,A35,'Bill of Materials'!$I$16:$I$200)","v":{"$error":"#DIV/0!"}},{"$f":"IFERROR((SUMIFS('Bill of Materials'!$Y$16:$Y$200,'Bill of Materials'!$V$16:$V$200,A35,'Bill of Materials'!$W$16:$W$200,\"Grey\")/SUMIF('Bill of Materials'!$V$16:$V$200,A35,'Bill of Materials'!$Y$16:$Y$200)),\"\")","v":""},"",{"$f":"SUMIFS('Bill of Materials'!$I$16:$I$200,'Bill of Materials'!$V$16:$V$200,$A35,'Bill of Materials'!$W$16:$W$200,\"a\")/SUMIF('Bill of Materials'!$V$16:$V$200,$A35,'Bill of Materials'!$I$16:$I$200)","v":{"$error":"#DIV/0!"}},{"$f":"IFERROR((SUMIFS('Bill of Materials'!$Y$16:$Y$200,'Bill of Materials'!$V$16:$V$200,A35,'Bill of Materials'!$W$16:$W$200,\"a\")/SUMIF('Bill of Materials'!$V$16:$V$200,A35,'Bill of Materials'!$Y$16:$Y$200)),\"\")","v":""},"",{"$f":"SUMIFS('Bill of Materials'!$I$16:$I$200,'Bill of Materials'!$V$16:$V$200,$A35,'Bill of Materials'!$W$16:$W$200,\"b\")/SUMIF('Bill of Materials'!$V$16:$V$200,$A35,'Bill of Materials'!$I$16:$I$200)","v":{"$error":"#DIV/0!"}},{"$f":"IFERROR((SUMIFS('Bill of Materials'!$Y$16:$Y$200,'Bill of Materials'!$V$16:$V$200,$A35,'Bill of Materials'!$W$16:$W$200,\"b\")/SUMIF('Bill of Materials'!$V$16:$V$200,$A35,'Bill of Materials'!$Y$16:$Y$200)),\"\")","v":""},"",{"$error":"#DIV/0!"},"",{"$f":"SUMIFS('Bill of Materials'!$I$16:$I$200,'Bill of Materials'!$V$16:$V$200,$A35,'Bill of Materials'!$W$16:$W$200,\"c\")/SUMIF('Bill of Materials'!$V$16:$V$200,$A35,'Bill of Materials'!$I$16:$I$200)","v":{"$error":"#DIV/0!"}},{"$f":"IFERROR((SUMIFS('Bill of Materials'!$Y$16:$Y$200,'Bill of Materials'!$V$16:$V$200,$A35,'Bill of Materials'!$W$16:$W$200,\"c\")/SUMIF('Bill of Materials'!$V$16:$V$200,$A35,'Bill of Materials'!$Y$16:$Y$200)),\"\")","v":""},"",{"$f":"(SUMIFS('Bill of Materials'!$I$16:$I$200,'Bill of Materials'!$V$16:$V$200,$A35,'Bill of Materials'!$W$16:$W$200,\"x\")+SUMIFS('Bill of Materials'!$I$16:$I$200,'Bill of Materials'!$V$16:$V$200,$A35,'Bill of Materials'!$W$16:$W$200,\"x - CMR or SVHC\"))/SUMIF('Bill of Materials'!$V$16:$V$200,$A35,'Bill of Materials'!$I$16:$I$200)","v":{"$error":"#DIV/0!"}},{"$f":"IFERROR(((SUMIFS('Bill of Materials'!$Y$16:$Y$200,'Bill of Materials'!$V$16:$V$200,$A35,'Bill of Materials'!$W$16:$W$200,\"x\")+SUMIFS('Bill of Materials'!$Y$16:$Y$200,'Bill of Materials'!$V$16:$V$200,$A35,'Bill of Materials'!$W$16:$W$200,\"x - CMR or SVHC\"))/SUMIF('Bill of Materials'!$V$16:$V$200,$A35,'Bill of Materials'!$Y$16:$Y$200)),\"\")","v":""},"",{"$error":"#DIV/0!"},"","",""]
[27,{"$f":"SUMIF('Bill of Materials'!$V$16:$V$200,A36,'Bill of Materials'!$J$16:$J$200)","v":{"v":0,"d":"0%"}},{"$error":"#DIV/0!"},{"$f":"SUMIFS('Bill of Materials'!$I$16:$I$200,'Bill of Materials'!$V$16:$V$200,A36,'Bill of Materials'!$W$16:$W$200,\"Grey\")/SUMIF('Bill of Materials'!$V$16:$V$200,A36,'Bill of Materials'!$I$16:$I$200)","v":{"$error":"#DIV/0!"}},{"$f":"IFERROR((SUMIFS('Bill of Materials'!$Y$16:$Y$200,'Bill of Materials'!$V$16:$V$200,A36,'Bill of Materials'!$W$16:$W$200,\"Grey\")/SUMIF('Bill of Materials'!$V$16:$V$200,A36,'Bill of Materials'!$Y$16:$Y$200)),\"\")","v":""},"",{"$f":"SUMIFS('Bill of Materials'!$I$16:$I$200,'Bill of Materials'!$V$16:$V$200,$A36,'Bill of Materials'!$W$16:$W$200,\"a\")/SUMIF('Bill of Materials'!$V$16:$V$200,$A36,'Bill of Materials'!$I$16:$I$200)","v":{"$error":"#DIV/0!"}},{"$f":"IFERROR((SUMIFS('Bill of Materials'!$Y$16:$Y$200,'Bill of Materials'!$V$16:$V$200,A36,'Bill of Materials'!$W$16:$W$200,\"a\")/SUMIF('Bill of Materials'!$V$16:$V$200,A36,'Bill of Materials'!$Y$16:$Y$200)),\"\")","v":""},"",{"$f":"SUMIFS('Bill of Materials'!$I$16:$I$200,'Bill of Materials'!$V$16:$V$200,$A36,'Bill of Materials'!$W$16:$W$200,\"b\")/SUMIF('Bill of Materials'!$V$16:$V$200,$A36,'Bill of Materials'!$I$16:$I$200)","v":{"$error":"#DIV/0!"}},{"$f":"IFERROR((SUMIFS('Bill of Materials'!$Y$16:$Y$200,'Bill of Materials'!$V$16:$V$200,$A36,'Bill of Materials'!$W$16:$W$200,\"b\")/SUMIF('Bill of Materials'!$V$16:$V$200,$A36,'Bill of Materials'!$Y$16:$Y$200)),\"\")","v":""},"",{"$error":"#DIV/0!"},"",{"$f":"SUMIFS('Bill of Materials'!$I$16:$I$200,'Bill of Materials'!$V$16:$V$200,$A36,'Bill of Materials'!$W$16:$W$200,\"c\")/SUMIF('Bill of Materials'!$V$16:$V$200,$A36,'Bill of Materials'!$I$16:$I$200)","v":{"$error":"#DIV/0!"}},{"$f":"IFERROR((SUMIFS('Bill of Materials'!$Y$16:$Y$200,'Bill of Materials'!$V$16:$V$200,$A36,'Bill of Materials'!$W$16:$W$200,\"c\")/SUMIF('Bill of Materials'!$V$16:$V$200,$A36,'Bill of Materials'!$Y$16:$Y$200)),\"\")","v":""},"",{"$f":"(SUMIFS('Bill of Materials'!$I$16:$I$200,'Bill of Materials'!$V$16:$V$200,$A36,'Bill of Materials'!$W$16:$W$200,\"x\")+SUMIFS('Bill of Materials'!$I$16:$I$200,'Bill of Materials'!$V$16:$V$200,$A36,'Bill of Materials'!$W$16:$W$200,\"x - CMR or SVHC\"))/SUMIF('Bill of Materials'!$V$16:$V$200,$A36,'Bill of Materials'!$I$16:$I$200)","v":{"$error":"#DIV/0!"}},{"$f":"IFERROR(((SUMIFS('Bill of Materials'!$Y$16:$Y$200,'Bill of Materials'!$V$16:$V$200,$A36,'Bill of Materials'!$W$16:$W$200,\"x\")+SUMIFS('Bill of Materials'!$Y$16:$Y$200,'Bill of Materials'!$V$16:$V$200,$A36,'Bill of Materials'!$W$16:$W$200,\"x - CMR or SVHC\"))/SUMIF('Bill of Materials'!$V$16:$V$200,$A36,'Bill of Materials'!$Y$16:$Y$200)),\"\")","v":""},"",{"$error":"#DIV/0!"},"","",""]
[28,{"$f":"SUMIF('Bill of Materials'!$V$16:$V$200,A37,'Bill of Materials'!$J$16:$J$200)","v":{"v":0,"d":"0%"}},{"$error":"#DIV/0!"},{"$f":"SUMIFS('Bill of Materials'!$I$16:$I$200,'Bill of Materials'!$V$16:$V$200,A37,'Bill of Materials'!$W$16:$W$200,\"Grey\")/SUMIF('Bill of Materials'!$V$16:$V$200,A37,'Bill of Materials'!$I$16:$I$200)","v":{"$error":"#DIV/0!"}},{"$f":"IFERROR((SUMIFS('Bill of Materials'!$Y$16:$Y$200,'Bill of Materials'!$V$16:$V$200,A37,'Bill of Materials'!$W$16:$W$200,\"Grey\")/SUMIF('Bill of Materials'!$V$16:$V$200,A37,'Bill of Materials'!$Y$16:$Y$200)),\"\")","v":""},"",{"$f":"SUMIFS('Bill of Materials'!$I$16:$I$200,'Bill of Materials'!$V$16:$V$200,$A37,'Bill of Materials'!$W$16:$W$200,\"a\")/SUMIF('Bill of Materials'!$V$16:$V$200,$A37,'Bill of Materials'!$I$16:$I$200)","v":{"$error":"#DIV/0!"}},{"$f":"IFERROR((SUMIFS('Bill of Materials'!$Y$16:$Y$200,'Bill of Materials'!$V$16:$V$200,A37,'Bill of Materials'!$W$16:$W$200,\"a\")/SUMIF('Bill of Materials'!$V$16:$V$200,A37,'Bill of Materials'!$Y$16:$Y$200)),\"\")","v":""},"",{"$f":"SUMIFS('Bill of Materials'!$I$16:$I$200,'Bill of Materials'!$V$16:$V$200,$A37,'Bill of Materials'!$W$16:$W$200,\"b\")/SUMIF('Bill of Materials'!$V$16:$V$200,$A37,'Bill of Materials'!$I$16:$I$200)","v":{"$error":"#DIV/0!"}},{"$f":"IFERROR((SUMIFS('Bill of Materials'!$Y$16:$Y$200,'Bill of Materials'!$V$16:$V$200,$A37,'Bill of Materials'!$W$16:$W$200,\"b\")/SUMIF('Bill of Materials'!$V$16:$V$200,$A37,'Bill of Materials'!$Y$16:$Y$200)),\"\")","v":""},"",{"$error":"#DIV/0!"},"",{"$f":"SUMIFS('Bill of Materials'!$I$16:$I$200,'Bill of Materials'!$V$16:$V$200,$A37,'Bill of Materials'!$W$16:$W$200,\"c\")/SUMIF('Bill of Materials'!$V$16:$V$200,$A37,'Bill of Materials'!$I$16:$I$200)","v":{"$error":"#DIV/0!"}},{"$f":"IFERROR((SUMIFS('Bill of Materials'!$Y$16:$Y$200,'Bill of Materials'!$V$16:$V$200,$A37,'Bill of Materials'!$W$16:$W$200,\"c\")/SUMIF('Bill of Materials'!$V$16:$V$200,$A37,'Bill of Materials'!$Y$16:$Y$200)),\"\")","v":""},"",{"$f":"(SUMIFS('Bill of Materials'!$I$16:$I$200,'Bill of Materials'!$V$16:$V$200,$A37,'Bill of Materials'!$W$16:$W$200,\"x\")+SUMIFS('Bill of Materials'!$I$16:$I$200,'Bill of Materials'!$V$16:$V$200,$A37,'Bill of Materials'!$W$16:$W$200,\"x - CMR or SVHC\"))/SUMIF('Bill of Materials'!$V$16:$V$200,$A37,'Bill of Materials'!$I$16:$I$200)","v":{"$error":"#DIV/0!"}},{"$f":"IFERROR(((SUMIFS('Bill of Materials'!$Y$16:$Y$200,'Bill of Materials'!$V$16:$V$200,$A37,'Bill of Materials'!$W$16:$W$200,\"x\")+SUMIFS('Bill of Materials'!$Y$16:$Y$200,'Bill of Materials'!$V$16:$V$200,$A37,'Bill of Materials'!$W$16:$W$200,\"x - CMR or SVHC\"))/SUMIF('Bill of Materials'!$V$16:$V$200,$A37,'Bill of Materials'!$Y$16:$Y$200)),\"\")","v":""},"",{"$error":"#DIV/0!"},"","",""]
[29,{"$f":"SUMIF('Bill of Materials'!$V$16:$V$200,A38,'Bill of Materials'!$J$16:$J$200)","v":{"v":0,"d":"0%"}},{"$error":"#DIV/0!"},{"$f":"SUMIFS('Bill of Materials'!$I$16:$I$200,'Bill of Materials'!$V$16:$V$200,A38,'Bill of Materials'!$W$16:$W$200,\"Grey\")/SUMIF('Bill of Materials'!$V$16:$V$200,A38,'Bill of Materials'!$I$16:$I$200)","v":{"$error":"#DIV/0!"}},{"$f":"IFERROR((SUMIFS('Bill of Materials'!$Y$16:$Y$200,'Bill of Materials'!$V$16:$V$200,A38,'Bill of Materials'!$W$16:$W$200,\"Grey\")/SUMIF('Bill of Materials'!$V$16:$V$200,A38,'Bill of Materials'!$Y$16:$Y$200)),\"\")","v":""},"",{"$f":"SUMIFS('Bill of Materials'!$I$16:$I$200,'Bill of Materials'!$V$16:$V$200,$A38,'Bill of Materials'!$W$16:$W$200,\"a\")/SUMIF('Bill of Materials'!$V$16:$V$200,$A38,'Bill of Materials'!$I$16:$I$200)","v":{"$error":"#DIV/0!"}},{"$f":"IFERROR((SUMIFS('Bill of Materials'!$Y$16:$Y$200,'Bill of Materials'!$V$16:$V$200,A38,'Bill of Materials'!$W$16:$W$200,\"a\")/SUMIF('Bill of Materials'!$V$16:$V$200,A38,'Bill of Materials'!$Y$16:$Y$200)),\"\")","v":""},"",{"$f":"SUMIFS('Bill of Materials'!$I$16:$I$200,'Bill of Materials'!$V$16:$V$200,$A38,'Bill of Materials'!$W$16:$W$200,\"b\")/SUMIF('Bill of Materials'!$V$16:$V$200,$A38,'Bill of Materials'!$I$16:$I$200)","v":{"$error":"#DIV/0!"}},{"$f":"IFERROR((SUMIFS('Bill of Materials'!$Y$16:$Y$200,'Bill of Materials'!$V$16:$V$200,$A38,'Bill of Materials'!$W$16:$W$200,\"b\")/SUMIF('Bill of Materials'!$V$16:$V$200,$A38,'Bill of Materials'!$Y$16:$Y$200)),\"\")","v":""},"",{"$error":"#DIV/0!"},"",{"$f":"SUMIFS('Bill of Materials'!$I$16:$I$200,'Bill of Materials'!$V$16:$V$200,$A38,'Bill of Materials'!$W$16:$W$200,\"c\")/SUMIF('Bill of Materials'!$V$16:$V$200,$A38,'Bill of Materials'!$I$16:$I$200)","v":{"$error":"#DIV/0!"}},{"$f":"IFERROR((SUMIFS('Bill of Materials'!$Y$16:$Y$200,'Bill of Materials'!$V$16:$V$200,$A38,'Bill of Materials'!$W$16:$W$200,\"c\")/SUMIF('Bill of Materials'!$V$16:$V$200,$A38,'Bill of Materials'!$Y$16:$Y$200)),\"\")","v":""},"",{"$f":"(SUMIFS('Bill of Materials'!$I$16:$I$200,'Bill of Materials'!$V$16:$V$200,$A38,'Bill of Materials'!$W$16:$W$200,\"x\")+SUMIFS('Bill of Materials'!$I$16:$I$200,'Bill of Materials'!$V$16:$V$200,$A38,'Bill of Materials'!$W$16:$W$200,\"x - CMR or SVHC\"))/SUMIF('Bill of Materials'!$V$16:$V$200,$A38,'Bill of Materials'!$I$16:$I$200)","v":{"$error":"#DIV/0!"}},{"$f":"IFERROR(((SUMIFS('Bill of Materials'!$Y$16:$Y$200,'Bill of Materials'!$V$16:$V$200,$A38,'Bill of Materials'!$W$16:$W$200,\"x\")+SUMIFS('Bill of Materials'!$Y$16:$Y$200,'Bill of Materials'!$V$16:$V$200,$A38,'Bill of Materials'!$W$16:$W$200,\"x - CMR or SVHC\"))/SUMIF('Bill of Materials'!$V$16:$V$200,$A38,'Bill of Materials'!$Y$16:$Y$200)),\"\")","v":""},"",{"$error":"#DIV/0!"},"","",""]
[30,{"$f":"SUMIF('Bill of Materials'!$V$16:$V$200,A39,'Bill of Materials'!$J$16:$J$200)","v":{"v":0,"d":"0%"}},{"$error":"#DIV/0!"},{"$f":"SUMIFS('Bill of Materials'!$I$16:$I$200,'Bill of Materials'!$V$16:$V$200,A39,'Bill of Materials'!$W$16:$W$200,\"Grey\")/SUMIF('Bill of Materials'!$V$16:$V$200,A39,'Bill of Materials'!$I$16:$I$200)","v":{"$error":"#DIV/0!"}},{"$f":"IFERROR((SUMIFS('Bill of Materials'!$Y$16:$Y$200,'Bill of Materials'!$V$16:$V$200,A39,'Bill of Materials'!$W$16:$W$200,\"Grey\")/SUMIF('Bill of Materials'!$V$16:$V$200,A39,'Bill of Materials'!$Y$16:$Y$200)),\"\")","v":""},"",{"$f":"SUMIFS('Bill of Materials'!$I$16:$I$200,'Bill of Materials'!$V$16:$V$200,$A39,'Bill of Materials'!$W$16:$W$200,\"a\")/SUMIF('Bill of Materials'!$V$16:$V$200,$A39,'Bill of Materials'!$I$16:$I$200)","v":{"$error":"#DIV/0!"}},{"$f":"IFERROR((SUMIFS('Bill of Materials'!$Y$16:$Y$200,'Bill of Materials'!$V$16:$V$200,A39,'Bill of Materials'!$W$16:$W$200,\"a\")/SUMIF('Bill of Materials'!$V$16:$V$200,A39,'Bill of Materials'!$Y$16:$Y$200)),\"\")","v":""},"",{"$f":"SUMIFS('Bill of Materials'!$I$16:$I$200,'Bill of Materials'!$V$16:$V$200,$A39,'Bill of Materials'!$W$16:$W$200,\"b\")/SUMIF('Bill of Materials'!$V$16:$V$200,$A39,'Bill of Materials'!$I$16:$I$200)","v":{"$error":"#DIV/0!"}},{"$f":"IFERROR((SUMIFS('Bill of Materials'!$Y$16:$Y$200,'Bill of Materials'!$V$16:$V$200,$A39,'Bill of Materials'!$W$16:$W$200,\"b\")/SUMIF('Bill of Materials'!$V$16:$V$200,$A39,'Bill of Materials'!$Y$16:$Y$200)),\"\")","v":""},"",{"$error":"#DIV/0!"},"",{"$f":"SUMIFS('Bill of Materials'!$I$16:$I$200,'Bill of Materials'!$V$16:$V$200,$A39,'Bill of Materials'!$W$16:$W$200,\"c\")/SUMIF('Bill of Materials'!$V$16:$V$200,$A39,'Bill of Materials'!$I$16:$I$200)","v":{"$error":"#DIV/0!"}},{"$f":"IFERROR((SUMIFS('Bill of Materials'!$Y$16:$Y$200,'Bill of Materials'!$V$16:$V$200,$A39,'Bill of Materials'!$W$16:$W$200,\"c\")/SUMIF('Bill of Materials'!$V$16:$V$200,$A39,'Bill of Materials'!$Y$16:$Y$200)),\"\")","v":""},"",{"$f":"(SUMIFS('Bill of Materials'!$I$16:$I$200,'Bill of Materials'!$V$16:$V$200,$A39,'Bill of Materials'!$W$16:$W$200,\"x\")+SUMIFS('Bill of Materials'!$I$16:$I$200,'Bill of Materials'!$V$16:$V$200,$A39,'Bill of Materials'!$W$16:$W$200,\"x - CMR or SVHC\"))/SUMIF('Bill of Materials'!$V$16:$V$200,$A39,'Bill of Materials'!$I$16:$I$200)","v":{"$error":"#DIV/0!"}},{"$f":"IFERROR(((SUMIFS('Bill of Materials'!$Y$16:$Y$200,'Bill of Materials'!$V$16:$V$200,$A39,'Bill of Materials'!$W$16:$W$200,\"x\")+SUMIFS('Bill of Materials'!$Y$16:$Y$200,'Bill of Materials'!$V$16:$V$200,$A39,'Bill of Materials'!$W$16:$W$200,\"x - CMR or SVHC\"))/SUMIF('Bill of Materials'!$V$16:$V$200,$A39,'Bill of Materials'!$Y$16:$Y$200)),\"\")","v":""},"",{"$error":"#DIV/0!"},"","",""]
[31,{"$f":"SUMIF('Bill of Materials'!$V$16:$V$200,A40,'Bill of Materials'!$J$16:$J$200)","v":{"v":0,"d":"0%"}},{"$error":"#DIV/0!"},{"$f":"SUMIFS('Bill of Materials'!$I$16:$I$200,'Bill of Materials'!$V$16:$V$200,A40,'Bill of Materials'!$W$16:$W$200,\"Grey\")/SUMIF('Bill of Materials'!$V$16:$V$200,A40,'Bill of Materials'!$I$16:$I$200)","v":{"$error":"#DIV/0!"}},{"$f":"IFERROR((SUMIFS('Bill of Materials'!$Y$16:$Y$200,'Bill of Materials'!$V$16:$V$200,A40,'Bill of Materials'!$W$16:$W$200,\"Grey\")/SUMIF('Bill of Materials'!$V$16:$V$200,A40,'Bill of Materials'!$Y$16:$Y$200)),\"\")","v":""},"",{"$f":"SUMIFS('Bill of Materials'!$I$16:$I$200,'Bill of Materials'!$V$16:$V$200,$A40,'Bill of Materials'!$W$16:$W$200,\"a\")/SUMIF('Bill of Materials'!$V$16:$V$200,$A40,'Bill of Materials'!$I$16:$I$200)","v":{"$error":"#DIV/0!"}},{"$f":"IFERROR((SUMIFS('Bill of Materials'!$Y$16:$Y$200,'Bill of Materials'!$V$16:$V$200,A40,'Bill of Materials'!$W$16:$W$200,\"a\")/SUMIF('Bill of Materials'!$V$16:$V$200,A40,'Bill of Materials'!$Y$16:$Y$200)),\"\")","v":""},"",{"$f":"SUMIFS('Bill of Materials'!$I$16:$I$200,'Bill of Materials'!$V$16:$V$200,$A40,'Bill of Materials'!$W$16:$W$200,\"b\")/SUMIF('Bill of Materials'!$V$16:$V$200,$A40,'Bill of Materials'!$I$16:$I$200)","v":{"$error":"#DIV/0!"}},{"$f":"IFERROR((SUMIFS('Bill of Materials'!$Y$16:$Y$200,'Bill of Materials'!$V$16:$V$200,$A40,'Bill of Materials'!$W$16:$W$200,\"b\")/SUMIF('Bill of Materials'!$V$16:$V$200,$A40,'Bill of Materials'!$Y$16:$Y$200)),\"\")","v":""},"",{"$error":"#DIV/0!"},"",{"$f":"SUMIFS('Bill of Materials'!$I$16:$I$200,'Bill of Materials'!$V$16:$V$200,$A40,'Bill of Materials'!$W$16:$W$200,\"c\")/SUMIF('Bill of Materials'!$V$16:$V$200,$A40,'Bill of Materials'!$I$16:$I$200)","v":{"$error":"#DIV/0!"}},{"$f":"IFERROR((SUMIFS('Bill of Materials'!$Y$16:$Y$200,'Bill of Materials'!$V$16:$V$200,$A40,'Bill of Materials'!$W$16:$W$200,\"c\")/SUMIF('Bill of Materials'!$V$16:$V$200,$A40,'Bill of Materials'!$Y$16:$Y$200)),\"\")","v":""},"",{"$f":"(SUMIFS('Bill of Materials'!$I$16:$I$200,'Bill of Materials'!$V$16:$V$200,$A40,'Bill of Materials'!$W$16:$W$200,\"x\")+SUMIFS('Bill of Materials'!$I$16:$I$200,'Bill of Materials'!$V$16:$V$200,$A40,'Bill of Materials'!$W$16:$W$200,\"x - CMR or SVHC\"))/SUMIF('Bill of Materials'!$V$16:$V$200,$A40,'Bill of Materials'!$I$16:$I$200)","v":{"$error":"#DIV/0!"}},{"$f":"IFERROR(((SUMIFS('Bill of Materials'!$Y$16:$Y$200,'Bill of Materials'!$V$16:$V$200,$A40,'Bill of Materials'!$W$16:$W$200,\"x\")+SUMIFS('Bill of Materials'!$Y$16:$Y$200,'Bill of Materials'!$V$16:$V$200,$A40,'Bill of Materials'!$W$16:$W$200,\"x - CMR or SVHC\"))/SUMIF('Bill of Materials'!$V$16:$V$200,$A40,'Bill of Materials'!$Y$16:$Y$200)),\"\")","v":""},"",{"$error":"#DIV/0!"},"","",""]
[32,{"$f":"SUMIF('Bill of Materials'!$V$16:$V$200,A41,'Bill of Materials'!$J$16:$J$200)","v":{"v":0,"d":"0%"}},{"$error":"#DIV/0!"},{"$f":"SUMIFS('Bill of Materials'!$I$16:$I$200,'Bill of Materials'!$V$16:$V$200,A41,'Bill of Materials'!$W$16:$W$200,\"Grey\")/SUMIF('Bill of Materials'!$V$16:$V$200,A41,'Bill of Materials'!$I$16:$I$200)","v":{"$error":"#DIV/0!"}},{"$f":"IFERROR((SUMIFS('Bill of Materials'!$Y$16:$Y$200,'Bill of Materials'!$V$16:$V$200,A41,'Bill of Materials'!$W$16:$W$200,\"Grey\")/SUMIF('Bill of Materials'!$V$16:$V$200,A41,'Bill of Materials'!$Y$16:$Y$200)),\"\")","v":""},"",{"$f":"SUMIFS('Bill of Materials'!$I$16:$I$200,'Bill of Materials'!$V$16:$V$200,$A41,'Bill of Materials'!$W$16:$W$200,\"a\")/SUMIF('Bill of Materials'!$V$16:$V$200,$A41,'Bill of Materials'!$I$16:$I$200)","v":{"$error":"#DIV/0!"}},{"$f":"IFERROR((SUMIFS('Bill of Materials'!$Y$16:$Y$200,'Bill of Materials'!$V$16:$V$200,A41,'Bill of Materials'!$W$16:$W$200,\"a\")/SUMIF('Bill of Materials'!$V$16:$V$200,A41,'Bill of Materials'!$Y$16:$Y$200)),\"\")","v":""},"",{"$f":"SUMIFS('Bill of Materials'!$I$16:$I$200,'Bill of Materials'!$V$16:$V$200,$A41,'Bill of Materials'!$W$16:$W$200,\"b\")/SUMIF('Bill of Materials'!$V$16:$V$200,$A41,'Bill of Materials'!$I$16:$I$200)","v":{"$error":"#DIV/0!"}},{"$f":"IFERROR((SUMIFS('Bill of Materials'!$Y$16:$Y$200,'Bill of Materials'!$V$16:$V$200,$A41,'Bill of Materials'!$W$16:$W$200,\"b\")/SUMIF('Bill of Materials'!$V$16:$V$200,$A41,'Bill of Materials'!$Y$16:$Y$200)),\"\")","v":""},"",{"$error":"#DIV/0!"},"",{"$f":"SUMIFS('Bill of Materials'!$I$16:$I$200,'Bill of Materials'!$V$16:$V$200,$A41,'Bill of Materials'!$W$16:$W$200,\"c\")/SUMIF('Bill of Materials'!$V$16:$V$200,$A41,'Bill of Materials'!$I$16:$I$200)","v":{"$error":"#DIV/0!"}},{"$f":"IFERROR((SUMIFS('Bill of Materials'!$Y$16:$Y$200,'Bill of Materials'!$V$16:$V$200,$A41,'Bill of Materials'!$W$16:$W$200,\"c\")/SUMIF('Bill of Materials'!$V$16:$V$200,$A41,'Bill of Materials'!$Y$16:$Y$200)),\"\")","v":""},"",{"$f":"(SUMIFS('Bill of Materials'!$I$16:$I$200,'Bill of Materials'!$V$16:$V$200,$A41,'Bill of Materials'!$W$16:$W$200,\"x\")+SUMIFS('Bill of Materials'!$I$16:$I$200,'Bill of Materials'!$V$16:$V$200,$A41,'Bill of Materials'!$W$16:$W$200,\"x - CMR or SVHC\"))/SUMIF('Bill of Materials'!$V$16:$V$200,$A41,'Bill of Materials'!$I$16:$I$200)","v":{"$error":"#DIV/0!"}},{"$f":"IFERROR(((SUMIFS('Bill of Materials'!$Y$16:$Y$200,'Bill of Materials'!$V$16:$V$200,$A41,'Bill of Materials'!$W$16:$W$200,\"x\")+SUMIFS('Bill of Materials'!$Y$16:$Y$200,'Bill of Materials'!$V$16:$V$200,$A41,'Bill of Materials'!$W$16:$W$200,\"x - CMR or SVHC\"))/SUMIF('Bill of Materials'!$V$16:$V$200,$A41,'Bill of Materials'!$Y$16:$Y$200)),\"\")","v":""},"",{"$error":"#DIV/0!"},"","",""]
[33,{"$f":"SUMIF('Bill of Materials'!$V$16:$V$200,A42,'Bill of Materials'!$J$16:$J$200)","v":{"v":0,"d":"0%"}},{"$error":"#DIV/0!"},{"$f":"SUMIFS('Bill of Materials'!$I$16:$I$200,'Bill of Materials'!$V$16:$V$200,A42,'Bill of Materials'!$W$16:$W$200,\"Grey\")/SUMIF('Bill of Materials'!$V$16:$V$200,A42,'Bill of Materials'!$I$16:$I$200)","v":{"$error":"#DIV/0!"}},{"$f":"IFERROR((SUMIFS('Bill of Materials'!$Y$16:$Y$200,'Bill of Materials'!$V$16:$V$200,A42,'Bill of Materials'!$W$16:$W$200,\"Grey\")/SUMIF('Bill of Materials'!$V$16:$V$200,A42,'Bill of Materials'!$Y$16:$Y$200)),\"\")","v":""},"",{"$f":"SUMIFS('Bill of Materials'!$I$16:$I$200,'Bill of Materials'!$V$16:$V$200,$A42,'Bill of Materials'!$W$16:$W$200,\"a\")/SUMIF('Bill of Materials'!$V$16:$V$200,$A42,'Bill of Materials'!$I$16:$I$200)","v":{"$error":"#DIV/0!"}},{"$f":"IFERROR((SUMIFS('Bill of Materials'!$Y$16:$Y$200,'Bill of Materials'!$V$16:$V$200,A42,'Bill of Materials'!$W$16:$W$200,\"a\")/SUMIF('Bill of Materials'!$V$16:$V$200,A42,'Bill of Materials'!$Y$16:$Y$200)),\"\")","v":""},"",{"$f":"SUMIFS('Bill of Materials'!$I$16:$I$200,'Bill of Materials'!$V$16:$V$200,$A42,'Bill of Materials'!$W$16:$W$200,\"b\")/SUMIF('Bill of Materials'!$V$16:$V$200,$A42,'Bill of Materials'!$I$16:$I$200)","v":{"$error":"#DIV/0!"}},{"$f":"IFERROR((SUMIFS('Bill of Materials'!$Y$16:$Y$200,'Bill of Materials'!$V$16:$V$200,$A42,'Bill of Materials'!$W$16:$W$200,\"b\")/SUMIF('Bill of Materials'!$V$16:$V$200,$A42,'Bill of Materials'!$Y$16:$Y$200)),\"\")","v":""},"",{"$error":"#DIV/0!"},"",{"$f":"SUMIFS('Bill of Materials'!$I$16:$I$200,'Bill of Materials'!$V$16:$V$200,$A42,'Bill of Materials'!$W$16:$W$200,\"c\")/SUMIF('Bill of Materials'!$V$16:$V$200,$A42,'Bill of Materials'!$I$16:$I$200)","v":{"$error":"#DIV/0!"}},{"$f":"IFERROR((SUMIFS('Bill of Materials'!$Y$16:$Y$200,'Bill of Materials'!$V$16:$V$200,$A42,'Bill of Materials'!$W$16:$W$200,\"c\")/SUMIF('Bill of Materials'!$V$16:$V$200,$A42,'Bill of Materials'!$Y$16:$Y$200)),\"\")","v":""},"",{"$f":"(SUMIFS('Bill of Materials'!$I$16:$I$200,'Bill of Materials'!$V$16:$V$200,$A42,'Bill of Materials'!$W$16:$W$200,\"x\")+SUMIFS('Bill of Materials'!$I$16:$I$200,'Bill of Materials'!$V$16:$V$200,$A42,'Bill of Materials'!$W$16:$W$200,\"x - CMR or SVHC\"))/SUMIF('Bill of Materials'!$V$16:$V$200,$A42,'Bill of Materials'!$I$16:$I$200)","v":{"$error":"#DIV/0!"}},{"$f":"IFERROR(((SUMIFS('Bill of Materials'!$Y$16:$Y$200,'Bill of Materials'!$V$16:$V$200,$A42,'Bill of Materials'!$W$16:$W$200,\"x\")+SUMIFS('Bill of Materials'!$Y$16:$Y$200,'Bill of Materials'!$V$16:$V$200,$A42,'Bill of Materials'!$W$16:$W$200,\"x - CMR or SVHC\"))/SUMIF('Bill of Materials'!$V$16:$V$200,$A42,'Bill of Materials'!$Y$16:$Y$200)),\"\")","v":""},"",{"$error":"#DIV/0!"},"","",""]
[34,{"$f":"SUMIF('Bill of Materials'!$V$16:$V$200,A43,'Bill of Materials'!$J$16:$J$200)","v":{"v":0,"d":"0%"}},{"$error":"#DIV/0!"},{"$f":"SUMIFS('Bill of Materials'!$I$16:$I$200,'Bill of Materials'!$V$16:$V$200,A43,'Bill of Materials'!$W$16:$W$200,\"Grey\")/SUMIF('Bill of Materials'!$V$16:$V$200,A43,'Bill of Materials'!$I$16:$I$200)","v":{"$error":"#DIV/0!"}},{"$f":"IFERROR((SUMIFS('Bill of Materials'!$Y$16:$Y$200,'Bill of Materials'!$V$16:$V$200,A43,'Bill of Materials'!$W$16:$W$200,\"Grey\")/SUMIF('Bill of Materials'!$V$16:$V$200,A43,'Bill of Materials'!$Y$16:$Y$200)),\"\")","v":""},"",{"$f":"SUMIFS('Bill of Materials'!$I$16:$I$200,'Bill of Materials'!$V$16:$V$200,$A43,'Bill of Materials'!$W$16:$W$200,\"a\")/SUMIF('Bill of Materials'!$V$16:$V$200,$A43,'Bill of Materials'!$I$16:$I$200)","v":{"$error":"#DIV/0!"}},{"$f":"IFERROR((SUMIFS('Bill of Materials'!$Y$16:$Y$200,'Bill of Materials'!$V$16:$V$200,A43,'Bill of Materials'!$W$16:$W$200,\"a\")/SUMIF('Bill of Materials'!$V$16:$V$200,A43,'Bill of Materials'!$Y$16:$Y$200)),\"\")","v":""},"",{"$f":"SUMIFS('Bill of Materials'!$I$16:$I$200,'Bill of Materials'!$V$16:$V$200,$A43,'Bill of Materials'!$W$16:$W$200,\"b\")/SUMIF('Bill of Materials'!$V$16:$V$200,$A43,'Bill of Materials'!$I$16:$I$200)","v":{"$error":"#DIV/0!"}},{"$f":"IFERROR((SUMIFS('Bill of Materials'!$Y$16:$Y$200,'Bill of Materials'!$V$16:$V$200,$A43,'Bill of Materials'!$W$16:$W$200,\"b\")/SUMIF('Bill of Materials'!$V$16:$V$200,$A43,'Bill of Materials'!$Y$16:$Y$200)),\"\")","v":""},"",{"$error":"#DIV/0!"},"",{"$f":"SUMIFS('Bill of Materials'!$I$16:$I$200,'Bill of Materials'!$V$16:$V$200,$A43,'Bill of Materials'!$W$16:$W$200,\"c\")/SUMIF('Bill of Materials'!$V$16:$V$200,$A43,'Bill of Materials'!$I$16:$I$200)","v":{"$error":"#DIV/0!"}},{"$f":"IFERROR((SUMIFS('Bill of Materials'!$Y$16:$Y$200,'Bill of Materials'!$V$16:$V$200,$A43,'Bill of Materials'!$W$16:$W$200,\"c\")/SUMIF('Bill of Materials'!$V$16:$V$200,$A43,'Bill of Materials'!$Y$16:$Y$200)),\"\")","v":""},"",{"$f":"(SUMIFS('Bill of Materials'!$I$16:$I$200,'Bill of Materials'!$V$16:$V$200,$A43,'Bill of Materials'!$W$16:$W$200,\"x\")+SUMIFS('Bill of Materials'!$I$16:$I$200,'Bill of Materials'!$V$16:$V$200,$A43,'Bill of Materials'!$W$16:$W$200,\"x - CMR or SVHC\"))/SUMIF('Bill of Materials'!$V$16:$V$200,$A43,'Bill of Materials'!$I$16:$I$200)","v":{"$error":"#DIV/0!"}},{"$f":"IFERROR(((SUMIFS('Bill of Materials'!$Y$16:$Y$200,'Bill of Materials'!$V$16:$V$200,$A43,'Bill of Materials'!$W$16:$W$200,\"x\")+SUMIFS('Bill of Materials'!$Y$16:$Y$200,'Bill of Materials'!$V$16:$V$200,$A43,'Bill of Materials'!$W$16:$W$200,\"x - CMR or SVHC\"))/SUMIF('Bill of Materials'!$V$16:$V$200,$A43,'Bill of Materials'!$Y$16:$Y$200)),\"\")","v":""},"",{"$error":"#DIV/0!"},"","",""]
[35,{"$f":"SUMIF('Bill of Materials'!$V$16:$V$200,A44,'Bill of Materials'!$J$16:$J$200)","v":{"v":0,"d":"0%"}},{"$error":"#DIV/0!"},{"$f":"SUMIFS('Bill of Materials'!$I$16:$I$200,'Bill of Materials'!$V$16:$V$200,A44,'Bill of Materials'!$W$16:$W$200,\"Grey\")/SUMIF('Bill of Materials'!$V$16:$V$200,A44,'Bill of Materials'!$I$16:$I$200)","v":{"$error":"#DIV/0!"}},{"$f":"IFERROR((SUMIFS('Bill of Materials'!$Y$16:$Y$200,'Bill of Materials'!$V$16:$V$200,A44,'Bill of Materials'!$W$16:$W$200,\"Grey\")/SUMIF('Bill of Materials'!$V$16:$V$200,A44,'Bill of Materials'!$Y$16:$Y$200)),\"\")","v":""},"",{"$f":"SUMIFS('Bill of Materials'!$I$16:$I$200,'Bill of Materials'!$V$16:$V$200,$A44,'Bill of Materials'!$W$16:$W$200,\"a\")/SUMIF('Bill of Materials'!$V$16:$V$200,$A44,'Bill of Materials'!$I$16:$I$200)","v":{"$error":"#DIV/0!"}},{"$f":"IFERROR((SUMIFS('Bill of Materials'!$Y$16:$Y$200,'Bill of Materials'!$V$16:$V$200,A44,'Bill of Materials'!$W$16:$W$200,\"a\")/SUMIF('Bill of Materials'!$V$16:$V$200,A44,'Bill of Materials'!$Y$16:$Y$200)),\"\")","v":""},"",{"$f":"SUMIFS('Bill of Materials'!$I$16:$I$200,'Bill of Materials'!$V$16:$V$200,$A44,'Bill of Materials'!$W$16:$W$200,\"b\")/SUMIF('Bill of Materials'!$V$16:$V$200,$A44,'Bill of Materials'!$I$16:$I$200)","v":{"$error":"#DIV/0!"}},{"$f":"IFERROR((SUMIFS('Bill of Materials'!$Y$16:$Y$200,'Bill of Materials'!$V$16:$V$200,$A44,'Bill of Materials'!$W$16:$W$200,\"b\")/SUMIF('Bill of Materials'!$V$16:$V$200,$A44,'Bill of Materials'!$Y$16:$Y$200)),\"\")","v":""},"",{"$error":"#DIV/0!"},"",{"$f":"SUMIFS('Bill of Materials'!$I$16:$I$200,'Bill of Materials'!$V$16:$V$200,$A44,'Bill of Materials'!$W$16:$W$200,\"c\")/SUMIF('Bill of Materials'!$V$16:$V$200,$A44,'Bill of Materials'!$I$16:$I$200)","v":{"$error":"#DIV/0!"}},{"$f":"IFERROR((SUMIFS('Bill of Materials'!$Y$16:$Y$200,'Bill of Materials'!$V$16:$V$200,$A44,'Bill of Materials'!$W$16:$W$200,\"c\")/SUMIF('Bill of Materials'!$V$16:$V$200,$A44,'Bill of Materials'!$Y$16:$Y$200)),\"\")","v":""},"",{"$f":"(SUMIFS('Bill of Materials'!$I$16:$I$200,'Bill of Materials'!$V$16:$V$200,$A44,'Bill of Materials'!$W$16:$W$200,\"x\")+SUMIFS('Bill of Materials'!$I$16:$I$200,'Bill of Materials'!$V$16:$V$200,$A44,'Bill of Materials'!$W$16:$W$200,\"x - CMR or SVHC\"))/SUMIF('Bill of Materials'!$V$16:$V$200,$A44,'Bill of Materials'!$I$16:$I$200)","v":{"$error":"#DIV/0!"}},{"$f":"IFERROR(((SUMIFS('Bill of Materials'!$Y$16:$Y$200,'Bill of Materials'!$V$16:$V$200,$A44,'Bill of Materials'!$W$16:$W$200,\"x\")+SUMIFS('Bill of Materials'!$Y$16:$Y$200,'Bill of Materials'!$V$16:$V$200,$A44,'Bill of Materials'!$W$16:$W$200,\"x - CMR or SVHC\"))/SUMIF('Bill of Materials'!$V$16:$V$200,$A44,'Bill of Materials'!$Y$16:$Y$200)),\"\")","v":""},"",{"$error":"#DIV/0!"},"","",""]
[36,{"$f":"SUMIF('Bill of Materials'!$V$16:$V$200,A45,'Bill of Materials'!$J$16:$J$200)","v":{"v":0,"d":"0%"}},{"$error":"#DIV/0!"},{"$f":"SUMIFS('Bill of Materials'!$I$16:$I$200,'Bill of Materials'!$V$16:$V$200,A45,'Bill of Materials'!$W$16:$W$200,\"Grey\")/SUMIF('Bill of Materials'!$V$16:$V$200,A45,'Bill of Materials'!$I$16:$I$200)","v":{"$error":"#DIV/0!"}},{"$f":"IFERROR((SUMIFS('Bill of Materials'!$Y$16:$Y$200,'Bill of Materials'!$V$16:$V$200,A45,'Bill of Materials'!$W$16:$W$200,\"Grey\")/SUMIF('Bill of Materials'!$V$16:$V$200,A45,'Bill of Materials'!$Y$16:$Y$200)),\"\")","v":""},"",{"$f":"SUMIFS('Bill of Materials'!$I$16:$I$200,'Bill of Materials'!$V$16:$V$200,$A45,'Bill of Materials'!$W$16:$W$200,\"a\")/SUMIF('Bill of Materials'!$V$16:$V$200,$A45,'Bill of Materials'!$I$16:$I$200)","v":{"$error":"#DIV/0!"}},{"$f":"IFERROR((SUMIFS('Bill of Materials'!$Y$16:$Y$200,'Bill of Materials'!$V$16:$V$200,A45,'Bill of Materials'!$W$16:$W$200,\"a\")/SUMIF('Bill of Materials'!$V$16:$V$200,A45,'Bill of Materials'!$Y$16:$Y$200)),\"\")","v":""},"",{"$f":"SUMIFS('Bill of Materials'!$I$16:$I$200,'Bill of Materials'!$V$16:$V$200,$A45,'Bill of Materials'!$W$16:$W$200,\"b\")/SUMIF('Bill of Materials'!$V$16:$V$200,$A45,'Bill of Materials'!$I$16:$I$200)","v":{"$error":"#DIV/0!"}},{"$f":"IFERROR((SUMIFS('Bill of Materials'!$Y$16:$Y$200,'Bill of Materials'!$V$16:$V$200,$A45,'Bill of Materials'!$W$16:$W$200,\"b\")/SUMIF('Bill of Materials'!$V$16:$V$200,$A45,'Bill of Materials'!$Y$16:$Y$200)),\"\")","v":""},"",{"$error":"#DIV/0!"},"",{"$f":"SUMIFS('Bill of Materials'!$I$16:$I$200,'Bill of Materials'!$V$16:$V$200,$A45,'Bill of Materials'!$W$16:$W$200,\"c\")/SUMIF('Bill of Materials'!$V$16:$V$200,$A45,'Bill of Materials'!$I$16:$I$200)","v":{"$error":"#DIV/0!"}},{"$f":"IFERROR((SUMIFS('Bill of Materials'!$Y$16:$Y$200,'Bill of Materials'!$V$16:$V$200,$A45,'Bill of Materials'!$W$16:$W$200,\"c\")/SUMIF('Bill of Materials'!$V$16:$V$200,$A45,'Bill of Materials'!$Y$16:$Y$200)),\"\")","v":""},"",{"$f":"(SUMIFS('Bill of Materials'!$I$16:$I$200,'Bill of Materials'!$V$16:$V$200,$A45,'Bill of Materials'!$W$16:$W$200,\"x\")+SUMIFS('Bill of Materials'!$I$16:$I$200,'Bill of Materials'!$V$16:$V$200,$A45,'Bill of Materials'!$W$16:$W$200,\"x - CMR or SVHC\"))/SUMIF('Bill of Materials'!$V$16:$V$200,$A45,'Bill of Materials'!$I$16:$I$200)","v":{"$error":"#DIV/0!"}},{"$f":"IFERROR(((SUMIFS('Bill of Materials'!$Y$16:$Y$200,'Bill of Materials'!$V$16:$V$200,$A45,'Bill of Materials'!$W$16:$W$200,\"x\")+SUMIFS('Bill of Materials'!$Y$16:$Y$200,'Bill of Materials'!$V$16:$V$200,$A45,'Bill of Materials'!$W$16:$W$200,\"x - CMR or SVHC\"))/SUMIF('Bill of Materials'!$V$16:$V$200,$A45,'Bill of Materials'!$Y$16:$Y$200)),\"\")","v":""},"",{"$error":"#DIV/0!"},"","",""]
[37,{"$f":"SUMIF('Bill of Materials'!$V$16:$V$200,A46,'Bill of Materials'!$J$16:$J$200)","v":{"v":0,"d":"0%"}},{"$error":"#DIV/0!"},{"$f":"SUMIFS('Bill of Materials'!$I$16:$I$200,'Bill of Materials'!$V$16:$V$200,A46,'Bill of Materials'!$W$16:$W$200,\"Grey\")/SUMIF('Bill of Materials'!$V$16:$V$200,A46,'Bill of Materials'!$I$16:$I$200)","v":{"$error":"#DIV/0!"}},{"$f":"IFERROR((SUMIFS('Bill of Materials'!$Y$16:$Y$200,'Bill of Materials'!$V$16:$V$200,A46,'Bill of Materials'!$W$16:$W$200,\"Grey\")/SUMIF('Bill of Materials'!$V$16:$V$200,A46,'Bill of Materials'!$Y$16:$Y$200)),\"\")","v":""},"",{"$f":"SUMIFS('Bill of Materials'!$I$16:$I$200,'Bill of Materials'!$V$16:$V$200,$A46,'Bill of Materials'!$W$16:$W$200,\"a\")/SUMIF('Bill of Materials'!$V$16:$V$200,$A46,'Bill of Materials'!$I$16:$I$200)","v":{"$error":"#DIV/0!"}},{"$f":"IFERROR((SUMIFS('Bill of Materials'!$Y$16:$Y$200,'Bill of Materials'!$V$16:$V$200,A46,'Bill of Materials'!$W$16:$W$200,\"a\")/SUMIF('Bill of Materials'!$V$16:$V$200,A46,'Bill of Materials'!$Y$16:$Y$200)),\"\")","v":""},"",{"$f":"SUMIFS('Bill of Materials'!$I$16:$I$200,'Bill of Materials'!$V$16:$V$200,$A46,'Bill of Materials'!$W$16:$W$200,\"b\")/SUMIF('Bill of Materials'!$V$16:$V$200,$A46,'Bill of Materials'!$I$16:$I$200)","v":{"$error":"#DIV/0!"}},{"$f":"IFERROR((SUMIFS('Bill of Materials'!$Y$16:$Y$200,'Bill of Materials'!$V$16:$V$200,$A46,'Bill of Materials'!$W$16:$W$200,\"b\")/SUMIF('Bill of Materials'!$V$16:$V$200,$A46,'Bill of Materials'!$Y$16:$Y$200)),\"\")","v":""},"",{"$error":"#DIV/0!"},"",{"$f":"SUMIFS('Bill of Materials'!$I$16:$I$200,'Bill of Materials'!$V$16:$V$200,$A46,'Bill of Materials'!$W$16:$W$200,\"c\")/SUMIF('Bill of Materials'!$V$16:$V$200,$A46,'Bill of Materials'!$I$16:$I$200)","v":{"$error":"#DIV/0!"}},{"$f":"IFERROR((SUMIFS('Bill of Materials'!$Y$16:$Y$200,'Bill of Materials'!$V$16:$V$200,$A46,'Bill of Materials'!$W$16:$W$200,\"c\")/SUMIF('Bill of Materials'!$V$16:$V$200,$A46,'Bill of Materials'!$Y$16:$Y$200)),\"\")","v":""},"",{"$f":"(SUMIFS('Bill of Materials'!$I$16:$I$200,'Bill of Materials'!$V$16:$V$200,$A46,'Bill of Materials'!$W$16:$W$200,\"x\")+SUMIFS('Bill of Materials'!$I$16:$I$200,'Bill of Materials'!$V$16:$V$200,$A46,'Bill of Materials'!$W$16:$W$200,\"x - CMR or SVHC\"))/SUMIF('Bill of Materials'!$V$16:$V$200,$A46,'Bill of Materials'!$I$16:$I$200)","v":{"$error":"#DIV/0!"}},{"$f":"IFERROR(((SUMIFS('Bill of Materials'!$Y$16:$Y$200,'Bill of Materials'!$V$16:$V$200,$A46,'Bill of Materials'!$W$16:$W$200,\"x\")+SUMIFS('Bill of Materials'!$Y$16:$Y$200,'Bill of Materials'!$V$16:$V$200,$A46,'Bill of Materials'!$W$16:$W$200,\"x - CMR or SVHC\"))/SUMIF('Bill of Materials'!$V$16:$V$200,$A46,'Bill of Materials'!$Y$16:$Y$200)),\"\")","v":""},"",{"$error":"#DIV/0!"},"","",""]
[38,{"$f":"SUMIF('Bill of Materials'!$V$16:$V$200,A47,'Bill of Materials'!$J$16:$J$200)","v":{"v":0,"d":"0%"}},{"$error":"#DIV/0!"},{"$f":"SUMIFS('Bill of Materials'!$I$16:$I$200,'Bill of Materials'!$V$16:$V$200,A47,'Bill of Materials'!$W$16:$W$200,\"Grey\")/SUMIF('Bill of Materials'!$V$16:$V$200,A47,'Bill of Materials'!$I$16:$I$200)","v":{"$error":"#DIV/0!"}},{"$f":"IFERROR((SUMIFS('Bill of Materials'!$Y$16:$Y$200,'Bill of Materials'!$V$16:$V$200,A47,'Bill of Materials'!$W$16:$W$200,\"Grey\")/SUMIF('Bill of Materials'!$V$16:$V$200,A47,'Bill of Materials'!$Y$16:$Y$200)),\"\")","v":""},"",{"$f":"SUMIFS('Bill of Materials'!$I$16:$I$200,'Bill of Materials'!$V$16:$V$200,$A47,'Bill of Materials'!$W$16:$W$200,\"a\")/SUMIF('Bill of Materials'!$V$16:$V$200,$A47,'Bill of Materials'!$I$16:$I$200)","v":{"$error":"#DIV/0!"}},{"$f":"IFERROR((SUMIFS('Bill of Materials'!$Y$16:$Y$200,'Bill of Materials'!$V$16:$V$200,A47,'Bill of Materials'!$W$16:$W$200,\"a\")/SUMIF('Bill of Materials'!$V$16:$V$200,A47,'Bill of Materials'!$Y$16:$Y$200)),\"\")","v":""},"",{"$f":"SUMIFS('Bill of Materials'!$I$16:$I$200,'Bill of Materials'!$V$16:$V$200,$A47,'Bill of Materials'!$W$16:$W$200,\"b\")/SUMIF('Bill of Materials'!$V$16:$V$200,$A47,'Bill of Materials'!$I$16:$I$200)","v":{"$error":"#DIV/0!"}},{"$f":"IFERROR((SUMIFS('Bill of Materials'!$Y$16:$Y$200,'Bill of Materials'!$V$16:$V$200,$A47,'Bill of Materials'!$W$16:$W$200,\"b\")/SUMIF('Bill of Materials'!$V$16:$V$200,$A47,'Bill of Materials'!$Y$16:$Y$200)),\"\")","v":""},"",{"$error":"#DIV/0!"},"",{"$f":"SUMIFS('Bill of Materials'!$I$16:$I$200,'Bill of Materials'!$V$16:$V$200,$A47,'Bill of Materials'!$W$16:$W$200,\"c\")/SUMIF('Bill of Materials'!$V$16:$V$200,$A47,'Bill of Materials'!$I$16:$I$200)","v":{"$error":"#DIV/0!"}},{"$f":"IFERROR((SUMIFS('Bill of Materials'!$Y$16:$Y$200,'Bill of Materials'!$V$16:$V$200,$A47,'Bill of Materials'!$W$16:$W$200,\"c\")/SUMIF('Bill of Materials'!$V$16:$V$200,$A47,'Bill of Materials'!$Y$16:$Y$200)),\"\")","v":""},"",{"$f":"(SUMIFS('Bill of Materials'!$I$16:$I$200,'Bill of Materials'!$V$16:$V$200,$A47,'Bill of Materials'!$W$16:$W$200,\"x\")+SUMIFS('Bill of Materials'!$I$16:$I$200,'Bill of Materials'!$V$16:$V$200,$A47,'Bill of Materials'!$W$16:$W$200,\"x - CMR or SVHC\"))/SUMIF('Bill of Materials'!$V$16:$V$200,$A47,'Bill of Materials'!$I$16:$I$200)","v":{"$error":"#DIV/0!"}},{"$f":"IFERROR(((SUMIFS('Bill of Materials'!$Y$16:$Y$200,'Bill of Materials'!$V$16:$V$200,$A47,'Bill of Materials'!$W$16:$W$200,\"x\")+SUMIFS('Bill of Materials'!$Y$16:$Y$200,'Bill of Materials'!$V$16:$V$200,$A47,'Bill of Materials'!$W$16:$W$200,\"x - CMR or SVHC\"))/SUMIF('Bill of Materials'!$V$16:$V$200,$A47,'Bill of Materials'!$Y$16:$Y$200)),\"\")","v":""},"",{"$error":"#DIV/0!"},"","",""]
[39,{"$f":"SUMIF('Bill of Materials'!$V$16:$V$200,A48,'Bill of Materials'!$J$16:$J$200)","v":{"v":0,"d":"0%"}},{"$error":"#DIV/0!"},{"$f":"SUMIFS('Bill of Materials'!$I$16:$I$200,'Bill of Materials'!$V$16:$V$200,A48,'Bill of Materials'!$W$16:$W$200,\"Grey\")/SUMIF('Bill of Materials'!$V$16:$V$200,A48,'Bill of Materials'!$I$16:$I$200)","v":{"$error":"#DIV/0!"}},{"$f":"IFERROR((SUMIFS('Bill of Materials'!$Y$16:$Y$200,'Bill of Materials'!$V$16:$V$200,A48,'Bill of Materials'!$W$16:$W$200,\"Grey\")/SUMIF('Bill of Materials'!$V$16:$V$200,A48,'Bill of Materials'!$Y$16:$Y$200)),\"\")","v":""},"",{"$f":"SUMIFS('Bill of Materials'!$I$16:$I$200,'Bill of Materials'!$V$16:$V$200,$A48,'Bill of Materials'!$W$16:$W$200,\"a\")/SUMIF('Bill of Materials'!$V$16:$V$200,$A48,'Bill of Materials'!$I$16:$I$200)","v":{"$error":"#DIV/0!"}},{"$f":"IFERROR((SUMIFS('Bill of Materials'!$Y$16:$Y$200,'Bill of Materials'!$V$16:$V$200,A48,'Bill of Materials'!$W$16:$W$200,\"a\")/SUMIF('Bill of Materials'!$V$16:$V$200,A48,'Bill of Materials'!$Y$16:$Y$200)),\"\")","v":""},"",{"$f":"SUMIFS('Bill of Materials'!$I$16:$I$200,'Bill of Materials'!$V$16:$V$200,$A48,'Bill of Materials'!$W$16:$W$200,\"b\")/SUMIF('Bill of Materials'!$V$16:$V$200,$A48,'Bill of Materials'!$I$16:$I$200)","v":{"$error":"#DIV/0!"}},{"$f":"IFERROR((SUMIFS('Bill of Materials'!$Y$16:$Y$200,'Bill of Materials'!$V$16:$V$200,$A48,'Bill of Materials'!$W$16:$W$200,\"b\")/SUMIF('Bill of Materials'!$V$16:$V$200,$A48,'Bill of Materials'!$Y$16:$Y$200)),\"\")","v":""},"",{"$error":"#DIV/0!"},"",{"$f":"SUMIFS('Bill of Materials'!$I$16:$I$200,'Bill of Materials'!$V$16:$V$200,$A48,'Bill of Materials'!$W$16:$W$200,\"c\")/SUMIF('Bill of Materials'!$V$16:$V$200,$A48,'Bill of Materials'!$I$16:$I$200)","v":{"$error":"#DIV/0!"}},{"$f":"IFERROR((SUMIFS('Bill of Materials'!$Y$16:$Y$200,'Bill of Materials'!$V$16:$V$200,$A48,'Bill of Materials'!$W$16:$W$200,\"c\")/SUMIF('Bill of Materials'!$V$16:$V$200,$A48,'Bill of Materials'!$Y$16:$Y$200)),\"\")","v":""},"",{"$f":"(SUMIFS('Bill of Materials'!$I$16:$I$200,'Bill of Materials'!$V$16:$V$200,$A48,'Bill of Materials'!$W$16:$W$200,\"x\")+SUMIFS('Bill of Materials'!$I$16:$I$200,'Bill of Materials'!$V$16:$V$200,$A48,'Bill of Materials'!$W$16:$W$200,\"x - CMR or SVHC\"))/SUMIF('Bill of Materials'!$V$16:$V$200,$A48,'Bill of Materials'!$I$16:$I$200)","v":{"$error":"#DIV/0!"}},{"$f":"IFERROR(((SUMIFS('Bill of Materials'!$Y$16:$Y$200,'Bill of Materials'!$V$16:$V$200,$A48,'Bill of Materials'!$W$16:$W$200,\"x\")+SUMIFS('Bill of Materials'!$Y$16:$Y$200,'Bill of Materials'!$V$16:$V$200,$A48,'Bill of Materials'!$W$16:$W$200,\"x - CMR or SVHC\"))/SUMIF('Bill of Materials'!$V$16:$V$200,$A48,'Bill of Materials'!$Y$16:$Y$200)),\"\")","v":""},"",{"$error":"#DIV/0!"},"","",""]
[40,{"$f":"SUMIF('Bill of Materials'!$V$16:$V$200,A49,'Bill of Materials'!$J$16:$J$200)","v":{"v":0,"d":"0%"}},{"$error":"#DIV/0!"},{"$f":"SUMIFS('Bill of Materials'!$I$16:$I$200,'Bill of Materials'!$V$16:$V$200,A49,'Bill of Materials'!$W$16:$W$200,\"Grey\")/SUMIF('Bill of Materials'!$V$16:$V$200,A49,'Bill of Materials'!$I$16:$I$200)","v":{"$error":"#DIV/0!"}},{"$f":"IFERROR((SUMIFS('Bill of Materials'!$Y$16:$Y$200,'Bill of Materials'!$V$16:$V$200,A49,'Bill of Materials'!$W$16:$W$200,\"Grey\")/SUMIF('Bill of Materials'!$V$16:$V$200,A49,'Bill of Materials'!$Y$16:$Y$200)),\"\")","v":""},"",{"$f":"SUMIFS('Bill of Materials'!$I$16:$I$200,'Bill of Materials'!$V$16:$V$200,$A49,'Bill of Materials'!$W$16:$W$200,\"a\")/SUMIF('Bill of Materials'!$V$16:$V$200,$A49,'Bill of Materials'!$I$16:$I$200)","v":{"$error":"#DIV/0!"}},{"$f":"IFERROR((SUMIFS('Bill of Materials'!$Y$16:$Y$200,'Bill of Materials'!$V$16:$V$200,A49,'Bill of Materials'!$W$16:$W$200,\"a\")/SUMIF('Bill of Materials'!$V$16:$V$200,A49,'Bill of Materials'!$Y$16:$Y$200)),\"\")","v":""},"",{"$f":"SUMIFS('Bill of Materials'!$I$16:$I$200,'Bill of Materials'!$V$16:$V$200,$A49,'Bill of Materials'!$W$16:$W$200,\"b\")/SUMIF('Bill of Materials'!$V$16:$V$200,$A49,'Bill of Materials'!$I$16:$I$200)","v":{"$error":"#DIV/0!"}},{"$f":"IFERROR((SUMIFS('Bill of Materials'!$Y$16:$Y$200,'Bill of Materials'!$V$16:$V$200,$A49,'Bill of Materials'!$W$16:$W$200,\"b\")/SUMIF('Bill of Materials'!$V$16:$V$200,$A49,'Bill of Materials'!$Y$16:$Y$200)),\"\")","v":""},"",{"$error":"#DIV/0!"},"",{"$f":"SUMIFS('Bill of Materials'!$I$16:$I$200,'Bill of Materials'!$V$16:$V$200,$A49,'Bill of Materials'!$W$16:$W$200,\"c\")/SUMIF('Bill of Materials'!$V$16:$V$200,$A49,'Bill of Materials'!$I$16:$I$200)","v":{"$error":"#DIV/0!"}},{"$f":"IFERROR((SUMIFS('Bill of Materials'!$Y$16:$Y$200,'Bill of Materials'!$V$16:$V$200,$A49,'Bill of Materials'!$W$16:$W$200,\"c\")/SUMIF('Bill of Materials'!$V$16:$V$200,$A49,'Bill of Materials'!$Y$16:$Y$200)),\"\")","v":""},"",{"$f":"(SUMIFS('Bill of Materials'!$I$16:$I$200,'Bill of Materials'!$V$16:$V$200,$A49,'Bill of Materials'!$W$16:$W$200,\"x\")+SUMIFS('Bill of Materials'!$I$16:$I$200,'Bill of Materials'!$V$16:$V$200,$A49,'Bill of Materials'!$W$16:$W$200,\"x - CMR or SVHC\"))/SUMIF('Bill of Materials'!$V$16:$V$200,$A49,'Bill of Materials'!$I$16:$I$200)","v":{"$error":"#DIV/0!"}},{"$f":"IFERROR(((SUMIFS('Bill of Materials'!$Y$16:$Y$200,'Bill of Materials'!$V$16:$V$200,$A49,'Bill of Materials'!$W$16:$W$200,\"x\")+SUMIFS('Bill of Materials'!$Y$16:$Y$200,'Bill of Materials'!$V$16:$V$200,$A49,'Bill of Materials'!$W$16:$W$200,\"x - CMR or SVHC\"))/SUMIF('Bill of Materials'!$V$16:$V$200,$A49,'Bill of Materials'!$Y$16:$Y$200)),\"\")","v":""},"",{"$error":"#DIV/0!"},"","",""]
[41,{"$f":"SUMIF('Bill of Materials'!$V$16:$V$200,A50,'Bill of Materials'!$J$16:$J$200)","v":{"v":0,"d":"0%"}},{"$error":"#DIV/0!"},{"$f":"SUMIFS('Bill of Materials'!$I$16:$I$200,'Bill of Materials'!$V$16:$V$200,A50,'Bill of Materials'!$W$16:$W$200,\"Grey\")/SUMIF('Bill of Materials'!$V$16:$V$200,A50,'Bill of Materials'!$I$16:$I$200)","v":{"$error":"#DIV/0!"}},{"$f":"IFERROR((SUMIFS('Bill of Materials'!$Y$16:$Y$200,'Bill of Materials'!$V$16:$V$200,A50,'Bill of Materials'!$W$16:$W$200,\"Grey\")/SUMIF('Bill of Materials'!$V$16:$V$200,A50,'Bill of Materials'!$Y$16:$Y$200)),\"\")","v":""},"",{"$f":"SUMIFS('Bill of Materials'!$I$16:$I$200,'Bill of Materials'!$V$16:$V$200,$A50,'Bill of Materials'!$W$16:$W$200,\"a\")/SUMIF('Bill of Materials'!$V$16:$V$200,$A50,'Bill of Materials'!$I$16:$I$200)","v":{"$error":"#DIV/0!"}},{"$f":"IFERROR((SUMIFS('Bill of Materials'!$Y$16:$Y$200,'Bill of Materials'!$V$16:$V$200,A50,'Bill of Materials'!$W$16:$W$200,\"a\")/SUMIF('Bill of Materials'!$V$16:$V$200,A50,'Bill of Materials'!$Y$16:$Y$200)),\"\")","v":""},"",{"$f":"SUMIFS('Bill of Materials'!$I$16:$I$200,'Bill of Materials'!$V$16:$V$200,$A50,'Bill of Materials'!$W$16:$W$200,\"b\")/SUMIF('Bill of Materials'!$V$16:$V$200,$A50,'Bill of Materials'!$I$16:$I$200)","v":{"$error":"#DIV/0!"}},{"$f":"IFERROR((SUMIFS('Bill of Materials'!$Y$16:$Y$200,'Bill of Materials'!$V$16:$V$200,$A50,'Bill of Materials'!$W$16:$W$200,\"b\")/SUMIF('Bill of Materials'!$V$16:$V$200,$A50,'Bill of Materials'!$Y$16:$Y$200)),\"\")","v":""},"",{"$error":"#DIV/0!"},"",{"$f":"SUMIFS('Bill of Materials'!$I$16:$I$200,'Bill of Materials'!$V$16:$V$200,$A50,'Bill of Materials'!$W$16:$W$200,\"c\")/SUMIF('Bill of Materials'!$V$16:$V$200,$A50,'Bill of Materials'!$I$16:$I$200)","v":{"$error":"#DIV/0!"}},{"$f":"IFERROR((SUMIFS('Bill of Materials'!$Y$16:$Y$200,'Bill of Materials'!$V$16:$V$200,$A50,'Bill of Materials'!$W$16:$W$200,\"c\")/SUMIF('Bill of Materials'!$V$16:$V$200,$A50,'Bill of Materials'!$Y$16:$Y$200)),\"\")","v":""},"",{"$f":"(SUMIFS('Bill of Materials'!$I$16:$I$200,'Bill of Materials'!$V$16:$V$200,$A50,'Bill of Materials'!$W$16:$W$200,\"x\")+SUMIFS('Bill of Materials'!$I$16:$I$200,'Bill of Materials'!$V$16:$V$200,$A50,'Bill of Materials'!$W$16:$W$200,\"x - CMR or SVHC\"))/SUMIF('Bill of Materials'!$V$16:$V$200,$A50,'Bill of Materials'!$I$16:$I$200)","v":{"$error":"#DIV/0!"}},{"$f":"IFERROR(((SUMIFS('Bill of Materials'!$Y$16:$Y$200,'Bill of Materials'!$V$16:$V$200,$A50,'Bill of Materials'!$W$16:$W$200,\"x\")+SUMIFS('Bill of Materials'!$Y$16:$Y$200,'Bill of Materials'!$V$16:$V$200,$A50,'Bill of Materials'!$W$16:$W$200,\"x - CMR or SVHC\"))/SUMIF('Bill of Materials'!$V$16:$V$200,$A50,'Bill of Materials'!$Y$16:$Y$200)),\"\")","v":""},"",{"$error":"#DIV/0!"},"","",""]
[42,{"$f":"SUMIF('Bill of Materials'!$V$16:$V$200,A51,'Bill of Materials'!$J$16:$J$200)","v":{"v":0,"d":"0%"}},{"$error":"#DIV/0!"},{"$f":"SUMIFS('Bill of Materials'!$I$16:$I$200,'Bill of Materials'!$V$16:$V$200,A51,'Bill of Materials'!$W$16:$W$200,\"Grey\")/SUMIF('Bill of Materials'!$V$16:$V$200,A51,'Bill of Materials'!$I$16:$I$200)","v":{"$error":"#DIV/0!"}},{"$f":"IFERROR((SUMIFS('Bill of Materials'!$Y$16:$Y$200,'Bill of Materials'!$V$16:$V$200,A51,'Bill of Materials'!$W$16:$W$200,\"Grey\")/SUMIF('Bill of Materials'!$V$16:$V$200,A51,'Bill of Materials'!$Y$16:$Y$200)),\"\")","v":""},"",{"$f":"SUMIFS('Bill of Materials'!$I$16:$I$200,'Bill of Materials'!$V$16:$V$200,$A51,'Bill of Materials'!$W$16:$W$200,\"a\")/SUMIF('Bill of Materials'!$V$16:$V$200,$A51,'Bill of Materials'!$I$16:$I$200)","v":{"$error":"#DIV/0!"}},{"$f":"IFERROR((SUMIFS('Bill of Materials'!$Y$16:$Y$200,'Bill of Materials'!$V$16:$V$200,A51,'Bill of Materials'!$W$16:$W$200,\"a\")/SUMIF('Bill of Materials'!$V$16:$V$200,A51,'Bill of Materials'!$Y$16:$Y$200)),\"\")","v":""},"",{"$f":"SUMIFS('Bill of Materials'!$I$16:$I$200,'Bill of Materials'!$V$16:$V$200,$A51,'Bill of Materials'!$W$16:$W$200,\"b\")/SUMIF('Bill of Materials'!$V$16:$V$200,$A51,'Bill of Materials'!$I$16:$I$200)","v":{"$error":"#DIV/0!"}},{"$f":"IFERROR((SUMIFS('Bill of Materials'!$Y$16:$Y$200,'Bill of Materials'!$V$16:$V$200,$A51,'Bill of Materials'!$W$16:$W$200,\"b\")/SUMIF('Bill of Materials'!$V$16:$V$200,$A51,'Bill of Materials'!$Y$16:$Y$200)),\"\")","v":""},"",{"$error":"#DIV/0!"},"",{"$f":"SUMIFS('Bill of Materials'!$I$16:$I$200,'Bill of Materials'!$V$16:$V$200,$A51,'Bill of Materials'!$W$16:$W$200,\"c\")/SUMIF('Bill of Materials'!$V$16:$V$200,$A51,'Bill of Materials'!$I$16:$I$200)","v":{"$error":"#DIV/0!"}},{"$f":"IFERROR((SUMIFS('Bill of Materials'!$Y$16:$Y$200,'Bill of Materials'!$V$16:$V$200,$A51,'Bill of Materials'!$W$16:$W$200,\"c\")/SUMIF('Bill of Materials'!$V$16:$V$200,$A51,'Bill of Materials'!$Y$16:$Y$200)),\"\")","v":""},"",{"$f":"(SUMIFS('Bill of Materials'!$I$16:$I$200,'Bill of Materials'!$V$16:$V$200,$A51,'Bill of Materials'!$W$16:$W$200,\"x\")+SUMIFS('Bill of Materials'!$I$16:$I$200,'Bill of Materials'!$V$16:$V$200,$A51,'Bill of Materials'!$W$16:$W$200,\"x - CMR or SVHC\"))/SUMIF('Bill of Materials'!$V$16:$V$200,$A51,'Bill of Materials'!$I$16:$I$200)","v":{"$error":"#DIV/0!"}},{"$f":"IFERROR(((SUMIFS('Bill of Materials'!$Y$16:$Y$200,'Bill of Materials'!$V$16:$V$200,$A51,'Bill of Materials'!$W$16:$W$200,\"x\")+SUMIFS('Bill of Materials'!$Y$16:$Y$200,'Bill of Materials'!$V$16:$V$200,$A51,'Bill of Materials'!$W$16:$W$200,\"x - CMR or SVHC\"))/SUMIF('Bill of Materials'!$V$16:$V$200,$A51,'Bill of Materials'!$Y$16:$Y$200)),\"\")","v":""},"",{"$error":"#DIV/0!"},"","",""]
[43,{"$f":"SUMIF('Bill of Materials'!$V$16:$V$200,A52,'Bill of Materials'!$J$16:$J$200)","v":{"v":0,"d":"0%"}},{"$error":"#DIV/0!"},{"$f":"SUMIFS('Bill of Materials'!$I$16:$I$200,'Bill of Materials'!$V$16:$V$200,A52,'Bill of Materials'!$W$16:$W$200,\"Grey\")/SUMIF('Bill of Materials'!$V$16:$V$200,A52,'Bill of Materials'!$I$16:$I$200)","v":{"$error":"#DIV/0!"}},{"$f":"IFERROR((SUMIFS('Bill of Materials'!$Y$16:$Y$200,'Bill of Materials'!$V$16:$V$200,A52,'Bill of Materials'!$W$16:$W$200,\"Grey\")/SUMIF('Bill of Materials'!$V$16:$V$200,A52,'Bill of Materials'!$Y$16:$Y$200)),\"\")","v":""},"",{"$f":"SUMIFS('Bill of Materials'!$I$16:$I$200,'Bill of Materials'!$V$16:$V$200,$A52,'Bill of Materials'!$W$16:$W$200,\"a\")/SUMIF('Bill of Materials'!$V$16:$V$200,$A52,'Bill of Materials'!$I$16:$I$200)","v":{"$error":"#DIV/0!"}},{"$f":"IFERROR((SUMIFS('Bill of Materials'!$Y$16:$Y$200,'Bill of Materials'!$V$16:$V$200,A52,'Bill of Materials'!$W$16:$W$200,\"a\")/SUMIF('Bill of Materials'!$V$16:$V$200,A52,'Bill of Materials'!$Y$16:$Y$200)),\"\")","v":""},"",{"$f":"SUMIFS('Bill of Materials'!$I$16:$I$200,'Bill of Materials'!$V$16:$V$200,$A52,'Bill of Materials'!$W$16:$W$200,\"b\")/SUMIF('Bill of Materials'!$V$16:$V$200,$A52,'Bill of Materials'!$I$16:$I$200)","v":{"$error":"#DIV/0!"}},{"$f":"IFERROR((SUMIFS('Bill of Materials'!$Y$16:$Y$200,'Bill of Materials'!$V$16:$V$200,$A52,'Bill of Materials'!$W$16:$W$200,\"b\")/SUMIF('Bill of Materials'!$V$16:$V$200,$A52,'Bill of Materials'!$Y$16:$Y$200)),\"\")","v":""},"",{"$error":"#DIV/0!"},"",{"$f":"SUMIFS('Bill of Materials'!$I$16:$I$200,'Bill of Materials'!$V$16:$V$200,$A52,'Bill of Materials'!$W$16:$W$200,\"c\")/SUMIF('Bill of Materials'!$V$16:$V$200,$A52,'Bill of Materials'!$I$16:$I$200)","v":{"$error":"#DIV/0!"}},{"$f":"IFERROR((SUMIFS('Bill of Materials'!$Y$16:$Y$200,'Bill of Materials'!$V$16:$V$200,$A52,'Bill of Materials'!$W$16:$W$200,\"c\")/SUMIF('Bill of Materials'!$V$16:$V$200,$A52,'Bill of Materials'!$Y$16:$Y$200)),\"\")","v":""},"",{"$f":"(SUMIFS('Bill of Materials'!$I$16:$I$200,'Bill of Materials'!$V$16:$V$200,$A52,'Bill of Materials'!$W$16:$W$200,\"x\")+SUMIFS('Bill of Materials'!$I$16:$I$200,'Bill of Materials'!$V$16:$V$200,$A52,'Bill of Materials'!$W$16:$W$200,\"x - CMR or SVHC\"))/SUMIF('Bill of Materials'!$V$16:$V$200,$A52,'Bill of Materials'!$I$16:$I$200)","v":{"$error":"#DIV/0!"}},{"$f":"IFERROR(((SUMIFS('Bill of Materials'!$Y$16:$Y$200,'Bill of Materials'!$V$16:$V$200,$A52,'Bill of Materials'!$W$16:$W$200,\"x\")+SUMIFS('Bill of Materials'!$Y$16:$Y$200,'Bill of Materials'!$V$16:$V$200,$A52,'Bill of Materials'!$W$16:$W$200,\"x - CMR or SVHC\"))/SUMIF('Bill of Materials'!$V$16:$V$200,$A52,'Bill of Materials'!$Y$16:$Y$200)),\"\")","v":""},"",{"$error":"#DIV/0!"},"","",""]
[44,{"$f":"SUMIF('Bill of Materials'!$V$16:$V$200,A53,'Bill of Materials'!$J$16:$J$200)","v":{"v":0,"d":"0%"}},{"$error":"#DIV/0!"},{"$f":"SUMIFS('Bill of Materials'!$I$16:$I$200,'Bill of Materials'!$V$16:$V$200,A53,'Bill of Materials'!$W$16:$W$200,\"Grey\")/SUMIF('Bill of Materials'!$V$16:$V$200,A53,'Bill of Materials'!$I$16:$I$200)","v":{"$error":"#DIV/0!"}},{"$f":"IFERROR((SUMIFS('Bill of Materials'!$Y$16:$Y$200,'Bill of Materials'!$V$16:$V$200,A53,'Bill of Materials'!$W$16:$W$200,\"Grey\")/SUMIF('Bill of Materials'!$V$16:$V$200,A53,'Bill of Materials'!$Y$16:$Y$200)),\"\")","v":""},"",{"$f":"SUMIFS('Bill of Materials'!$I$16:$I$200,'Bill of Materials'!$V$16:$V$200,$A53,'Bill of Materials'!$W$16:$W$200,\"a\")/SUMIF('Bill of Materials'!$V$16:$V$200,$A53,'Bill of Materials'!$I$16:$I$200)","v":{"$error":"#DIV/0!"}},{"$f":"IFERROR((SUMIFS('Bill of Materials'!$Y$16:$Y$200,'Bill of Materials'!$V$16:$V$200,A53,'Bill of Materials'!$W$16:$W$200,\"a\")/SUMIF('Bill of Materials'!$V$16:$V$200,A53,'Bill of Materials'!$Y$16:$Y$200)),\"\")","v":""},"",{"$f":"SUMIFS('Bill of Materials'!$I$16:$I$200,'Bill of Materials'!$V$16:$V$200,$A53,'Bill of Materials'!$W$16:$W$200,\"b\")/SUMIF('Bill of Materials'!$V$16:$V$200,$A53,'Bill of Materials'!$I$16:$I$200)","v":{"$error":"#DIV/0!"}},{"$f":"IFERROR((SUMIFS('Bill of Materials'!$Y$16:$Y$200,'Bill of Materials'!$V$16:$V$200,$A53,'Bill of Materials'!$W$16:$W$200,\"b\")/SUMIF('Bill of Materials'!$V$16:$V$200,$A53,'Bill of Materials'!$Y$16:$Y$200)),\"\")","v":""},"",{"$error":"#DIV/0!"},"",{"$f":"SUMIFS('Bill of Materials'!$I$16:$I$200,'Bill of Materials'!$V$16:$V$200,$A53,'Bill of Materials'!$W$16:$W$200,\"c\")/SUMIF('Bill of Materials'!$V$16:$V$200,$A53,'Bill of Materials'!$I$16:$I$200)","v":{"$error":"#DIV/0!"}},{"$f":"IFERROR((SUMIFS('Bill of Materials'!$Y$16:$Y$200,'Bill of Materials'!$V$16:$V$200,$A53,'Bill of Materials'!$W$16:$W$200,\"c\")/SUMIF('Bill of Materials'!$V$16:$V$200,$A53,'Bill of Materials'!$Y$16:$Y$200)),\"\")","v":""},"",{"$f":"(SUMIFS('Bill of Materials'!$I$16:$I$200,'Bill of Materials'!$V$16:$V$200,$A53,'Bill of Materials'!$W$16:$W$200,\"x\")+SUMIFS('Bill of Materials'!$I$16:$I$200,'Bill of Materials'!$V$16:$V$200,$A53,'Bill of Materials'!$W$16:$W$200,\"x - CMR or SVHC\"))/SUMIF('Bill of Materials'!$V$16:$V$200,$A53,'Bill of Materials'!$I$16:$I$200)","v":{"$error":"#DIV/0!"}},{"$f":"IFERROR(((SUMIFS('Bill of Materials'!$Y$16:$Y$200,'Bill of Materials'!$V$16:$V$200,$A53,'Bill of Materials'!$W$16:$W$200,\"x\")+SUMIFS('Bill of Materials'!$Y$16:$Y$200,'Bill of Materials'!$V$16:$V$200,$A53,'Bill of Materials'!$W$16:$W$200,\"x - CMR or SVHC\"))/SUMIF('Bill of Materials'!$V$16:$V$200,$A53,'Bill of Materials'!$Y$16:$Y$200)),\"\")","v":""},"",{"$error":"#DIV/0!"},"","",""]
[45,{"$f":"SUMIF('Bill of Materials'!$V$16:$V$200,A54,'Bill of Materials'!$J$16:$J$200)","v":{"v":0,"d":"0%"}},{"$error":"#DIV/0!"},{"$f":"SUMIFS('Bill of Materials'!$I$16:$I$200,'Bill of Materials'!$V$16:$V$200,A54,'Bill of Materials'!$W$16:$W$200,\"Grey\")/SUMIF('Bill of Materials'!$V$16:$V$200,A54,'Bill of Materials'!$I$16:$I$200)","v":{"$error":"#DIV/0!"}},{"$f":"IFERROR((SUMIFS('Bill of Materials'!$Y$16:$Y$200,'Bill of Materials'!$V$16:$V$200,A54,'Bill of Materials'!$W$16:$W$200,\"Grey\")/SUMIF('Bill of Materials'!$V$16:$V$200,A54,'Bill of Materials'!$Y$16:$Y$200)),\"\")","v":""},"",{"$f":"SUMIFS('Bill of Materials'!$I$16:$I$200,'Bill of Materials'!$V$16:$V$200,$A54,'Bill of Materials'!$W$16:$W$200,\"a\")/SUMIF('Bill of Materials'!$V$16:$V$200,$A54,'Bill of Materials'!$I$16:$I$200)","v":{"$error":"#DIV/0!"}},{"$f":"IFERROR((SUMIFS('Bill of Materials'!$Y$16:$Y$200,'Bill of Materials'!$V$16:$V$200,A54,'Bill of Materials'!$W$16:$W$200,\"a\")/SUMIF('Bill of Materials'!$V$16:$V$200,A54,'Bill of Materials'!$Y$16:$Y$200)),\"\")","v":""},"",{"$f":"SUMIFS('Bill of Materials'!$I$16:$I$200,'Bill of Materials'!$V$16:$V$200,$A54,'Bill of Materials'!$W$16:$W$200,\"b\")/SUMIF('Bill of Materials'!$V$16:$V$200,$A54,'Bill of Materials'!$I$16:$I$200)","v":{"$error":"#DIV/0!"}},{"$f":"IFERROR((SUMIFS('Bill of Materials'!$Y$16:$Y$200,'Bill of Materials'!$V$16:$V$200,$A54,'Bill of Materials'!$W$16:$W$200,\"b\")/SUMIF('Bill of Materials'!$V$16:$V$200,$A54,'Bill of Materials'!$Y$16:$Y$200)),\"\")","v":""},"",{"$error":"#DIV/0!"},"",{"$f":"SUMIFS('Bill of Materials'!$I$16:$I$200,'Bill of Materials'!$V$16:$V$200,$A54,'Bill of Materials'!$W$16:$W$200,\"c\")/SUMIF('Bill of Materials'!$V$16:$V$200,$A54,'Bill of Materials'!$I$16:$I$200)","v":{"$error":"#DIV/0!"}},{"$f":"IFERROR((SUMIFS('Bill of Materials'!$Y$16:$Y$200,'Bill of Materials'!$V$16:$V$200,$A54,'Bill of Materials'!$W$16:$W$200,\"c\")/SUMIF('Bill of Materials'!$V$16:$V$200,$A54,'Bill of Materials'!$Y$16:$Y$200)),\"\")","v":""},"",{"$f":"(SUMIFS('Bill of Materials'!$I$16:$I$200,'Bill of Materials'!$V$16:$V$200,$A54,'Bill of Materials'!$W$16:$W$200,\"x\")+SUMIFS('Bill of Materials'!$I$16:$I$200,'Bill of Materials'!$V$16:$V$200,$A54,'Bill of Materials'!$W$16:$W$200,\"x - CMR or SVHC\"))/SUMIF('Bill of Materials'!$V$16:$V$200,$A54,'Bill of Materials'!$I$16:$I$200)","v":{"$error":"#DIV/0!"}},{"$f":"IFERROR(((SUMIFS('Bill of Materials'!$Y$16:$Y$200,'Bill of Materials'!$V$16:$V$200,$A54,'Bill of Materials'!$W$16:$W$200,\"x\")+SUMIFS('Bill of Materials'!$Y$16:$Y$200,'Bill of Materials'!$V$16:$V$200,$A54,'Bill of Materials'!$W$16:$W$200,\"x - CMR or SVHC\"))/SUMIF('Bill of Materials'!$V$16:$V$200,$A54,'Bill of Materials'!$Y$16:$Y$200)),\"\")","v":""},"",{"$error":"#DIV/0!"},"","",""]
[46,{"$f":"SUMIF('Bill of Materials'!$V$16:$V$200,A55,'Bill of Materials'!$J$16:$J$200)","v":{"v":0,"d":"0%"}},{"$error":"#DIV/0!"},{"$f":"SUMIFS('Bill of Materials'!$I$16:$I$200,'Bill of Materials'!$V$16:$V$200,A55,'Bill of Materials'!$W$16:$W$200,\"Grey\")/SUMIF('Bill of Materials'!$V$16:$V$200,A55,'Bill of Materials'!$I$16:$I$200)","v":{"$error":"#DIV/0!"}},{"$f":"IFERROR((SUMIFS('Bill of Materials'!$Y$16:$Y$200,'Bill of Materials'!$V$16:$V$200,A55,'Bill of Materials'!$W$16:$W$200,\"Grey\")/SUMIF('Bill of Materials'!$V$16:$V$200,A55,'Bill of Materials'!$Y$16:$Y$200)),\"\")","v":""},"",{"$f":"SUMIFS('Bill of Materials'!$I$16:$I$200,'Bill of Materials'!$V$16:$V$200,$A55,'Bill of Materials'!$W$16:$W$200,\"a\")/SUMIF('Bill of Materials'!$V$16:$V$200,$A55,'Bill of Materials'!$I$16:$I$200)","v":{"$error":"#DIV/0!"}},{"$f":"IFERROR((SUMIFS('Bill of Materials'!$Y$16:$Y$200,'Bill of Materials'!$V$16:$V$200,A55,'Bill of Materials'!$W$16:$W$200,\"a\")/SUMIF('Bill of Materials'!$V$16:$V$200,A55,'Bill of Materials'!$Y$16:$Y$200)),\"\")","v":""},"",{"$f":"SUMIFS('Bill of Materials'!$I$16:$I$200,'Bill of Materials'!$V$16:$V$200,$A55,'Bill of Materials'!$W$16:$W$200,\"b\")/SUMIF('Bill of Materials'!$V$16:$V$200,$A55,'Bill of Materials'!$I$16:$I$200)","v":{"$error":"#DIV/0!"}},{"$f":"IFERROR((SUMIFS('Bill of Materials'!$Y$16:$Y$200,'Bill of Materials'!$V$16:$V$200,$A55,'Bill of Materials'!$W$16:$W$200,\"b\")/SUMIF('Bill of Materials'!$V$16:$V$200,$A55,'Bill of Materials'!$Y$16:$Y$200)),\"\")","v":""},"",{"$error":"#DIV/0!"},"",{"$f":"SUMIFS('Bill of Materials'!$I$16:$I$200,'Bill of Materials'!$V$16:$V$200,$A55,'Bill of Materials'!$W$16:$W$200,\"c\")/SUMIF('Bill of Materials'!$V$16:$V$200,$A55,'Bill of Materials'!$I$16:$I$200)","v":{"$error":"#DIV/0!"}},{"$f":"IFERROR((SUMIFS('Bill of Materials'!$Y$16:$Y$200,'Bill of Materials'!$V$16:$V$200,$A55,'Bill of Materials'!$W$16:$W$200,\"c\")/SUMIF('Bill of Materials'!$V$16:$V$200,$A55,'Bill of Materials'!$Y$16:$Y$200)),\"\")","v":""},"",{"$f":"(SUMIFS('Bill of Materials'!$I$16:$I$200,'Bill of Materials'!$V$16:$V$200,$A55,'Bill of Materials'!$W$16:$W$200,\"x\")+SUMIFS('Bill of Materials'!$I$16:$I$200,'Bill of Materials'!$V$16:$V$200,$A55,'Bill of Materials'!$W$16:$W$200,\"x - CMR or SVHC\"))/SUMIF('Bill of Materials'!$V$16:$V$200,$A55,'Bill of Materials'!$I$16:$I$200)","v":{"$error":"#DIV/0!"}},{"$f":"IFERROR(((SUMIFS('Bill of Materials'!$Y$16:$Y$200,'Bill of Materials'!$V$16:$V$200,$A55,'Bill of Materials'!$W$16:$W$200,\"x\")+SUMIFS('Bill of Materials'!$Y$16:$Y$200,'Bill of Materials'!$V$16:$V$200,$A55,'Bill of Materials'!$W$16:$W$200,\"x - CMR or SVHC\"))/SUMIF('Bill of Materials'!$V$16:$V$200,$A55,'Bill of Materials'!$Y$16:$Y$200)),\"\")","v":""},"",{"$error":"#DIV/0!"},"","",""]
[47,{"$f":"SUMIF('Bill of Materials'!$V$16:$V$200,A56,'Bill of Materials'!$J$16:$J$200)","v":{"v":0,"d":"0%"}},{"$error":"#DIV/0!"},{"$f":"SUMIFS('Bill of Materials'!$I$16:$I$200,'Bill of Materials'!$V$16:$V$200,A56,'Bill of Materials'!$W$16:$W$200,\"Grey\")/SUMIF('Bill of Materials'!$V$16:$V$200,A56,'Bill of Materials'!$I$16:$I$200)","v":{"$error":"#DIV/0!"}},{"$f":"IFERROR((SUMIFS('Bill of Materials'!$Y$16:$Y$200,'Bill of Materials'!$V$16:$V$200,A56,'Bill of Materials'!$W$16:$W$200,\"Grey\")/SUMIF('Bill of Materials'!$V$16:$V$200,A56,'Bill of Materials'!$Y$16:$Y$200)),\"\")","v":""},"",{"$f":"SUMIFS('Bill of Materials'!$I$16:$I$200,'Bill of Materials'!$V$16:$V$200,$A56,'Bill of Materials'!$W$16:$W$200,\"a\")/SUMIF('Bill of Materials'!$V$16:$V$200,$A56,'Bill of Materials'!$I$16:$I$200)","v":{"$error":"#DIV/0!"}},{"$f":"IFERROR((SUMIFS('Bill of Materials'!$Y$16:$Y$200,'Bill of Materials'!$V$16:$V$200,A56,'Bill of Materials'!$W$16:$W$200,\"a\")/SUMIF('Bill of Materials'!$V$16:$V$200,A56,'Bill of Materials'!$Y$16:$Y$200)),\"\")","v":""},"",{"$f":"SUMIFS('Bill of Materials'!$I$16:$I$200,'Bill of Materials'!$V$16:$V$200,$A56,'Bill of Materials'!$W$16:$W$200,\"b\")/SUMIF('Bill of Materials'!$V$16:$V$200,$A56,'Bill of Materials'!$I$16:$I$200)","v":{"$error":"#DIV/0!"}},{"$f":"IFERROR((SUMIFS('Bill of Materials'!$Y$16:$Y$200,'Bill of Materials'!$V$16:$V$200,$A56,'Bill of Materials'!$W$16:$W$200,\"b\")/SUMIF('Bill of Materials'!$V$16:$V$200,$A56,'Bill of Materials'!$Y$16:$Y$200)),\"\")","v":""},"",{"$error":"#DIV/0!"},"",{"$f":"SUMIFS('Bill of Materials'!$I$16:$I$200,'Bill of Materials'!$V$16:$V$200,$A56,'Bill of Materials'!$W$16:$W$200,\"c\")/SUMIF('Bill of Materials'!$V$16:$V$200,$A56,'Bill of Materials'!$I$16:$I$200)","v":{"$error":"#DIV/0!"}},{"$f":"IFERROR((SUMIFS('Bill of Materials'!$Y$16:$Y$200,'Bill of Materials'!$V$16:$V$200,$A56,'Bill of Materials'!$W$16:$W$200,\"c\")/SUMIF('Bill of Materials'!$V$16:$V$200,$A56,'Bill of Materials'!$Y$16:$Y$200)),\"\")","v":""},"",{"$f":"(SUMIFS('Bill of Materials'!$I$16:$I$200,'Bill of Materials'!$V$16:$V$200,$A56,'Bill of Materials'!$W$16:$W$200,\"x\")+SUMIFS('Bill of Materials'!$I$16:$I$200,'Bill of Materials'!$V$16:$V$200,$A56,'Bill of Materials'!$W$16:$W$200,\"x - CMR or SVHC\"))/SUMIF('Bill of Materials'!$V$16:$V$200,$A56,'Bill of Materials'!$I$16:$I$200)","v":{"$error":"#DIV/0!"}},{"$f":"IFERROR(((SUMIFS('Bill of Materials'!$Y$16:$Y$200,'Bill of Materials'!$V$16:$V$200,$A56,'Bill of Materials'!$W$16:$W$200,\"x\")+SUMIFS('Bill of Materials'!$Y$16:$Y$200,'Bill of Materials'!$V$16:$V$200,$A56,'Bill of Materials'!$W$16:$W$200,\"x - CMR or SVHC\"))/SUMIF('Bill of Materials'!$V$16:$V$200,$A56,'Bill of Materials'!$Y$16:$Y$200)),\"\")","v":""},"",{"$error":"#DIV/0!"},"","",""]
[48,{"$f":"SUMIF('Bill of Materials'!$V$16:$V$200,A57,'Bill of Materials'!$J$16:$J$200)","v":{"v":0,"d":"0%"}},{"$error":"#DIV/0!"},{"$f":"SUMIFS('Bill of Materials'!$I$16:$I$200,'Bill of Materials'!$V$16:$V$200,A57,'Bill of Materials'!$W$16:$W$200,\"Grey\")/SUMIF('Bill of Materials'!$V$16:$V$200,A57,'Bill of Materials'!$I$16:$I$200)","v":{"$error":"#DIV/0!"}},{"$f":"IFERROR((SUMIFS('Bill of Materials'!$Y$16:$Y$200,'Bill of Materials'!$V$16:$V$200,A57,'Bill of Materials'!$W$16:$W$200,\"Grey\")/SUMIF('Bill of Materials'!$V$16:$V$200,A57,'Bill of Materials'!$Y$16:$Y$200)),\"\")","v":""},"",{"$f":"SUMIFS('Bill of Materials'!$I$16:$I$200,'Bill of Materials'!$V$16:$V$200,$A57,'Bill of Materials'!$W$16:$W$200,\"a\")/SUMIF('Bill of Materials'!$V$16:$V$200,$A57,'Bill of Materials'!$I$16:$I$200)","v":{"$error":"#DIV/0!"}},{"$f":"IFERROR((SUMIFS('Bill of Materials'!$Y$16:$Y$200,'Bill of Materials'!$V$16:$V$200,A57,'Bill of Materials'!$W$16:$W$200,\"a\")/SUMIF('Bill of Materials'!$V$16:$V$200,A57,'Bill of Materials'!$Y$16:$Y$200)),\"\")","v":""},"",{"$f":"SUMIFS('Bill of Materials'!$I$16:$I$200,'Bill of Materials'!$V$16:$V$200,$A57,'Bill of Materials'!$W$16:$W$200,\"b\")/SUMIF('Bill of Materials'!$V$16:$V$200,$A57,'Bill of Materials'!$I$16:$I$200)","v":{"$error":"#DIV/0!"}},{"$f":"IFERROR((SUMIFS('Bill of Materials'!$Y$16:$Y$200,'Bill of Materials'!$V$16:$V$200,$A57,'Bill of Materials'!$W$16:$W$200,\"b\")/SUMIF('Bill of Materials'!$V$16:$V$200,$A57,'Bill of Materials'!$Y$16:$Y$200)),\"\")","v":""},"",{"$error":"#DIV/0!"},"",{"$f":"SUMIFS('Bill of Materials'!$I$16:$I$200,'Bill of Materials'!$V$16:$V$200,$A57,'Bill of Materials'!$W$16:$W$200,\"c\")/SUMIF('Bill of Materials'!$V$16:$V$200,$A57,'Bill of Materials'!$I$16:$I$200)","v":{"$error":"#DIV/0!"}},{"$f":"IFERROR((SUMIFS('Bill of Materials'!$Y$16:$Y$200,'Bill of Materials'!$V$16:$V$200,$A57,'Bill of Materials'!$W$16:$W$200,\"c\")/SUMIF('Bill of Materials'!$V$16:$V$200,$A57,'Bill of Materials'!$Y$16:$Y$200)),\"\")","v":""},"",{"$f":"(SUMIFS('Bill of Materials'!$I$16:$I$200,'Bill of Materials'!$V$16:$V$200,$A57,'Bill of Materials'!$W$16:$W$200,\"x\")+SUMIFS('Bill of Materials'!$I$16:$I$200,'Bill of Materials'!$V$16:$V$200,$A57,'Bill of Materials'!$W$16:$W$200,\"x - CMR or SVHC\"))/SUMIF('Bill of Materials'!$V$16:$V$200,$A57,'Bill of Materials'!$I$16:$I$200)","v":{"$error":"#DIV/0!"}},{"$f":"IFERROR(((SUMIFS('Bill of Materials'!$Y$16:$Y$200,'Bill of Materials'!$V$16:$V$200,$A57,'Bill of Materials'!$W$16:$W$200,\"x\")+SUMIFS('Bill of Materials'!$Y$16:$Y$200,'Bill of Materials'!$V$16:$V$200,$A57,'Bill of Materials'!$W$16:$W$200,\"x - CMR or SVHC\"))/SUMIF('Bill of Materials'!$V$16:$V$200,$A57,'Bill of Materials'!$Y$16:$Y$200)),\"\")","v":""},"",{"$error":"#DIV/0!"},"","",""]
[49,{"$f":"SUMIF('Bill of Materials'!$V$16:$V$200,A58,'Bill of Materials'!$J$16:$J$200)","v":{"v":0,"d":"0%"}},{"$error":"#DIV/0!"},{"$f":"SUMIFS('Bill of Materials'!$I$16:$I$200,'Bill of Materials'!$V$16:$V$200,A58,'Bill of Materials'!$W$16:$W$200,\"Grey\")/SUMIF('Bill of Materials'!$V$16:$V$200,A58,'Bill of Materials'!$I$16:$I$200)","v":{"$error":"#DIV/0!"}},{"$f":"IFERROR((SUMIFS('Bill of Materials'!$Y$16:$Y$200,'Bill of Materials'!$V$16:$V$200,A58,'Bill of Materials'!$W$16:$W$200,\"Grey\")/SUMIF('Bill of Materials'!$V$16:$V$200,A58,'Bill of Materials'!$Y$16:$Y$200)),\"\")","v":""},"",{"$f":"SUMIFS('Bill of Materials'!$I$16:$I$200,'Bill of Materials'!$V$16:$V$200,$A58,'Bill of Materials'!$W$16:$W$200,\"a\")/SUMIF('Bill of Materials'!$V$16:$V$200,$A58,'Bill of Materials'!$I$16:$I$200)","v":{"$error":"#DIV/0!"}},{"$f":"IFERROR((SUMIFS('Bill of Materials'!$Y$16:$Y$200,'Bill of Materials'!$V$16:$V$200,A58,'Bill of Materials'!$W$16:$W$200,\"a\")/SUMIF('Bill of Materials'!$V$16:$V$200,A58,'Bill of Materials'!$Y$16:$Y$200)),\"\")","v":""},"",{"$f":"SUMIFS('Bill of Materials'!$I$16:$I$200,'Bill of Materials'!$V$16:$V$200,$A58,'Bill of Materials'!$W$16:$W$200,\"b\")/SUMIF('Bill of Materials'!$V$16:$V$200,$A58,'Bill of Materials'!$I$16:$I$200)","v":{"$error":"#DIV/0!"}},{"$f":"IFERROR((SUMIFS('Bill of Materials'!$Y$16:$Y$200,'Bill of Materials'!$V$16:$V$200,$A58,'Bill of Materials'!$W$16:$W$200,\"b\")/SUMIF('Bill of Materials'!$V$16:$V$200,$A58,'Bill of Materials'!$Y$16:$Y$200)),\"\")","v":""},"",{"$error":"#DIV/0!"},"",{"$f":"SUMIFS('Bill of Materials'!$I$16:$I$200,'Bill of Materials'!$V$16:$V$200,$A58,'Bill of Materials'!$W$16:$W$200,\"c\")/SUMIF('Bill of Materials'!$V$16:$V$200,$A58,'Bill of Materials'!$I$16:$I$200)","v":{"$error":"#DIV/0!"}},{"$f":"IFERROR((SUMIFS('Bill of Materials'!$Y$16:$Y$200,'Bill of Materials'!$V$16:$V$200,$A58,'Bill of Materials'!$W$16:$W$200,\"c\")/SUMIF('Bill of Materials'!$V$16:$V$200,$A58,'Bill of Materials'!$Y$16:$Y$200)),\"\")","v":""},"",{"$f":"(SUMIFS('Bill of Materials'!$I$16:$I$200,'Bill of Materials'!$V$16:$V$200,$A58,'Bill of Materials'!$W$16:$W$200,\"x\")+SUMIFS('Bill of Materials'!$I$16:$I$200,'Bill of Materials'!$V$16:$V$200,$A58,'Bill of Materials'!$W$16:$W$200,\"x - CMR or SVHC\"))/SUMIF('Bill of Materials'!$V$16:$V$200,$A58,'Bill of Materials'!$I$16:$I$200)","v":{"$error":"#DIV/0!"}},{"$f":"IFERROR(((SUMIFS('Bill of Materials'!$Y$16:$Y$200,'Bill of Materials'!$V$16:$V$200,$A58,'Bill of Materials'!$W$16:$W$200,\"x\")+SUMIFS('Bill of Materials'!$Y$16:$Y$200,'Bill of Materials'!$V$16:$V$200,$A58,'Bill of Materials'!$W$16:$W$200,\"x - CMR or SVHC\"))/SUMIF('Bill of Materials'!$V$16:$V$200,$A58,'Bill of Materials'!$Y$16:$Y$200)),\"\")","v":""},"",{"$error":"#DIV/0!"},"","",""]
[50,{"$f":"SUMIF('Bill of Materials'!$V$16:$V$200,A59,'Bill of Materials'!$J$16:$J$200)","v":{"v":0,"d":"0%"}},{"$error":"#DIV/0!"},{"$f":"SUMIFS('Bill of Materials'!$I$16:$I$200,'Bill of Materials'!$V$16:$V$200,A59,'Bill of Materials'!$W$16:$W$200,\"Grey\")/SUMIF('Bill of Materials'!$V$16:$V$200,A59,'Bill of Materials'!$I$16:$I$200)","v":{"$error":"#DIV/0!"}},{"$f":"IFERROR((SUMIFS('Bill of Materials'!$Y$16:$Y$200,'Bill of Materials'!$V$16:$V$200,A59,'Bill of Materials'!$W$16:$W$200,\"Grey\")/SUMIF('Bill of Materials'!$V$16:$V$200,A59,'Bill of Materials'!$Y$16:$Y$200)),\"\")","v":""},"",{"$f":"SUMIFS('Bill of Materials'!$I$16:$I$200,'Bill of Materials'!$V$16:$V$200,$A59,'Bill of Materials'!$W$16:$W$200,\"a\")/SUMIF('Bill of Materials'!$V$16:$V$200,$A59,'Bill of Materials'!$I$16:$I$200)","v":{"$error":"#DIV/0!"}},{"$f":"IFERROR((SUMIFS('Bill of Materials'!$Y$16:$Y$200,'Bill of Materials'!$V$16:$V$200,A59,'Bill of Materials'!$W$16:$W$200,\"a\")/SUMIF('Bill of Materials'!$V$16:$V$200,A59,'Bill of Materials'!$Y$16:$Y$200)),\"\")","v":""},"",{"$f":"SUMIFS('Bill of Materials'!$I$16:$I$200,'Bill of Materials'!$V$16:$V$200,$A59,'Bill of Materials'!$W$16:$W$200,\"b\")/SUMIF('Bill of Materials'!$V$16:$V$200,$A59,'Bill of Materials'!$I$16:$I$200)","v":{"$error":"#DIV/0!"}},{"$f":"IFERROR((SUMIFS('Bill of Materials'!$Y$16:$Y$200,'Bill of Materials'!$V$16:$V$200,$A59,'Bill of Materials'!$W$16:$W$200,\"b\")/SUMIF('Bill of Materials'!$V$16:$V$200,$A59,'Bill of Materials'!$Y$16:$Y$200)),\"\")","v":""},"",{"$error":"#DIV/0!"},"",{"$f":"SUMIFS('Bill of Materials'!$I$16:$I$200,'Bill of Materials'!$V$16:$V$200,$A59,'Bill of Materials'!$W$16:$W$200,\"c\")/SUMIF('Bill of Materials'!$V$16:$V$200,$A59,'Bill of Materials'!$I$16:$I$200)","v":{"$error":"#DIV/0!"}},{"$f":"IFERROR((SUMIFS('Bill of Materials'!$Y$16:$Y$200,'Bill of Materials'!$V$16:$V$200,$A59,'Bill of Materials'!$W$16:$W$200,\"c\")/SUMIF('Bill of Materials'!$V$16:$V$200,$A59,'Bill of Materials'!$Y$16:$Y$200)),\"\")","v":""},"",{"$f":"(SUMIFS('Bill of Materials'!$I$16:$I$200,'Bill of Materials'!$V$16:$V$200,$A59,'Bill of Materials'!$W$16:$W$200,\"x\")+SUMIFS('Bill of Materials'!$I$16:$I$200,'Bill of Materials'!$V$16:$V$200,$A59,'Bill of Materials'!$W$16:$W$200,\"x - CMR or SVHC\"))/SUMIF('Bill of Materials'!$V$16:$V$200,$A59,'Bill of Materials'!$I$16:$I$200)","v":{"$error":"#DIV/0!"}},{"$f":"IFERROR(((SUMIFS('Bill of Materials'!$Y$16:$Y$200,'Bill of Materials'!$V$16:$V$200,$A59,'Bill of Materials'!$W$16:$W$200,\"x\")+SUMIFS('Bill of Materials'!$Y$16:$Y$200,'Bill of Materials'!$V$16:$V$200,$A59,'Bill of Materials'!$W$16:$W$200,\"x - CMR or SVHC\"))/SUMIF('Bill of Materials'!$V$16:$V$200,$A59,'Bill of Materials'!$Y$16:$Y$200)),\"\")","v":""},"",{"$error":"#DIV/0!"},"","",""]
[51,{"$f":"SUMIF('Bill of Materials'!$V$16:$V$200,A60,'Bill of Materials'!$J$16:$J$200)","v":{"v":0,"d":"0%"}},{"$error":"#DIV/0!"},{"$f":"SUMIFS('Bill of Materials'!$I$16:$I$200,'Bill of Materials'!$V$16:$V$200,A60,'Bill of Materials'!$W$16:$W$200,\"Grey\")/SUMIF('Bill of Materials'!$V$16:$V$200,A60,'Bill of Materials'!$I$16:$I$200)","v":{"$error":"#DIV/0!"}},{"$f":"IFERROR((SUMIFS('Bill of Materials'!$Y$16:$Y$200,'Bill of Materials'!$V$16:$V$200,A60,'Bill of Materials'!$W$16:$W$200,\"Grey\")/SUMIF('Bill of Materials'!$V$16:$V$200,A60,'Bill of Materials'!$Y$16:$Y$200)),\"\")","v":""},"",{"$f":"SUMIFS('Bill of Materials'!$I$16:$I$200,'Bill of Materials'!$V$16:$V$200,$A60,'Bill of Materials'!$W$16:$W$200,\"a\")/SUMIF('Bill of Materials'!$V$16:$V$200,$A60,'Bill of Materials'!$I$16:$I$200)","v":{"$error":"#DIV/0!"}},{"$f":"IFERROR((SUMIFS('Bill of Materials'!$Y$16:$Y$200,'Bill of Materials'!$V$16:$V$200,A60,'Bill of Materials'!$W$16:$W$200,\"a\")/SUMIF('Bill of Materials'!$V$16:$V$200,A60,'Bill of Materials'!$Y$16:$Y$200)),\"\")","v":""},"",{"$f":"SUMIFS('Bill of Materials'!$I$16:$I$200,'Bill of Materials'!$V$16:$V$200,$A60,'Bill of Materials'!$W$16:$W$200,\"b\")/SUMIF('Bill of Materials'!$V$16:$V$200,$A60,'Bill of Materials'!$I$16:$I$200)","v":{"$error":"#DIV/0!"}},{"$f":"IFERROR((SUMIFS('Bill of Materials'!$Y$16:$Y$200,'Bill of Materials'!$V$16:$V$200,$A60,'Bill of Materials'!$W$16:$W$200,\"b\")/SUMIF('Bill of Materials'!$V$16:$V$200,$A60,'Bill of Materials'!$Y$16:$Y$200)),\"\")","v":""},"",{"$error":"#DIV/0!"},"",{"$f":"SUMIFS('Bill of Materials'!$I$16:$I$200,'Bill of Materials'!$V$16:$V$200,$A60,'Bill of Materials'!$W$16:$W$200,\"c\")/SUMIF('Bill of Materials'!$V$16:$V$200,$A60,'Bill of Materials'!$I$16:$I$200)","v":{"$error":"#DIV/0!"}},{"$f":"IFERROR((SUMIFS('Bill of Materials'!$Y$16:$Y$200,'Bill of Materials'!$V$16:$V$200,$A60,'Bill of Materials'!$W$16:$W$200,\"c\")/SUMIF('Bill of Materials'!$V$16:$V$200,$A60,'Bill of Materials'!$Y$16:$Y$200)),\"\")","v":""},"",{"$f":"(SUMIFS('Bill of Materials'!$I$16:$I$200,'Bill of Materials'!$V$16:$V$200,$A60,'Bill of Materials'!$W$16:$W$200,\"x\")+SUMIFS('Bill of Materials'!$I$16:$I$200,'Bill of Materials'!$V$16:$V$200,$A60,'Bill of Materials'!$W$16:$W$200,\"x - CMR or SVHC\"))/SUMIF('Bill of Materials'!$V$16:$V$200,$A60,'Bill of Materials'!$I$16:$I$200)","v":{"$error":"#DIV/0!"}},{"$f":"IFERROR(((SUMIFS('Bill of Materials'!$Y$16:$Y$200,'Bill of Materials'!$V$16:$V$200,$A60,'Bill of Materials'!$W$16:$W$200,\"x\")+SUMIFS('Bill of Materials'!$Y$16:$Y$200,'Bill of Materials'!$V$16:$V$200,$A60,'Bill of Materials'!$W$16:$W$200,\"x - CMR or SVHC\"))/SUMIF('Bill of Materials'!$V$16:$V$200,$A60,'Bill of Materials'!$Y$16:$Y$200)),\"\")","v":""},"",{"$error":"#DIV/0!"},"","",""]
[52,{"$f":"SUMIF('Bill of Materials'!$V$16:$V$200,A61,'Bill of Materials'!$J$16:$J$200)","v":{"v":0,"d":"0%"}},{"$error":"#DIV/0!"},{"$f":"SUMIFS('Bill of Materials'!$I$16:$I$200,'Bill of Materials'!$V$16:$V$200,A61,'Bill of Materials'!$W$16:$W$200,\"Grey\")/SUMIF('Bill of Materials'!$V$16:$V$200,A61,'Bill of Materials'!$I$16:$I$200)","v":{"$error":"#DIV/0!"}},{"$f":"IFERROR((SUMIFS('Bill of Materials'!$Y$16:$Y$200,'Bill of Materials'!$V$16:$V$200,A61,'Bill of Materials'!$W$16:$W$200,\"Grey\")/SUMIF('Bill of Materials'!$V$16:$V$200,A61,'Bill of Materials'!$Y$16:$Y$200)),\"\")","v":""},"",{"$f":"SUMIFS('Bill of Materials'!$I$16:$I$200,'Bill of Materials'!$V$16:$V$200,$A61,'Bill of Materials'!$W$16:$W$200,\"a\")/SUMIF('Bill of Materials'!$V$16:$V$200,$A61,'Bill of Materials'!$I$16:$I$200)","v":{"$error":"#DIV/0!"}},{"$f":"IFERROR((SUMIFS('Bill of Materials'!$Y$16:$Y$200,'Bill of Materials'!$V$16:$V$200,A61,'Bill of Materials'!$W$16:$W$200,\"a\")/SUMIF('Bill of Materials'!$V$16:$V$200,A61,'Bill of Materials'!$Y$16:$Y$200)),\"\")","v":""},"",{"$f":"SUMIFS('Bill of Materials'!$I$16:$I$200,'Bill of Materials'!$V$16:$V$200,$A61,'Bill of Materials'!$W$16:$W$200,\"b\")/SUMIF('Bill of Materials'!$V$16:$V$200,$A61,'Bill of Materials'!$I$16:$I$200)","v":{"$error":"#DIV/0!"}},{"$f":"IFERROR((SUMIFS('Bill of Materials'!$Y$16:$Y$200,'Bill of Materials'!$V$16:$V$200,$A61,'Bill of Materials'!$W$16:$W$200,\"b\")/SUMIF('Bill of Materials'!$V$16:$V$200,$A61,'Bill of Materials'!$Y$16:$Y$200)),\"\")","v":""},"",{"$error":"#DIV/0!"},"",{"$f":"SUMIFS('Bill of Materials'!$I$16:$I$200,'Bill of Materials'!$V$16:$V$200,$A61,'Bill of Materials'!$W$16:$W$200,\"c\")/SUMIF('Bill of Materials'!$V$16:$V$200,$A61,'Bill of Materials'!$I$16:$I$200)","v":{"$error":"#DIV/0!"}},{"$f":"IFERROR((SUMIFS('Bill of Materials'!$Y$16:$Y$200,'Bill of Materials'!$V$16:$V$200,$A61,'Bill of Materials'!$W$16:$W$200,\"c\")/SUMIF('Bill of Materials'!$V$16:$V$200,$A61,'Bill of Materials'!$Y$16:$Y$200)),\"\")","v":""},"",{"$f":"(SUMIFS('Bill of Materials'!$I$16:$I$200,'Bill of Materials'!$V$16:$V$200,$A61,'Bill of Materials'!$W$16:$W$200,\"x\")+SUMIFS('Bill of Materials'!$I$16:$I$200,'Bill of Materials'!$V$16:$V$200,$A61,'Bill of Materials'!$W$16:$W$200,\"x - CMR or SVHC\"))/SUMIF('Bill of Materials'!$V$16:$V$200,$A61,'Bill of Materials'!$I$16:$I$200)","v":{"$error":"#DIV/0!"}},{"$f":"IFERROR(((SUMIFS('Bill of Materials'!$Y$16:$Y$200,'Bill of Materials'!$V$16:$V$200,$A61,'Bill of Materials'!$W$16:$W$200,\"x\")+SUMIFS('Bill of Materials'!$Y$16:$Y$200,'Bill of Materials'!$V$16:$V$200,$A61,'Bill of Materials'!$W$16:$W$200,\"x - CMR or SVHC\"))/SUMIF('Bill of Materials'!$V$16:$V$200,$A61,'Bill of Materials'!$Y$16:$Y$200)),\"\")","v":""},"",{"$error":"#DIV/0!"},"","",""]
[53,{"$f":"SUMIF('Bill of Materials'!$V$16:$V$200,A62,'Bill of Materials'!$J$16:$J$200)","v":{"v":0,"d":"0%"}},{"$error":"#DIV/0!"},{"$f":"SUMIFS('Bill of Materials'!$I$16:$I$200,'Bill of Materials'!$V$16:$V$200,A62,'Bill of Materials'!$W$16:$W$200,\"Grey\")/SUMIF('Bill of Materials'!$V$16:$V$200,A62,'Bill of Materials'!$I$16:$I$200)","v":{"$error":"#DIV/0!"}},{"$f":"IFERROR((SUMIFS('Bill of Materials'!$Y$16:$Y$200,'Bill of Materials'!$V$16:$V$200,A62,'Bill of Materials'!$W$16:$W$200,\"Grey\")/SUMIF('Bill of Materials'!$V$16:$V$200,A62,'Bill of Materials'!$Y$16:$Y$200)),\"\")","v":""},"",{"$f":"SUMIFS('Bill of Materials'!$I$16:$I$200,'Bill of Materials'!$V$16:$V$200,$A62,'Bill of Materials'!$W$16:$W$200,\"a\")/SUMIF('Bill of Materials'!$V$16:$V$200,$A62,'Bill of Materials'!$I$16:$I$200)","v":{"$error":"#DIV/0!"}},{"$f":"IFERROR((SUMIFS('Bill of Materials'!$Y$16:$Y$200,'Bill of Materials'!$V$16:$V$200,A62,'Bill of Materials'!$W$16:$W$200,\"a\")/SUMIF('Bill of Materials'!$V$16:$V$200,A62,'Bill of Materials'!$Y$16:$Y$200)),\"\")","v":""},"",{"$f":"SUMIFS('Bill of Materials'!$I$16:$I$200,'Bill of Materials'!$V$16:$V$200,$A62,'Bill of Materials'!$W$16:$W$200,\"b\")/SUMIF('Bill of Materials'!$V$16:$V$200,$A62,'Bill of Materials'!$I$16:$I$200)","v":{"$error":"#DIV/0!"}},{"$f":"IFERROR((SUMIFS('Bill of Materials'!$Y$16:$Y$200,'Bill of Materials'!$V$16:$V$200,$A62,'Bill of Materials'!$W$16:$W$200,\"b\")/SUMIF('Bill of Materials'!$V$16:$V$200,$A62,'Bill of Materials'!$Y$16:$Y$200)),\"\")","v":""},"",{"$error":"#DIV/0!"},"",{"$f":"SUMIFS('Bill of Materials'!$I$16:$I$200,'Bill of Materials'!$V$16:$V$200,$A62,'Bill of Materials'!$W$16:$W$200,\"c\")/SUMIF('Bill of Materials'!$V$16:$V$200,$A62,'Bill of Materials'!$I$16:$I$200)","v":{"$error":"#DIV/0!"}},{"$f":"IFERROR((SUMIFS('Bill of Materials'!$Y$16:$Y$200,'Bill of Materials'!$V$16:$V$200,$A62,'Bill of Materials'!$W$16:$W$200,\"c\")/SUMIF('Bill of Materials'!$V$16:$V$200,$A62,'Bill of Materials'!$Y$16:$Y$200)),\"\")","v":""},"",{"$f":"(SUMIFS('Bill of Materials'!$I$16:$I$200,'Bill of Materials'!$V$16:$V$200,$A62,'Bill of Materials'!$W$16:$W$200,\"x\")+SUMIFS('Bill of Materials'!$I$16:$I$200,'Bill of Materials'!$V$16:$V$200,$A62,'Bill of Materials'!$W$16:$W$200,\"x - CMR or SVHC\"))/SUMIF('Bill of Materials'!$V$16:$V$200,$A62,'Bill of Materials'!$I$16:$I$200)","v":{"$error":"#DIV/0!"}},{"$f":"IFERROR(((SUMIFS('Bill of Materials'!$Y$16:$Y$200,'Bill of Materials'!$V$16:$V$200,$A62,'Bill of Materials'!$W$16:$W$200,\"x\")+SUMIFS('Bill of Materials'!$Y$16:$Y$200,'Bill of Materials'!$V$16:$V$200,$A62,'Bill of Materials'!$W$16:$W$200,\"x - CMR or SVHC\"))/SUMIF('Bill of Materials'!$V$16:$V$200,$A62,'Bill of Materials'!$Y$16:$Y$200)),\"\")","v":""},"",{"$error":"#DIV/0!"},"","",""]
[54,{"$f":"SUMIF('Bill of Materials'!$V$16:$V$200,A63,'Bill of Materials'!$J$16:$J$200)","v":{"v":0,"d":"0%"}},{"$error":"#DIV/0!"},{"$f":"SUMIFS('Bill of Materials'!$I$16:$I$200,'Bill of Materials'!$V$16:$V$200,A63,'Bill of Materials'!$W$16:$W$200,\"Grey\")/SUMIF('Bill of Materials'!$V$16:$V$200,A63,'Bill of Materials'!$I$16:$I$200)","v":{"$error":"#DIV/0!"}},{"$f":"IFERROR((SUMIFS('Bill of Materials'!$Y$16:$Y$200,'Bill of Materials'!$V$16:$V$200,A63,'Bill of Materials'!$W$16:$W$200,\"Grey\")/SUMIF('Bill of Materials'!$V$16:$V$200,A63,'Bill of Materials'!$Y$16:$Y$200)),\"\")","v":""},"",{"$f":"SUMIFS('Bill of Materials'!$I$16:$I$200,'Bill of Materials'!$V$16:$V$200,$A63,'Bill of Materials'!$W$16:$W$200,\"a\")/SUMIF('Bill of Materials'!$V$16:$V$200,$A63,'Bill of Materials'!$I$16:$I$200)","v":{"$error":"#DIV/0!"}},{"$f":"IFERROR((SUMIFS('Bill of Materials'!$Y$16:$Y$200,'Bill of Materials'!$V$16:$V$200,A63,'Bill of Materials'!$W$16:$W$200,\"a\")/SUMIF('Bill of Materials'!$V$16:$V$200,A63,'Bill of Materials'!$Y$16:$Y$200)),\"\")","v":""},"",{"$f":"SUMIFS('Bill of Materials'!$I$16:$I$200,'Bill of Materials'!$V$16:$V$200,$A63,'Bill of Materials'!$W$16:$W$200,\"b\")/SUMIF('Bill of Materials'!$V$16:$V$200,$A63,'Bill of Materials'!$I$16:$I$200)","v":{"$error":"#DIV/0!"}},{"$f":"IFERROR((SUMIFS('Bill of Materials'!$Y$16:$Y$200,'Bill of Materials'!$V$16:$V$200,$A63,'Bill of Materials'!$W$16:$W$200,\"b\")/SUMIF('Bill of Materials'!$V$16:$V$200,$A63,'Bill of Materials'!$Y$16:$Y$200)),\"\")","v":""},"",{"$error":"#DIV/0!"},"",{"$f":"SUMIFS('Bill of Materials'!$I$16:$I$200,'Bill of Materials'!$V$16:$V$200,$A63,'Bill of Materials'!$W$16:$W$200,\"c\")/SUMIF('Bill of Materials'!$V$16:$V$200,$A63,'Bill of Materials'!$I$16:$I$200)","v":{"$error":"#DIV/0!"}},{"$f":"IFERROR((SUMIFS('Bill of Materials'!$Y$16:$Y$200,'Bill of Materials'!$V$16:$V$200,$A63,'Bill of Materials'!$W$16:$W$200,\"c\")/SUMIF('Bill of Materials'!$V$16:$V$200,$A63,'Bill of Materials'!$Y$16:$Y$200)),\"\")","v":""},"",{"$f":"(SUMIFS('Bill of Materials'!$I$16:$I$200,'Bill of Materials'!$V$16:$V$200,$A63,'Bill of Materials'!$W$16:$W$200,\"x\")+SUMIFS('Bill of Materials'!$I$16:$I$200,'Bill of Materials'!$V$16:$V$200,$A63,'Bill of Materials'!$W$16:$W$200,\"x - CMR or SVHC\"))/SUMIF('Bill of Materials'!$V$16:$V$200,$A63,'Bill of Materials'!$I$16:$I$200)","v":{"$error":"#DIV/0!"}},{"$f":"IFERROR(((SUMIFS('Bill of Materials'!$Y$16:$Y$200,'Bill of Materials'!$V$16:$V$200,$A63,'Bill of Materials'!$W$16:$W$200,\"x\")+SUMIFS('Bill of Materials'!$Y$16:$Y$200,'Bill of Materials'!$V$16:$V$200,$A63,'Bill of Materials'!$W$16:$W$200,\"x - CMR or SVHC\"))/SUMIF('Bill of Materials'!$V$16:$V$200,$A63,'Bill of Materials'!$Y$16:$Y$200)),\"\")","v":""},"",{"$error":"#DIV/0!"},"","",""]
[55,{"$f":"SUMIF('Bill of Materials'!$V$16:$V$200,A64,'Bill of Materials'!$J$16:$J$200)","v":{"v":0,"d":"0%"}},{"$error":"#DIV/0!"},{"$f":"SUMIFS('Bill of Materials'!$I$16:$I$200,'Bill of Materials'!$V$16:$V$200,A64,'Bill of Materials'!$W$16:$W$200,\"Grey\")/SUMIF('Bill of Materials'!$V$16:$V$200,A64,'Bill of Materials'!$I$16:$I$200)","v":{"$error":"#DIV/0!"}},{"$f":"IFERROR((SUMIFS('Bill of Materials'!$Y$16:$Y$200,'Bill of Materials'!$V$16:$V$200,A64,'Bill of Materials'!$W$16:$W$200,\"Grey\")/SUMIF('Bill of Materials'!$V$16:$V$200,A64,'Bill of Materials'!$Y$16:$Y$200)),\"\")","v":""},"",{"$f":"SUMIFS('Bill of Materials'!$I$16:$I$200,'Bill of Materials'!$V$16:$V$200,$A64,'Bill of Materials'!$W$16:$W$200,\"a\")/SUMIF('Bill of Materials'!$V$16:$V$200,$A64,'Bill of Materials'!$I$16:$I$200)","v":{"$error":"#DIV/0!"}},{"$f":"IFERROR((SUMIFS('Bill of Materials'!$Y$16:$Y$200,'Bill of Materials'!$V$16:$V$200,A64,'Bill of Materials'!$W$16:$W$200,\"a\")/SUMIF('Bill of Materials'!$V$16:$V$200,A64,'Bill of Materials'!$Y$16:$Y$200)),\"\")","v":""},"",{"$f":"SUMIFS('Bill of Materials'!$I$16:$I$200,'Bill of Materials'!$V$16:$V$200,$A64,'Bill of Materials'!$W$16:$W$200,\"b\")/SUMIF('Bill of Materials'!$V$16:$V$200,$A64,'Bill of Materials'!$I$16:$I$200)","v":{"$error":"#DIV/0!"}},{"$f":"IFERROR((SUMIFS('Bill of Materials'!$Y$16:$Y$200,'Bill of Materials'!$V$16:$V$200,$A64,'Bill of Materials'!$W$16:$W$200,\"b\")/SUMIF('Bill of Materials'!$V$16:$V$200,$A64,'Bill of Materials'!$Y$16:$Y$200)),\"\")","v":""},"",{"$error":"#DIV/0!"},"",{"$f":"SUMIFS('Bill of Materials'!$I$16:$I$200,'Bill of Materials'!$V$16:$V$200,$A64,'Bill of Materials'!$W$16:$W$200,\"c\")/SUMIF('Bill of Materials'!$V$16:$V$200,$A64,'Bill of Materials'!$I$16:$I$200)","v":{"$error":"#DIV/0!"}},{"$f":"IFERROR((SUMIFS('Bill of Materials'!$Y$16:$Y$200,'Bill of Materials'!$V$16:$V$200,$A64,'Bill of Materials'!$W$16:$W$200,\"c\")/SUMIF('Bill of Materials'!$V$16:$V$200,$A64,'Bill of Materials'!$Y$16:$Y$200)),\"\")","v":""},"",{"$f":"(SUMIFS('Bill of Materials'!$I$16:$I$200,'Bill of Materials'!$V$16:$V$200,$A64,'Bill of Materials'!$W$16:$W$200,\"x\")+SUMIFS('Bill of Materials'!$I$16:$I$200,'Bill of Materials'!$V$16:$V$200,$A64,'Bill of Materials'!$W$16:$W$200,\"x - CMR or SVHC\"))/SUMIF('Bill of Materials'!$V$16:$V$200,$A64,'Bill of Materials'!$I$16:$I$200)","v":{"$error":"#DIV/0!"}},{"$f":"IFERROR(((SUMIFS('Bill of Materials'!$Y$16:$Y$200,'Bill of Materials'!$V$16:$V$200,$A64,'Bill of Materials'!$W$16:$W$200,\"x\")+SUMIFS('Bill of Materials'!$Y$16:$Y$200,'Bill of Materials'!$V$16:$V$200,$A64,'Bill of Materials'!$W$16:$W$200,\"x - CMR or SVHC\"))/SUMIF('Bill of Materials'!$V$16:$V$200,$A64,'Bill of Materials'!$Y$16:$Y$200)),\"\")","v":""},"",{"$error":"#DIV/0!"},"","",""]
[56,{"$f":"SUMIF('Bill of Materials'!$V$16:$V$200,A65,'Bill of Materials'!$J$16:$J$200)","v":{"v":0,"d":"0%"}},{"$error":"#DIV/0!"},{"$f":"SUMIFS('Bill of Materials'!$I$16:$I$200,'Bill of Materials'!$V$16:$V$200,A65,'Bill of Materials'!$W$16:$W$200,\"Grey\")/SUMIF('Bill of Materials'!$V$16:$V$200,A65,'Bill of Materials'!$I$16:$I$200)","v":{"$error":"#DIV/0!"}},{"$f":"IFERROR((SUMIFS('Bill of Materials'!$Y$16:$Y$200,'Bill of Materials'!$V$16:$V$200,A65,'Bill of Materials'!$W$16:$W$200,\"Grey\")/SUMIF('Bill of Materials'!$V$16:$V$200,A65,'Bill of Materials'!$Y$16:$Y$200)),\"\")","v":""},"",{"$f":"SUMIFS('Bill of Materials'!$I$16:$I$200,'Bill of Materials'!$V$16:$V$200,$A65,'Bill of Materials'!$W$16:$W$200,\"a\")/SUMIF('Bill of Materials'!$V$16:$V$200,$A65,'Bill of Materials'!$I$16:$I$200)","v":{"$error":"#DIV/0!"}},{"$f":"IFERROR((SUMIFS('Bill of Materials'!$Y$16:$Y$200,'Bill of Materials'!$V$16:$V$200,A65,'Bill of Materials'!$W$16:$W$200,\"a\")/SUMIF('Bill of Materials'!$V$16:$V$200,A65,'Bill of Materials'!$Y$16:$Y$200)),\"\")","v":""},"",{"$f":"SUMIFS('Bill of Materials'!$I$16:$I$200,'Bill of Materials'!$V$16:$V$200,$A65,'Bill of Materials'!$W$16:$W$200,\"b\")/SUMIF('Bill of Materials'!$V$16:$V$200,$A65,'Bill of Materials'!$I$16:$I$200)","v":{"$error":"#DIV/0!"}},{"$f":"IFERROR((SUMIFS('Bill of Materials'!$Y$16:$Y$200,'Bill of Materials'!$V$16:$V$200,$A65,'Bill of Materials'!$W$16:$W$200,\"b\")/SUMIF('Bill of Materials'!$V$16:$V$200,$A65,'Bill of Materials'!$Y$16:$Y$200)),\"\")","v":""},"",{"$error":"#DIV/0!"},"",{"$f":"SUMIFS('Bill of Materials'!$I$16:$I$200,'Bill of Materials'!$V$16:$V$200,$A65,'Bill of Materials'!$W$16:$W$200,\"c\")/SUMIF('Bill of Materials'!$V$16:$V$200,$A65,'Bill of Materials'!$I$16:$I$200)","v":{"$error":"#DIV/0!"}},{"$f":"IFERROR((SUMIFS('Bill of Materials'!$Y$16:$Y$200,'Bill of Materials'!$V$16:$V$200,$A65,'Bill of Materials'!$W$16:$W$200,\"c\")/SUMIF('Bill of Materials'!$V$16:$V$200,$A65,'Bill of Materials'!$Y$16:$Y$200)),\"\")","v":""},"",{"$f":"(SUMIFS('Bill of Materials'!$I$16:$I$200,'Bill of Materials'!$V$16:$V$200,$A65,'Bill of Materials'!$W$16:$W$200,\"x\")+SUMIFS('Bill of Materials'!$I$16:$I$200,'Bill of Materials'!$V$16:$V$200,$A65,'Bill of Materials'!$W$16:$W$200,\"x - CMR or SVHC\"))/SUMIF('Bill of Materials'!$V$16:$V$200,$A65,'Bill of Materials'!$I$16:$I$200)","v":{"$error":"#DIV/0!"}},{"$f":"IFERROR(((SUMIFS('Bill of Materials'!$Y$16:$Y$200,'Bill of Materials'!$V$16:$V$200,$A65,'Bill of Materials'!$W$16:$W$200,\"x\")+SUMIFS('Bill of Materials'!$Y$16:$Y$200,'Bill of Materials'!$V$16:$V$200,$A65,'Bill of Materials'!$W$16:$W$200,\"x - CMR or SVHC\"))/SUMIF('Bill of Materials'!$V$16:$V$200,$A65,'Bill of Materials'!$Y$16:$Y$200)),\"\")","v":""},"",{"$error":"#DIV/0!"},"","",""]
[57,{"$f":"SUMIF('Bill of Materials'!$V$16:$V$200,A66,'Bill of Materials'!$J$16:$J$200)","v":{"v":0,"d":"0%"}},{"$error":"#DIV/0!"},{"$f":"SUMIFS('Bill of Materials'!$I$16:$I$200,'Bill of Materials'!$V$16:$V$200,A66,'Bill of Materials'!$W$16:$W$200,\"Grey\")/SUMIF('Bill of Materials'!$V$16:$V$200,A66,'Bill of Materials'!$I$16:$I$200)","v":{"$error":"#DIV/0!"}},{"$f":"IFERROR((SUMIFS('Bill of Materials'!$Y$16:$Y$200,'Bill of Materials'!$V$16:$V$200,A66,'Bill of Materials'!$W$16:$W$200,\"Grey\")/SUMIF('Bill of Materials'!$V$16:$V$200,A66,'Bill of Materials'!$Y$16:$Y$200)),\"\")","v":""},"",{"$f":"SUMIFS('Bill of Materials'!$I$16:$I$200,'Bill of Materials'!$V$16:$V$200,$A66,'Bill of Materials'!$W$16:$W$200,\"a\")/SUMIF('Bill of Materials'!$V$16:$V$200,$A66,'Bill of Materials'!$I$16:$I$200)","v":{"$error":"#DIV/0!"}},{"$f":"IFERROR((SUMIFS('Bill of Materials'!$Y$16:$Y$200,'Bill of Materials'!$V$16:$V$200,A66,'Bill of Materials'!$W$16:$W$200,\"a\")/SUMIF('Bill of Materials'!$V$16:$V$200,A66,'Bill of Materials'!$Y$16:$Y$200)),\"\")","v":""},"",{"$f":"SUMIFS('Bill of Materials'!$I$16:$I$200,'Bill of Materials'!$V$16:$V$200,$A66,'Bill of Materials'!$W$16:$W$200,\"b\")/SUMIF('Bill of Materials'!$V$16:$V$200,$A66,'Bill of Materials'!$I$16:$I$200)","v":{"$error":"#DIV/0!"}},{"$f":"IFERROR((SUMIFS('Bill of Materials'!$Y$16:$Y$200,'Bill of Materials'!$V$16:$V$200,$A66,'Bill of Materials'!$W$16:$W$200,\"b\")/SUMIF('Bill of Materials'!$V$16:$V$200,$A66,'Bill of Materials'!$Y$16:$Y$200)),\"\")","v":""},"",{"$error":"#DIV/0!"},"",{"$f":"SUMIFS('Bill of Materials'!$I$16:$I$200,'Bill of Materials'!$V$16:$V$200,$A66,'Bill of Materials'!$W$16:$W$200,\"c\")/SUMIF('Bill of Materials'!$V$16:$V$200,$A66,'Bill of Materials'!$I$16:$I$200)","v":{"$error":"#DIV/0!"}},{"$f":"IFERROR((SUMIFS('Bill of Materials'!$Y$16:$Y$200,'Bill of Materials'!$V$16:$V$200,$A66,'Bill of Materials'!$W$16:$W$200,\"c\")/SUMIF('Bill of Materials'!$V$16:$V$200,$A66,'Bill of Materials'!$Y$16:$Y$200)),\"\")","v":""},"",{"$f":"(SUMIFS('Bill of Materials'!$I$16:$I$200,'Bill of Materials'!$V$16:$V$200,$A66,'Bill of Materials'!$W$16:$W$200,\"x\")+SUMIFS('Bill of Materials'!$I$16:$I$200,'Bill of Materials'!$V$16:$V$200,$A66,'Bill of Materials'!$W$16:$W$200,\"x - CMR or SVHC\"))/SUMIF('Bill of Materials'!$V$16:$V$200,$A66,'Bill of Materials'!$I$16:$I$200)","v":{"$error":"#DIV/0!"}},{"$f":"IFERROR(((SUMIFS('Bill of Materials'!$Y$16:$Y$200,'Bill of Materials'!$V$16:$V$200,$A66,'Bill of Materials'!$W$16:$W$200,\"x\")+SUMIFS('Bill of Materials'!$Y$16:$Y$200,'Bill of Materials'!$V$16:$V$200,$A66,'Bill of Materials'!$W$16:$W$200,\"x - CMR or SVHC\"))/SUMIF('Bill of Materials'!$V$16:$V$200,$A66,'Bill of Materials'!$Y$16:$Y$200)),\"\")","v":""},"",{"$error":"#DIV/0!"},"","",""]
[58,{"$f":"SUMIF('Bill of Materials'!$V$16:$V$200,A67,'Bill of Materials'!$J$16:$J$200)","v":{"v":0,"d":"0%"}},{"$error":"#DIV/0!"},{"$f":"SUMIFS('Bill of Materials'!$I$16:$I$200,'Bill of Materials'!$V$16:$V$200,A67,'Bill of Materials'!$W$16:$W$200,\"Grey\")/SUMIF('Bill of Materials'!$V$16:$V$200,A67,'Bill of Materials'!$I$16:$I$200)","v":{"$error":"#DIV/0!"}},{"$f":"IFERROR((SUMIFS('Bill of Materials'!$Y$16:$Y$200,'Bill of Materials'!$V$16:$V$200,A67,'Bill of Materials'!$W$16:$W$200,\"Grey\")/SUMIF('Bill of Materials'!$V$16:$V$200,A67,'Bill of Materials'!$Y$16:$Y$200)),\"\")","v":""},"",{"$f":"SUMIFS('Bill of Materials'!$I$16:$I$200,'Bill of Materials'!$V$16:$V$200,$A67,'Bill of Materials'!$W$16:$W$200,\"a\")/SUMIF('Bill of Materials'!$V$16:$V$200,$A67,'Bill of Materials'!$I$16:$I$200)","v":{"$error":"#DIV/0!"}},{"$f":"IFERROR((SUMIFS('Bill of Materials'!$Y$16:$Y$200,'Bill of Materials'!$V$16:$V$200,A67,'Bill of Materials'!$W$16:$W$200,\"a\")/SUMIF('Bill of Materials'!$V$16:$V$200,A67,'Bill of Materials'!$Y$16:$Y$200)),\"\")","v":""},"",{"$f":"SUMIFS('Bill of Materials'!$I$16:$I$200,'Bill of Materials'!$V$16:$V$200,$A67,'Bill of Materials'!$W$16:$W$200,\"b\")/SUMIF('Bill of Materials'!$V$16:$V$200,$A67,'Bill of Materials'!$I$16:$I$200)","v":{"$error":"#DIV/0!"}},{"$f":"IFERROR((SUMIFS('Bill of Materials'!$Y$16:$Y$200,'Bill of Materials'!$V$16:$V$200,$A67,'Bill of Materials'!$W$16:$W$200,\"b\")/SUMIF('Bill of Materials'!$V$16:$V$200,$A67,'Bill of Materials'!$Y$16:$Y$200)),\"\")","v":""},"",{"$error":"#DIV/0!"},"",{"$f":"SUMIFS('Bill of Materials'!$I$16:$I$200,'Bill of Materials'!$V$16:$V$200,$A67,'Bill of Materials'!$W$16:$W$200,\"c\")/SUMIF('Bill of Materials'!$V$16:$V$200,$A67,'Bill of Materials'!$I$16:$I$200)","v":{"$error":"#DIV/0!"}},{"$f":"IFERROR((SUMIFS('Bill of Materials'!$Y$16:$Y$200,'Bill of Materials'!$V$16:$V$200,$A67,'Bill of Materials'!$W$16:$W$200,\"c\")/SUMIF('Bill of Materials'!$V$16:$V$200,$A67,'Bill of Materials'!$Y$16:$Y$200)),\"\")","v":""},"",{"$f":"(SUMIFS('Bill of Materials'!$I$16:$I$200,'Bill of Materials'!$V$16:$V$200,$A67,'Bill of Materials'!$W$16:$W$200,\"x\")+SUMIFS('Bill of Materials'!$I$16:$I$200,'Bill of Materials'!$V$16:$V$200,$A67,'Bill of Materials'!$W$16:$W$200,\"x - CMR or SVHC\"))/SUMIF('Bill of Materials'!$V$16:$V$200,$A67,'Bill of Materials'!$I$16:$I$200)","v":{"$error":"#DIV/0!"}},{"$f":"IFERROR(((SUMIFS('Bill of Materials'!$Y$16:$Y$200,'Bill of Materials'!$V$16:$V$200,$A67,'Bill of Materials'!$W$16:$W$200,\"x\")+SUMIFS('Bill of Materials'!$Y$16:$Y$200,'Bill of Materials'!$V$16:$V$200,$A67,'Bill of Materials'!$W$16:$W$200,\"x - CMR or SVHC\"))/SUMIF('Bill of Materials'!$V$16:$V$200,$A67,'Bill of Materials'!$Y$16:$Y$200)),\"\")","v":""},"",{"$error":"#DIV/0!"},"","",""]
[59,{"$f":"SUMIF('Bill of Materials'!$V$16:$V$200,A68,'Bill of Materials'!$J$16:$J$200)","v":{"v":0,"d":"0%"}},{"$error":"#DIV/0!"},{"$f":"SUMIFS('Bill of Materials'!$I$16:$I$200,'Bill of Materials'!$V$16:$V$200,A68,'Bill of Materials'!$W$16:$W$200,\"Grey\")/SUMIF('Bill of Materials'!$V$16:$V$200,A68,'Bill of Materials'!$I$16:$I$200)","v":{"$error":"#DIV/0!"}},{"$f":"IFERROR((SUMIFS('Bill of Materials'!$Y$16:$Y$200,'Bill of Materials'!$V$16:$V$200,A68,'Bill of Materials'!$W$16:$W$200,\"Grey\")/SUMIF('Bill of Materials'!$V$16:$V$200,A68,'Bill of Materials'!$Y$16:$Y$200)),\"\")","v":""},"",{"$f":"SUMIFS('Bill of Materials'!$I$16:$I$200,'Bill of Materials'!$V$16:$V$200,$A68,'Bill of Materials'!$W$16:$W$200,\"a\")/SUMIF('Bill of Materials'!$V$16:$V$200,$A68,'Bill of Materials'!$I$16:$I$200)","v":{"$error":"#DIV/0!"}},{"$f":"IFERROR((SUMIFS('Bill of Materials'!$Y$16:$Y$200,'Bill of Materials'!$V$16:$V$200,A68,'Bill of Materials'!$W$16:$W$200,\"a\")/SUMIF('Bill of Materials'!$V$16:$V$200,A68,'Bill of Materials'!$Y$16:$Y$200)),\"\")","v":""},"",{"$f":"SUMIFS('Bill of Materials'!$I$16:$I$200,'Bill of Materials'!$V$16:$V$200,$A68,'Bill of Materials'!$W$16:$W$200,\"b\")/SUMIF('Bill of Materials'!$V$16:$V$200,$A68,'Bill of Materials'!$I$16:$I$200)","v":{"$error":"#DIV/0!"}},{"$f":"IFERROR((SUMIFS('Bill of Materials'!$Y$16:$Y$200,'Bill of Materials'!$V$16:$V$200,$A68,'Bill of Materials'!$W$16:$W$200,\"b\")/SUMIF('Bill of Materials'!$V$16:$V$200,$A68,'Bill of Materials'!$Y$16:$Y$200)),\"\")","v":""},"",{"$error":"#DIV/0!"},"",{"$f":"SUMIFS('Bill of Materials'!$I$16:$I$200,'Bill of Materials'!$V$16:$V$200,$A68,'Bill of Materials'!$W$16:$W$200,\"c\")/SUMIF('Bill of Materials'!$V$16:$V$200,$A68,'Bill of Materials'!$I$16:$I$200)","v":{"$error":"#DIV/0!"}},{"$f":"IFERROR((SUMIFS('Bill of Materials'!$Y$16:$Y$200,'Bill of Materials'!$V$16:$V$200,$A68,'Bill of Materials'!$W$16:$W$200,\"c\")/SUMIF('Bill of Materials'!$V$16:$V$200,$A68,'Bill of Materials'!$Y$16:$Y$200)),\"\")","v":""},"",{"$f":"(SUMIFS('Bill of Materials'!$I$16:$I$200,'Bill of Materials'!$V$16:$V$200,$A68,'Bill of Materials'!$W$16:$W$200,\"x\")+SUMIFS('Bill of Materials'!$I$16:$I$200,'Bill of Materials'!$V$16:$V$200,$A68,'Bill of Materials'!$W$16:$W$200,\"x - CMR or SVHC\"))/SUMIF('Bill of Materials'!$V$16:$V$200,$A68,'Bill of Materials'!$I$16:$I$200)","v":{"$error":"#DIV/0!"}},{"$f":"IFERROR(((SUMIFS('Bill of Materials'!$Y$16:$Y$200,'Bill of Materials'!$V$16:$V$200,$A68,'Bill of Materials'!$W$16:$W$200,\"x\")+SUMIFS('Bill of Materials'!$Y$16:$Y$200,'Bill of Materials'!$V$16:$V$200,$A68,'Bill of Materials'!$W$16:$W$200,\"x - CMR or SVHC\"))/SUMIF('Bill of Materials'!$V$16:$V$200,$A68,'Bill of Materials'!$Y$16:$Y$200)),\"\")","v":""},"",{"$error":"#DIV/0!"},"","",""]
[60,{"$f":"SUMIF('Bill of Materials'!$V$16:$V$200,A69,'Bill of Materials'!$J$16:$J$200)","v":{"v":0,"d":"0%"}},{"$error":"#DIV/0!"},{"$f":"SUMIFS('Bill of Materials'!$I$16:$I$200,'Bill of Materials'!$V$16:$V$200,A69,'Bill of Materials'!$W$16:$W$200,\"Grey\")/SUMIF('Bill of Materials'!$V$16:$V$200,A69,'Bill of Materials'!$I$16:$I$200)","v":{"$error":"#DIV/0!"}},{"$f":"IFERROR((SUMIFS('Bill of Materials'!$Y$16:$Y$200,'Bill of Materials'!$V$16:$V$200,A69,'Bill of Materials'!$W$16:$W$200,\"Grey\")/SUMIF('Bill of Materials'!$V$16:$V$200,A69,'Bill of Materials'!$Y$16:$Y$200)),\"\")","v":""},"",{"$f":"SUMIFS('Bill of Materials'!$I$16:$I$200,'Bill of Materials'!$V$16:$V$200,$A69,'Bill of Materials'!$W$16:$W$200,\"a\")/SUMIF('Bill of Materials'!$V$16:$V$200,$A69,'Bill of Materials'!$I$16:$I$200)","v":{"$error":"#DIV/0!"}},{"$f":"IFERROR((SUMIFS('Bill of Materials'!$Y$16:$Y$200,'Bill of Materials'!$V$16:$V$200,A69,'Bill of Materials'!$W$16:$W$200,\"a\")/SUMIF('Bill of Materials'!$V$16:$V$200,A69,'Bill of Materials'!$Y$16:$Y$200)),\"\")","v":""},"",{"$f":"SUMIFS('Bill of Materials'!$I$16:$I$200,'Bill of Materials'!$V$16:$V$200,$A69,'Bill of Materials'!$W$16:$W$200,\"b\")/SUMIF('Bill of Materials'!$V$16:$V$200,$A69,'Bill of Materials'!$I$16:$I$200)","v":{"$error":"#DIV/0!"}},{"$f":"IFERROR((SUMIFS('Bill of Materials'!$Y$16:$Y$200,'Bill of Materials'!$V$16:$V$200,$A69,'Bill of Materials'!$W$16:$W$200,\"b\")/SUMIF('Bill of Materials'!$V$16:$V$200,$A69,'Bill of Materials'!$Y$16:$Y$200)),\"\")","v":""},"",{"$error":"#DIV/0!"},"",{"$f":"SUMIFS('Bill of Materials'!$I$16:$I$200,'Bill of Materials'!$V$16:$V$200,$A69,'Bill of Materials'!$W$16:$W$200,\"c\")/SUMIF('Bill of Materials'!$V$16:$V$200,$A69,'Bill of Materials'!$I$16:$I$200)","v":{"$error":"#DIV/0!"}},{"$f":"IFERROR((SUMIFS('Bill of Materials'!$Y$16:$Y$200,'Bill of Materials'!$V$16:$V$200,$A69,'Bill of Materials'!$W$16:$W$200,\"c\")/SUMIF('Bill of Materials'!$V$16:$V$200,$A69,'Bill of Materials'!$Y$16:$Y$200)),\"\")","v":""},"",{"$f":"(SUMIFS('Bill of Materials'!$I$16:$I$200,'Bill of Materials'!$V$16:$V$200,$A69,'Bill of Materials'!$W$16:$W$200,\"x\")+SUMIFS('Bill of Materials'!$I$16:$I$200,'Bill of Materials'!$V$16:$V$200,$A69,'Bill of Materials'!$W$16:$W$200,\"x - CMR or SVHC\"))/SUMIF('Bill of Materials'!$V$16:$V$200,$A69,'Bill of Materials'!$I$16:$I$200)","v":{"$error":"#DIV/0!"}},{"$f":"IFERROR(((SUMIFS('Bill of Materials'!$Y$16:$Y$200,'Bill of Materials'!$V$16:$V$200,$A69,'Bill of Materials'!$W$16:$W$200,\"x\")+SUMIFS('Bill of Materials'!$Y$16:$Y$200,'Bill of Materials'!$V$16:$V$200,$A69,'Bill of Materials'!$W$16:$W$200,\"x - CMR or SVHC\"))/SUMIF('Bill of Materials'!$V$16:$V$200,$A69,'Bill of Materials'!$Y$16:$Y$200)),\"\")","v":""},"",{"$error":"#DIV/0!"},"","",""]
[61,{"$f":"SUMIF('Bill of Materials'!$V$16:$V$200,A70,'Bill of Materials'!$J$16:$J$200)","v":{"v":0,"d":"0%"}},{"$error":"#DIV/0!"},{"$f":"SUMIFS('Bill of Materials'!$I$16:$I$200,'Bill of Materials'!$V$16:$V$200,A70,'Bill of Materials'!$W$16:$W$200,\"Grey\")/SUMIF('Bill of Materials'!$V$16:$V$200,A70,'Bill of Materials'!$I$16:$I$200)","v":{"$error":"#DIV/0!"}},{"$f":"IFERROR((SUMIFS('Bill of Materials'!$Y$16:$Y$200,'Bill of Materials'!$V$16:$V$200,A70,'Bill of Materials'!$W$16:$W$200,\"Grey\")/SUMIF('Bill of Materials'!$V$16:$V$200,A70,'Bill of Materials'!$Y$16:$Y$200)),\"\")","v":""},"",{"$f":"SUMIFS('Bill of Materials'!$I$16:$I$200,'Bill of Materials'!$V$16:$V$200,$A70,'Bill of Materials'!$W$16:$W$200,\"a\")/SUMIF('Bill of Materials'!$V$16:$V$200,$A70,'Bill of Materials'!$I$16:$I$200)","v":{"$error":"#DIV/0!"}},{"$f":"IFERROR((SUMIFS('Bill of Materials'!$Y$16:$Y$200,'Bill of Materials'!$V$16:$V$200,A70,'Bill of Materials'!$W$16:$W$200,\"a\")/SUMIF('Bill of Materials'!$V$16:$V$200,A70,'Bill of Materials'!$Y$16:$Y$200)),\"\")","v":""},"",{"$f":"SUMIFS('Bill of Materials'!$I$16:$I$200,'Bill of Materials'!$V$16:$V$200,$A70,'Bill of Materials'!$W$16:$W$200,\"b\")/SUMIF('Bill of Materials'!$V$16:$V$200,$A70,'Bill of Materials'!$I$16:$I$200)","v":{"$error":"#DIV/0!"}},{"$f":"IFERROR((SUMIFS('Bill of Materials'!$Y$16:$Y$200,'Bill of Materials'!$V$16:$V$200,$A70,'Bill of Materials'!$W$16:$W$200,\"b\")/SUMIF('Bill of Materials'!$V$16:$V$200,$A70,'Bill of Materials'!$Y$16:$Y$200)),\"\")","v":""},"",{"$error":"#DIV/0!"},"",{"$f":"SUMIFS('Bill of Materials'!$I$16:$I$200,'Bill of Materials'!$V$16:$V$200,$A70,'Bill of Materials'!$W$16:$W$200,\"c\")/SUMIF('Bill of Materials'!$V$16:$V$200,$A70,'Bill of Materials'!$I$16:$I$200)","v":{"$error":"#DIV/0!"}},{"$f":"IFERROR((SUMIFS('Bill of Materials'!$Y$16:$Y$200,'Bill of Materials'!$V$16:$V$200,$A70,'Bill of Materials'!$W$16:$W$200,\"c\")/SUMIF('Bill of Materials'!$V$16:$V$200,$A70,'Bill of Materials'!$Y$16:$Y$200)),\"\")","v":""},"",{"$f":"(SUMIFS('Bill of Materials'!$I$16:$I$200,'Bill of Materials'!$V$16:$V$200,$A70,'Bill of Materials'!$W$16:$W$200,\"x\")+SUMIFS('Bill of Materials'!$I$16:$I$200,'Bill of Materials'!$V$16:$V$200,$A70,'Bill of Materials'!$W$16:$W$200,\"x - CMR or SVHC\"))/SUMIF('Bill of Materials'!$V$16:$V$200,$A70,'Bill of Materials'!$I$16:$I$200)","v":{"$error":"#DIV/0!"}},{"$f":"IFERROR(((SUMIFS('Bill of Materials'!$Y$16:$Y$200,'Bill of Materials'!$V$16:$V$200,$A70,'Bill of Materials'!$W$16:$W$200,\"x\")+SUMIFS('Bill of Materials'!$Y$16:$Y$200,'Bill of Materials'!$V$16:$V$200,$A70,'Bill of Materials'!$W$16:$W$200,\"x - CMR or SVHC\"))/SUMIF('Bill of Materials'!$V$16:$V$200,$A70,'Bill of Materials'!$Y$16:$Y$200)),\"\")","v":""},"",{"$error":"#DIV/0!"},"","",""]
[62,{"$f":"SUMIF('Bill of Materials'!$V$16:$V$200,A71,'Bill of Materials'!$J$16:$J$200)","v":{"v":0,"d":"0%"}},{"$error":"#DIV/0!"},{"$f":"SUMIFS('Bill of Materials'!$I$16:$I$200,'Bill of Materials'!$V$16:$V$200,A71,'Bill of Materials'!$W$16:$W$200,\"Grey\")/SUMIF('Bill of Materials'!$V$16:$V$200,A71,'Bill of Materials'!$I$16:$I$200)","v":{"$error":"#DIV/0!"}},{"$f":"IFERROR((SUMIFS('Bill of Materials'!$Y$16:$Y$200,'Bill of Materials'!$V$16:$V$200,A71,'Bill of Materials'!$W$16:$W$200,\"Grey\")/SUMIF('Bill of Materials'!$V$16:$V$200,A71,'Bill of Materials'!$Y$16:$Y$200)),\"\")","v":""},"",{"$f":"SUMIFS('Bill of Materials'!$I$16:$I$200,'Bill of Materials'!$V$16:$V$200,$A71,'Bill of Materials'!$W$16:$W$200,\"a\")/SUMIF('Bill of Materials'!$V$16:$V$200,$A71,'Bill of Materials'!$I$16:$I$200)","v":{"$error":"#DIV/0!"}},{"$f":"IFERROR((SUMIFS('Bill of Materials'!$Y$16:$Y$200,'Bill of Materials'!$V$16:$V$200,A71,'Bill of Materials'!$W$16:$W$200,\"a\")/SUMIF('Bill of Materials'!$V$16:$V$200,A71,'Bill of Materials'!$Y$16:$Y$200)),\"\")","v":""},"",{"$f":"SUMIFS('Bill of Materials'!$I$16:$I$200,'Bill of Materials'!$V$16:$V$200,$A71,'Bill of Materials'!$W$16:$W$200,\"b\")/SUMIF('Bill of Materials'!$V$16:$V$200,$A71,'Bill of Materials'!$I$16:$I$200)","v":{"$error":"#DIV/0!"}},{"$f":"IFERROR((SUMIFS('Bill of Materials'!$Y$16:$Y$200,'Bill of Materials'!$V$16:$V$200,$A71,'Bill of Materials'!$W$16:$W$200,\"b\")/SUMIF('Bill of Materials'!$V$16:$V$200,$A71,'Bill of Materials'!$Y$16:$Y$200)),\"\")","v":""},"",{"$error":"#DIV/0!"},"",{"$f":"SUMIFS('Bill of Materials'!$I$16:$I$200,'Bill of Materials'!$V$16:$V$200,$A71,'Bill of Materials'!$W$16:$W$200,\"c\")/SUMIF('Bill of Materials'!$V$16:$V$200,$A71,'Bill of Materials'!$I$16:$I$200)","v":{"$error":"#DIV/0!"}},{"$f":"IFERROR((SUMIFS('Bill of Materials'!$Y$16:$Y$200,'Bill of Materials'!$V$16:$V$200,$A71,'Bill of Materials'!$W$16:$W$200,\"c\")/SUMIF('Bill of Materials'!$V$16:$V$200,$A71,'Bill of Materials'!$Y$16:$Y$200)),\"\")","v":""},"",{"$f":"(SUMIFS('Bill of Materials'!$I$16:$I$200,'Bill of Materials'!$V$16:$V$200,$A71,'Bill of Materials'!$W$16:$W$200,\"x\")+SUMIFS('Bill of Materials'!$I$16:$I$200,'Bill of Materials'!$V$16:$V$200,$A71,'Bill of Materials'!$W$16:$W$200,\"x - CMR or SVHC\"))/SUMIF('Bill of Materials'!$V$16:$V$200,$A71,'Bill of Materials'!$I$16:$I$200)","v":{"$error":"#DIV/0!"}},{"$f":"IFERROR(((SUMIFS('Bill of Materials'!$Y$16:$Y$200,'Bill of Materials'!$V$16:$V$200,$A71,'Bill of Materials'!$W$16:$W$200,\"x\")+SUMIFS('Bill of Materials'!$Y$16:$Y$200,'Bill of Materials'!$V$16:$V$200,$A71,'Bill of Materials'!$W$16:$W$200,\"x - CMR or SVHC\"))/SUMIF('Bill of Materials'!$V$16:$V$200,$A71,'Bill of Materials'!$Y$16:$Y$200)),\"\")","v":""},"",{"$error":"#DIV/0!"},"","",""]
[63,{"$f":"SUMIF('Bill of Materials'!$V$16:$V$200,A72,'Bill of Materials'!$J$16:$J$200)","v":{"v":0,"d":"0%"}},{"$error":"#DIV/0!"},{"$f":"SUMIFS('Bill of Materials'!$I$16:$I$200,'Bill of Materials'!$V$16:$V$200,A72,'Bill of Materials'!$W$16:$W$200,\"Grey\")/SUMIF('Bill of Materials'!$V$16:$V$200,A72,'Bill of Materials'!$I$16:$I$200)","v":{"$error":"#DIV/0!"}},{"$f":"IFERROR((SUMIFS('Bill of Materials'!$Y$16:$Y$200,'Bill of Materials'!$V$16:$V$200,A72,'Bill of Materials'!$W$16:$W$200,\"Grey\")/SUMIF('Bill of Materials'!$V$16:$V$200,A72,'Bill of Materials'!$Y$16:$Y$200)),\"\")","v":""},"",{"$f":"SUMIFS('Bill of Materials'!$I$16:$I$200,'Bill of Materials'!$V$16:$V$200,$A72,'Bill of Materials'!$W$16:$W$200,\"a\")/SUMIF('Bill of Materials'!$V$16:$V$200,$A72,'Bill of Materials'!$I$16:$I$200)","v":{"$error":"#DIV/0!"}},{"$f":"IFERROR((SUMIFS('Bill of Materials'!$Y$16:$Y$200,'Bill of Materials'!$V$16:$V$200,A72,'Bill of Materials'!$W$16:$W$200,\"a\")/SUMIF('Bill of Materials'!$V$16:$V$200,A72,'Bill of Materials'!$Y$16:$Y$200)),\"\")","v":""},"",{"$f":"SUMIFS('Bill of Materials'!$I$16:$I$200,'Bill of Materials'!$V$16:$V$200,$A72,'Bill of Materials'!$W$16:$W$200,\"b\")/SUMIF('Bill of Materials'!$V$16:$V$200,$A72,'Bill of Materials'!$I$16:$I$200)","v":{"$error":"#DIV/0!"}},{"$f":"IFERROR((SUMIFS('Bill of Materials'!$Y$16:$Y$200,'Bill of Materials'!$V$16:$V$200,$A72,'Bill of Materials'!$W$16:$W$200,\"b\")/SUMIF('Bill of Materials'!$V$16:$V$200,$A72,'Bill of Materials'!$Y$16:$Y$200)),\"\")","v":""},"",{"$error":"#DIV/0!"},"",{"$f":"SUMIFS('Bill of Materials'!$I$16:$I$200,'Bill of Materials'!$V$16:$V$200,$A72,'Bill of Materials'!$W$16:$W$200,\"c\")/SUMIF('Bill of Materials'!$V$16:$V$200,$A72,'Bill of Materials'!$I$16:$I$200)","v":{"$error":"#DIV/0!"}},{"$f":"IFERROR((SUMIFS('Bill of Materials'!$Y$16:$Y$200,'Bill of Materials'!$V$16:$V$200,$A72,'Bill of Materials'!$W$16:$W$200,\"c\")/SUMIF('Bill of Materials'!$V$16:$V$200,$A72,'Bill of Materials'!$Y$16:$Y$200)),\"\")","v":""},"",{"$f":"(SUMIFS('Bill of Materials'!$I$16:$I$200,'Bill of Materials'!$V$16:$V$200,$A72,'Bill of Materials'!$W$16:$W$200,\"x\")+SUMIFS('Bill of Materials'!$I$16:$I$200,'Bill of Materials'!$V$16:$V$200,$A72,'Bill of Materials'!$W$16:$W$200,\"x - CMR or SVHC\"))/SUMIF('Bill of Materials'!$V$16:$V$200,$A72,'Bill of Materials'!$I$16:$I$200)","v":{"$error":"#DIV/0!"}},{"$f":"IFERROR(((SUMIFS('Bill of Materials'!$Y$16:$Y$200,'Bill of Materials'!$V$16:$V$200,$A72,'Bill of Materials'!$W$16:$W$200,\"x\")+SUMIFS('Bill of Materials'!$Y$16:$Y$200,'Bill of Materials'!$V$16:$V$200,$A72,'Bill of Materials'!$W$16:$W$200,\"x - CMR or SVHC\"))/SUMIF('Bill of Materials'!$V$16:$V$200,$A72,'Bill of Materials'!$Y$16:$Y$200)),\"\")","v":""},"",{"$error":"#DIV/0!"},"","",""]
[64,{"$f":"SUMIF('Bill of Materials'!$V$16:$V$200,A73,'Bill of Materials'!$J$16:$J$200)","v":{"v":0,"d":"0%"}},{"$error":"#DIV/0!"},{"$f":"SUMIFS('Bill of Materials'!$I$16:$I$200,'Bill of Materials'!$V$16:$V$200,A73,'Bill of Materials'!$W$16:$W$200,\"Grey\")/SUMIF('Bill of Materials'!$V$16:$V$200,A73,'Bill of Materials'!$I$16:$I$200)","v":{"$error":"#DIV/0!"}},{"$f":"IFERROR((SUMIFS('Bill of Materials'!$Y$16:$Y$200,'Bill of Materials'!$V$16:$V$200,A73,'Bill of Materials'!$W$16:$W$200,\"Grey\")/SUMIF('Bill of Materials'!$V$16:$V$200,A73,'Bill of Materials'!$Y$16:$Y$200)),\"\")","v":""},"",{"$f":"SUMIFS('Bill of Materials'!$I$16:$I$200,'Bill of Materials'!$V$16:$V$200,$A73,'Bill of Materials'!$W$16:$W$200,\"a\")/SUMIF('Bill of Materials'!$V$16:$V$200,$A73,'Bill of Materials'!$I$16:$I$200)","v":{"$error":"#DIV/0!"}},{"$f":"IFERROR((SUMIFS('Bill of Materials'!$Y$16:$Y$200,'Bill of Materials'!$V$16:$V$200,A73,'Bill of Materials'!$W$16:$W$200,\"a\")/SUMIF('Bill of Materials'!$V$16:$V$200,A73,'Bill of Materials'!$Y$16:$Y$200)),\"\")","v":""},"",{"$f":"SUMIFS('Bill of Materials'!$I$16:$I$200,'Bill of Materials'!$V$16:$V$200,$A73,'Bill of Materials'!$W$16:$W$200,\"b\")/SUMIF('Bill of Materials'!$V$16:$V$200,$A73,'Bill of Materials'!$I$16:$I$200)","v":{"$error":"#DIV/0!"}},{"$f":"IFERROR((SUMIFS('Bill of Materials'!$Y$16:$Y$200,'Bill of Materials'!$V$16:$V$200,$A73,'Bill of Materials'!$W$16:$W$200,\"b\")/SUMIF('Bill of Materials'!$V$16:$V$200,$A73,'Bill of Materials'!$Y$16:$Y$200)),\"\")","v":""},"",{"$error":"#DIV/0!"},"",{"$f":"SUMIFS('Bill of Materials'!$I$16:$I$200,'Bill of Materials'!$V$16:$V$200,$A73,'Bill of Materials'!$W$16:$W$200,\"c\")/SUMIF('Bill of Materials'!$V$16:$V$200,$A73,'Bill of Materials'!$I$16:$I$200)","v":{"$error":"#DIV/0!"}},{"$f":"IFERROR((SUMIFS('Bill of Materials'!$Y$16:$Y$200,'Bill of Materials'!$V$16:$V$200,$A73,'Bill of Materials'!$W$16:$W$200,\"c\")/SUMIF('Bill of Materials'!$V$16:$V$200,$A73,'Bill of Materials'!$Y$16:$Y$200)),\"\")","v":""},"",{"$f":"(SUMIFS('Bill of Materials'!$I$16:$I$200,'Bill of Materials'!$V$16:$V$200,$A73,'Bill of Materials'!$W$16:$W$200,\"x\")+SUMIFS('Bill of Materials'!$I$16:$I$200,'Bill of Materials'!$V$16:$V$200,$A73,'Bill of Materials'!$W$16:$W$200,\"x - CMR or SVHC\"))/SUMIF('Bill of Materials'!$V$16:$V$200,$A73,'Bill of Materials'!$I$16:$I$200)","v":{"$error":"#DIV/0!"}},{"$f":"IFERROR(((SUMIFS('Bill of Materials'!$Y$16:$Y$200,'Bill of Materials'!$V$16:$V$200,$A73,'Bill of Materials'!$W$16:$W$200,\"x\")+SUMIFS('Bill of Materials'!$Y$16:$Y$200,'Bill of Materials'!$V$16:$V$200,$A73,'Bill of Materials'!$W$16:$W$200,\"x - CMR or SVHC\"))/SUMIF('Bill of Materials'!$V$16:$V$200,$A73,'Bill of Materials'!$Y$16:$Y$200)),\"\")","v":""},"",{"$error":"#DIV/0!"},"","",""]
[65,{"$f":"SUMIF('Bill of Materials'!$V$16:$V$200,A74,'Bill of Materials'!$J$16:$J$200)","v":{"v":0,"d":"0%"}},{"$error":"#DIV/0!"},{"$f":"SUMIFS('Bill of Materials'!$I$16:$I$200,'Bill of Materials'!$V$16:$V$200,A74,'Bill of Materials'!$W$16:$W$200,\"Grey\")/SUMIF('Bill of Materials'!$V$16:$V$200,A74,'Bill of Materials'!$I$16:$I$200)","v":{"$error":"#DIV/0!"}},{"$f":"IFERROR((SUMIFS('Bill of Materials'!$Y$16:$Y$200,'Bill of Materials'!$V$16:$V$200,A74,'Bill of Materials'!$W$16:$W$200,\"Grey\")/SUMIF('Bill of Materials'!$V$16:$V$200,A74,'Bill of Materials'!$Y$16:$Y$200)),\"\")","v":""},"",{"$f":"SUMIFS('Bill of Materials'!$I$16:$I$200,'Bill of Materials'!$V$16:$V$200,$A74,'Bill of Materials'!$W$16:$W$200,\"a\")/SUMIF('Bill of Materials'!$V$16:$V$200,$A74,'Bill of Materials'!$I$16:$I$200)","v":{"$error":"#DIV/0!"}},{"$f":"IFERROR((SUMIFS('Bill of Materials'!$Y$16:$Y$200,'Bill of Materials'!$V$16:$V$200,A74,'Bill of Materials'!$W$16:$W$200,\"a\")/SUMIF('Bill of Materials'!$V$16:$V$200,A74,'Bill of Materials'!$Y$16:$Y$200)),\"\")","v":""},"",{"$f":"SUMIFS('Bill of Materials'!$I$16:$I$200,'Bill of Materials'!$V$16:$V$200,$A74,'Bill of Materials'!$W$16:$W$200,\"b\")/SUMIF('Bill of Materials'!$V$16:$V$200,$A74,'Bill of Materials'!$I$16:$I$200)","v":{"$error":"#DIV/0!"}},{"$f":"IFERROR((SUMIFS('Bill of Materials'!$Y$16:$Y$200,'Bill of Materials'!$V$16:$V$200,$A74,'Bill of Materials'!$W$16:$W$200,\"b\")/SUMIF('Bill of Materials'!$V$16:$V$200,$A74,'Bill of Materials'!$Y$16:$Y$200)),\"\")","v":""},"",{"$error":"#DIV/0!"},"",{"$f":"SUMIFS('Bill of Materials'!$I$16:$I$200,'Bill of Materials'!$V$16:$V$200,$A74,'Bill of Materials'!$W$16:$W$200,\"c\")/SUMIF('Bill of Materials'!$V$16:$V$200,$A74,'Bill of Materials'!$I$16:$I$200)","v":{"$error":"#DIV/0!"}},{"$f":"IFERROR((SUMIFS('Bill of Materials'!$Y$16:$Y$200,'Bill of Materials'!$V$16:$V$200,$A74,'Bill of Materials'!$W$16:$W$200,\"c\")/SUMIF('Bill of Materials'!$V$16:$V$200,$A74,'Bill of Materials'!$Y$16:$Y$200)),\"\")","v":""},"",{"$f":"(SUMIFS('Bill of Materials'!$I$16:$I$200,'Bill of Materials'!$V$16:$V$200,$A74,'Bill of Materials'!$W$16:$W$200,\"x\")+SUMIFS('Bill of Materials'!$I$16:$I$200,'Bill of Materials'!$V$16:$V$200,$A74,'Bill of Materials'!$W$16:$W$200,\"x - CMR or SVHC\"))/SUMIF('Bill of Materials'!$V$16:$V$200,$A74,'Bill of Materials'!$I$16:$I$200)","v":{"$error":"#DIV/0!"}},{"$f":"IFERROR(((SUMIFS('Bill of Materials'!$Y$16:$Y$200,'Bill of Materials'!$V$16:$V$200,$A74,'Bill of Materials'!$W$16:$W$200,\"x\")+SUMIFS('Bill of Materials'!$Y$16:$Y$200,'Bill of Materials'!$V$16:$V$200,$A74,'Bill of Materials'!$W$16:$W$200,\"x - CMR or SVHC\"))/SUMIF('Bill of Materials'!$V$16:$V$200,$A74,'Bill of Materials'!$Y$16:$Y$200)),\"\")","v":""},"",{"$error":"#DIV/0!"},"","",""]
[66,{"$f":"SUMIF('Bill of Materials'!$V$16:$V$200,A75,'Bill of Materials'!$J$16:$J$200)","v":{"v":0,"d":"0%"}},{"$f":"IF(AND(D75=0,N75<>\"\",N75<M75,R75=0),\"number\",IF(AND(E75<>\"\",E75>D75),\"number\",\"weight\"))","v":{"$error":"#DIV/0!"}},{"$f":"SUMIFS('Bill of Materials'!$I$16:$I$200,'Bill of Materials'!$V$16:$V$200,A75,'Bill of Materials'!$W$16:$W$200,\"Grey\")/SUMIF('Bill of Materials'!$V$16:$V$200,A75,'Bill of Materials'!$I$16:$I$200)","v":{"$error":"#DIV/0!"}},{"$f":"IFERROR((SUMIFS('Bill of Materials'!$Y$16:$Y$200,'Bill of Materials'!$V$16:$V$200,A75,'Bill of Materials'!$W$16:$W$200,\"Grey\")/SUMIF('Bill of Materials'!$V$16:$V$200,A75,'Bill of Materials'!$Y$16:$Y$200)),\"\")","v":""},{"$f":"IFERROR((IF($C75=\"weight\",D75*$B75,E75*$B75)),\"\")","v":""},{"$f":"SUMIFS('Bill of Materials'!$I$16:$I$200,'Bill of Materials'!$V$16:$V$200,$A75,'Bill of Materials'!$W$16:$W$200,\"a\")/SUMIF('Bill of Materials'!$V$16:$V$200,$A75,'Bill of Materials'!$I$16:$I$200)","v":{"$error":"#DIV/0!"}},{"$f":"IFERROR((SUMIFS('Bill of Materials'!$Y$16:$Y$200,'Bill of Materials'!$V$16:$V$200,A75,'Bill of Materials'!$W$16:$W$200,\"a\")/SUMIF('Bill of Materials'!$V$16:$V$200,A75,'Bill of Materials'!$Y$16:$Y$200)),\"\")","v":""},{"$f":"IFERROR((IF($C75=\"weight\",G75*$B75,H75*$B75)),\"\")","v":""},{"$f":"SUMIFS('Bill of Materials'!$I$16:$I$200,'Bill of Materials'!$V$16:$V$200,$A75,'Bill of Materials'!$W$16:$W$200,\"b\")/SUMIF('Bill of Materials'!$V$16:$V$200,$A75,'Bill of Materials'!$I$16:$I$200)","v":{"$error":"#DIV/0!"}},{"$f":"IFERROR((SUMIFS('Bill of Materials'!$Y$16:$Y$200,'Bill of Materials'!$V$16:$V$200,$A75,'Bill of Materials'!$W$16:$W$200,\"b\")/SUMIF('Bill of Materials'!$V$16:$V$200,$A75,'Bill of Materials'!$Y$16:$Y$200)),\"\")","v":""},{"$f":"IFERROR((IF($C75=\"weight\",J75*$B75,K75*$B75)),\"\")","v":""},{"$f":"G75+J75","v":{"$error":"#DIV/0!"}},{"$f":"IF(AND(H75=\"\",K75=\"\"),\"\",H75+K75)","v":""},{"$f":"SUMIFS('Bill of Materials'!$I$16:$I$200,'Bill of Materials'!$V$16:$V$200,$A75,'Bill of Materials'!$W$16:$W$200,\"c\")/SUMIF('Bill of Materials'!$V$16:$V$200,$A75,'Bill of Materials'!$I$16:$I$200)","v":{"$error":"#DIV/0!"}},{"$f":"IFERROR((SUMIFS('Bill of Materials'!$Y$16:$Y$200,'Bill of Materials'!$V$16:$V$200,$A75,'Bill of Materials'!$W$16:$W$200,\"c\")/SUMIF('Bill of Materials'!$V$16:$V$200,$A75,'Bill of Materials'!$Y$16:$Y$200)),\"\")","v":""},{"$f":"IFERROR((IF($C75=\"weight\",O75*$B75,P75*$B75)),\"\")","v":""},{"$f":"(SUMIFS('Bill of Materials'!$I$16:$I$200,'Bill of Materials'!$V$16:$V$200,$A75,'Bill of Materials'!$W$16:$W$200,\"x\")+SUMIFS('Bill of Materials'!$I$16:$I$200,'Bill of Materials'!$V$16:$V$200,$A75,'Bill of Materials'!$W$16:$W$200,\"x - CMR or SVHC\"))/SUMIF('Bill of Materials'!$V$16:$V$200,$A75,'Bill of Materials'!$I$16:$I$200)","v":{"$error":"#DIV/0!"}},{"$f":"IFERROR(((SUMIFS('Bill of Materials'!$Y$16:$Y$200,'Bill of Materials'!$V$16:$V$200,$A75,'Bill of Materials'!$W$16:$W$200,\"x\")+SUMIFS('Bill of Materials'!$Y$16:$Y$200,'Bill of Materials'!$V$16:$V$200,$A75,'Bill of Materials'!$W$16:$W$200,\"x - CMR or SVHC\"))/SUMIF('Bill of Materials'!$V$16:$V$200,$A75,'Bill of Materials'!$Y$16:$Y$200)),\"\")","v":""},{"$f":"IFERROR((IF($C75=\"weight\",R75*$B75,S75*$B75)),\"\")","v":""},{"$f":"(1-D75)-(G75+J75+O75+R75)","v":{"$error":"#DIV/0!"}},{"$f":"IF(E75=\"\",\"\",((1-E75)-(H75+K75+P75+S75)))","v":""},{"$f":"IFERROR((IF($C75=\"weight\",U75*$B75,V75*$B75)),\"\")","v":""},{"$f":"IFERROR((IF(C75=\"number\",((H75+K75+P75+S75+V75)*B75),((G75+J75+O75+R75+U75)*B75))),\"\")","v":""}]
[67,{"$f":"SUMIF('Bill of Materials'!$V$16:$V$200,A76,'Bill of Materials'!$J$16:$J$200)","v":{"v":0,"d":"0%"}},{"$error":"#DIV/0!"},{"$f":"SUMIFS('Bill of Materials'!$I$16:$I$200,'Bill of Materials'!$V$16:$V$200,A76,'Bill of Materials'!$W$16:$W$200,\"Grey\")/SUMIF('Bill of Materials'!$V$16:$V$200,A76,'Bill of Materials'!$I$16:$I$200)","v":{"$error":"#DIV/0!"}},{"$f":"IFERROR((SUMIFS('Bill of Materials'!$Y$16:$Y$200,'Bill of Materials'!$V$16:$V$200,A76,'Bill of Materials'!$W$16:$W$200,\"Grey\")/SUMIF('Bill of Materials'!$V$16:$V$200,A76,'Bill of Materials'!$Y$16:$Y$200)),\"\")","v":""},"",{"$f":"SUMIFS('Bill of Materials'!$I$16:$I$200,'Bill of Materials'!$V$16:$V$200,$A76,'Bill of Materials'!$W$16:$W$200,\"a\")/SUMIF('Bill of Materials'!$V$16:$V$200,$A76,'Bill of Materials'!$I$16:$I$200)","v":{"$error":"#DIV/0!"}},{"$f":"IFERROR((SUMIFS('Bill of Materials'!$Y$16:$Y$200,'Bill of Materials'!$V$16:$V$200,A76,'Bill of Materials'!$W$16:$W$200,\"a\")/SUMIF('Bill of Materials'!$V$16:$V$200,A76,'Bill of Materials'!$Y$16:$Y$200)),\"\")","v":""},"",{"$f":"SUMIFS('Bill of Materials'!$I$16:$I$200,'Bill of Materials'!$V$16:$V$200,$A76,'Bill of Materials'!$W$16:$W$200,\"b\")/SUMIF('Bill of Materials'!$V$16:$V$200,$A76,'Bill of Materials'!$I$16:$I$200)","v":{"$error":"#DIV/0!"}},{"$f":"IFERROR((SUMIFS('Bill of Materials'!$Y$16:$Y$200,'Bill of Materials'!$V$16:$V$200,$A76,'Bill of Materials'!$W$16:$W$200,\"b\")/SUMIF('Bill of Materials'!$V$16:$V$200,$A76,'Bill of Materials'!$Y$16:$Y$200)),\"\")","v":""},"",{"$error":"#DIV/0!"},"",{"$f":"SUMIFS('Bill of Materials'!$I$16:$I$200,'Bill of Materials'!$V$16:$V$200,$A76,'Bill of Materials'!$W$16:$W$200,\"c\")/SUMIF('Bill of Materials'!$V$16:$V$200,$A76,'Bill of Materials'!$I$16:$I$200)","v":{"$error":"#DIV/0!"}},{"$f":"IFERROR((SUMIFS('Bill of Materials'!$Y$16:$Y$200,'Bill of Materials'!$V$16:$V$200,$A76,'Bill of Materials'!$W$16:$W$200,\"c\")/SUMIF('Bill of Materials'!$V$16:$V$200,$A76,'Bill of Materials'!$Y$16:$Y$200)),\"\")","v":""},"",{"$f":"(SUMIFS('Bill of Materials'!$I$16:$I$200,'Bill of Materials'!$V$16:$V$200,$A76,'Bill of Materials'!$W$16:$W$200,\"x\")+SUMIFS('Bill of Materials'!$I$16:$I$200,'Bill of Materials'!$V$16:$V$200,$A76,'Bill of Materials'!$W$16:$W$200,\"x - CMR or SVHC\"))/SUMIF('Bill of Materials'!$V$16:$V$200,$A76,'Bill of Materials'!$I$16:$I$200)","v":{"$error":"#DIV/0!"}},{"$f":"IFERROR(((SUMIFS('Bill of Materials'!$Y$16:$Y$200,'Bill of Materials'!$V$16:$V$200,$A76,'Bill of Materials'!$W$16:$W$200,\"x\")+SUMIFS('Bill of Materials'!$Y$16:$Y$200,'Bill of Materials'!$V$16:$V$200,$A76,'Bill of Materials'!$W$16:$W$200,\"x - CMR or SVHC\"))/SUMIF('Bill of Materials'!$V$16:$V$200,$A76,'Bill of Materials'!$Y$16:$Y$200)),\"\")","v":""},"",{"$error":"#DIV/0!"},"","",""]
[68,{"$f":"SUMIF('Bill of Materials'!$V$16:$V$200,A77,'Bill of Materials'!$J$16:$J$200)","v":{"v":0,"d":"0%"}},{"$error":"#DIV/0!"},{"$f":"SUMIFS('Bill of Materials'!$I$16:$I$200,'Bill of Materials'!$V$16:$V$200,A77,'Bill of Materials'!$W$16:$W$200,\"Grey\")/SUMIF('Bill of Materials'!$V$16:$V$200,A77,'Bill of Materials'!$I$16:$I$200)","v":{"$error":"#DIV/0!"}},{"$f":"IFERROR((SUMIFS('Bill of Materials'!$Y$16:$Y$200,'Bill of Materials'!$V$16:$V$200,A77,'Bill of Materials'!$W$16:$W$200,\"Grey\")/SUMIF('Bill of Materials'!$V$16:$V$200,A77,'Bill of Materials'!$Y$16:$Y$200)),\"\")","v":""},"",{"$f":"SUMIFS('Bill of Materials'!$I$16:$I$200,'Bill of Materials'!$V$16:$V$200,$A77,'Bill of Materials'!$W$16:$W$200,\"a\")/SUMIF('Bill of Materials'!$V$16:$V$200,$A77,'Bill of Materials'!$I$16:$I$200)","v":{"$error":"#DIV/0!"}},{"$f":"IFERROR((SUMIFS('Bill of Materials'!$Y$16:$Y$200,'Bill of Materials'!$V$16:$V$200,A77,'Bill of Materials'!$W$16:$W$200,\"a\")/SUMIF('Bill of Materials'!$V$16:$V$200,A77,'Bill of Materials'!$Y$16:$Y$200)),\"\")","v":""},"",{"$f":"SUMIFS('Bill of Materials'!$I$16:$I$200,'Bill of Materials'!$V$16:$V$200,$A77,'Bill of Materials'!$W$16:$W$200,\"b\")/SUMIF('Bill of Materials'!$V$16:$V$200,$A77,'Bill of Materials'!$I$16:$I$200)","v":{"$error":"#DIV/0!"}},{"$f":"IFERROR((SUMIFS('Bill of Materials'!$Y$16:$Y$200,'Bill of Materials'!$V$16:$V$200,$A77,'Bill of Materials'!$W$16:$W$200,\"b\")/SUMIF('Bill of Materials'!$V$16:$V$200,$A77,'Bill of Materials'!$Y$16:$Y$200)),\"\")","v":""},"",{"$error":"#DIV/0!"},"",{"$f":"SUMIFS('Bill of Materials'!$I$16:$I$200,'Bill of Materials'!$V$16:$V$200,$A77,'Bill of Materials'!$W$16:$W$200,\"c\")/SUMIF('Bill of Materials'!$V$16:$V$200,$A77,'Bill of Materials'!$I$16:$I$200)","v":{"$error":"#DIV/0!"}},{"$f":"IFERROR((SUMIFS('Bill of Materials'!$Y$16:$Y$200,'Bill of Materials'!$V$16:$V$200,$A77,'Bill of Materials'!$W$16:$W$200,\"c\")/SUMIF('Bill of Materials'!$V$16:$V$200,$A77,'Bill of Materials'!$Y$16:$Y$200)),\"\")","v":""},"",{"$f":"(SUMIFS('Bill of Materials'!$I$16:$I$200,'Bill of Materials'!$V$16:$V$200,$A77,'Bill of Materials'!$W$16:$W$200,\"x\")+SUMIFS('Bill of Materials'!$I$16:$I$200,'Bill of Materials'!$V$16:$V$200,$A77,'Bill of Materials'!$W$16:$W$200,\"x - CMR or SVHC\"))/SUMIF('Bill of Materials'!$V$16:$V$200,$A77,'Bill of Materials'!$I$16:$I$200)","v":{"$error":"#DIV/0!"}},{"$f":"IFERROR(((SUMIFS('Bill of Materials'!$Y$16:$Y$200,'Bill of Materials'!$V$16:$V$200,$A77,'Bill of Materials'!$W$16:$W$200,\"x\")+SUMIFS('Bill of Materials'!$Y$16:$Y$200,'Bill of Materials'!$V$16:$V$200,$A77,'Bill of Materials'!$W$16:$W$200,\"x - CMR or SVHC\"))/SUMIF('Bill of Materials'!$V$16:$V$200,$A77,'Bill of Materials'!$Y$16:$Y$200)),\"\")","v":""},"",{"$error":"#DIV/0!"},"","",""]
[69,{"$f":"SUMIF('Bill of Materials'!$V$16:$V$200,A78,'Bill of Materials'!$J$16:$J$200)","v":{"v":0,"d":"0%"}},{"$error":"#DIV/0!"},{"$f":"SUMIFS('Bill of Materials'!$I$16:$I$200,'Bill of Materials'!$V$16:$V$200,A78,'Bill of Materials'!$W$16:$W$200,\"Grey\")/SUMIF('Bill of Materials'!$V$16:$V$200,A78,'Bill of Materials'!$I$16:$I$200)","v":{"$error":"#DIV/0!"}},{"$f":"IFERROR((SUMIFS('Bill of Materials'!$Y$16:$Y$200,'Bill of Materials'!$V$16:$V$200,A78,'Bill of Materials'!$W$16:$W$200,\"Grey\")/SUMIF('Bill of Materials'!$V$16:$V$200,A78,'Bill of Materials'!$Y$16:$Y$200)),\"\")","v":""},"",{"$f":"SUMIFS('Bill of Materials'!$I$16:$I$200,'Bill of Materials'!$V$16:$V$200,$A78,'Bill of Materials'!$W$16:$W$200,\"a\")/SUMIF('Bill of Materials'!$V$16:$V$200,$A78,'Bill of Materials'!$I$16:$I$200)","v":{"$error":"#DIV/0!"}},{"$f":"IFERROR((SUMIFS('Bill of Materials'!$Y$16:$Y$200,'Bill of Materials'!$V$16:$V$200,A78,'Bill of Materials'!$W$16:$W$200,\"a\")/SUMIF('Bill of Materials'!$V$16:$V$200,A78,'Bill of Materials'!$Y$16:$Y$200)),\"\")","v":""},"",{"$f":"SUMIFS('Bill of Materials'!$I$16:$I$200,'Bill of Materials'!$V$16:$V$200,$A78,'Bill of Materials'!$W$16:$W$200,\"b\")/SUMIF('Bill of Materials'!$V$16:$V$200,$A78,'Bill of Materials'!$I$16:$I$200)","v":{"$error":"#DIV/0!"}},{"$f":"IFERROR((SUMIFS('Bill of Materials'!$Y$16:$Y$200,'Bill of Materials'!$V$16:$V$200,$A78,'Bill of Materials'!$W$16:$W$200,\"b\")/SUMIF('Bill of Materials'!$V$16:$V$200,$A78,'Bill of Materials'!$Y$16:$Y$200)),\"\")","v":""},"",{"$error":"#DIV/0!"},"",{"$f":"SUMIFS('Bill of Materials'!$I$16:$I$200,'Bill of Materials'!$V$16:$V$200,$A78,'Bill of Materials'!$W$16:$W$200,\"c\")/SUMIF('Bill of Materials'!$V$16:$V$200,$A78,'Bill of Materials'!$I$16:$I$200)","v":{"$error":"#DIV/0!"}},{"$f":"IFERROR((SUMIFS('Bill of Materials'!$Y$16:$Y$200,'Bill of Materials'!$V$16:$V$200,$A78,'Bill of Materials'!$W$16:$W$200,\"c\")/SUMIF('Bill of Materials'!$V$16:$V$200,$A78,'Bill of Materials'!$Y$16:$Y$200)),\"\")","v":""},"",{"$f":"(SUMIFS('Bill of Materials'!$I$16:$I$200,'Bill of Materials'!$V$16:$V$200,$A78,'Bill of Materials'!$W$16:$W$200,\"x\")+SUMIFS('Bill of Materials'!$I$16:$I$200,'Bill of Materials'!$V$16:$V$200,$A78,'Bill of Materials'!$W$16:$W$200,\"x - CMR or SVHC\"))/SUMIF('Bill of Materials'!$V$16:$V$200,$A78,'Bill of Materials'!$I$16:$I$200)","v":{"$error":"#DIV/0!"}},{"$f":"IFERROR(((SUMIFS('Bill of Materials'!$Y$16:$Y$200,'Bill of Materials'!$V$16:$V$200,$A78,'Bill of Materials'!$W$16:$W$200,\"x\")+SUMIFS('Bill of Materials'!$Y$16:$Y$200,'Bill of Materials'!$V$16:$V$200,$A78,'Bill of Materials'!$W$16:$W$200,\"x - CMR or SVHC\"))/SUMIF('Bill of Materials'!$V$16:$V$200,$A78,'Bill of Materials'!$Y$16:$Y$200)),\"\")","v":""},"",{"$error":"#DIV/0!"},"","",""]
[70,{"$f":"SUMIF('Bill of Materials'!$V$16:$V$200,A79,'Bill of Materials'!$J$16:$J$200)","v":{"v":0,"d":"0%"}},{"$error":"#DIV/0!"},{"$f":"SUMIFS('Bill of Materials'!$I$16:$I$200,'Bill of Materials'!$V$16:$V$200,A79,'Bill of Materials'!$W$16:$W$200,\"Grey\")/SUMIF('Bill of Materials'!$V$16:$V$200,A79,'Bill of Materials'!$I$16:$I$200)","v":{"$error":"#DIV/0!"}},{"$f":"IFERROR((SUMIFS('Bill of Materials'!$Y$16:$Y$200,'Bill of Materials'!$V$16:$V$200,A79,'Bill of Materials'!$W$16:$W$200,\"Grey\")/SUMIF('Bill of Materials'!$V$16:$V$200,A79,'Bill of Materials'!$Y$16:$Y$200)),\"\")","v":""},"",{"$f":"SUMIFS('Bill of Materials'!$I$16:$I$200,'Bill of Materials'!$V$16:$V$200,$A79,'Bill of Materials'!$W$16:$W$200,\"a\")/SUMIF('Bill of Materials'!$V$16:$V$200,$A79,'Bill of Materials'!$I$16:$I$200)","v":{"$error":"#DIV/0!"}},{"$f":"IFERROR((SUMIFS('Bill of Materials'!$Y$16:$Y$200,'Bill of Materials'!$V$16:$V$200,A79,'Bill of Materials'!$W$16:$W$200,\"a\")/SUMIF('Bill of Materials'!$V$16:$V$200,A79,'Bill of Materials'!$Y$16:$Y$200)),\"\")","v":""},"",{"$f":"SUMIFS('Bill of Materials'!$I$16:$I$200,'Bill of Materials'!$V$16:$V$200,$A79,'Bill of Materials'!$W$16:$W$200,\"b\")/SUMIF('Bill of Materials'!$V$16:$V$200,$A79,'Bill of Materials'!$I$16:$I$200)","v":{"$error":"#DIV/0!"}},{"$f":"IFERROR((SUMIFS('Bill of Materials'!$Y$16:$Y$200,'Bill of Materials'!$V$16:$V$200,$A79,'Bill of Materials'!$W$16:$W$200,\"b\")/SUMIF('Bill of Materials'!$V$16:$V$200,$A79,'Bill of Materials'!$Y$16:$Y$200)),\"\")","v":""},"",{"$error":"#DIV/0!"},"",{"$f":"SUMIFS('Bill of Materials'!$I$16:$I$200,'Bill of Materials'!$V$16:$V$200,$A79,'Bill of Materials'!$W$16:$W$200,\"c\")/SUMIF('Bill of Materials'!$V$16:$V$200,$A79,'Bill of Materials'!$I$16:$I$200)","v":{"$error":"#DIV/0!"}},{"$f":"IFERROR((SUMIFS('Bill of Materials'!$Y$16:$Y$200,'Bill of Materials'!$V$16:$V$200,$A79,'Bill of Materials'!$W$16:$W$200,\"c\")/SUMIF('Bill of Materials'!$V$16:$V$200,$A79,'Bill of Materials'!$Y$16:$Y$200)),\"\")","v":""},"",{"$f":"(SUMIFS('Bill of Materials'!$I$16:$I$200,'Bill of Materials'!$V$16:$V$200,$A79,'Bill of Materials'!$W$16:$W$200,\"x\")+SUMIFS('Bill of Materials'!$I$16:$I$200,'Bill of Materials'!$V$16:$V$200,$A79,'Bill of Materials'!$W$16:$W$200,\"x - CMR or SVHC\"))/SUMIF('Bill of Materials'!$V$16:$V$200,$A79,'Bill of Materials'!$I$16:$I$200)","v":{"$error":"#DIV/0!"}},{"$f":"IFERROR(((SUMIFS('Bill of Materials'!$Y$16:$Y$200,'Bill of Materials'!$V$16:$V$200,$A79,'Bill of Materials'!$W$16:$W$200,\"x\")+SUMIFS('Bill of Materials'!$Y$16:$Y$200,'Bill of Materials'!$V$16:$V$200,$A79,'Bill of Materials'!$W$16:$W$200,\"x - CMR or SVHC\"))/SUMIF('Bill of Materials'!$V$16:$V$200,$A79,'Bill of Materials'!$Y$16:$Y$200)),\"\")","v":""},"",{"$error":"#DIV/0!"},"","",""]
[71,{"$f":"SUMIF('Bill of Materials'!$V$16:$V$200,A80,'Bill of Materials'!$J$16:$J$200)","v":{"v":0,"d":"0%"}},{"$error":"#DIV/0!"},{"$f":"SUMIFS('Bill of Materials'!$I$16:$I$200,'Bill of Materials'!$V$16:$V$200,A80,'Bill of Materials'!$W$16:$W$200,\"Grey\")/SUMIF('Bill of Materials'!$V$16:$V$200,A80,'Bill of Materials'!$I$16:$I$200)","v":{"$error":"#DIV/0!"}},{"$f":"IFERROR((SUMIFS('Bill of Materials'!$Y$16:$Y$200,'Bill of Materials'!$V$16:$V$200,A80,'Bill of Materials'!$W$16:$W$200,\"Grey\")/SUMIF('Bill of Materials'!$V$16:$V$200,A80,'Bill of Materials'!$Y$16:$Y$200)),\"\")","v":""},"",{"$f":"SUMIFS('Bill of Materials'!$I$16:$I$200,'Bill of Materials'!$V$16:$V$200,$A80,'Bill of Materials'!$W$16:$W$200,\"a\")/SUMIF('Bill of Materials'!$V$16:$V$200,$A80,'Bill of Materials'!$I$16:$I$200)","v":{"$error":"#DIV/0!"}},{"$f":"IFERROR((SUMIFS('Bill of Materials'!$Y$16:$Y$200,'Bill of Materials'!$V$16:$V$200,A80,'Bill of Materials'!$W$16:$W$200,\"a\")/SUMIF('Bill of Materials'!$V$16:$V$200,A80,'Bill of Materials'!$Y$16:$Y$200)),\"\")","v":""},"",{"$f":"SUMIFS('Bill of Materials'!$I$16:$I$200,'Bill of Materials'!$V$16:$V$200,$A80,'Bill of Materials'!$W$16:$W$200,\"b\")/SUMIF('Bill of Materials'!$V$16:$V$200,$A80,'Bill of Materials'!$I$16:$I$200)","v":{"$error":"#DIV/0!"}},{"$f":"IFERROR((SUMIFS('Bill of Materials'!$Y$16:$Y$200,'Bill of Materials'!$V$16:$V$200,$A80,'Bill of Materials'!$W$16:$W$200,\"b\")/SUMIF('Bill of Materials'!$V$16:$V$200,$A80,'Bill of Materials'!$Y$16:$Y$200)),\"\")","v":""},"",{"$error":"#DIV/0!"},"",{"$f":"SUMIFS('Bill of Materials'!$I$16:$I$200,'Bill of Materials'!$V$16:$V$200,$A80,'Bill of Materials'!$W$16:$W$200,\"c\")/SUMIF('Bill of Materials'!$V$16:$V$200,$A80,'Bill of Materials'!$I$16:$I$200)","v":{"$error":"#DIV/0!"}},{"$f":"IFERROR((SUMIFS('Bill of Materials'!$Y$16:$Y$200,'Bill of Materials'!$V$16:$V$200,$A80,'Bill of Materials'!$W$16:$W$200,\"c\")/SUMIF('Bill of Materials'!$V$16:$V$200,$A80,'Bill of Materials'!$Y$16:$Y$200)),\"\")","v":""},"",{"$f":"(SUMIFS('Bill of Materials'!$I$16:$I$200,'Bill of Materials'!$V$16:$V$200,$A80,'Bill of Materials'!$W$16:$W$200,\"x\")+SUMIFS('Bill of Materials'!$I$16:$I$200,'Bill of Materials'!$V$16:$V$200,$A80,'Bill of Materials'!$W$16:$W$200,\"x - CMR or SVHC\"))/SUMIF('Bill of Materials'!$V$16:$V$200,$A80,'Bill of Materials'!$I$16:$I$200)","v":{"$error":"#DIV/0!"}},{"$f":"IFERROR(((SUMIFS('Bill of Materials'!$Y$16:$Y$200,'Bill of Materials'!$V$16:$V$200,$A80,'Bill of Materials'!$W$16:$W$200,\"x\")+SUMIFS('Bill of Materials'!$Y$16:$Y$200,'Bill of Materials'!$V$16:$V$200,$A80,'Bill of Materials'!$W$16:$W$200,\"x - CMR or SVHC\"))/SUMIF('Bill of Materials'!$V$16:$V$200,$A80,'Bill of Materials'!$Y$16:$Y$200)),\"\")","v":""},"",{"$error":"#DIV/0!"},"","",""]
[72,{"$f":"SUMIF('Bill of Materials'!$V$16:$V$200,A81,'Bill of Materials'!$J$16:$J$200)","v":{"v":0,"d":"0%"}},{"$error":"#DIV/0!"},{"$f":"SUMIFS('Bill of Materials'!$I$16:$I$200,'Bill of Materials'!$V$16:$V$200,A81,'Bill of Materials'!$W$16:$W$200,\"Grey\")/SUMIF('Bill of Materials'!$V$16:$V$200,A81,'Bill of Materials'!$I$16:$I$200)","v":{"$error":"#DIV/0!"}},{"$f":"IFERROR((SUMIFS('Bill of Materials'!$Y$16:$Y$200,'Bill of Materials'!$V$16:$V$200,A81,'Bill of Materials'!$W$16:$W$200,\"Grey\")/SUMIF('Bill of Materials'!$V$16:$V$200,A81,'Bill of Materials'!$Y$16:$Y$200)),\"\")","v":""},"",{"$f":"SUMIFS('Bill of Materials'!$I$16:$I$200,'Bill of Materials'!$V$16:$V$200,$A81,'Bill of Materials'!$W$16:$W$200,\"a\")/SUMIF('Bill of Materials'!$V$16:$V$200,$A81,'Bill of Materials'!$I$16:$I$200)","v":{"$error":"#DIV/0!"}},{"$f":"IFERROR((SUMIFS('Bill of Materials'!$Y$16:$Y$200,'Bill of Materials'!$V$16:$V$200,A81,'Bill of Materials'!$W$16:$W$200,\"a\")/SUMIF('Bill of Materials'!$V$16:$V$200,A81,'Bill of Materials'!$Y$16:$Y$200)),\"\")","v":""},"",{"$f":"SUMIFS('Bill of Materials'!$I$16:$I$200,'Bill of Materials'!$V$16:$V$200,$A81,'Bill of Materials'!$W$16:$W$200,\"b\")/SUMIF('Bill of Materials'!$V$16:$V$200,$A81,'Bill of Materials'!$I$16:$I$200)","v":{"$error":"#DIV/0!"}},{"$f":"IFERROR((SUMIFS('Bill of Materials'!$Y$16:$Y$200,'Bill of Materials'!$V$16:$V$200,$A81,'Bill of Materials'!$W$16:$W$200,\"b\")/SUMIF('Bill of Materials'!$V$16:$V$200,$A81,'Bill of Materials'!$Y$16:$Y$200)),\"\")","v":""},"",{"$error":"#DIV/0!"},"",{"$f":"SUMIFS('Bill of Materials'!$I$16:$I$200,'Bill of Materials'!$V$16:$V$200,$A81,'Bill of Materials'!$W$16:$W$200,\"c\")/SUMIF('Bill of Materials'!$V$16:$V$200,$A81,'Bill of Materials'!$I$16:$I$200)","v":{"$error":"#DIV/0!"}},{"$f":"IFERROR((SUMIFS('Bill of Materials'!$Y$16:$Y$200,'Bill of Materials'!$V$16:$V$200,$A81,'Bill of Materials'!$W$16:$W$200,\"c\")/SUMIF('Bill of Materials'!$V$16:$V$200,$A81,'Bill of Materials'!$Y$16:$Y$200)),\"\")","v":""},"",{"$f":"(SUMIFS('Bill of Materials'!$I$16:$I$200,'Bill of Materials'!$V$16:$V$200,$A81,'Bill of Materials'!$W$16:$W$200,\"x\")+SUMIFS('Bill of Materials'!$I$16:$I$200,'Bill of Materials'!$V$16:$V$200,$A81,'Bill of Materials'!$W$16:$W$200,\"x - CMR or SVHC\"))/SUMIF('Bill of Materials'!$V$16:$V$200,$A81,'Bill of Materials'!$I$16:$I$200)","v":{"$error":"#DIV/0!"}},{"$f":"IFERROR(((SUMIFS('Bill of Materials'!$Y$16:$Y$200,'Bill of Materials'!$V$16:$V$200,$A81,'Bill of Materials'!$W$16:$W$200,\"x\")+SUMIFS('Bill of Materials'!$Y$16:$Y$200,'Bill of Materials'!$V$16:$V$200,$A81,'Bill of Materials'!$W$16:$W$200,\"x - CMR or SVHC\"))/SUMIF('Bill of Materials'!$V$16:$V$200,$A81,'Bill of Materials'!$Y$16:$Y$200)),\"\")","v":""},"",{"$error":"#DIV/0!"},"","",""]
[73,{"$f":"SUMIF('Bill of Materials'!$V$16:$V$200,A82,'Bill of Materials'!$J$16:$J$200)","v":{"v":0,"d":"0%"}},{"$error":"#DIV/0!"},{"$f":"SUMIFS('Bill of Materials'!$I$16:$I$200,'Bill of Materials'!$V$16:$V$200,A82,'Bill of Materials'!$W$16:$W$200,\"Grey\")/SUMIF('Bill of Materials'!$V$16:$V$200,A82,'Bill of Materials'!$I$16:$I$200)","v":{"$error":"#DIV/0!"}},{"$f":"IFERROR((SUMIFS('Bill of Materials'!$Y$16:$Y$200,'Bill of Materials'!$V$16:$V$200,A82,'Bill of Materials'!$W$16:$W$200,\"Grey\")/SUMIF('Bill of Materials'!$V$16:$V$200,A82,'Bill of Materials'!$Y$16:$Y$200)),\"\")","v":""},"",{"$f":"SUMIFS('Bill of Materials'!$I$16:$I$200,'Bill of Materials'!$V$16:$V$200,$A82,'Bill of Materials'!$W$16:$W$200,\"a\")/SUMIF('Bill of Materials'!$V$16:$V$200,$A82,'Bill of Materials'!$I$16:$I$200)","v":{"$error":"#DIV/0!"}},{"$f":"IFERROR((SUMIFS('Bill of Materials'!$Y$16:$Y$200,'Bill of Materials'!$V$16:$V$200,A82,'Bill of Materials'!$W$16:$W$200,\"a\")/SUMIF('Bill of Materials'!$V$16:$V$200,A82,'Bill of Materials'!$Y$16:$Y$200)),\"\")","v":""},"",{"$f":"SUMIFS('Bill of Materials'!$I$16:$I$200,'Bill of Materials'!$V$16:$V$200,$A82,'Bill of Materials'!$W$16:$W$200,\"b\")/SUMIF('Bill of Materials'!$V$16:$V$200,$A82,'Bill of Materials'!$I$16:$I$200)","v":{"$error":"#DIV/0!"}},{"$f":"IFERROR((SUMIFS('Bill of Materials'!$Y$16:$Y$200,'Bill of Materials'!$V$16:$V$200,$A82,'Bill of Materials'!$W$16:$W$200,\"b\")/SUMIF('Bill of Materials'!$V$16:$V$200,$A82,'Bill of Materials'!$Y$16:$Y$200)),\"\")","v":""},"",{"$error":"#DIV/0!"},"",{"$f":"SUMIFS('Bill of Materials'!$I$16:$I$200,'Bill of Materials'!$V$16:$V$200,$A82,'Bill of Materials'!$W$16:$W$200,\"c\")/SUMIF('Bill of Materials'!$V$16:$V$200,$A82,'Bill of Materials'!$I$16:$I$200)","v":{"$error":"#DIV/0!"}},{"$f":"IFERROR((SUMIFS('Bill of Materials'!$Y$16:$Y$200,'Bill of Materials'!$V$16:$V$200,$A82,'Bill of Materials'!$W$16:$W$200,\"c\")/SUMIF('Bill of Materials'!$V$16:$V$200,$A82,'Bill of Materials'!$Y$16:$Y$200)),\"\")","v":""},"",{"$f":"(SUMIFS('Bill of Materials'!$I$16:$I$200,'Bill of Materials'!$V$16:$V$200,$A82,'Bill of Materials'!$W$16:$W$200,\"x\")+SUMIFS('Bill of Materials'!$I$16:$I$200,'Bill of Materials'!$V$16:$V$200,$A82,'Bill of Materials'!$W$16:$W$200,\"x - CMR or SVHC\"))/SUMIF('Bill of Materials'!$V$16:$V$200,$A82,'Bill of Materials'!$I$16:$I$200)","v":{"$error":"#DIV/0!"}},{"$f":"IFERROR(((SUMIFS('Bill of Materials'!$Y$16:$Y$200,'Bill of Materials'!$V$16:$V$200,$A82,'Bill of Materials'!$W$16:$W$200,\"x\")+SUMIFS('Bill of Materials'!$Y$16:$Y$200,'Bill of Materials'!$V$16:$V$200,$A82,'Bill of Materials'!$W$16:$W$200,\"x - CMR or SVHC\"))/SUMIF('Bill of Materials'!$V$16:$V$200,$A82,'Bill of Materials'!$Y$16:$Y$200)),\"\")","v":""},"",{"$error":"#DIV/0!"},"","",""]
[74,{"$f":"SUMIF('Bill of Materials'!$V$16:$V$200,A83,'Bill of Materials'!$J$16:$J$200)","v":{"v":0,"d":"0%"}},{"$error":"#DIV/0!"},{"$f":"SUMIFS('Bill of Materials'!$I$16:$I$200,'Bill of Materials'!$V$16:$V$200,A83,'Bill of Materials'!$W$16:$W$200,\"Grey\")/SUMIF('Bill of Materials'!$V$16:$V$200,A83,'Bill of Materials'!$I$16:$I$200)","v":{"$error":"#DIV/0!"}},{"$f":"IFERROR((SUMIFS('Bill of Materials'!$Y$16:$Y$200,'Bill of Materials'!$V$16:$V$200,A83,'Bill of Materials'!$W$16:$W$200,\"Grey\")/SUMIF('Bill of Materials'!$V$16:$V$200,A83,'Bill of Materials'!$Y$16:$Y$200)),\"\")","v":""},"",{"$f":"SUMIFS('Bill of Materials'!$I$16:$I$200,'Bill of Materials'!$V$16:$V$200,$A83,'Bill of Materials'!$W$16:$W$200,\"a\")/SUMIF('Bill of Materials'!$V$16:$V$200,$A83,'Bill of Materials'!$I$16:$I$200)","v":{"$error":"#DIV/0!"}},{"$f":"IFERROR((SUMIFS('Bill of Materials'!$Y$16:$Y$200,'Bill of Materials'!$V$16:$V$200,A83,'Bill of Materials'!$W$16:$W$200,\"a\")/SUMIF('Bill of Materials'!$V$16:$V$200,A83,'Bill of Materials'!$Y$16:$Y$200)),\"\")","v":""},"",{"$f":"SUMIFS('Bill of Materials'!$I$16:$I$200,'Bill of Materials'!$V$16:$V$200,$A83,'Bill of Materials'!$W$16:$W$200,\"b\")/SUMIF('Bill of Materials'!$V$16:$V$200,$A83,'Bill of Materials'!$I$16:$I$200)","v":{"$error":"#DIV/0!"}},{"$f":"IFERROR((SUMIFS('Bill of Materials'!$Y$16:$Y$200,'Bill of Materials'!$V$16:$V$200,$A83,'Bill of Materials'!$W$16:$W$200,\"b\")/SUMIF('Bill of Materials'!$V$16:$V$200,$A83,'Bill of Materials'!$Y$16:$Y$200)),\"\")","v":""},"",{"$error":"#DIV/0!"},"",{"$f":"SUMIFS('Bill of Materials'!$I$16:$I$200,'Bill of Materials'!$V$16:$V$200,$A83,'Bill of Materials'!$W$16:$W$200,\"c\")/SUMIF('Bill of Materials'!$V$16:$V$200,$A83,'Bill of Materials'!$I$16:$I$200)","v":{"$error":"#DIV/0!"}},{"$f":"IFERROR((SUMIFS('Bill of Materials'!$Y$16:$Y$200,'Bill of Materials'!$V$16:$V$200,$A83,'Bill of Materials'!$W$16:$W$200,\"c\")/SUMIF('Bill of Materials'!$V$16:$V$200,$A83,'Bill of Materials'!$Y$16:$Y$200)),\"\")","v":""},"",{"$f":"(SUMIFS('Bill of Materials'!$I$16:$I$200,'Bill of Materials'!$V$16:$V$200,$A83,'Bill of Materials'!$W$16:$W$200,\"x\")+SUMIFS('Bill of Materials'!$I$16:$I$200,'Bill of Materials'!$V$16:$V$200,$A83,'Bill of Materials'!$W$16:$W$200,\"x - CMR or SVHC\"))/SUMIF('Bill of Materials'!$V$16:$V$200,$A83,'Bill of Materials'!$I$16:$I$200)","v":{"$error":"#DIV/0!"}},{"$f":"IFERROR(((SUMIFS('Bill of Materials'!$Y$16:$Y$200,'Bill of Materials'!$V$16:$V$200,$A83,'Bill of Materials'!$W$16:$W$200,\"x\")+SUMIFS('Bill of Materials'!$Y$16:$Y$200,'Bill of Materials'!$V$16:$V$200,$A83,'Bill of Materials'!$W$16:$W$200,\"x - CMR or SVHC\"))/SUMIF('Bill of Materials'!$V$16:$V$200,$A83,'Bill of Materials'!$Y$16:$Y$200)),\"\")","v":""},"",{"$error":"#DIV/0!"},"","",""]
[75,{"$f":"SUMIF('Bill of Materials'!$V$16:$V$200,A84,'Bill of Materials'!$J$16:$J$200)","v":{"v":0,"d":"0%"}},{"$error":"#DIV/0!"},{"$f":"SUMIFS('Bill of Materials'!$I$16:$I$200,'Bill of Materials'!$V$16:$V$200,A84,'Bill of Materials'!$W$16:$W$200,\"Grey\")/SUMIF('Bill of Materials'!$V$16:$V$200,A84,'Bill of Materials'!$I$16:$I$200)","v":{"$error":"#DIV/0!"}},{"$f":"IFERROR((SUMIFS('Bill of Materials'!$Y$16:$Y$200,'Bill of Materials'!$V$16:$V$200,A84,'Bill of Materials'!$W$16:$W$200,\"Grey\")/SUMIF('Bill of Materials'!$V$16:$V$200,A84,'Bill of Materials'!$Y$16:$Y$200)),\"\")","v":""},"",{"$f":"SUMIFS('Bill of Materials'!$I$16:$I$200,'Bill of Materials'!$V$16:$V$200,$A84,'Bill of Materials'!$W$16:$W$200,\"a\")/SUMIF('Bill of Materials'!$V$16:$V$200,$A84,'Bill of Materials'!$I$16:$I$200)","v":{"$error":"#DIV/0!"}},{"$f":"IFERROR((SUMIFS('Bill of Materials'!$Y$16:$Y$200,'Bill of Materials'!$V$16:$V$200,A84,'Bill of Materials'!$W$16:$W$200,\"a\")/SUMIF('Bill of Materials'!$V$16:$V$200,A84,'Bill of Materials'!$Y$16:$Y$200)),\"\")","v":""},"",{"$f":"SUMIFS('Bill of Materials'!$I$16:$I$200,'Bill of Materials'!$V$16:$V$200,$A84,'Bill of Materials'!$W$16:$W$200,\"b\")/SUMIF('Bill of Materials'!$V$16:$V$200,$A84,'Bill of Materials'!$I$16:$I$200)","v":{"$error":"#DIV/0!"}},{"$f":"IFERROR((SUMIFS('Bill of Materials'!$Y$16:$Y$200,'Bill of Materials'!$V$16:$V$200,$A84,'Bill of Materials'!$W$16:$W$200,\"b\")/SUMIF('Bill of Materials'!$V$16:$V$200,$A84,'Bill of Materials'!$Y$16:$Y$200)),\"\")","v":""},"",{"$error":"#DIV/0!"},"",{"$f":"SUMIFS('Bill of Materials'!$I$16:$I$200,'Bill of Materials'!$V$16:$V$200,$A84,'Bill of Materials'!$W$16:$W$200,\"c\")/SUMIF('Bill of Materials'!$V$16:$V$200,$A84,'Bill of Materials'!$I$16:$I$200)","v":{"$error":"#DIV/0!"}},{"$f":"IFERROR((SUMIFS('Bill of Materials'!$Y$16:$Y$200,'Bill of Materials'!$V$16:$V$200,$A84,'Bill of Materials'!$W$16:$W$200,\"c\")/SUMIF('Bill of Materials'!$V$16:$V$200,$A84,'Bill of Materials'!$Y$16:$Y$200)),\"\")","v":""},"",{"$f":"(SUMIFS('Bill of Materials'!$I$16:$I$200,'Bill of Materials'!$V$16:$V$200,$A84,'Bill of Materials'!$W$16:$W$200,\"x\")+SUMIFS('Bill of Materials'!$I$16:$I$200,'Bill of Materials'!$V$16:$V$200,$A84,'Bill of Materials'!$W$16:$W$200,\"x - CMR or SVHC\"))/SUMIF('Bill of Materials'!$V$16:$V$200,$A84,'Bill of Materials'!$I$16:$I$200)","v":{"$error":"#DIV/0!"}},{"$f":"IFERROR(((SUMIFS('Bill of Materials'!$Y$16:$Y$200,'Bill of Materials'!$V$16:$V$200,$A84,'Bill of Materials'!$W$16:$W$200,\"x\")+SUMIFS('Bill of Materials'!$Y$16:$Y$200,'Bill of Materials'!$V$16:$V$200,$A84,'Bill of Materials'!$W$16:$W$200,\"x - CMR or SVHC\"))/SUMIF('Bill of Materials'!$V$16:$V$200,$A84,'Bill of Materials'!$Y$16:$Y$200)),\"\")","v":""},"",{"$error":"#DIV/0!"},"","",""]
[76,{"$f":"SUMIF('Bill of Materials'!$V$16:$V$200,A85,'Bill of Materials'!$J$16:$J$200)","v":{"v":0,"d":"0%"}},{"$error":"#DIV/0!"},{"$f":"SUMIFS('Bill of Materials'!$I$16:$I$200,'Bill of Materials'!$V$16:$V$200,A85,'Bill of Materials'!$W$16:$W$200,\"Grey\")/SUMIF('Bill of Materials'!$V$16:$V$200,A85,'Bill of Materials'!$I$16:$I$200)","v":{"$error":"#DIV/0!"}},{"$f":"IFERROR((SUMIFS('Bill of Materials'!$Y$16:$Y$200,'Bill of Materials'!$V$16:$V$200,A85,'Bill of Materials'!$W$16:$W$200,\"Grey\")/SUMIF('Bill of Materials'!$V$16:$V$200,A85,'Bill of Materials'!$Y$16:$Y$200)),\"\")","v":""},"",{"$f":"SUMIFS('Bill of Materials'!$I$16:$I$200,'Bill of Materials'!$V$16:$V$200,$A85,'Bill of Materials'!$W$16:$W$200,\"a\")/SUMIF('Bill of Materials'!$V$16:$V$200,$A85,'Bill of Materials'!$I$16:$I$200)","v":{"$error":"#DIV/0!"}},{"$f":"IFERROR((SUMIFS('Bill of Materials'!$Y$16:$Y$200,'Bill of Materials'!$V$16:$V$200,A85,'Bill of Materials'!$W$16:$W$200,\"a\")/SUMIF('Bill of Materials'!$V$16:$V$200,A85,'Bill of Materials'!$Y$16:$Y$200)),\"\")","v":""},"",{"$f":"SUMIFS('Bill of Materials'!$I$16:$I$200,'Bill of Materials'!$V$16:$V$200,$A85,'Bill of Materials'!$W$16:$W$200,\"b\")/SUMIF('Bill of Materials'!$V$16:$V$200,$A85,'Bill of Materials'!$I$16:$I$200)","v":{"$error":"#DIV/0!"}},{"$f":"IFERROR((SUMIFS('Bill of Materials'!$Y$16:$Y$200,'Bill of Materials'!$V$16:$V$200,$A85,'Bill of Materials'!$W$16:$W$200,\"b\")/SUMIF('Bill of Materials'!$V$16:$V$200,$A85,'Bill of Materials'!$Y$16:$Y$200)),\"\")","v":""},"",{"$error":"#DIV/0!"},"",{"$f":"SUMIFS('Bill of Materials'!$I$16:$I$200,'Bill of Materials'!$V$16:$V$200,$A85,'Bill of Materials'!$W$16:$W$200,\"c\")/SUMIF('Bill of Materials'!$V$16:$V$200,$A85,'Bill of Materials'!$I$16:$I$200)","v":{"$error":"#DIV/0!"}},{"$f":"IFERROR((SUMIFS('Bill of Materials'!$Y$16:$Y$200,'Bill of Materials'!$V$16:$V$200,$A85,'Bill of Materials'!$W$16:$W$200,\"c\")/SUMIF('Bill of Materials'!$V$16:$V$200,$A85,'Bill of Materials'!$Y$16:$Y$200)),\"\")","v":""},"",{"$f":"(SUMIFS('Bill of Materials'!$I$16:$I$200,'Bill of Materials'!$V$16:$V$200,$A85,'Bill of Materials'!$W$16:$W$200,\"x\")+SUMIFS('Bill of Materials'!$I$16:$I$200,'Bill of Materials'!$V$16:$V$200,$A85,'Bill of Materials'!$W$16:$W$200,\"x - CMR or SVHC\"))/SUMIF('Bill of Materials'!$V$16:$V$200,$A85,'Bill of Materials'!$I$16:$I$200)","v":{"$error":"#DIV/0!"}},{"$f":"IFERROR(((SUMIFS('Bill of Materials'!$Y$16:$Y$200,'Bill of Materials'!$V$16:$V$200,$A85,'Bill of Materials'!$W$16:$W$200,\"x\")+SUMIFS('Bill of Materials'!$Y$16:$Y$200,'Bill of Materials'!$V$16:$V$200,$A85,'Bill of Materials'!$W$16:$W$200,\"x - CMR or SVHC\"))/SUMIF('Bill of Materials'!$V$16:$V$200,$A85,'Bill of Materials'!$Y$16:$Y$200)),\"\")","v":""},"",{"$error":"#DIV/0!"},"","",""]
[77,{"$f":"SUMIF('Bill of Materials'!$V$16:$V$200,A86,'Bill of Materials'!$J$16:$J$200)","v":{"v":0,"d":"0%"}},{"$error":"#DIV/0!"},{"$f":"SUMIFS('Bill of Materials'!$I$16:$I$200,'Bill of Materials'!$V$16:$V$200,A86,'Bill of Materials'!$W$16:$W$200,\"Grey\")/SUMIF('Bill of Materials'!$V$16:$V$200,A86,'Bill of Materials'!$I$16:$I$200)","v":{"$error":"#DIV/0!"}},{"$f":"IFERROR((SUMIFS('Bill of Materials'!$Y$16:$Y$200,'Bill of Materials'!$V$16:$V$200,A86,'Bill of Materials'!$W$16:$W$200,\"Grey\")/SUMIF('Bill of Materials'!$V$16:$V$200,A86,'Bill of Materials'!$Y$16:$Y$200)),\"\")","v":""},"",{"$f":"SUMIFS('Bill of Materials'!$I$16:$I$200,'Bill of Materials'!$V$16:$V$200,$A86,'Bill of Materials'!$W$16:$W$200,\"a\")/SUMIF('Bill of Materials'!$V$16:$V$200,$A86,'Bill of Materials'!$I$16:$I$200)","v":{"$error":"#DIV/0!"}},{"$f":"IFERROR((SUMIFS('Bill of Materials'!$Y$16:$Y$200,'Bill of Materials'!$V$16:$V$200,A86,'Bill of Materials'!$W$16:$W$200,\"a\")/SUMIF('Bill of Materials'!$V$16:$V$200,A86,'Bill of Materials'!$Y$16:$Y$200)),\"\")","v":""},"",{"$f":"SUMIFS('Bill of Materials'!$I$16:$I$200,'Bill of Materials'!$V$16:$V$200,$A86,'Bill of Materials'!$W$16:$W$200,\"b\")/SUMIF('Bill of Materials'!$V$16:$V$200,$A86,'Bill of Materials'!$I$16:$I$200)","v":{"$error":"#DIV/0!"}},{"$f":"IFERROR((SUMIFS('Bill of Materials'!$Y$16:$Y$200,'Bill of Materials'!$V$16:$V$200,$A86,'Bill of Materials'!$W$16:$W$200,\"b\")/SUMIF('Bill of Materials'!$V$16:$V$200,$A86,'Bill of Materials'!$Y$16:$Y$200)),\"\")","v":""},"",{"$error":"#DIV/0!"},"",{"$f":"SUMIFS('Bill of Materials'!$I$16:$I$200,'Bill of Materials'!$V$16:$V$200,$A86,'Bill of Materials'!$W$16:$W$200,\"c\")/SUMIF('Bill of Materials'!$V$16:$V$200,$A86,'Bill of Materials'!$I$16:$I$200)","v":{"$error":"#DIV/0!"}},{"$f":"IFERROR((SUMIFS('Bill of Materials'!$Y$16:$Y$200,'Bill of Materials'!$V$16:$V$200,$A86,'Bill of Materials'!$W$16:$W$200,\"c\")/SUMIF('Bill of Materials'!$V$16:$V$200,$A86,'Bill of Materials'!$Y$16:$Y$200)),\"\")","v":""},"",{"$f":"(SUMIFS('Bill of Materials'!$I$16:$I$200,'Bill of Materials'!$V$16:$V$200,$A86,'Bill of Materials'!$W$16:$W$200,\"x\")+SUMIFS('Bill of Materials'!$I$16:$I$200,'Bill of Materials'!$V$16:$V$200,$A86,'Bill of Materials'!$W$16:$W$200,\"x - CMR or SVHC\"))/SUMIF('Bill of Materials'!$V$16:$V$200,$A86,'Bill of Materials'!$I$16:$I$200)","v":{"$error":"#DIV/0!"}},{"$f":"IFERROR(((SUMIFS('Bill of Materials'!$Y$16:$Y$200,'Bill of Materials'!$V$16:$V$200,$A86,'Bill of Materials'!$W$16:$W$200,\"x\")+SUMIFS('Bill of Materials'!$Y$16:$Y$200,'Bill of Materials'!$V$16:$V$200,$A86,'Bill of Materials'!$W$16:$W$200,\"x - CMR or SVHC\"))/SUMIF('Bill of Materials'!$V$16:$V$200,$A86,'Bill of Materials'!$Y$16:$Y$200)),\"\")","v":""},"",{"$error":"#DIV/0!"},"","",""]
[78,{"$f":"SUMIF('Bill of Materials'!$V$16:$V$200,A87,'Bill of Materials'!$J$16:$J$200)","v":{"v":0,"d":"0%"}},{"$error":"#DIV/0!"},{"$f":"SUMIFS('Bill of Materials'!$I$16:$I$200,'Bill of Materials'!$V$16:$V$200,A87,'Bill of Materials'!$W$16:$W$200,\"Grey\")/SUMIF('Bill of Materials'!$V$16:$V$200,A87,'Bill of Materials'!$I$16:$I$200)","v":{"$error":"#DIV/0!"}},{"$f":"IFERROR((SUMIFS('Bill of Materials'!$Y$16:$Y$200,'Bill of Materials'!$V$16:$V$200,A87,'Bill of Materials'!$W$16:$W$200,\"Grey\")/SUMIF('Bill of Materials'!$V$16:$V$200,A87,'Bill of Materials'!$Y$16:$Y$200)),\"\")","v":""},"",{"$f":"SUMIFS('Bill of Materials'!$I$16:$I$200,'Bill of Materials'!$V$16:$V$200,$A87,'Bill of Materials'!$W$16:$W$200,\"a\")/SUMIF('Bill of Materials'!$V$16:$V$200,$A87,'Bill of Materials'!$I$16:$I$200)","v":{"$error":"#DIV/0!"}},{"$f":"IFERROR((SUMIFS('Bill of Materials'!$Y$16:$Y$200,'Bill of Materials'!$V$16:$V$200,A87,'Bill of Materials'!$W$16:$W$200,\"a\")/SUMIF('Bill of Materials'!$V$16:$V$200,A87,'Bill of Materials'!$Y$16:$Y$200)),\"\")","v":""},"",{"$f":"SUMIFS('Bill of Materials'!$I$16:$I$200,'Bill of Materials'!$V$16:$V$200,$A87,'Bill of Materials'!$W$16:$W$200,\"b\")/SUMIF('Bill of Materials'!$V$16:$V$200,$A87,'Bill of Materials'!$I$16:$I$200)","v":{"$error":"#DIV/0!"}},{"$f":"IFERROR((SUMIFS('Bill of Materials'!$Y$16:$Y$200,'Bill of Materials'!$V$16:$V$200,$A87,'Bill of Materials'!$W$16:$W$200,\"b\")/SUMIF('Bill of Materials'!$V$16:$V$200,$A87,'Bill of Materials'!$Y$16:$Y$200)),\"\")","v":""},"",{"$error":"#DIV/0!"},"",{"$f":"SUMIFS('Bill of Materials'!$I$16:$I$200,'Bill of Materials'!$V$16:$V$200,$A87,'Bill of Materials'!$W$16:$W$200,\"c\")/SUMIF('Bill of Materials'!$V$16:$V$200,$A87,'Bill of Materials'!$I$16:$I$200)","v":{"$error":"#DIV/0!"}},{"$f":"IFERROR((SUMIFS('Bill of Materials'!$Y$16:$Y$200,'Bill of Materials'!$V$16:$V$200,$A87,'Bill of Materials'!$W$16:$W$200,\"c\")/SUMIF('Bill of Materials'!$V$16:$V$200,$A87,'Bill of Materials'!$Y$16:$Y$200)),\"\")","v":""},"",{"$f":"(SUMIFS('Bill of Materials'!$I$16:$I$200,'Bill of Materials'!$V$16:$V$200,$A87,'Bill of Materials'!$W$16:$W$200,\"x\")+SUMIFS('Bill of Materials'!$I$16:$I$200,'Bill of Materials'!$V$16:$V$200,$A87,'Bill of Materials'!$W$16:$W$200,\"x - CMR or SVHC\"))/SUMIF('Bill of Materials'!$V$16:$V$200,$A87,'Bill of Materials'!$I$16:$I$200)","v":{"$error":"#DIV/0!"}},{"$f":"IFERROR(((SUMIFS('Bill of Materials'!$Y$16:$Y$200,'Bill of Materials'!$V$16:$V$200,$A87,'Bill of Materials'!$W$16:$W$200,\"x\")+SUMIFS('Bill of Materials'!$Y$16:$Y$200,'Bill of Materials'!$V$16:$V$200,$A87,'Bill of Materials'!$W$16:$W$200,\"x - CMR or SVHC\"))/SUMIF('Bill of Materials'!$V$16:$V$200,$A87,'Bill of Materials'!$Y$16:$Y$200)),\"\")","v":""},"",{"$error":"#DIV/0!"},"","",""]
[79,{"$f":"SUMIF('Bill of Materials'!$V$16:$V$200,A88,'Bill of Materials'!$J$16:$J$200)","v":{"v":0,"d":"0%"}},{"$error":"#DIV/0!"},{"$f":"SUMIFS('Bill of Materials'!$I$16:$I$200,'Bill of Materials'!$V$16:$V$200,A88,'Bill of Materials'!$W$16:$W$200,\"Grey\")/SUMIF('Bill of Materials'!$V$16:$V$200,A88,'Bill of Materials'!$I$16:$I$200)","v":{"$error":"#DIV/0!"}},{"$f":"IFERROR((SUMIFS('Bill of Materials'!$Y$16:$Y$200,'Bill of Materials'!$V$16:$V$200,A88,'Bill of Materials'!$W$16:$W$200,\"Grey\")/SUMIF('Bill of Materials'!$V$16:$V$200,A88,'Bill of Materials'!$Y$16:$Y$200)),\"\")","v":""},"",{"$f":"SUMIFS('Bill of Materials'!$I$16:$I$200,'Bill of Materials'!$V$16:$V$200,$A88,'Bill of Materials'!$W$16:$W$200,\"a\")/SUMIF('Bill of Materials'!$V$16:$V$200,$A88,'Bill of Materials'!$I$16:$I$200)","v":{"$error":"#DIV/0!"}},{"$f":"IFERROR((SUMIFS('Bill of Materials'!$Y$16:$Y$200,'Bill of Materials'!$V$16:$V$200,A88,'Bill of Materials'!$W$16:$W$200,\"a\")/SUMIF('Bill of Materials'!$V$16:$V$200,A88,'Bill of Materials'!$Y$16:$Y$200)),\"\")","v":""},"",{"$f":"SUMIFS('Bill of Materials'!$I$16:$I$200,'Bill of Materials'!$V$16:$V$200,$A88,'Bill of Materials'!$W$16:$W$200,\"b\")/SUMIF('Bill of Materials'!$V$16:$V$200,$A88,'Bill of Materials'!$I$16:$I$200)","v":{"$error":"#DIV/0!"}},{"$f":"IFERROR((SUMIFS('Bill of Materials'!$Y$16:$Y$200,'Bill of Materials'!$V$16:$V$200,$A88,'Bill of Materials'!$W$16:$W$200,\"b\")/SUMIF('Bill of Materials'!$V$16:$V$200,$A88,'Bill of Materials'!$Y$16:$Y$200)),\"\")","v":""},"",{"$error":"#DIV/0!"},"",{"$f":"SUMIFS('Bill of Materials'!$I$16:$I$200,'Bill of Materials'!$V$16:$V$200,$A88,'Bill of Materials'!$W$16:$W$200,\"c\")/SUMIF('Bill of Materials'!$V$16:$V$200,$A88,'Bill of Materials'!$I$16:$I$200)","v":{"$error":"#DIV/0!"}},{"$f":"IFERROR((SUMIFS('Bill of Materials'!$Y$16:$Y$200,'Bill of Materials'!$V$16:$V$200,$A88,'Bill of Materials'!$W$16:$W$200,\"c\")/SUMIF('Bill of Materials'!$V$16:$V$200,$A88,'Bill of Materials'!$Y$16:$Y$200)),\"\")","v":""},"",{"$f":"(SUMIFS('Bill of Materials'!$I$16:$I$200,'Bill of Materials'!$V$16:$V$200,$A88,'Bill of Materials'!$W$16:$W$200,\"x\")+SUMIFS('Bill of Materials'!$I$16:$I$200,'Bill of Materials'!$V$16:$V$200,$A88,'Bill of Materials'!$W$16:$W$200,\"x - CMR or SVHC\"))/SUMIF('Bill of Materials'!$V$16:$V$200,$A88,'Bill of Materials'!$I$16:$I$200)","v":{"$error":"#DIV/0!"}},{"$f":"IFERROR(((SUMIFS('Bill of Materials'!$Y$16:$Y$200,'Bill of Materials'!$V$16:$V$200,$A88,'Bill of Materials'!$W$16:$W$200,\"x\")+SUMIFS('Bill of Materials'!$Y$16:$Y$200,'Bill of Materials'!$V$16:$V$200,$A88,'Bill of Materials'!$W$16:$W$200,\"x - CMR or SVHC\"))/SUMIF('Bill of Materials'!$V$16:$V$200,$A88,'Bill of Materials'!$Y$16:$Y$200)),\"\")","v":""},"",{"$error":"#DIV/0!"},"","",""]
[80,{"$f":"SUMIF('Bill of Materials'!$V$16:$V$200,A89,'Bill of Materials'!$J$16:$J$200)","v":{"v":0,"d":"0%"}},{"$error":"#DIV/0!"},{"$f":"SUMIFS('Bill of Materials'!$I$16:$I$200,'Bill of Materials'!$V$16:$V$200,A89,'Bill of Materials'!$W$16:$W$200,\"Grey\")/SUMIF('Bill of Materials'!$V$16:$V$200,A89,'Bill of Materials'!$I$16:$I$200)","v":{"$error":"#DIV/0!"}},{"$f":"IFERROR((SUMIFS('Bill of Materials'!$Y$16:$Y$200,'Bill of Materials'!$V$16:$V$200,A89,'Bill of Materials'!$W$16:$W$200,\"Grey\")/SUMIF('Bill of Materials'!$V$16:$V$200,A89,'Bill of Materials'!$Y$16:$Y$200)),\"\")","v":""},"",{"$f":"SUMIFS('Bill of Materials'!$I$16:$I$200,'Bill of Materials'!$V$16:$V$200,$A89,'Bill of Materials'!$W$16:$W$200,\"a\")/SUMIF('Bill of Materials'!$V$16:$V$200,$A89,'Bill of Materials'!$I$16:$I$200)","v":{"$error":"#DIV/0!"}},{"$f":"IFERROR((SUMIFS('Bill of Materials'!$Y$16:$Y$200,'Bill of Materials'!$V$16:$V$200,A89,'Bill of Materials'!$W$16:$W$200,\"a\")/SUMIF('Bill of Materials'!$V$16:$V$200,A89,'Bill of Materials'!$Y$16:$Y$200)),\"\")","v":""},"",{"$f":"SUMIFS('Bill of Materials'!$I$16:$I$200,'Bill of Materials'!$V$16:$V$200,$A89,'Bill of Materials'!$W$16:$W$200,\"b\")/SUMIF('Bill of Materials'!$V$16:$V$200,$A89,'Bill of Materials'!$I$16:$I$200)","v":{"$error":"#DIV/0!"}},{"$f":"IFERROR((SUMIFS('Bill of Materials'!$Y$16:$Y$200,'Bill of Materials'!$V$16:$V$200,$A89,'Bill of Materials'!$W$16:$W$200,\"b\")/SUMIF('Bill of Materials'!$V$16:$V$200,$A89,'Bill of Materials'!$Y$16:$Y$200)),\"\")","v":""},"",{"$error":"#DIV/0!"},"",{"$f":"SUMIFS('Bill of Materials'!$I$16:$I$200,'Bill of Materials'!$V$16:$V$200,$A89,'Bill of Materials'!$W$16:$W$200,\"c\")/SUMIF('Bill of Materials'!$V$16:$V$200,$A89,'Bill of Materials'!$I$16:$I$200)","v":{"$error":"#DIV/0!"}},{"$f":"IFERROR((SUMIFS('Bill of Materials'!$Y$16:$Y$200,'Bill of Materials'!$V$16:$V$200,$A89,'Bill of Materials'!$W$16:$W$200,\"c\")/SUMIF('Bill of Materials'!$V$16:$V$200,$A89,'Bill of Materials'!$Y$16:$Y$200)),\"\")","v":""},"",{"$f":"(SUMIFS('Bill of Materials'!$I$16:$I$200,'Bill of Materials'!$V$16:$V$200,$A89,'Bill of Materials'!$W$16:$W$200,\"x\")+SUMIFS('Bill of Materials'!$I$16:$I$200,'Bill of Materials'!$V$16:$V$200,$A89,'Bill of Materials'!$W$16:$W$200,\"x - CMR or SVHC\"))/SUMIF('Bill of Materials'!$V$16:$V$200,$A89,'Bill of Materials'!$I$16:$I$200)","v":{"$error":"#DIV/0!"}},{"$f":"IFERROR(((SUMIFS('Bill of Materials'!$Y$16:$Y$200,'Bill of Materials'!$V$16:$V$200,$A89,'Bill of Materials'!$W$16:$W$200,\"x\")+SUMIFS('Bill of Materials'!$Y$16:$Y$200,'Bill of Materials'!$V$16:$V$200,$A89,'Bill of Materials'!$W$16:$W$200,\"x - CMR or SVHC\"))/SUMIF('Bill of Materials'!$V$16:$V$200,$A89,'Bill of Materials'!$Y$16:$Y$200)),\"\")","v":""},"",{"$error":"#DIV/0!"},"","",""]
[81,{"$f":"SUMIF('Bill of Materials'!$V$16:$V$200,A90,'Bill of Materials'!$J$16:$J$200)","v":{"v":0,"d":"0%"}},{"$error":"#DIV/0!"},{"$f":"SUMIFS('Bill of Materials'!$I$16:$I$200,'Bill of Materials'!$V$16:$V$200,A90,'Bill of Materials'!$W$16:$W$200,\"Grey\")/SUMIF('Bill of Materials'!$V$16:$V$200,A90,'Bill of Materials'!$I$16:$I$200)","v":{"$error":"#DIV/0!"}},{"$f":"IFERROR((SUMIFS('Bill of Materials'!$Y$16:$Y$200,'Bill of Materials'!$V$16:$V$200,A90,'Bill of Materials'!$W$16:$W$200,\"Grey\")/SUMIF('Bill of Materials'!$V$16:$V$200,A90,'Bill of Materials'!$Y$16:$Y$200)),\"\")","v":""},"",{"$f":"SUMIFS('Bill of Materials'!$I$16:$I$200,'Bill of Materials'!$V$16:$V$200,$A90,'Bill of Materials'!$W$16:$W$200,\"a\")/SUMIF('Bill of Materials'!$V$16:$V$200,$A90,'Bill of Materials'!$I$16:$I$200)","v":{"$error":"#DIV/0!"}},{"$f":"IFERROR((SUMIFS('Bill of Materials'!$Y$16:$Y$200,'Bill of Materials'!$V$16:$V$200,A90,'Bill of Materials'!$W$16:$W$200,\"a\")/SUMIF('Bill of Materials'!$V$16:$V$200,A90,'Bill of Materials'!$Y$16:$Y$200)),\"\")","v":""},"",{"$f":"SUMIFS('Bill of Materials'!$I$16:$I$200,'Bill of Materials'!$V$16:$V$200,$A90,'Bill of Materials'!$W$16:$W$200,\"b\")/SUMIF('Bill of Materials'!$V$16:$V$200,$A90,'Bill of Materials'!$I$16:$I$200)","v":{"$error":"#DIV/0!"}},{"$f":"IFERROR((SUMIFS('Bill of Materials'!$Y$16:$Y$200,'Bill of Materials'!$V$16:$V$200,$A90,'Bill of Materials'!$W$16:$W$200,\"b\")/SUMIF('Bill of Materials'!$V$16:$V$200,$A90,'Bill of Materials'!$Y$16:$Y$200)),\"\")","v":""},"",{"$error":"#DIV/0!"},"",{"$f":"SUMIFS('Bill of Materials'!$I$16:$I$200,'Bill of Materials'!$V$16:$V$200,$A90,'Bill of Materials'!$W$16:$W$200,\"c\")/SUMIF('Bill of Materials'!$V$16:$V$200,$A90,'Bill of Materials'!$I$16:$I$200)","v":{"$error":"#DIV/0!"}},{"$f":"IFERROR((SUMIFS('Bill of Materials'!$Y$16:$Y$200,'Bill of Materials'!$V$16:$V$200,$A90,'Bill of Materials'!$W$16:$W$200,\"c\")/SUMIF('Bill of Materials'!$V$16:$V$200,$A90,'Bill of Materials'!$Y$16:$Y$200)),\"\")","v":""},"",{"$f":"(SUMIFS('Bill of Materials'!$I$16:$I$200,'Bill of Materials'!$V$16:$V$200,$A90,'Bill of Materials'!$W$16:$W$200,\"x\")+SUMIFS('Bill of Materials'!$I$16:$I$200,'Bill of Materials'!$V$16:$V$200,$A90,'Bill of Materials'!$W$16:$W$200,\"x - CMR or SVHC\"))/SUMIF('Bill of Materials'!$V$16:$V$200,$A90,'Bill of Materials'!$I$16:$I$200)","v":{"$error":"#DIV/0!"}},{"$f":"IFERROR(((SUMIFS('Bill of Materials'!$Y$16:$Y$200,'Bill of Materials'!$V$16:$V$200,$A90,'Bill of Materials'!$W$16:$W$200,\"x\")+SUMIFS('Bill of Materials'!$Y$16:$Y$200,'Bill of Materials'!$V$16:$V$200,$A90,'Bill of Materials'!$W$16:$W$200,\"x - CMR or SVHC\"))/SUMIF('Bill of Materials'!$V$16:$V$200,$A90,'Bill of Materials'!$Y$16:$Y$200)),\"\")","v":""},"",{"$error":"#DIV/0!"},"","",""]
[82,{"$f":"SUMIF('Bill of Materials'!$V$16:$V$200,A91,'Bill of Materials'!$J$16:$J$200)","v":{"v":0,"d":"0%"}},{"$error":"#DIV/0!"},{"$f":"SUMIFS('Bill of Materials'!$I$16:$I$200,'Bill of Materials'!$V$16:$V$200,A91,'Bill of Materials'!$W$16:$W$200,\"Grey\")/SUMIF('Bill of Materials'!$V$16:$V$200,A91,'Bill of Materials'!$I$16:$I$200)","v":{"$error":"#DIV/0!"}},{"$f":"IFERROR((SUMIFS('Bill of Materials'!$Y$16:$Y$200,'Bill of Materials'!$V$16:$V$200,A91,'Bill of Materials'!$W$16:$W$200,\"Grey\")/SUMIF('Bill of Materials'!$V$16:$V$200,A91,'Bill of Materials'!$Y$16:$Y$200)),\"\")","v":""},"",{"$f":"SUMIFS('Bill of Materials'!$I$16:$I$200,'Bill of Materials'!$V$16:$V$200,$A91,'Bill of Materials'!$W$16:$W$200,\"a\")/SUMIF('Bill of Materials'!$V$16:$V$200,$A91,'Bill of Materials'!$I$16:$I$200)","v":{"$error":"#DIV/0!"}},{"$f":"IFERROR((SUMIFS('Bill of Materials'!$Y$16:$Y$200,'Bill of Materials'!$V$16:$V$200,A91,'Bill of Materials'!$W$16:$W$200,\"a\")/SUMIF('Bill of Materials'!$V$16:$V$200,A91,'Bill of Materials'!$Y$16:$Y$200)),\"\")","v":""},"",{"$f":"SUMIFS('Bill of Materials'!$I$16:$I$200,'Bill of Materials'!$V$16:$V$200,$A91,'Bill of Materials'!$W$16:$W$200,\"b\")/SUMIF('Bill of Materials'!$V$16:$V$200,$A91,'Bill of Materials'!$I$16:$I$200)","v":{"$error":"#DIV/0!"}},{"$f":"IFERROR((SUMIFS('Bill of Materials'!$Y$16:$Y$200,'Bill of Materials'!$V$16:$V$200,$A91,'Bill of Materials'!$W$16:$W$200,\"b\")/SUMIF('Bill of Materials'!$V$16:$V$200,$A91,'Bill of Materials'!$Y$16:$Y$200)),\"\")","v":""},"",{"$error":"#DIV/0!"},"",{"$f":"SUMIFS('Bill of Materials'!$I$16:$I$200,'Bill of Materials'!$V$16:$V$200,$A91,'Bill of Materials'!$W$16:$W$200,\"c\")/SUMIF('Bill of Materials'!$V$16:$V$200,$A91,'Bill of Materials'!$I$16:$I$200)","v":{"$error":"#DIV/0!"}},{"$f":"IFERROR((SUMIFS('Bill of Materials'!$Y$16:$Y$200,'Bill of Materials'!$V$16:$V$200,$A91,'Bill of Materials'!$W$16:$W$200,\"c\")/SUMIF('Bill of Materials'!$V$16:$V$200,$A91,'Bill of Materials'!$Y$16:$Y$200)),\"\")","v":""},"",{"$f":"(SUMIFS('Bill of Materials'!$I$16:$I$200,'Bill of Materials'!$V$16:$V$200,$A91,'Bill of Materials'!$W$16:$W$200,\"x\")+SUMIFS('Bill of Materials'!$I$16:$I$200,'Bill of Materials'!$V$16:$V$200,$A91,'Bill of Materials'!$W$16:$W$200,\"x - CMR or SVHC\"))/SUMIF('Bill of Materials'!$V$16:$V$200,$A91,'Bill of Materials'!$I$16:$I$200)","v":{"$error":"#DIV/0!"}},{"$f":"IFERROR(((SUMIFS('Bill of Materials'!$Y$16:$Y$200,'Bill of Materials'!$V$16:$V$200,$A91,'Bill of Materials'!$W$16:$W$200,\"x\")+SUMIFS('Bill of Materials'!$Y$16:$Y$200,'Bill of Materials'!$V$16:$V$200,$A91,'Bill of Materials'!$W$16:$W$200,\"x - CMR or SVHC\"))/SUMIF('Bill of Materials'!$V$16:$V$200,$A91,'Bill of Materials'!$Y$16:$Y$200)),\"\")","v":""},"",{"$error":"#DIV/0!"},"","",""]
[83,{"$f":"SUMIF('Bill of Materials'!$V$16:$V$200,A92,'Bill of Materials'!$J$16:$J$200)","v":{"v":0,"d":"0%"}},{"$error":"#DIV/0!"},{"$f":"SUMIFS('Bill of Materials'!$I$16:$I$200,'Bill of Materials'!$V$16:$V$200,A92,'Bill of Materials'!$W$16:$W$200,\"Grey\")/SUMIF('Bill of Materials'!$V$16:$V$200,A92,'Bill of Materials'!$I$16:$I$200)","v":{"$error":"#DIV/0!"}},{"$f":"IFERROR((SUMIFS('Bill of Materials'!$Y$16:$Y$200,'Bill of Materials'!$V$16:$V$200,A92,'Bill of Materials'!$W$16:$W$200,\"Grey\")/SUMIF('Bill of Materials'!$V$16:$V$200,A92,'Bill of Materials'!$Y$16:$Y$200)),\"\")","v":""},"",{"$f":"SUMIFS('Bill of Materials'!$I$16:$I$200,'Bill of Materials'!$V$16:$V$200,$A92,'Bill of Materials'!$W$16:$W$200,\"a\")/SUMIF('Bill of Materials'!$V$16:$V$200,$A92,'Bill of Materials'!$I$16:$I$200)","v":{"$error":"#DIV/0!"}},{"$f":"IFERROR((SUMIFS('Bill of Materials'!$Y$16:$Y$200,'Bill of Materials'!$V$16:$V$200,A92,'Bill of Materials'!$W$16:$W$200,\"a\")/SUMIF('Bill of Materials'!$V$16:$V$200,A92,'Bill of Materials'!$Y$16:$Y$200)),\"\")","v":""},"",{"$f":"SUMIFS('Bill of Materials'!$I$16:$I$200,'Bill of Materials'!$V$16:$V$200,$A92,'Bill of Materials'!$W$16:$W$200,\"b\")/SUMIF('Bill of Materials'!$V$16:$V$200,$A92,'Bill of Materials'!$I$16:$I$200)","v":{"$error":"#DIV/0!"}},{"$f":"IFERROR((SUMIFS('Bill of Materials'!$Y$16:$Y$200,'Bill of Materials'!$V$16:$V$200,$A92,'Bill of Materials'!$W$16:$W$200,\"b\")/SUMIF('Bill of Materials'!$V$16:$V$200,$A92,'Bill of Materials'!$Y$16:$Y$200)),\"\")","v":""},"",{"$error":"#DIV/0!"},"",{"$f":"SUMIFS('Bill of Materials'!$I$16:$I$200,'Bill of Materials'!$V$16:$V$200,$A92,'Bill of Materials'!$W$16:$W$200,\"c\")/SUMIF('Bill of Materials'!$V$16:$V$200,$A92,'Bill of Materials'!$I$16:$I$200)","v":{"$error":"#DIV/0!"}},{"$f":"IFERROR((SUMIFS('Bill of Materials'!$Y$16:$Y$200,'Bill of Materials'!$V$16:$V$200,$A92,'Bill of Materials'!$W$16:$W$200,\"c\")/SUMIF('Bill of Materials'!$V$16:$V$200,$A92,'Bill of Materials'!$Y$16:$Y$200)),\"\")","v":""},"",{"$f":"(SUMIFS('Bill of Materials'!$I$16:$I$200,'Bill of Materials'!$V$16:$V$200,$A92,'Bill of Materials'!$W$16:$W$200,\"x\")+SUMIFS('Bill of Materials'!$I$16:$I$200,'Bill of Materials'!$V$16:$V$200,$A92,'Bill of Materials'!$W$16:$W$200,\"x - CMR or SVHC\"))/SUMIF('Bill of Materials'!$V$16:$V$200,$A92,'Bill of Materials'!$I$16:$I$200)","v":{"$error":"#DIV/0!"}},{"$f":"IFERROR(((SUMIFS('Bill of Materials'!$Y$16:$Y$200,'Bill of Materials'!$V$16:$V$200,$A92,'Bill of Materials'!$W$16:$W$200,\"x\")+SUMIFS('Bill of Materials'!$Y$16:$Y$200,'Bill of Materials'!$V$16:$V$200,$A92,'Bill of Materials'!$W$16:$W$200,\"x - CMR or SVHC\"))/SUMIF('Bill of Materials'!$V$16:$V$200,$A92,'Bill of Materials'!$Y$16:$Y$200)),\"\")","v":""},"",{"$error":"#DIV/0!"},"","",""]
[84,{"$f":"SUMIF('Bill of Materials'!$V$16:$V$200,A93,'Bill of Materials'!$J$16:$J$200)","v":{"v":0,"d":"0%"}},{"$error":"#DIV/0!"},{"$f":"SUMIFS('Bill of Materials'!$I$16:$I$200,'Bill of Materials'!$V$16:$V$200,A93,'Bill of Materials'!$W$16:$W$200,\"Grey\")/SUMIF('Bill of Materials'!$V$16:$V$200,A93,'Bill of Materials'!$I$16:$I$200)","v":{"$error":"#DIV/0!"}},{"$f":"IFERROR((SUMIFS('Bill of Materials'!$Y$16:$Y$200,'Bill of Materials'!$V$16:$V$200,A93,'Bill of Materials'!$W$16:$W$200,\"Grey\")/SUMIF('Bill of Materials'!$V$16:$V$200,A93,'Bill of Materials'!$Y$16:$Y$200)),\"\")","v":""},"",{"$f":"SUMIFS('Bill of Materials'!$I$16:$I$200,'Bill of Materials'!$V$16:$V$200,$A93,'Bill of Materials'!$W$16:$W$200,\"a\")/SUMIF('Bill of Materials'!$V$16:$V$200,$A93,'Bill of Materials'!$I$16:$I$200)","v":{"$error":"#DIV/0!"}},{"$f":"IFERROR((SUMIFS('Bill of Materials'!$Y$16:$Y$200,'Bill of Materials'!$V$16:$V$200,A93,'Bill of Materials'!$W$16:$W$200,\"a\")/SUMIF('Bill of Materials'!$V$16:$V$200,A93,'Bill of Materials'!$Y$16:$Y$200)),\"\")","v":""},"",{"$f":"SUMIFS('Bill of Materials'!$I$16:$I$200,'Bill of Materials'!$V$16:$V$200,$A93,'Bill of Materials'!$W$16:$W$200,\"b\")/SUMIF('Bill of Materials'!$V$16:$V$200,$A93,'Bill of Materials'!$I$16:$I$200)","v":{"$error":"#DIV/0!"}},{"$f":"IFERROR((SUMIFS('Bill of Materials'!$Y$16:$Y$200,'Bill of Materials'!$V$16:$V$200,$A93,'Bill of Materials'!$W$16:$W$200,\"b\")/SUMIF('Bill of Materials'!$V$16:$V$200,$A93,'Bill of Materials'!$Y$16:$Y$200)),\"\")","v":""},"",{"$error":"#DIV/0!"},"",{"$f":"SUMIFS('Bill of Materials'!$I$16:$I$200,'Bill of Materials'!$V$16:$V$200,$A93,'Bill of Materials'!$W$16:$W$200,\"c\")/SUMIF('Bill of Materials'!$V$16:$V$200,$A93,'Bill of Materials'!$I$16:$I$200)","v":{"$error":"#DIV/0!"}},{"$f":"IFERROR((SUMIFS('Bill of Materials'!$Y$16:$Y$200,'Bill of Materials'!$V$16:$V$200,$A93,'Bill of Materials'!$W$16:$W$200,\"c\")/SUMIF('Bill of Materials'!$V$16:$V$200,$A93,'Bill of Materials'!$Y$16:$Y$200)),\"\")","v":""},"",{"$f":"(SUMIFS('Bill of Materials'!$I$16:$I$200,'Bill of Materials'!$V$16:$V$200,$A93,'Bill of Materials'!$W$16:$W$200,\"x\")+SUMIFS('Bill of Materials'!$I$16:$I$200,'Bill of Materials'!$V$16:$V$200,$A93,'Bill of Materials'!$W$16:$W$200,\"x - CMR or SVHC\"))/SUMIF('Bill of Materials'!$V$16:$V$200,$A93,'Bill of Materials'!$I$16:$I$200)","v":{"$error":"#DIV/0!"}},{"$f":"IFERROR(((SUMIFS('Bill of Materials'!$Y$16:$Y$200,'Bill of Materials'!$V$16:$V$200,$A93,'Bill of Materials'!$W$16:$W$200,\"x\")+SUMIFS('Bill of Materials'!$Y$16:$Y$200,'Bill of Materials'!$V$16:$V$200,$A93,'Bill of Materials'!$W$16:$W$200,\"x - CMR or SVHC\"))/SUMIF('Bill of Materials'!$V$16:$V$200,$A93,'Bill of Materials'!$Y$16:$Y$200)),\"\")","v":""},"",{"$error":"#DIV/0!"},"","",""]
[85,{"$f":"SUMIF('Bill of Materials'!$V$16:$V$200,A94,'Bill of Materials'!$J$16:$J$200)","v":{"v":0,"d":"0%"}},{"$error":"#DIV/0!"},{"$f":"SUMIFS('Bill of Materials'!$I$16:$I$200,'Bill of Materials'!$V$16:$V$200,A94,'Bill of Materials'!$W$16:$W$200,\"Grey\")/SUMIF('Bill of Materials'!$V$16:$V$200,A94,'Bill of Materials'!$I$16:$I$200)","v":{"$error":"#DIV/0!"}},{"$f":"IFERROR((SUMIFS('Bill of Materials'!$Y$16:$Y$200,'Bill of Materials'!$V$16:$V$200,A94,'Bill of Materials'!$W$16:$W$200,\"Grey\")/SUMIF('Bill of Materials'!$V$16:$V$200,A94,'Bill of Materials'!$Y$16:$Y$200)),\"\")","v":""},"",{"$f":"SUMIFS('Bill of Materials'!$I$16:$I$200,'Bill of Materials'!$V$16:$V$200,$A94,'Bill of Materials'!$W$16:$W$200,\"a\")/SUMIF('Bill of Materials'!$V$16:$V$200,$A94,'Bill of Materials'!$I$16:$I$200)","v":{"$error":"#DIV/0!"}},{"$f":"IFERROR((SUMIFS('Bill of Materials'!$Y$16:$Y$200,'Bill of Materials'!$V$16:$V$200,A94,'Bill of Materials'!$W$16:$W$200,\"a\")/SUMIF('Bill of Materials'!$V$16:$V$200,A94,'Bill of Materials'!$Y$16:$Y$200)),\"\")","v":""},"",{"$f":"SUMIFS('Bill of Materials'!$I$16:$I$200,'Bill of Materials'!$V$16:$V$200,$A94,'Bill of Materials'!$W$16:$W$200,\"b\")/SUMIF('Bill of Materials'!$V$16:$V$200,$A94,'Bill of Materials'!$I$16:$I$200)","v":{"$error":"#DIV/0!"}},{"$f":"IFERROR((SUMIFS('Bill of Materials'!$Y$16:$Y$200,'Bill of Materials'!$V$16:$V$200,$A94,'Bill of Materials'!$W$16:$W$200,\"b\")/SUMIF('Bill of Materials'!$V$16:$V$200,$A94,'Bill of Materials'!$Y$16:$Y$200)),\"\")","v":""},"",{"$error":"#DIV/0!"},"",{"$f":"SUMIFS('Bill of Materials'!$I$16:$I$200,'Bill of Materials'!$V$16:$V$200,$A94,'Bill of Materials'!$W$16:$W$200,\"c\")/SUMIF('Bill of Materials'!$V$16:$V$200,$A94,'Bill of Materials'!$I$16:$I$200)","v":{"$error":"#DIV/0!"}},{"$f":"IFERROR((SUMIFS('Bill of Materials'!$Y$16:$Y$200,'Bill of Materials'!$V$16:$V$200,$A94,'Bill of Materials'!$W$16:$W$200,\"c\")/SUMIF('Bill of Materials'!$V$16:$V$200,$A94,'Bill of Materials'!$Y$16:$Y$200)),\"\")","v":""},"",{"$f":"(SUMIFS('Bill of Materials'!$I$16:$I$200,'Bill of Materials'!$V$16:$V$200,$A94,'Bill of Materials'!$W$16:$W$200,\"x\")+SUMIFS('Bill of Materials'!$I$16:$I$200,'Bill of Materials'!$V$16:$V$200,$A94,'Bill of Materials'!$W$16:$W$200,\"x - CMR or SVHC\"))/SUMIF('Bill of Materials'!$V$16:$V$200,$A94,'Bill of Materials'!$I$16:$I$200)","v":{"$error":"#DIV/0!"}},{"$f":"IFERROR(((SUMIFS('Bill of Materials'!$Y$16:$Y$200,'Bill of Materials'!$V$16:$V$200,$A94,'Bill of Materials'!$W$16:$W$200,\"x\")+SUMIFS('Bill of Materials'!$Y$16:$Y$200,'Bill of Materials'!$V$16:$V$200,$A94,'Bill of Materials'!$W$16:$W$200,\"x - CMR or SVHC\"))/SUMIF('Bill of Materials'!$V$16:$V$200,$A94,'Bill of Materials'!$Y$16:$Y$200)),\"\")","v":""},"",{"$error":"#DIV/0!"},"","",""]
[86,{"$f":"SUMIF('Bill of Materials'!$V$16:$V$200,A95,'Bill of Materials'!$J$16:$J$200)","v":{"v":0,"d":"0%"}},{"$error":"#DIV/0!"},{"$f":"SUMIFS('Bill of Materials'!$I$16:$I$200,'Bill of Materials'!$V$16:$V$200,A95,'Bill of Materials'!$W$16:$W$200,\"Grey\")/SUMIF('Bill of Materials'!$V$16:$V$200,A95,'Bill of Materials'!$I$16:$I$200)","v":{"$error":"#DIV/0!"}},{"$f":"IFERROR((SUMIFS('Bill of Materials'!$Y$16:$Y$200,'Bill of Materials'!$V$16:$V$200,A95,'Bill of Materials'!$W$16:$W$200,\"Grey\")/SUMIF('Bill of Materials'!$V$16:$V$200,A95,'Bill of Materials'!$Y$16:$Y$200)),\"\")","v":""},"",{"$f":"SUMIFS('Bill of Materials'!$I$16:$I$200,'Bill of Materials'!$V$16:$V$200,$A95,'Bill of Materials'!$W$16:$W$200,\"a\")/SUMIF('Bill of Materials'!$V$16:$V$200,$A95,'Bill of Materials'!$I$16:$I$200)","v":{"$error":"#DIV/0!"}},{"$f":"IFERROR((SUMIFS('Bill of Materials'!$Y$16:$Y$200,'Bill of Materials'!$V$16:$V$200,A95,'Bill of Materials'!$W$16:$W$200,\"a\")/SUMIF('Bill of Materials'!$V$16:$V$200,A95,'Bill of Materials'!$Y$16:$Y$200)),\"\")","v":""},"",{"$f":"SUMIFS('Bill of Materials'!$I$16:$I$200,'Bill of Materials'!$V$16:$V$200,$A95,'Bill of Materials'!$W$16:$W$200,\"b\")/SUMIF('Bill of Materials'!$V$16:$V$200,$A95,'Bill of Materials'!$I$16:$I$200)","v":{"$error":"#DIV/0!"}},{"$f":"IFERROR((SUMIFS('Bill of Materials'!$Y$16:$Y$200,'Bill of Materials'!$V$16:$V$200,$A95,'Bill of Materials'!$W$16:$W$200,\"b\")/SUMIF('Bill of Materials'!$V$16:$V$200,$A95,'Bill of Materials'!$Y$16:$Y$200)),\"\")","v":""},"",{"$error":"#DIV/0!"},"",{"$f":"SUMIFS('Bill of Materials'!$I$16:$I$200,'Bill of Materials'!$V$16:$V$200,$A95,'Bill of Materials'!$W$16:$W$200,\"c\")/SUMIF('Bill of Materials'!$V$16:$V$200,$A95,'Bill of Materials'!$I$16:$I$200)","v":{"$error":"#DIV/0!"}},{"$f":"IFERROR((SUMIFS('Bill of Materials'!$Y$16:$Y$200,'Bill of Materials'!$V$16:$V$200,$A95,'Bill of Materials'!$W$16:$W$200,\"c\")/SUMIF('Bill of Materials'!$V$16:$V$200,$A95,'Bill of Materials'!$Y$16:$Y$200)),\"\")","v":""},"",{"$f":"(SUMIFS('Bill of Materials'!$I$16:$I$200,'Bill of Materials'!$V$16:$V$200,$A95,'Bill of Materials'!$W$16:$W$200,\"x\")+SUMIFS('Bill of Materials'!$I$16:$I$200,'Bill of Materials'!$V$16:$V$200,$A95,'Bill of Materials'!$W$16:$W$200,\"x - CMR or SVHC\"))/SUMIF('Bill of Materials'!$V$16:$V$200,$A95,'Bill of Materials'!$I$16:$I$200)","v":{"$error":"#DIV/0!"}},{"$f":"IFERROR(((SUMIFS('Bill of Materials'!$Y$16:$Y$200,'Bill of Materials'!$V$16:$V$200,$A95,'Bill of Materials'!$W$16:$W$200,\"x\")+SUMIFS('Bill of Materials'!$Y$16:$Y$200,'Bill of Materials'!$V$16:$V$200,$A95,'Bill of Materials'!$W$16:$W$200,\"x - CMR or SVHC\"))/SUMIF('Bill of Materials'!$V$16:$V$200,$A95,'Bill of Materials'!$Y$16:$Y$200)),\"\")","v":""},"",{"$error":"#DIV/0!"},"","",""]
[87,{"$f":"SUMIF('Bill of Materials'!$V$16:$V$200,A96,'Bill of Materials'!$J$16:$J$200)","v":{"v":0,"d":"0%"}},{"$error":"#DIV/0!"},{"$f":"SUMIFS('Bill of Materials'!$I$16:$I$200,'Bill of Materials'!$V$16:$V$200,A96,'Bill of Materials'!$W$16:$W$200,\"Grey\")/SUMIF('Bill of Materials'!$V$16:$V$200,A96,'Bill of Materials'!$I$16:$I$200)","v":{"$error":"#DIV/0!"}},{"$f":"IFERROR((SUMIFS('Bill of Materials'!$Y$16:$Y$200,'Bill of Materials'!$V$16:$V$200,A96,'Bill of Materials'!$W$16:$W$200,\"Grey\")/SUMIF('Bill of Materials'!$V$16:$V$200,A96,'Bill of Materials'!$Y$16:$Y$200)),\"\")","v":""},"",{"$f":"SUMIFS('Bill of Materials'!$I$16:$I$200,'Bill of Materials'!$V$16:$V$200,$A96,'Bill of Materials'!$W$16:$W$200,\"a\")/SUMIF('Bill of Materials'!$V$16:$V$200,$A96,'Bill of Materials'!$I$16:$I$200)","v":{"$error":"#DIV/0!"}},{"$f":"IFERROR((SUMIFS('Bill of Materials'!$Y$16:$Y$200,'Bill of Materials'!$V$16:$V$200,A96,'Bill of Materials'!$W$16:$W$200,\"a\")/SUMIF('Bill of Materials'!$V$16:$V$200,A96,'Bill of Materials'!$Y$16:$Y$200)),\"\")","v":""},"",{"$f":"SUMIFS('Bill of Materials'!$I$16:$I$200,'Bill of Materials'!$V$16:$V$200,$A96,'Bill of Materials'!$W$16:$W$200,\"b\")/SUMIF('Bill of Materials'!$V$16:$V$200,$A96,'Bill of Materials'!$I$16:$I$200)","v":{"$error":"#DIV/0!"}},{"$f":"IFERROR((SUMIFS('Bill of Materials'!$Y$16:$Y$200,'Bill of Materials'!$V$16:$V$200,$A96,'Bill of Materials'!$W$16:$W$200,\"b\")/SUMIF('Bill of Materials'!$V$16:$V$200,$A96,'Bill of Materials'!$Y$16:$Y$200)),\"\")","v":""},"",{"$error":"#DIV/0!"},"",{"$f":"SUMIFS('Bill of Materials'!$I$16:$I$200,'Bill of Materials'!$V$16:$V$200,$A96,'Bill of Materials'!$W$16:$W$200,\"c\")/SUMIF('Bill of Materials'!$V$16:$V$200,$A96,'Bill of Materials'!$I$16:$I$200)","v":{"$error":"#DIV/0!"}},{"$f":"IFERROR((SUMIFS('Bill of Materials'!$Y$16:$Y$200,'Bill of Materials'!$V$16:$V$200,$A96,'Bill of Materials'!$W$16:$W$200,\"c\")/SUMIF('Bill of Materials'!$V$16:$V$200,$A96,'Bill of Materials'!$Y$16:$Y$200)),\"\")","v":""},"",{"$f":"(SUMIFS('Bill of Materials'!$I$16:$I$200,'Bill of Materials'!$V$16:$V$200,$A96,'Bill of Materials'!$W$16:$W$200,\"x\")+SUMIFS('Bill of Materials'!$I$16:$I$200,'Bill of Materials'!$V$16:$V$200,$A96,'Bill of Materials'!$W$16:$W$200,\"x - CMR or SVHC\"))/SUMIF('Bill of Materials'!$V$16:$V$200,$A96,'Bill of Materials'!$I$16:$I$200)","v":{"$error":"#DIV/0!"}},{"$f":"IFERROR(((SUMIFS('Bill of Materials'!$Y$16:$Y$200,'Bill of Materials'!$V$16:$V$200,$A96,'Bill of Materials'!$W$16:$W$200,\"x\")+SUMIFS('Bill of Materials'!$Y$16:$Y$200,'Bill of Materials'!$V$16:$V$200,$A96,'Bill of Materials'!$W$16:$W$200,\"x - CMR or SVHC\"))/SUMIF('Bill of Materials'!$V$16:$V$200,$A96,'Bill of Materials'!$Y$16:$Y$200)),\"\")","v":""},"",{"$error":"#DIV/0!"},"","",""]
[88,{"$f":"SUMIF('Bill of Materials'!$V$16:$V$200,A97,'Bill of Materials'!$J$16:$J$200)","v":{"v":0,"d":"0%"}},{"$error":"#DIV/0!"},{"$f":"SUMIFS('Bill of Materials'!$I$16:$I$200,'Bill of Materials'!$V$16:$V$200,A97,'Bill of Materials'!$W$16:$W$200,\"Grey\")/SUMIF('Bill of Materials'!$V$16:$V$200,A97,'Bill of Materials'!$I$16:$I$200)","v":{"$error":"#DIV/0!"}},{"$f":"IFERROR((SUMIFS('Bill of Materials'!$Y$16:$Y$200,'Bill of Materials'!$V$16:$V$200,A97,'Bill of Materials'!$W$16:$W$200,\"Grey\")/SUMIF('Bill of Materials'!$V$16:$V$200,A97,'Bill of Materials'!$Y$16:$Y$200)),\"\")","v":""},"",{"$f":"SUMIFS('Bill of Materials'!$I$16:$I$200,'Bill of Materials'!$V$16:$V$200,$A97,'Bill of Materials'!$W$16:$W$200,\"a\")/SUMIF('Bill of Materials'!$V$16:$V$200,$A97,'Bill of Materials'!$I$16:$I$200)","v":{"$error":"#DIV/0!"}},{"$f":"IFERROR((SUMIFS('Bill of Materials'!$Y$16:$Y$200,'Bill of Materials'!$V$16:$V$200,A97,'Bill of Materials'!$W$16:$W$200,\"a\")/SUMIF('Bill of Materials'!$V$16:$V$200,A97,'Bill of Materials'!$Y$16:$Y$200)),\"\")","v":""},"",{"$f":"SUMIFS('Bill of Materials'!$I$16:$I$200,'Bill of Materials'!$V$16:$V$200,$A97,'Bill of Materials'!$W$16:$W$200,\"b\")/SUMIF('Bill of Materials'!$V$16:$V$200,$A97,'Bill of Materials'!$I$16:$I$200)","v":{"$error":"#DIV/0!"}},{"$f":"IFERROR((SUMIFS('Bill of Materials'!$Y$16:$Y$200,'Bill of Materials'!$V$16:$V$200,$A97,'Bill of Materials'!$W$16:$W$200,\"b\")/SUMIF('Bill of Materials'!$V$16:$V$200,$A97,'Bill of Materials'!$Y$16:$Y$200)),\"\")","v":""},"",{"$error":"#DIV/0!"},"",{"$f":"SUMIFS('Bill of Materials'!$I$16:$I$200,'Bill of Materials'!$V$16:$V$200,$A97,'Bill of Materials'!$W$16:$W$200,\"c\")/SUMIF('Bill of Materials'!$V$16:$V$200,$A97,'Bill of Materials'!$I$16:$I$200)","v":{"$error":"#DIV/0!"}},{"$f":"IFERROR((SUMIFS('Bill of Materials'!$Y$16:$Y$200,'Bill of Materials'!$V$16:$V$200,$A97,'Bill of Materials'!$W$16:$W$200,\"c\")/SUMIF('Bill of Materials'!$V$16:$V$200,$A97,'Bill of Materials'!$Y$16:$Y$200)),\"\")","v":""},"",{"$f":"(SUMIFS('Bill of Materials'!$I$16:$I$200,'Bill of Materials'!$V$16:$V$200,$A97,'Bill of Materials'!$W$16:$W$200,\"x\")+SUMIFS('Bill of Materials'!$I$16:$I$200,'Bill of Materials'!$V$16:$V$200,$A97,'Bill of Materials'!$W$16:$W$200,\"x - CMR or SVHC\"))/SUMIF('Bill of Materials'!$V$16:$V$200,$A97,'Bill of Materials'!$I$16:$I$200)","v":{"$error":"#DIV/0!"}},{"$f":"IFERROR(((SUMIFS('Bill of Materials'!$Y$16:$Y$200,'Bill of Materials'!$V$16:$V$200,$A97,'Bill of Materials'!$W$16:$W$200,\"x\")+SUMIFS('Bill of Materials'!$Y$16:$Y$200,'Bill of Materials'!$V$16:$V$200,$A97,'Bill of Materials'!$W$16:$W$200,\"x - CMR or SVHC\"))/SUMIF('Bill of Materials'!$V$16:$V$200,$A97,'Bill of Materials'!$Y$16:$Y$200)),\"\")","v":""},"",{"$error":"#DIV/0!"},"","",""]
[89,{"$f":"SUMIF('Bill of Materials'!$V$16:$V$200,A98,'Bill of Materials'!$J$16:$J$200)","v":{"v":0,"d":"0%"}},{"$error":"#DIV/0!"},{"$f":"SUMIFS('Bill of Materials'!$I$16:$I$200,'Bill of Materials'!$V$16:$V$200,A98,'Bill of Materials'!$W$16:$W$200,\"Grey\")/SUMIF('Bill of Materials'!$V$16:$V$200,A98,'Bill of Materials'!$I$16:$I$200)","v":{"$error":"#DIV/0!"}},{"$f":"IFERROR((SUMIFS('Bill of Materials'!$Y$16:$Y$200,'Bill of Materials'!$V$16:$V$200,A98,'Bill of Materials'!$W$16:$W$200,\"Grey\")/SUMIF('Bill of Materials'!$V$16:$V$200,A98,'Bill of Materials'!$Y$16:$Y$200)),\"\")","v":""},"",{"$f":"SUMIFS('Bill of Materials'!$I$16:$I$200,'Bill of Materials'!$V$16:$V$200,$A98,'Bill of Materials'!$W$16:$W$200,\"a\")/SUMIF('Bill of Materials'!$V$16:$V$200,$A98,'Bill of Materials'!$I$16:$I$200)","v":{"$error":"#DIV/0!"}},{"$f":"IFERROR((SUMIFS('Bill of Materials'!$Y$16:$Y$200,'Bill of Materials'!$V$16:$V$200,A98,'Bill of Materials'!$W$16:$W$200,\"a\")/SUMIF('Bill of Materials'!$V$16:$V$200,A98,'Bill of Materials'!$Y$16:$Y$200)),\"\")","v":""},"",{"$f":"SUMIFS('Bill of Materials'!$I$16:$I$200,'Bill of Materials'!$V$16:$V$200,$A98,'Bill of Materials'!$W$16:$W$200,\"b\")/SUMIF('Bill of Materials'!$V$16:$V$200,$A98,'Bill of Materials'!$I$16:$I$200)","v":{"$error":"#DIV/0!"}},{"$f":"IFERROR((SUMIFS('Bill of Materials'!$Y$16:$Y$200,'Bill of Materials'!$V$16:$V$200,$A98,'Bill of Materials'!$W$16:$W$200,\"b\")/SUMIF('Bill of Materials'!$V$16:$V$200,$A98,'Bill of Materials'!$Y$16:$Y$200)),\"\")","v":""},"",{"$error":"#DIV/0!"},"",{"$f":"SUMIFS('Bill of Materials'!$I$16:$I$200,'Bill of Materials'!$V$16:$V$200,$A98,'Bill of Materials'!$W$16:$W$200,\"c\")/SUMIF('Bill of Materials'!$V$16:$V$200,$A98,'Bill of Materials'!$I$16:$I$200)","v":{"$error":"#DIV/0!"}},{"$f":"IFERROR((SUMIFS('Bill of Materials'!$Y$16:$Y$200,'Bill of Materials'!$V$16:$V$200,$A98,'Bill of Materials'!$W$16:$W$200,\"c\")/SUMIF('Bill of Materials'!$V$16:$V$200,$A98,'Bill of Materials'!$Y$16:$Y$200)),\"\")","v":""},"",{"$f":"(SUMIFS('Bill of Materials'!$I$16:$I$200,'Bill of Materials'!$V$16:$V$200,$A98,'Bill of Materials'!$W$16:$W$200,\"x\")+SUMIFS('Bill of Materials'!$I$16:$I$200,'Bill of Materials'!$V$16:$V$200,$A98,'Bill of Materials'!$W$16:$W$200,\"x - CMR or SVHC\"))/SUMIF('Bill of Materials'!$V$16:$V$200,$A98,'Bill of Materials'!$I$16:$I$200)","v":{"$error":"#DIV/0!"}},{"$f":"IFERROR(((SUMIFS('Bill of Materials'!$Y$16:$Y$200,'Bill of Materials'!$V$16:$V$200,$A98,'Bill of Materials'!$W$16:$W$200,\"x\")+SUMIFS('Bill of Materials'!$Y$16:$Y$200,'Bill of Materials'!$V$16:$V$200,$A98,'Bill of Materials'!$W$16:$W$200,\"x - CMR or SVHC\"))/SUMIF('Bill of Materials'!$V$16:$V$200,$A98,'Bill of Materials'!$Y$16:$Y$200)),\"\")","v":""},"",{"$error":"#DIV/0!"},"","",""]
[90,{"$f":"SUMIF('Bill of Materials'!$V$16:$V$200,A99,'Bill of Materials'!$J$16:$J$200)","v":{"v":0,"d":"0%"}},{"$error":"#DIV/0!"},{"$f":"SUMIFS('Bill of Materials'!$I$16:$I$200,'Bill of Materials'!$V$16:$V$200,A99,'Bill of Materials'!$W$16:$W$200,\"Grey\")/SUMIF('Bill of Materials'!$V$16:$V$200,A99,'Bill of Materials'!$I$16:$I$200)","v":{"$error":"#DIV/0!"}},{"$f":"IFERROR((SUMIFS('Bill of Materials'!$Y$16:$Y$200,'Bill of Materials'!$V$16:$V$200,A99,'Bill of Materials'!$W$16:$W$200,\"Grey\")/SUMIF('Bill of Materials'!$V$16:$V$200,A99,'Bill of Materials'!$Y$16:$Y$200)),\"\")","v":""},"",{"$f":"SUMIFS('Bill of Materials'!$I$16:$I$200,'Bill of Materials'!$V$16:$V$200,$A99,'Bill of Materials'!$W$16:$W$200,\"a\")/SUMIF('Bill of Materials'!$V$16:$V$200,$A99,'Bill of Materials'!$I$16:$I$200)","v":{"$error":"#DIV/0!"}},{"$f":"IFERROR((SUMIFS('Bill of Materials'!$Y$16:$Y$200,'Bill of Materials'!$V$16:$V$200,A99,'Bill of Materials'!$W$16:$W$200,\"a\")/SUMIF('Bill of Materials'!$V$16:$V$200,A99,'Bill of Materials'!$Y$16:$Y$200)),\"\")","v":""},"",{"$f":"SUMIFS('Bill of Materials'!$I$16:$I$200,'Bill of Materials'!$V$16:$V$200,$A99,'Bill of Materials'!$W$16:$W$200,\"b\")/SUMIF('Bill of Materials'!$V$16:$V$200,$A99,'Bill of Materials'!$I$16:$I$200)","v":{"$error":"#DIV/0!"}},{"$f":"IFERROR((SUMIFS('Bill of Materials'!$Y$16:$Y$200,'Bill of Materials'!$V$16:$V$200,$A99,'Bill of Materials'!$W$16:$W$200,\"b\")/SUMIF('Bill of Materials'!$V$16:$V$200,$A99,'Bill of Materials'!$Y$16:$Y$200)),\"\")","v":""},"",{"$error":"#DIV/0!"},"",{"$f":"SUMIFS('Bill of Materials'!$I$16:$I$200,'Bill of Materials'!$V$16:$V$200,$A99,'Bill of Materials'!$W$16:$W$200,\"c\")/SUMIF('Bill of Materials'!$V$16:$V$200,$A99,'Bill of Materials'!$I$16:$I$200)","v":{"$error":"#DIV/0!"}},{"$f":"IFERROR((SUMIFS('Bill of Materials'!$Y$16:$Y$200,'Bill of Materials'!$V$16:$V$200,$A99,'Bill of Materials'!$W$16:$W$200,\"c\")/SUMIF('Bill of Materials'!$V$16:$V$200,$A99,'Bill of Materials'!$Y$16:$Y$200)),\"\")","v":""},"",{"$f":"(SUMIFS('Bill of Materials'!$I$16:$I$200,'Bill of Materials'!$V$16:$V$200,$A99,'Bill of Materials'!$W$16:$W$200,\"x\")+SUMIFS('Bill of Materials'!$I$16:$I$200,'Bill of Materials'!$V$16:$V$200,$A99,'Bill of Materials'!$W$16:$W$200,\"x - CMR or SVHC\"))/SUMIF('Bill of Materials'!$V$16:$V$200,$A99,'Bill of Materials'!$I$16:$I$200)","v":{"$error":"#DIV/0!"}},{"$f":"IFERROR(((SUMIFS('Bill of Materials'!$Y$16:$Y$200,'Bill of Materials'!$V$16:$V$200,$A99,'Bill of Materials'!$W$16:$W$200,\"x\")+SUMIFS('Bill of Materials'!$Y$16:$Y$200,'Bill of Materials'!$V$16:$V$200,$A99,'Bill of Materials'!$W$16:$W$200,\"x - CMR or SVHC\"))/SUMIF('Bill of Materials'!$V$16:$V$200,$A99,'Bill of Materials'!$Y$16:$Y$200)),\"\")","v":""},"",{"$error":"#DIV/0!"},"","",""]
[91,{"$f":"SUMIF('Bill of Materials'!$V$16:$V$200,A100,'Bill of Materials'!$J$16:$J$200)","v":{"v":0,"d":"0%"}},{"$error":"#DIV/0!"},{"$f":"SUMIFS('Bill of Materials'!$I$16:$I$200,'Bill of Materials'!$V$16:$V$200,A100,'Bill of Materials'!$W$16:$W$200,\"Grey\")/SUMIF('Bill of Materials'!$V$16:$V$200,A100,'Bill of Materials'!$I$16:$I$200)","v":{"$error":"#DIV/0!"}},{"$f":"IFERROR((SUMIFS('Bill of Materials'!$Y$16:$Y$200,'Bill of Materials'!$V$16:$V$200,A100,'Bill of Materials'!$W$16:$W$200,\"Grey\")/SUMIF('Bill of Materials'!$V$16:$V$200,A100,'Bill of Materials'!$Y$16:$Y$200)),\"\")","v":""},"",{"$f":"SUMIFS('Bill of Materials'!$I$16:$I$200,'Bill of Materials'!$V$16:$V$200,$A100,'Bill of Materials'!$W$16:$W$200,\"a\")/SUMIF('Bill of Materials'!$V$16:$V$200,$A100,'Bill of Materials'!$I$16:$I$200)","v":{"$error":"#DIV/0!"}},{"$f":"IFERROR((SUMIFS('Bill of Materials'!$Y$16:$Y$200,'Bill of Materials'!$V$16:$V$200,A100,'Bill of Materials'!$W$16:$W$200,\"a\")/SUMIF('Bill of Materials'!$V$16:$V$200,A100,'Bill of Materials'!$Y$16:$Y$200)),\"\")","v":""},"",{"$f":"SUMIFS('Bill of Materials'!$I$16:$I$200,'Bill of Materials'!$V$16:$V$200,$A100,'Bill of Materials'!$W$16:$W$200,\"b\")/SUMIF('Bill of Materials'!$V$16:$V$200,$A100,'Bill of Materials'!$I$16:$I$200)","v":{"$error":"#DIV/0!"}},{"$f":"IFERROR((SUMIFS('Bill of Materials'!$Y$16:$Y$200,'Bill of Materials'!$V$16:$V$200,$A100,'Bill of Materials'!$W$16:$W$200,\"b\")/SUMIF('Bill of Materials'!$V$16:$V$200,$A100,'Bill of Materials'!$Y$16:$Y$200)),\"\")","v":""},"",{"$error":"#DIV/0!"},"",{"$f":"SUMIFS('Bill of Materials'!$I$16:$I$200,'Bill of Materials'!$V$16:$V$200,$A100,'Bill of Materials'!$W$16:$W$200,\"c\")/SUMIF('Bill of Materials'!$V$16:$V$200,$A100,'Bill of Materials'!$I$16:$I$200)","v":{"$error":"#DIV/0!"}},{"$f":"IFERROR((SUMIFS('Bill of Materials'!$Y$16:$Y$200,'Bill of Materials'!$V$16:$V$200,$A100,'Bill of Materials'!$W$16:$W$200,\"c\")/SUMIF('Bill of Materials'!$V$16:$V$200,$A100,'Bill of Materials'!$Y$16:$Y$200)),\"\")","v":""},"",{"$f":"(SUMIFS('Bill of Materials'!$I$16:$I$200,'Bill of Materials'!$V$16:$V$200,$A100,'Bill of Materials'!$W$16:$W$200,\"x\")+SUMIFS('Bill of Materials'!$I$16:$I$200,'Bill of Materials'!$V$16:$V$200,$A100,'Bill of Materials'!$W$16:$W$200,\"x - CMR or SVHC\"))/SUMIF('Bill of Materials'!$V$16:$V$200,$A100,'Bill of Materials'!$I$16:$I$200)","v":{"$error":"#DIV/0!"}},{"$f":"IFERROR(((SUMIFS('Bill of Materials'!$Y$16:$Y$200,'Bill of Materials'!$V$16:$V$200,$A100,'Bill of Materials'!$W$16:$W$200,\"x\")+SUMIFS('Bill of Materials'!$Y$16:$Y$200,'Bill of Materials'!$V$16:$V$200,$A100,'Bill of Materials'!$W$16:$W$200,\"x - CMR or SVHC\"))/SUMIF('Bill of Materials'!$V$16:$V$200,$A100,'Bill of Materials'!$Y$16:$Y$200)),\"\")","v":""},"",{"$error":"#DIV/0!"},"","",""]
[92,{"$f":"SUMIF('Bill of Materials'!$V$16:$V$200,A101,'Bill of Materials'!$J$16:$J$200)","v":{"v":0,"d":"0%"}},{"$error":"#DIV/0!"},{"$f":"SUMIFS('Bill of Materials'!$I$16:$I$200,'Bill of Materials'!$V$16:$V$200,A101,'Bill of Materials'!$W$16:$W$200,\"Grey\")/SUMIF('Bill of Materials'!$V$16:$V$200,A101,'Bill of Materials'!$I$16:$I$200)","v":{"$error":"#DIV/0!"}},{"$f":"IFERROR((SUMIFS('Bill of Materials'!$Y$16:$Y$200,'Bill of Materials'!$V$16:$V$200,A101,'Bill of Materials'!$W$16:$W$200,\"Grey\")/SUMIF('Bill of Materials'!$V$16:$V$200,A101,'Bill of Materials'!$Y$16:$Y$200)),\"\")","v":""},"",{"$f":"SUMIFS('Bill of Materials'!$I$16:$I$200,'Bill of Materials'!$V$16:$V$200,$A101,'Bill of Materials'!$W$16:$W$200,\"a\")/SUMIF('Bill of Materials'!$V$16:$V$200,$A101,'Bill of Materials'!$I$16:$I$200)","v":{"$error":"#DIV/0!"}},{"$f":"IFERROR((SUMIFS('Bill of Materials'!$Y$16:$Y$200,'Bill of Materials'!$V$16:$V$200,A101,'Bill of Materials'!$W$16:$W$200,\"a\")/SUMIF('Bill of Materials'!$V$16:$V$200,A101,'Bill of Materials'!$Y$16:$Y$200)),\"\")","v":""},"",{"$f":"SUMIFS('Bill of Materials'!$I$16:$I$200,'Bill of Materials'!$V$16:$V$200,$A101,'Bill of Materials'!$W$16:$W$200,\"b\")/SUMIF('Bill of Materials'!$V$16:$V$200,$A101,'Bill of Materials'!$I$16:$I$200)","v":{"$error":"#DIV/0!"}},{"$f":"IFERROR((SUMIFS('Bill of Materials'!$Y$16:$Y$200,'Bill of Materials'!$V$16:$V$200,$A101,'Bill of Materials'!$W$16:$W$200,\"b\")/SUMIF('Bill of Materials'!$V$16:$V$200,$A101,'Bill of Materials'!$Y$16:$Y$200)),\"\")","v":""},"",{"$error":"#DIV/0!"},"",{"$f":"SUMIFS('Bill of Materials'!$I$16:$I$200,'Bill of Materials'!$V$16:$V$200,$A101,'Bill of Materials'!$W$16:$W$200,\"c\")/SUMIF('Bill of Materials'!$V$16:$V$200,$A101,'Bill of Materials'!$I$16:$I$200)","v":{"$error":"#DIV/0!"}},{"$f":"IFERROR((SUMIFS('Bill of Materials'!$Y$16:$Y$200,'Bill of Materials'!$V$16:$V$200,$A101,'Bill of Materials'!$W$16:$W$200,\"c\")/SUMIF('Bill of Materials'!$V$16:$V$200,$A101,'Bill of Materials'!$Y$16:$Y$200)),\"\")","v":""},"",{"$f":"(SUMIFS('Bill of Materials'!$I$16:$I$200,'Bill of Materials'!$V$16:$V$200,$A101,'Bill of Materials'!$W$16:$W$200,\"x\")+SUMIFS('Bill of Materials'!$I$16:$I$200,'Bill of Materials'!$V$16:$V$200,$A101,'Bill of Materials'!$W$16:$W$200,\"x - CMR or SVHC\"))/SUMIF('Bill of Materials'!$V$16:$V$200,$A101,'Bill of Materials'!$I$16:$I$200)","v":{"$error":"#DIV/0!"}},{"$f":"IFERROR(((SUMIFS('Bill of Materials'!$Y$16:$Y$200,'Bill of Materials'!$V$16:$V$200,$A101,'Bill of Materials'!$W$16:$W$200,\"x\")+SUMIFS('Bill of Materials'!$Y$16:$Y$200,'Bill of Materials'!$V$16:$V$200,$A101,'Bill of Materials'!$W$16:$W$200,\"x - CMR or SVHC\"))/SUMIF('Bill of Materials'!$V$16:$V$200,$A101,'Bill of Materials'!$Y$16:$Y$200)),\"\")","v":""},"",{"$error":"#DIV/0!"},"","",""]
[93,{"$f":"SUMIF('Bill of Materials'!$V$16:$V$200,A102,'Bill of Materials'!$J$16:$J$200)","v":{"v":0,"d":"0%"}},{"$error":"#DIV/0!"},{"$f":"SUMIFS('Bill of Materials'!$I$16:$I$200,'Bill of Materials'!$V$16:$V$200,A102,'Bill of Materials'!$W$16:$W$200,\"Grey\")/SUMIF('Bill of Materials'!$V$16:$V$200,A102,'Bill of Materials'!$I$16:$I$200)","v":{"$error":"#DIV/0!"}},{"$f":"IFERROR((SUMIFS('Bill of Materials'!$Y$16:$Y$200,'Bill of Materials'!$V$16:$V$200,A102,'Bill of Materials'!$W$16:$W$200,\"Grey\")/SUMIF('Bill of Materials'!$V$16:$V$200,A102,'Bill of Materials'!$Y$16:$Y$200)),\"\")","v":""},"",{"$f":"SUMIFS('Bill of Materials'!$I$16:$I$200,'Bill of Materials'!$V$16:$V$200,$A102,'Bill of Materials'!$W$16:$W$200,\"a\")/SUMIF('Bill of Materials'!$V$16:$V$200,$A102,'Bill of Materials'!$I$16:$I$200)","v":{"$error":"#DIV/0!"}},{"$f":"IFERROR((SUMIFS('Bill of Materials'!$Y$16:$Y$200,'Bill of Materials'!$V$16:$V$200,A102,'Bill of Materials'!$W$16:$W$200,\"a\")/SUMIF('Bill of Materials'!$V$16:$V$200,A102,'Bill of Materials'!$Y$16:$Y$200)),\"\")","v":""},"",{"$f":"SUMIFS('Bill of Materials'!$I$16:$I$200,'Bill of Materials'!$V$16:$V$200,$A102,'Bill of Materials'!$W$16:$W$200,\"b\")/SUMIF('Bill of Materials'!$V$16:$V$200,$A102,'Bill of Materials'!$I$16:$I$200)","v":{"$error":"#DIV/0!"}},{"$f":"IFERROR((SUMIFS('Bill of Materials'!$Y$16:$Y$200,'Bill of Materials'!$V$16:$V$200,$A102,'Bill of Materials'!$W$16:$W$200,\"b\")/SUMIF('Bill of Materials'!$V$16:$V$200,$A102,'Bill of Materials'!$Y$16:$Y$200)),\"\")","v":""},"",{"$error":"#DIV/0!"},"",{"$f":"SUMIFS('Bill of Materials'!$I$16:$I$200,'Bill of Materials'!$V$16:$V$200,$A102,'Bill of Materials'!$W$16:$W$200,\"c\")/SUMIF('Bill of Materials'!$V$16:$V$200,$A102,'Bill of Materials'!$I$16:$I$200)","v":{"$error":"#DIV/0!"}},{"$f":"IFERROR((SUMIFS('Bill of Materials'!$Y$16:$Y$200,'Bill of Materials'!$V$16:$V$200,$A102,'Bill of Materials'!$W$16:$W$200,\"c\")/SUMIF('Bill of Materials'!$V$16:$V$200,$A102,'Bill of Materials'!$Y$16:$Y$200)),\"\")","v":""},"",{"$f":"(SUMIFS('Bill of Materials'!$I$16:$I$200,'Bill of Materials'!$V$16:$V$200,$A102,'Bill of Materials'!$W$16:$W$200,\"x\")+SUMIFS('Bill of Materials'!$I$16:$I$200,'Bill of Materials'!$V$16:$V$200,$A102,'Bill of Materials'!$W$16:$W$200,\"x - CMR or SVHC\"))/SUMIF('Bill of Materials'!$V$16:$V$200,$A102,'Bill of Materials'!$I$16:$I$200)","v":{"$error":"#DIV/0!"}},{"$f":"IFERROR(((SUMIFS('Bill of Materials'!$Y$16:$Y$200,'Bill of Materials'!$V$16:$V$200,$A102,'Bill of Materials'!$W$16:$W$200,\"x\")+SUMIFS('Bill of Materials'!$Y$16:$Y$200,'Bill of Materials'!$V$16:$V$200,$A102,'Bill of Materials'!$W$16:$W$200,\"x - CMR or SVHC\"))/SUMIF('Bill of Materials'!$V$16:$V$200,$A102,'Bill of Materials'!$Y$16:$Y$200)),\"\")","v":""},"",{"$error":"#DIV/0!"},"","",""]
[94,{"$f":"SUMIF('Bill of Materials'!$V$16:$V$200,A103,'Bill of Materials'!$J$16:$J$200)","v":{"v":0,"d":"0%"}},{"$error":"#DIV/0!"},{"$f":"SUMIFS('Bill of Materials'!$I$16:$I$200,'Bill of Materials'!$V$16:$V$200,A103,'Bill of Materials'!$W$16:$W$200,\"Grey\")/SUMIF('Bill of Materials'!$V$16:$V$200,A103,'Bill of Materials'!$I$16:$I$200)","v":{"$error":"#DIV/0!"}},{"$f":"IFERROR((SUMIFS('Bill of Materials'!$Y$16:$Y$200,'Bill of Materials'!$V$16:$V$200,A103,'Bill of Materials'!$W$16:$W$200,\"Grey\")/SUMIF('Bill of Materials'!$V$16:$V$200,A103,'Bill of Materials'!$Y$16:$Y$200)),\"\")","v":""},"",{"$f":"SUMIFS('Bill of Materials'!$I$16:$I$200,'Bill of Materials'!$V$16:$V$200,$A103,'Bill of Materials'!$W$16:$W$200,\"a\")/SUMIF('Bill of Materials'!$V$16:$V$200,$A103,'Bill of Materials'!$I$16:$I$200)","v":{"$error":"#DIV/0!"}},{"$f":"IFERROR((SUMIFS('Bill of Materials'!$Y$16:$Y$200,'Bill of Materials'!$V$16:$V$200,A103,'Bill of Materials'!$W$16:$W$200,\"a\")/SUMIF('Bill of Materials'!$V$16:$V$200,A103,'Bill of Materials'!$Y$16:$Y$200)),\"\")","v":""},"",{"$f":"SUMIFS('Bill of Materials'!$I$16:$I$200,'Bill of Materials'!$V$16:$V$200,$A103,'Bill of Materials'!$W$16:$W$200,\"b\")/SUMIF('Bill of Materials'!$V$16:$V$200,$A103,'Bill of Materials'!$I$16:$I$200)","v":{"$error":"#DIV/0!"}},{"$f":"IFERROR((SUMIFS('Bill of Materials'!$Y$16:$Y$200,'Bill of Materials'!$V$16:$V$200,$A103,'Bill of Materials'!$W$16:$W$200,\"b\")/SUMIF('Bill of Materials'!$V$16:$V$200,$A103,'Bill of Materials'!$Y$16:$Y$200)),\"\")","v":""},"",{"$error":"#DIV/0!"},"",{"$f":"SUMIFS('Bill of Materials'!$I$16:$I$200,'Bill of Materials'!$V$16:$V$200,$A103,'Bill of Materials'!$W$16:$W$200,\"c\")/SUMIF('Bill of Materials'!$V$16:$V$200,$A103,'Bill of Materials'!$I$16:$I$200)","v":{"$error":"#DIV/0!"}},{"$f":"IFERROR((SUMIFS('Bill of Materials'!$Y$16:$Y$200,'Bill of Materials'!$V$16:$V$200,$A103,'Bill of Materials'!$W$16:$W$200,\"c\")/SUMIF('Bill of Materials'!$V$16:$V$200,$A103,'Bill of Materials'!$Y$16:$Y$200)),\"\")","v":""},"",{"$f":"(SUMIFS('Bill of Materials'!$I$16:$I$200,'Bill of Materials'!$V$16:$V$200,$A103,'Bill of Materials'!$W$16:$W$200,\"x\")+SUMIFS('Bill of Materials'!$I$16:$I$200,'Bill of Materials'!$V$16:$V$200,$A103,'Bill of Materials'!$W$16:$W$200,\"x - CMR or SVHC\"))/SUMIF('Bill of Materials'!$V$16:$V$200,$A103,'Bill of Materials'!$I$16:$I$200)","v":{"$error":"#DIV/0!"}},{"$f":"IFERROR(((SUMIFS('Bill of Materials'!$Y$16:$Y$200,'Bill of Materials'!$V$16:$V$200,$A103,'Bill of Materials'!$W$16:$W$200,\"x\")+SUMIFS('Bill of Materials'!$Y$16:$Y$200,'Bill of Materials'!$V$16:$V$200,$A103,'Bill of Materials'!$W$16:$W$200,\"x - CMR or SVHC\"))/SUMIF('Bill of Materials'!$V$16:$V$200,$A103,'Bill of Materials'!$Y$16:$Y$200)),\"\")","v":""},"",{"$error":"#DIV/0!"},"","",""]
[95,{"$f":"SUMIF('Bill of Materials'!$V$16:$V$200,A104,'Bill of Materials'!$J$16:$J$200)","v":{"v":0,"d":"0%"}},{"$error":"#DIV/0!"},{"$f":"SUMIFS('Bill of Materials'!$I$16:$I$200,'Bill of Materials'!$V$16:$V$200,A104,'Bill of Materials'!$W$16:$W$200,\"Grey\")/SUMIF('Bill of Materials'!$V$16:$V$200,A104,'Bill of Materials'!$I$16:$I$200)","v":{"$error":"#DIV/0!"}},{"$f":"IFERROR((SUMIFS('Bill of Materials'!$Y$16:$Y$200,'Bill of Materials'!$V$16:$V$200,A104,'Bill of Materials'!$W$16:$W$200,\"Grey\")/SUMIF('Bill of Materials'!$V$16:$V$200,A104,'Bill of Materials'!$Y$16:$Y$200)),\"\")","v":""},"",{"$f":"SUMIFS('Bill of Materials'!$I$16:$I$200,'Bill of Materials'!$V$16:$V$200,$A104,'Bill of Materials'!$W$16:$W$200,\"a\")/SUMIF('Bill of Materials'!$V$16:$V$200,$A104,'Bill of Materials'!$I$16:$I$200)","v":{"$error":"#DIV/0!"}},{"$f":"IFERROR((SUMIFS('Bill of Materials'!$Y$16:$Y$200,'Bill of Materials'!$V$16:$V$200,A104,'Bill of Materials'!$W$16:$W$200,\"a\")/SUMIF('Bill of Materials'!$V$16:$V$200,A104,'Bill of Materials'!$Y$16:$Y$200)),\"\")","v":""},"",{"$f":"SUMIFS('Bill of Materials'!$I$16:$I$200,'Bill of Materials'!$V$16:$V$200,$A104,'Bill of Materials'!$W$16:$W$200,\"b\")/SUMIF('Bill of Materials'!$V$16:$V$200,$A104,'Bill of Materials'!$I$16:$I$200)","v":{"$error":"#DIV/0!"}},{"$f":"IFERROR((SUMIFS('Bill of Materials'!$Y$16:$Y$200,'Bill of Materials'!$V$16:$V$200,$A104,'Bill of Materials'!$W$16:$W$200,\"b\")/SUMIF('Bill of Materials'!$V$16:$V$200,$A104,'Bill of Materials'!$Y$16:$Y$200)),\"\")","v":""},"",{"$error":"#DIV/0!"},"",{"$f":"SUMIFS('Bill of Materials'!$I$16:$I$200,'Bill of Materials'!$V$16:$V$200,$A104,'Bill of Materials'!$W$16:$W$200,\"c\")/SUMIF('Bill of Materials'!$V$16:$V$200,$A104,'Bill of Materials'!$I$16:$I$200)","v":{"$error":"#DIV/0!"}},{"$f":"IFERROR((SUMIFS('Bill of Materials'!$Y$16:$Y$200,'Bill of Materials'!$V$16:$V$200,$A104,'Bill of Materials'!$W$16:$W$200,\"c\")/SUMIF('Bill of Materials'!$V$16:$V$200,$A104,'Bill of Materials'!$Y$16:$Y$200)),\"\")","v":""},"",{"$f":"(SUMIFS('Bill of Materials'!$I$16:$I$200,'Bill of Materials'!$V$16:$V$200,$A104,'Bill of Materials'!$W$16:$W$200,\"x\")+SUMIFS('Bill of Materials'!$I$16:$I$200,'Bill of Materials'!$V$16:$V$200,$A104,'Bill of Materials'!$W$16:$W$200,\"x - CMR or SVHC\"))/SUMIF('Bill of Materials'!$V$16:$V$200,$A104,'Bill of Materials'!$I$16:$I$200)","v":{"$error":"#DIV/0!"}},{"$f":"IFERROR(((SUMIFS('Bill of Materials'!$Y$16:$Y$200,'Bill of Materials'!$V$16:$V$200,$A104,'Bill of Materials'!$W$16:$W$200,\"x\")+SUMIFS('Bill of Materials'!$Y$16:$Y$200,'Bill of Materials'!$V$16:$V$200,$A104,'Bill of Materials'!$W$16:$W$200,\"x - CMR or SVHC\"))/SUMIF('Bill of Materials'!$V$16:$V$200,$A104,'Bill of Materials'!$Y$16:$Y$200)),\"\")","v":""},"",{"$error":"#DIV/0!"},"","",""]
[96,{"$f":"SUMIF('Bill of Materials'!$V$16:$V$200,A105,'Bill of Materials'!$J$16:$J$200)","v":{"v":0,"d":"0%"}},{"$error":"#DIV/0!"},{"$f":"SUMIFS('Bill of Materials'!$I$16:$I$200,'Bill of Materials'!$V$16:$V$200,A105,'Bill of Materials'!$W$16:$W$200,\"Grey\")/SUMIF('Bill of Materials'!$V$16:$V$200,A105,'Bill of Materials'!$I$16:$I$200)","v":{"$error":"#DIV/0!"}},{"$f":"IFERROR((SUMIFS('Bill of Materials'!$Y$16:$Y$200,'Bill of Materials'!$V$16:$V$200,A105,'Bill of Materials'!$W$16:$W$200,\"Grey\")/SUMIF('Bill of Materials'!$V$16:$V$200,A105,'Bill of Materials'!$Y$16:$Y$200)),\"\")","v":""},"",{"$f":"SUMIFS('Bill of Materials'!$I$16:$I$200,'Bill of Materials'!$V$16:$V$200,$A105,'Bill of Materials'!$W$16:$W$200,\"a\")/SUMIF('Bill of Materials'!$V$16:$V$200,$A105,'Bill of Materials'!$I$16:$I$200)","v":{"$error":"#DIV/0!"}},{"$f":"IFERROR((SUMIFS('Bill of Materials'!$Y$16:$Y$200,'Bill of Materials'!$V$16:$V$200,A105,'Bill of Materials'!$W$16:$W$200,\"a\")/SUMIF('Bill of Materials'!$V$16:$V$200,A105,'Bill of Materials'!$Y$16:$Y$200)),\"\")","v":""},"",{"$f":"SUMIFS('Bill of Materials'!$I$16:$I$200,'Bill of Materials'!$V$16:$V$200,$A105,'Bill of Materials'!$W$16:$W$200,\"b\")/SUMIF('Bill of Materials'!$V$16:$V$200,$A105,'Bill of Materials'!$I$16:$I$200)","v":{"$error":"#DIV/0!"}},{"$f":"IFERROR((SUMIFS('Bill of Materials'!$Y$16:$Y$200,'Bill of Materials'!$V$16:$V$200,$A105,'Bill of Materials'!$W$16:$W$200,\"b\")/SUMIF('Bill of Materials'!$V$16:$V$200,$A105,'Bill of Materials'!$Y$16:$Y$200)),\"\")","v":""},"",{"$error":"#DIV/0!"},"",{"$f":"SUMIFS('Bill of Materials'!$I$16:$I$200,'Bill of Materials'!$V$16:$V$200,$A105,'Bill of Materials'!$W$16:$W$200,\"c\")/SUMIF('Bill of Materials'!$V$16:$V$200,$A105,'Bill of Materials'!$I$16:$I$200)","v":{"$error":"#DIV/0!"}},{"$f":"IFERROR((SUMIFS('Bill of Materials'!$Y$16:$Y$200,'Bill of Materials'!$V$16:$V$200,$A105,'Bill of Materials'!$W$16:$W$200,\"c\")/SUMIF('Bill of Materials'!$V$16:$V$200,$A105,'Bill of Materials'!$Y$16:$Y$200)),\"\")","v":""},"",{"$f":"(SUMIFS('Bill of Materials'!$I$16:$I$200,'Bill of Materials'!$V$16:$V$200,$A105,'Bill of Materials'!$W$16:$W$200,\"x\")+SUMIFS('Bill of Materials'!$I$16:$I$200,'Bill of Materials'!$V$16:$V$200,$A105,'Bill of Materials'!$W$16:$W$200,\"x - CMR or SVHC\"))/SUMIF('Bill of Materials'!$V$16:$V$200,$A105,'Bill of Materials'!$I$16:$I$200)","v":{"$error":"#DIV/0!"}},{"$f":"IFERROR(((SUMIFS('Bill of Materials'!$Y$16:$Y$200,'Bill of Materials'!$V$16:$V$200,$A105,'Bill of Materials'!$W$16:$W$200,\"x\")+SUMIFS('Bill of Materials'!$Y$16:$Y$200,'Bill of Materials'!$V$16:$V$200,$A105,'Bill of Materials'!$W$16:$W$200,\"x - CMR or SVHC\"))/SUMIF('Bill of Materials'!$V$16:$V$200,$A105,'Bill of Materials'!$Y$16:$Y$200)),\"\")","v":""},"",{"$error":"#DIV/0!"},"","",""]
[97,{"$f":"SUMIF('Bill of Materials'!$V$16:$V$200,A106,'Bill of Materials'!$J$16:$J$200)","v":{"v":0,"d":"0%"}},{"$error":"#DIV/0!"},{"$f":"SUMIFS('Bill of Materials'!$I$16:$I$200,'Bill of Materials'!$V$16:$V$200,A106,'Bill of Materials'!$W$16:$W$200,\"Grey\")/SUMIF('Bill of Materials'!$V$16:$V$200,A106,'Bill of Materials'!$I$16:$I$200)","v":{"$error":"#DIV/0!"}},{"$f":"IFERROR((SUMIFS('Bill of Materials'!$Y$16:$Y$200,'Bill of Materials'!$V$16:$V$200,A106,'Bill of Materials'!$W$16:$W$200,\"Grey\")/SUMIF('Bill of Materials'!$V$16:$V$200,A106,'Bill of Materials'!$Y$16:$Y$200)),\"\")","v":""},"",{"$f":"SUMIFS('Bill of Materials'!$I$16:$I$200,'Bill of Materials'!$V$16:$V$200,$A106,'Bill of Materials'!$W$16:$W$200,\"a\")/SUMIF('Bill of Materials'!$V$16:$V$200,$A106,'Bill of Materials'!$I$16:$I$200)","v":{"$error":"#DIV/0!"}},{"$f":"IFERROR((SUMIFS('Bill of Materials'!$Y$16:$Y$200,'Bill of Materials'!$V$16:$V$200,A106,'Bill of Materials'!$W$16:$W$200,\"a\")/SUMIF('Bill of Materials'!$V$16:$V$200,A106,'Bill of Materials'!$Y$16:$Y$200)),\"\")","v":""},"",{"$f":"SUMIFS('Bill of Materials'!$I$16:$I$200,'Bill of Materials'!$V$16:$V$200,$A106,'Bill of Materials'!$W$16:$W$200,\"b\")/SUMIF('Bill of Materials'!$V$16:$V$200,$A106,'Bill of Materials'!$I$16:$I$200)","v":{"$error":"#DIV/0!"}},{"$f":"IFERROR((SUMIFS('Bill of Materials'!$Y$16:$Y$200,'Bill of Materials'!$V$16:$V$200,$A106,'Bill of Materials'!$W$16:$W$200,\"b\")/SUMIF('Bill of Materials'!$V$16:$V$200,$A106,'Bill of Materials'!$Y$16:$Y$200)),\"\")","v":""},"",{"$error":"#DIV/0!"},"",{"$f":"SUMIFS('Bill of Materials'!$I$16:$I$200,'Bill of Materials'!$V$16:$V$200,$A106,'Bill of Materials'!$W$16:$W$200,\"c\")/SUMIF('Bill of Materials'!$V$16:$V$200,$A106,'Bill of Materials'!$I$16:$I$200)","v":{"$error":"#DIV/0!"}},{"$f":"IFERROR((SUMIFS('Bill of Materials'!$Y$16:$Y$200,'Bill of Materials'!$V$16:$V$200,$A106,'Bill of Materials'!$W$16:$W$200,\"c\")/SUMIF('Bill of Materials'!$V$16:$V$200,$A106,'Bill of Materials'!$Y$16:$Y$200)),\"\")","v":""},"",{"$f":"(SUMIFS('Bill of Materials'!$I$16:$I$200,'Bill of Materials'!$V$16:$V$200,$A106,'Bill of Materials'!$W$16:$W$200,\"x\")+SUMIFS('Bill of Materials'!$I$16:$I$200,'Bill of Materials'!$V$16:$V$200,$A106,'Bill of Materials'!$W$16:$W$200,\"x - CMR or SVHC\"))/SUMIF('Bill of Materials'!$V$16:$V$200,$A106,'Bill of Materials'!$I$16:$I$200)","v":{"$error":"#DIV/0!"}},{"$f":"IFERROR(((SUMIFS('Bill of Materials'!$Y$16:$Y$200,'Bill of Materials'!$V$16:$V$200,$A106,'Bill of Materials'!$W$16:$W$200,\"x\")+SUMIFS('Bill of Materials'!$Y$16:$Y$200,'Bill of Materials'!$V$16:$V$200,$A106,'Bill of Materials'!$W$16:$W$200,\"x - CMR or SVHC\"))/SUMIF('Bill of Materials'!$V$16:$V$200,$A106,'Bill of Materials'!$Y$16:$Y$200)),\"\")","v":""},"",{"$error":"#DIV/0!"},"","",""]
[98,{"$f":"SUMIF('Bill of Materials'!$V$16:$V$200,A107,'Bill of Materials'!$J$16:$J$200)","v":{"v":0,"d":"0%"}},{"$error":"#DIV/0!"},{"$f":"SUMIFS('Bill of Materials'!$I$16:$I$200,'Bill of Materials'!$V$16:$V$200,A107,'Bill of Materials'!$W$16:$W$200,\"Grey\")/SUMIF('Bill of Materials'!$V$16:$V$200,A107,'Bill of Materials'!$I$16:$I$200)","v":{"$error":"#DIV/0!"}},{"$f":"IFERROR((SUMIFS('Bill of Materials'!$Y$16:$Y$200,'Bill of Materials'!$V$16:$V$200,A107,'Bill of Materials'!$W$16:$W$200,\"Grey\")/SUMIF('Bill of Materials'!$V$16:$V$200,A107,'Bill of Materials'!$Y$16:$Y$200)),\"\")","v":""},"",{"$f":"SUMIFS('Bill of Materials'!$I$16:$I$200,'Bill of Materials'!$V$16:$V$200,$A107,'Bill of Materials'!$W$16:$W$200,\"a\")/SUMIF('Bill of Materials'!$V$16:$V$200,$A107,'Bill of Materials'!$I$16:$I$200)","v":{"$error":"#DIV/0!"}},{"$f":"IFERROR((SUMIFS('Bill of Materials'!$Y$16:$Y$200,'Bill of Materials'!$V$16:$V$200,A107,'Bill of Materials'!$W$16:$W$200,\"a\")/SUMIF('Bill of Materials'!$V$16:$V$200,A107,'Bill of Materials'!$Y$16:$Y$200)),\"\")","v":""},"",{"$f":"SUMIFS('Bill of Materials'!$I$16:$I$200,'Bill of Materials'!$V$16:$V$200,$A107,'Bill of Materials'!$W$16:$W$200,\"b\")/SUMIF('Bill of Materials'!$V$16:$V$200,$A107,'Bill of Materials'!$I$16:$I$200)","v":{"$error":"#DIV/0!"}},{"$f":"IFERROR((SUMIFS('Bill of Materials'!$Y$16:$Y$200,'Bill of Materials'!$V$16:$V$200,$A107,'Bill of Materials'!$W$16:$W$200,\"b\")/SUMIF('Bill of Materials'!$V$16:$V$200,$A107,'Bill of Materials'!$Y$16:$Y$200)),\"\")","v":""},"",{"$error":"#DIV/0!"},"",{"$f":"SUMIFS('Bill of Materials'!$I$16:$I$200,'Bill of Materials'!$V$16:$V$200,$A107,'Bill of Materials'!$W$16:$W$200,\"c\")/SUMIF('Bill of Materials'!$V$16:$V$200,$A107,'Bill of Materials'!$I$16:$I$200)","v":{"$error":"#DIV/0!"}},{"$f":"IFERROR((SUMIFS('Bill of Materials'!$Y$16:$Y$200,'Bill of Materials'!$V$16:$V$200,$A107,'Bill of Materials'!$W$16:$W$200,\"c\")/SUMIF('Bill of Materials'!$V$16:$V$200,$A107,'Bill of Materials'!$Y$16:$Y$200)),\"\")","v":""},"",{"$f":"(SUMIFS('Bill of Materials'!$I$16:$I$200,'Bill of Materials'!$V$16:$V$200,$A107,'Bill of Materials'!$W$16:$W$200,\"x\")+SUMIFS('Bill of Materials'!$I$16:$I$200,'Bill of Materials'!$V$16:$V$200,$A107,'Bill of Materials'!$W$16:$W$200,\"x - CMR or SVHC\"))/SUMIF('Bill of Materials'!$V$16:$V$200,$A107,'Bill of Materials'!$I$16:$I$200)","v":{"$error":"#DIV/0!"}},{"$f":"IFERROR(((SUMIFS('Bill of Materials'!$Y$16:$Y$200,'Bill of Materials'!$V$16:$V$200,$A107,'Bill of Materials'!$W$16:$W$200,\"x\")+SUMIFS('Bill of Materials'!$Y$16:$Y$200,'Bill of Materials'!$V$16:$V$200,$A107,'Bill of Materials'!$W$16:$W$200,\"x - CMR or SVHC\"))/SUMIF('Bill of Materials'!$V$16:$V$200,$A107,'Bill of Materials'!$Y$16:$Y$200)),\"\")","v":""},"",{"$error":"#DIV/0!"},"","",""]
[99,{"$f":"SUMIF('Bill of Materials'!$V$16:$V$200,A108,'Bill of Materials'!$J$16:$J$200)","v":{"v":0,"d":"0%"}},{"$error":"#DIV/0!"},{"$f":"SUMIFS('Bill of Materials'!$I$16:$I$200,'Bill of Materials'!$V$16:$V$200,A108,'Bill of Materials'!$W$16:$W$200,\"Grey\")/SUMIF('Bill of Materials'!$V$16:$V$200,A108,'Bill of Materials'!$I$16:$I$200)","v":{"$error":"#DIV/0!"}},{"$f":"IFERROR((SUMIFS('Bill of Materials'!$Y$16:$Y$200,'Bill of Materials'!$V$16:$V$200,A108,'Bill of Materials'!$W$16:$W$200,\"Grey\")/SUMIF('Bill of Materials'!$V$16:$V$200,A108,'Bill of Materials'!$Y$16:$Y$200)),\"\")","v":""},"",{"$f":"SUMIFS('Bill of Materials'!$I$16:$I$200,'Bill of Materials'!$V$16:$V$200,$A108,'Bill of Materials'!$W$16:$W$200,\"a\")/SUMIF('Bill of Materials'!$V$16:$V$200,$A108,'Bill of Materials'!$I$16:$I$200)","v":{"$error":"#DIV/0!"}},{"$f":"IFERROR((SUMIFS('Bill of Materials'!$Y$16:$Y$200,'Bill of Materials'!$V$16:$V$200,A108,'Bill of Materials'!$W$16:$W$200,\"a\")/SUMIF('Bill of Materials'!$V$16:$V$200,A108,'Bill of Materials'!$Y$16:$Y$200)),\"\")","v":""},"",{"$f":"SUMIFS('Bill of Materials'!$I$16:$I$200,'Bill of Materials'!$V$16:$V$200,$A108,'Bill of Materials'!$W$16:$W$200,\"b\")/SUMIF('Bill of Materials'!$V$16:$V$200,$A108,'Bill of Materials'!$I$16:$I$200)","v":{"$error":"#DIV/0!"}},{"$f":"IFERROR((SUMIFS('Bill of Materials'!$Y$16:$Y$200,'Bill of Materials'!$V$16:$V$200,$A108,'Bill of Materials'!$W$16:$W$200,\"b\")/SUMIF('Bill of Materials'!$V$16:$V$200,$A108,'Bill of Materials'!$Y$16:$Y$200)),\"\")","v":""},"",{"$error":"#DIV/0!"},"",{"$f":"SUMIFS('Bill of Materials'!$I$16:$I$200,'Bill of Materials'!$V$16:$V$200,$A108,'Bill of Materials'!$W$16:$W$200,\"c\")/SUMIF('Bill of Materials'!$V$16:$V$200,$A108,'Bill of Materials'!$I$16:$I$200)","v":{"$error":"#DIV/0!"}},{"$f":"IFERROR((SUMIFS('Bill of Materials'!$Y$16:$Y$200,'Bill of Materials'!$V$16:$V$200,$A108,'Bill of Materials'!$W$16:$W$200,\"c\")/SUMIF('Bill of Materials'!$V$16:$V$200,$A108,'Bill of Materials'!$Y$16:$Y$200)),\"\")","v":""},"",{"$f":"(SUMIFS('Bill of Materials'!$I$16:$I$200,'Bill of Materials'!$V$16:$V$200,$A108,'Bill of Materials'!$W$16:$W$200,\"x\")+SUMIFS('Bill of Materials'!$I$16:$I$200,'Bill of Materials'!$V$16:$V$200,$A108,'Bill of Materials'!$W$16:$W$200,\"x - CMR or SVHC\"))/SUMIF('Bill of Materials'!$V$16:$V$200,$A108,'Bill of Materials'!$I$16:$I$200)","v":{"$error":"#DIV/0!"}},{"$f":"IFERROR(((SUMIFS('Bill of Materials'!$Y$16:$Y$200,'Bill of Materials'!$V$16:$V$200,$A108,'Bill of Materials'!$W$16:$W$200,\"x\")+SUMIFS('Bill of Materials'!$Y$16:$Y$200,'Bill of Materials'!$V$16:$V$200,$A108,'Bill of Materials'!$W$16:$W$200,\"x - CMR or SVHC\"))/SUMIF('Bill of Materials'!$V$16:$V$200,$A108,'Bill of Materials'!$Y$16:$Y$200)),\"\")","v":""},"",{"$error":"#DIV/0!"},"","",""]
[100,{"$f":"SUMIF('Bill of Materials'!$V$16:$V$200,A109,'Bill of Materials'!$J$16:$J$200)","v":{"v":0,"d":"0%"}},{"$error":"#DIV/0!"},{"$f":"SUMIFS('Bill of Materials'!$I$16:$I$200,'Bill of Materials'!$V$16:$V$200,A109,'Bill of Materials'!$W$16:$W$200,\"Grey\")/SUMIF('Bill of Materials'!$V$16:$V$200,A109,'Bill of Materials'!$I$16:$I$200)","v":{"$error":"#DIV/0!"}},{"$f":"IFERROR((SUMIFS('Bill of Materials'!$Y$16:$Y$200,'Bill of Materials'!$V$16:$V$200,A109,'Bill of Materials'!$W$16:$W$200,\"Grey\")/SUMIF('Bill of Materials'!$V$16:$V$200,A109,'Bill of Materials'!$Y$16:$Y$200)),\"\")","v":""},"",{"$f":"SUMIFS('Bill of Materials'!$I$16:$I$200,'Bill of Materials'!$V$16:$V$200,$A109,'Bill of Materials'!$W$16:$W$200,\"a\")/SUMIF('Bill of Materials'!$V$16:$V$200,$A109,'Bill of Materials'!$I$16:$I$200)","v":{"$error":"#DIV/0!"}},{"$f":"IFERROR((SUMIFS('Bill of Materials'!$Y$16:$Y$200,'Bill of Materials'!$V$16:$V$200,A109,'Bill of Materials'!$W$16:$W$200,\"a\")/SUMIF('Bill of Materials'!$V$16:$V$200,A109,'Bill of Materials'!$Y$16:$Y$200)),\"\")","v":""},"",{"$f":"SUMIFS('Bill of Materials'!$I$16:$I$200,'Bill of Materials'!$V$16:$V$200,$A109,'Bill of Materials'!$W$16:$W$200,\"b\")/SUMIF('Bill of Materials'!$V$16:$V$200,$A109,'Bill of Materials'!$I$16:$I$200)","v":{"$error":"#DIV/0!"}},{"$f":"IFERROR((SUMIFS('Bill of Materials'!$Y$16:$Y$200,'Bill of Materials'!$V$16:$V$200,$A109,'Bill of Materials'!$W$16:$W$200,\"b\")/SUMIF('Bill of Materials'!$V$16:$V$200,$A109,'Bill of Materials'!$Y$16:$Y$200)),\"\")","v":""},"",{"$error":"#DIV/0!"},"",{"$f":"SUMIFS('Bill of Materials'!$I$16:$I$200,'Bill of Materials'!$V$16:$V$200,$A109,'Bill of Materials'!$W$16:$W$200,\"c\")/SUMIF('Bill of Materials'!$V$16:$V$200,$A109,'Bill of Materials'!$I$16:$I$200)","v":{"$error":"#DIV/0!"}},{"$f":"IFERROR((SUMIFS('Bill of Materials'!$Y$16:$Y$200,'Bill of Materials'!$V$16:$V$200,$A109,'Bill of Materials'!$W$16:$W$200,\"c\")/SUMIF('Bill of Materials'!$V$16:$V$200,$A109,'Bill of Materials'!$Y$16:$Y$200)),\"\")","v":""},"",{"$f":"(SUMIFS('Bill of Materials'!$I$16:$I$200,'Bill of Materials'!$V$16:$V$200,$A109,'Bill of Materials'!$W$16:$W$200,\"x\")+SUMIFS('Bill of Materials'!$I$16:$I$200,'Bill of Materials'!$V$16:$V$200,$A109,'Bill of Materials'!$W$16:$W$200,\"x - CMR or SVHC\"))/SUMIF('Bill of Materials'!$V$16:$V$200,$A109,'Bill of Materials'!$I$16:$I$200)","v":{"$error":"#DIV/0!"}},{"$f":"IFERROR(((SUMIFS('Bill of Materials'!$Y$16:$Y$200,'Bill of Materials'!$V$16:$V$200,$A109,'Bill of Materials'!$W$16:$W$200,\"x\")+SUMIFS('Bill of Materials'!$Y$16:$Y$200,'Bill of Materials'!$V$16:$V$200,$A109,'Bill of Materials'!$W$16:$W$200,\"x - CMR or SVHC\"))/SUMIF('Bill of Materials'!$V$16:$V$200,$A109,'Bill of Materials'!$Y$16:$Y$200)),\"\")","v":""},"",{"$error":"#DIV/0!"},"","",""]
[101,{"$f":"SUMIF('Bill of Materials'!$V$16:$V$200,A110,'Bill of Materials'!$J$16:$J$200)","v":{"v":0,"d":"0%"}},{"$error":"#DIV/0!"},{"$f":"SUMIFS('Bill of Materials'!$I$16:$I$200,'Bill of Materials'!$V$16:$V$200,A110,'Bill of Materials'!$W$16:$W$200,\"Grey\")/SUMIF('Bill of Materials'!$V$16:$V$200,A110,'Bill of Materials'!$I$16:$I$200)","v":{"$error":"#DIV/0!"}},{"$f":"IFERROR((SUMIFS('Bill of Materials'!$Y$16:$Y$200,'Bill of Materials'!$V$16:$V$200,A110,'Bill of Materials'!$W$16:$W$200,\"Grey\")/SUMIF('Bill of Materials'!$V$16:$V$200,A110,'Bill of Materials'!$Y$16:$Y$200)),\"\")","v":""},"",{"$f":"SUMIFS('Bill of Materials'!$I$16:$I$200,'Bill of Materials'!$V$16:$V$200,$A110,'Bill of Materials'!$W$16:$W$200,\"a\")/SUMIF('Bill of Materials'!$V$16:$V$200,$A110,'Bill of Materials'!$I$16:$I$200)","v":{"$error":"#DIV/0!"}},{"$f":"IFERROR((SUMIFS('Bill of Materials'!$Y$16:$Y$200,'Bill of Materials'!$V$16:$V$200,A110,'Bill of Materials'!$W$16:$W$200,\"a\")/SUMIF('Bill of Materials'!$V$16:$V$200,A110,'Bill of Materials'!$Y$16:$Y$200)),\"\")","v":""},"",{"$f":"SUMIFS('Bill of Materials'!$I$16:$I$200,'Bill of Materials'!$V$16:$V$200,$A110,'Bill of Materials'!$W$16:$W$200,\"b\")/SUMIF('Bill of Materials'!$V$16:$V$200,$A110,'Bill of Materials'!$I$16:$I$200)","v":{"$error":"#DIV/0!"}},{"$f":"IFERROR((SUMIFS('Bill of Materials'!$Y$16:$Y$200,'Bill of Materials'!$V$16:$V$200,$A110,'Bill of Materials'!$W$16:$W$200,\"b\")/SUMIF('Bill of Materials'!$V$16:$V$200,$A110,'Bill of Materials'!$Y$16:$Y$200)),\"\")","v":""},"",{"$error":"#DIV/0!"},"",{"$f":"SUMIFS('Bill of Materials'!$I$16:$I$200,'Bill of Materials'!$V$16:$V$200,$A110,'Bill of Materials'!$W$16:$W$200,\"c\")/SUMIF('Bill of Materials'!$V$16:$V$200,$A110,'Bill of Materials'!$I$16:$I$200)","v":{"$error":"#DIV/0!"}},{"$f":"IFERROR((SUMIFS('Bill of Materials'!$Y$16:$Y$200,'Bill of Materials'!$V$16:$V$200,$A110,'Bill of Materials'!$W$16:$W$200,\"c\")/SUMIF('Bill of Materials'!$V$16:$V$200,$A110,'Bill of Materials'!$Y$16:$Y$200)),\"\")","v":""},"",{"$f":"(SUMIFS('Bill of Materials'!$I$16:$I$200,'Bill of Materials'!$V$16:$V$200,$A110,'Bill of Materials'!$W$16:$W$200,\"x\")+SUMIFS('Bill of Materials'!$I$16:$I$200,'Bill of Materials'!$V$16:$V$200,$A110,'Bill of Materials'!$W$16:$W$200,\"x - CMR or SVHC\"))/SUMIF('Bill of Materials'!$V$16:$V$200,$A110,'Bill of Materials'!$I$16:$I$200)","v":{"$error":"#DIV/0!"}},{"$f":"IFERROR(((SUMIFS('Bill of Materials'!$Y$16:$Y$200,'Bill of Materials'!$V$16:$V$200,$A110,'Bill of Materials'!$W$16:$W$200,\"x\")+SUMIFS('Bill of Materials'!$Y$16:$Y$200,'Bill of Materials'!$V$16:$V$200,$A110,'Bill of Materials'!$W$16:$W$200,\"x - CMR or SVHC\"))/SUMIF('Bill of Materials'!$V$16:$V$200,$A110,'Bill of Materials'!$Y$16:$Y$200)),\"\")","v":""},"",{"$error":"#DIV/0!"},"","",""]
[102,{"$f":"SUMIF('Bill of Materials'!$V$16:$V$200,A111,'Bill of Materials'!$J$16:$J$200)","v":{"v":0,"d":"0%"}},{"$error":"#DIV/0!"},{"$f":"SUMIFS('Bill of Materials'!$I$16:$I$200,'Bill of Materials'!$V$16:$V$200,A111,'Bill of Materials'!$W$16:$W$200,\"Grey\")/SUMIF('Bill of Materials'!$V$16:$V$200,A111,'Bill of Materials'!$I$16:$I$200)","v":{"$error":"#DIV/0!"}},{"$f":"IFERROR((SUMIFS('Bill of Materials'!$Y$16:$Y$200,'Bill of Materials'!$V$16:$V$200,A111,'Bill of Materials'!$W$16:$W$200,\"Grey\")/SUMIF('Bill of Materials'!$V$16:$V$200,A111,'Bill of Materials'!$Y$16:$Y$200)),\"\")","v":""},"",{"$f":"SUMIFS('Bill of Materials'!$I$16:$I$200,'Bill of Materials'!$V$16:$V$200,$A111,'Bill of Materials'!$W$16:$W$200,\"a\")/SUMIF('Bill of Materials'!$V$16:$V$200,$A111,'Bill of Materials'!$I$16:$I$200)","v":{"$error":"#DIV/0!"}},{"$f":"IFERROR((SUMIFS('Bill of Materials'!$Y$16:$Y$200,'Bill of Materials'!$V$16:$V$200,A111,'Bill of Materials'!$W$16:$W$200,\"a\")/SUMIF('Bill of Materials'!$V$16:$V$200,A111,'Bill of Materials'!$Y$16:$Y$200)),\"\")","v":""},"",{"$f":"SUMIFS('Bill of Materials'!$I$16:$I$200,'Bill of Materials'!$V$16:$V$200,$A111,'Bill of Materials'!$W$16:$W$200,\"b\")/SUMIF('Bill of Materials'!$V$16:$V$200,$A111,'Bill of Materials'!$I$16:$I$200)","v":{"$error":"#DIV/0!"}},{"$f":"IFERROR((SUMIFS('Bill of Materials'!$Y$16:$Y$200,'Bill of Materials'!$V$16:$V$200,$A111,'Bill of Materials'!$W$16:$W$200,\"b\")/SUMIF('Bill of Materials'!$V$16:$V$200,$A111,'Bill of Materials'!$Y$16:$Y$200)),\"\")","v":""},"",{"$error":"#DIV/0!"},"",{"$f":"SUMIFS('Bill of Materials'!$I$16:$I$200,'Bill of Materials'!$V$16:$V$200,$A111,'Bill of Materials'!$W$16:$W$200,\"c\")/SUMIF('Bill of Materials'!$V$16:$V$200,$A111,'Bill of Materials'!$I$16:$I$200)","v":{"$error":"#DIV/0!"}},{"$f":"IFERROR((SUMIFS('Bill of Materials'!$Y$16:$Y$200,'Bill of Materials'!$V$16:$V$200,$A111,'Bill of Materials'!$W$16:$W$200,\"c\")/SUMIF('Bill of Materials'!$V$16:$V$200,$A111,'Bill of Materials'!$Y$16:$Y$200)),\"\")","v":""},"",{"$f":"(SUMIFS('Bill of Materials'!$I$16:$I$200,'Bill of Materials'!$V$16:$V$200,$A111,'Bill of Materials'!$W$16:$W$200,\"x\")+SUMIFS('Bill of Materials'!$I$16:$I$200,'Bill of Materials'!$V$16:$V$200,$A111,'Bill of Materials'!$W$16:$W$200,\"x - CMR or SVHC\"))/SUMIF('Bill of Materials'!$V$16:$V$200,$A111,'Bill of Materials'!$I$16:$I$200)","v":{"$error":"#DIV/0!"}},{"$f":"IFERROR(((SUMIFS('Bill of Materials'!$Y$16:$Y$200,'Bill of Materials'!$V$16:$V$200,$A111,'Bill of Materials'!$W$16:$W$200,\"x\")+SUMIFS('Bill of Materials'!$Y$16:$Y$200,'Bill of Materials'!$V$16:$V$200,$A111,'Bill of Materials'!$W$16:$W$200,\"x - CMR or SVHC\"))/SUMIF('Bill of Materials'!$V$16:$V$200,$A111,'Bill of Materials'!$Y$16:$Y$200)),\"\")","v":""},"",{"$error":"#DIV/0!"},"","",""]
[103,{"$f":"SUMIF('Bill of Materials'!$V$16:$V$200,A112,'Bill of Materials'!$J$16:$J$200)","v":{"v":0,"d":"0%"}},{"$error":"#DIV/0!"},{"$f":"SUMIFS('Bill of Materials'!$I$16:$I$200,'Bill of Materials'!$V$16:$V$200,A112,'Bill of Materials'!$W$16:$W$200,\"Grey\")/SUMIF('Bill of Materials'!$V$16:$V$200,A112,'Bill of Materials'!$I$16:$I$200)","v":{"$error":"#DIV/0!"}},{"$f":"IFERROR((SUMIFS('Bill of Materials'!$Y$16:$Y$200,'Bill of Materials'!$V$16:$V$200,A112,'Bill of Materials'!$W$16:$W$200,\"Grey\")/SUMIF('Bill of Materials'!$V$16:$V$200,A112,'Bill of Materials'!$Y$16:$Y$200)),\"\")","v":""},"",{"$f":"SUMIFS('Bill of Materials'!$I$16:$I$200,'Bill of Materials'!$V$16:$V$200,$A112,'Bill of Materials'!$W$16:$W$200,\"a\")/SUMIF('Bill of Materials'!$V$16:$V$200,$A112,'Bill of Materials'!$I$16:$I$200)","v":{"$error":"#DIV/0!"}},{"$f":"IFERROR((SUMIFS('Bill of Materials'!$Y$16:$Y$200,'Bill of Materials'!$V$16:$V$200,A112,'Bill of Materials'!$W$16:$W$200,\"a\")/SUMIF('Bill of Materials'!$V$16:$V$200,A112,'Bill of Materials'!$Y$16:$Y$200)),\"\")","v":""},"",{"$f":"SUMIFS('Bill of Materials'!$I$16:$I$200,'Bill of Materials'!$V$16:$V$200,$A112,'Bill of Materials'!$W$16:$W$200,\"b\")/SUMIF('Bill of Materials'!$V$16:$V$200,$A112,'Bill of Materials'!$I$16:$I$200)","v":{"$error":"#DIV/0!"}},{"$f":"IFERROR((SUMIFS('Bill of Materials'!$Y$16:$Y$200,'Bill of Materials'!$V$16:$V$200,$A112,'Bill of Materials'!$W$16:$W$200,\"b\")/SUMIF('Bill of Materials'!$V$16:$V$200,$A112,'Bill of Materials'!$Y$16:$Y$200)),\"\")","v":""},"",{"$error":"#DIV/0!"},"",{"$f":"SUMIFS('Bill of Materials'!$I$16:$I$200,'Bill of Materials'!$V$16:$V$200,$A112,'Bill of Materials'!$W$16:$W$200,\"c\")/SUMIF('Bill of Materials'!$V$16:$V$200,$A112,'Bill of Materials'!$I$16:$I$200)","v":{"$error":"#DIV/0!"}},{"$f":"IFERROR((SUMIFS('Bill of Materials'!$Y$16:$Y$200,'Bill of Materials'!$V$16:$V$200,$A112,'Bill of Materials'!$W$16:$W$200,\"c\")/SUMIF('Bill of Materials'!$V$16:$V$200,$A112,'Bill of Materials'!$Y$16:$Y$200)),\"\")","v":""},"",{"$f":"(SUMIFS('Bill of Materials'!$I$16:$I$200,'Bill of Materials'!$V$16:$V$200,$A112,'Bill of Materials'!$W$16:$W$200,\"x\")+SUMIFS('Bill of Materials'!$I$16:$I$200,'Bill of Materials'!$V$16:$V$200,$A112,'Bill of Materials'!$W$16:$W$200,\"x - CMR or SVHC\"))/SUMIF('Bill of Materials'!$V$16:$V$200,$A112,'Bill of Materials'!$I$16:$I$200)","v":{"$error":"#DIV/0!"}},{"$f":"IFERROR(((SUMIFS('Bill of Materials'!$Y$16:$Y$200,'Bill of Materials'!$V$16:$V$200,$A112,'Bill of Materials'!$W$16:$W$200,\"x\")+SUMIFS('Bill of Materials'!$Y$16:$Y$200,'Bill of Materials'!$V$16:$V$200,$A112,'Bill of Materials'!$W$16:$W$200,\"x - CMR or SVHC\"))/SUMIF('Bill of Materials'!$V$16:$V$200,$A112,'Bill of Materials'!$Y$16:$Y$200)),\"\")","v":""},"",{"$error":"#DIV/0!"},"","",""]
[104,{"$f":"SUMIF('Bill of Materials'!$V$16:$V$200,A113,'Bill of Materials'!$J$16:$J$200)","v":{"v":0,"d":"0%"}},{"$error":"#DIV/0!"},{"$f":"SUMIFS('Bill of Materials'!$I$16:$I$200,'Bill of Materials'!$V$16:$V$200,A113,'Bill of Materials'!$W$16:$W$200,\"Grey\")/SUMIF('Bill of Materials'!$V$16:$V$200,A113,'Bill of Materials'!$I$16:$I$200)","v":{"$error":"#DIV/0!"}},{"$f":"IFERROR((SUMIFS('Bill of Materials'!$Y$16:$Y$200,'Bill of Materials'!$V$16:$V$200,A113,'Bill of Materials'!$W$16:$W$200,\"Grey\")/SUMIF('Bill of Materials'!$V$16:$V$200,A113,'Bill of Materials'!$Y$16:$Y$200)),\"\")","v":""},"",{"$f":"SUMIFS('Bill of Materials'!$I$16:$I$200,'Bill of Materials'!$V$16:$V$200,$A113,'Bill of Materials'!$W$16:$W$200,\"a\")/SUMIF('Bill of Materials'!$V$16:$V$200,$A113,'Bill of Materials'!$I$16:$I$200)","v":{"$error":"#DIV/0!"}},{"$f":"IFERROR((SUMIFS('Bill of Materials'!$Y$16:$Y$200,'Bill of Materials'!$V$16:$V$200,A113,'Bill of Materials'!$W$16:$W$200,\"a\")/SUMIF('Bill of Materials'!$V$16:$V$200,A113,'Bill of Materials'!$Y$16:$Y$200)),\"\")","v":""},"",{"$f":"SUMIFS('Bill of Materials'!$I$16:$I$200,'Bill of Materials'!$V$16:$V$200,$A113,'Bill of Materials'!$W$16:$W$200,\"b\")/SUMIF('Bill of Materials'!$V$16:$V$200,$A113,'Bill of Materials'!$I$16:$I$200)","v":{"$error":"#DIV/0!"}},{"$f":"IFERROR((SUMIFS('Bill of Materials'!$Y$16:$Y$200,'Bill of Materials'!$V$16:$V$200,$A113,'Bill of Materials'!$W$16:$W$200,\"b\")/SUMIF('Bill of Materials'!$V$16:$V$200,$A113,'Bill of Materials'!$Y$16:$Y$200)),\"\")","v":""},"",{"$error":"#DIV/0!"},"",{"$f":"SUMIFS('Bill of Materials'!$I$16:$I$200,'Bill of Materials'!$V$16:$V$200,$A113,'Bill of Materials'!$W$16:$W$200,\"c\")/SUMIF('Bill of Materials'!$V$16:$V$200,$A113,'Bill of Materials'!$I$16:$I$200)","v":{"$error":"#DIV/0!"}},{"$f":"IFERROR((SUMIFS('Bill of Materials'!$Y$16:$Y$200,'Bill of Materials'!$V$16:$V$200,$A113,'Bill of Materials'!$W$16:$W$200,\"c\")/SUMIF('Bill of Materials'!$V$16:$V$200,$A113,'Bill of Materials'!$Y$16:$Y$200)),\"\")","v":""},"",{"$f":"(SUMIFS('Bill of Materials'!$I$16:$I$200,'Bill of Materials'!$V$16:$V$200,$A113,'Bill of Materials'!$W$16:$W$200,\"x\")+SUMIFS('Bill of Materials'!$I$16:$I$200,'Bill of Materials'!$V$16:$V$200,$A113,'Bill of Materials'!$W$16:$W$200,\"x - CMR or SVHC\"))/SUMIF('Bill of Materials'!$V$16:$V$200,$A113,'Bill of Materials'!$I$16:$I$200)","v":{"$error":"#DIV/0!"}},{"$f":"IFERROR(((SUMIFS('Bill of Materials'!$Y$16:$Y$200,'Bill of Materials'!$V$16:$V$200,$A113,'Bill of Materials'!$W$16:$W$200,\"x\")+SUMIFS('Bill of Materials'!$Y$16:$Y$200,'Bill of Materials'!$V$16:$V$200,$A113,'Bill of Materials'!$W$16:$W$200,\"x - CMR or SVHC\"))/SUMIF('Bill of Materials'!$V$16:$V$200,$A113,'Bill of Materials'!$Y$16:$Y$200)),\"\")","v":""},"",{"$error":"#DIV/0!"},"","",""]
[105,{"$f":"SUMIF('Bill of Materials'!$V$16:$V$200,A114,'Bill of Materials'!$J$16:$J$200)","v":{"v":0,"d":"0%"}},{"$error":"#DIV/0!"},{"$f":"SUMIFS('Bill of Materials'!$I$16:$I$200,'Bill of Materials'!$V$16:$V$200,A114,'Bill of Materials'!$W$16:$W$200,\"Grey\")/SUMIF('Bill of Materials'!$V$16:$V$200,A114,'Bill of Materials'!$I$16:$I$200)","v":{"$error":"#DIV/0!"}},{"$f":"IFERROR((SUMIFS('Bill of Materials'!$Y$16:$Y$200,'Bill of Materials'!$V$16:$V$200,A114,'Bill of Materials'!$W$16:$W$200,\"Grey\")/SUMIF('Bill of Materials'!$V$16:$V$200,A114,'Bill of Materials'!$Y$16:$Y$200)),\"\")","v":""},"",{"$f":"SUMIFS('Bill of Materials'!$I$16:$I$200,'Bill of Materials'!$V$16:$V$200,$A114,'Bill of Materials'!$W$16:$W$200,\"a\")/SUMIF('Bill of Materials'!$V$16:$V$200,$A114,'Bill of Materials'!$I$16:$I$200)","v":{"$error":"#DIV/0!"}},{"$f":"IFERROR((SUMIFS('Bill of Materials'!$Y$16:$Y$200,'Bill of Materials'!$V$16:$V$200,A114,'Bill of Materials'!$W$16:$W$200,\"a\")/SUMIF('Bill of Materials'!$V$16:$V$200,A114,'Bill of Materials'!$Y$16:$Y$200)),\"\")","v":""},"",{"$f":"SUMIFS('Bill of Materials'!$I$16:$I$200,'Bill of Materials'!$V$16:$V$200,$A114,'Bill of Materials'!$W$16:$W$200,\"b\")/SUMIF('Bill of Materials'!$V$16:$V$200,$A114,'Bill of Materials'!$I$16:$I$200)","v":{"$error":"#DIV/0!"}},{"$f":"IFERROR((SUMIFS('Bill of Materials'!$Y$16:$Y$200,'Bill of Materials'!$V$16:$V$200,$A114,'Bill of Materials'!$W$16:$W$200,\"b\")/SUMIF('Bill of Materials'!$V$16:$V$200,$A114,'Bill of Materials'!$Y$16:$Y$200)),\"\")","v":""},"",{"$error":"#DIV/0!"},"",{"$f":"SUMIFS('Bill of Materials'!$I$16:$I$200,'Bill of Materials'!$V$16:$V$200,$A114,'Bill of Materials'!$W$16:$W$200,\"c\")/SUMIF('Bill of Materials'!$V$16:$V$200,$A114,'Bill of Materials'!$I$16:$I$200)","v":{"$error":"#DIV/0!"}},{"$f":"IFERROR((SUMIFS('Bill of Materials'!$Y$16:$Y$200,'Bill of Materials'!$V$16:$V$200,$A114,'Bill of Materials'!$W$16:$W$200,\"c\")/SUMIF('Bill of Materials'!$V$16:$V$200,$A114,'Bill of Materials'!$Y$16:$Y$200)),\"\")","v":""},"",{"$f":"(SUMIFS('Bill of Materials'!$I$16:$I$200,'Bill of Materials'!$V$16:$V$200,$A114,'Bill of Materials'!$W$16:$W$200,\"x\")+SUMIFS('Bill of Materials'!$I$16:$I$200,'Bill of Materials'!$V$16:$V$200,$A114,'Bill of Materials'!$W$16:$W$200,\"x - CMR or SVHC\"))/SUMIF('Bill of Materials'!$V$16:$V$200,$A114,'Bill of Materials'!$I$16:$I$200)","v":{"$error":"#DIV/0!"}},{"$f":"IFERROR(((SUMIFS('Bill of Materials'!$Y$16:$Y$200,'Bill of Materials'!$V$16:$V$200,$A114,'Bill of Materials'!$W$16:$W$200,\"x\")+SUMIFS('Bill of Materials'!$Y$16:$Y$200,'Bill of Materials'!$V$16:$V$200,$A114,'Bill of Materials'!$W$16:$W$200,\"x - CMR or SVHC\"))/SUMIF('Bill of Materials'!$V$16:$V$200,$A114,'Bill of Materials'!$Y$16:$Y$200)),\"\")","v":""},"",{"$error":"#DIV/0!"},"","",""]
[106,{"$f":"SUMIF('Bill of Materials'!$V$16:$V$200,A115,'Bill of Materials'!$J$16:$J$200)","v":{"v":0,"d":"0%"}},{"$error":"#DIV/0!"},{"$f":"SUMIFS('Bill of Materials'!$I$16:$I$200,'Bill of Materials'!$V$16:$V$200,A115,'Bill of Materials'!$W$16:$W$200,\"Grey\")/SUMIF('Bill of Materials'!$V$16:$V$200,A115,'Bill of Materials'!$I$16:$I$200)","v":{"$error":"#DIV/0!"}},{"$f":"IFERROR((SUMIFS('Bill of Materials'!$Y$16:$Y$200,'Bill of Materials'!$V$16:$V$200,A115,'Bill of Materials'!$W$16:$W$200,\"Grey\")/SUMIF('Bill of Materials'!$V$16:$V$200,A115,'Bill of Materials'!$Y$16:$Y$200)),\"\")","v":""},"",{"$f":"SUMIFS('Bill of Materials'!$I$16:$I$200,'Bill of Materials'!$V$16:$V$200,$A115,'Bill of Materials'!$W$16:$W$200,\"a\")/SUMIF('Bill of Materials'!$V$16:$V$200,$A115,'Bill of Materials'!$I$16:$I$200)","v":{"$error":"#DIV/0!"}},{"$f":"IFERROR((SUMIFS('Bill of Materials'!$Y$16:$Y$200,'Bill of Materials'!$V$16:$V$200,A115,'Bill of Materials'!$W$16:$W$200,\"a\")/SUMIF('Bill of Materials'!$V$16:$V$200,A115,'Bill of Materials'!$Y$16:$Y$200)),\"\")","v":""},"",{"$f":"SUMIFS('Bill of Materials'!$I$16:$I$200,'Bill of Materials'!$V$16:$V$200,$A115,'Bill of Materials'!$W$16:$W$200,\"b\")/SUMIF('Bill of Materials'!$V$16:$V$200,$A115,'Bill of Materials'!$I$16:$I$200)","v":{"$error":"#DIV/0!"}},{"$f":"IFERROR((SUMIFS('Bill of Materials'!$Y$16:$Y$200,'Bill of Materials'!$V$16:$V$200,$A115,'Bill of Materials'!$W$16:$W$200,\"b\")/SUMIF('Bill of Materials'!$V$16:$V$200,$A115,'Bill of Materials'!$Y$16:$Y$200)),\"\")","v":""},"",{"$error":"#DIV/0!"},"",{"$f":"SUMIFS('Bill of Materials'!$I$16:$I$200,'Bill of Materials'!$V$16:$V$200,$A115,'Bill of Materials'!$W$16:$W$200,\"c\")/SUMIF('Bill of Materials'!$V$16:$V$200,$A115,'Bill of Materials'!$I$16:$I$200)","v":{"$error":"#DIV/0!"}},{"$f":"IFERROR((SUMIFS('Bill of Materials'!$Y$16:$Y$200,'Bill of Materials'!$V$16:$V$200,$A115,'Bill of Materials'!$W$16:$W$200,\"c\")/SUMIF('Bill of Materials'!$V$16:$V$200,$A115,'Bill of Materials'!$Y$16:$Y$200)),\"\")","v":""},"",{"$f":"(SUMIFS('Bill of Materials'!$I$16:$I$200,'Bill of Materials'!$V$16:$V$200,$A115,'Bill of Materials'!$W$16:$W$200,\"x\")+SUMIFS('Bill of Materials'!$I$16:$I$200,'Bill of Materials'!$V$16:$V$200,$A115,'Bill of Materials'!$W$16:$W$200,\"x - CMR or SVHC\"))/SUMIF('Bill of Materials'!$V$16:$V$200,$A115,'Bill of Materials'!$I$16:$I$200)","v":{"$error":"#DIV/0!"}},{"$f":"IFERROR(((SUMIFS('Bill of Materials'!$Y$16:$Y$200,'Bill of Materials'!$V$16:$V$200,$A115,'Bill of Materials'!$W$16:$W$200,\"x\")+SUMIFS('Bill of Materials'!$Y$16:$Y$200,'Bill of Materials'!$V$16:$V$200,$A115,'Bill of Materials'!$W$16:$W$200,\"x - CMR or SVHC\"))/SUMIF('Bill of Materials'!$V$16:$V$200,$A115,'Bill of Materials'!$Y$16:$Y$200)),\"\")","v":""},"",{"$error":"#DIV/0!"},"","",""]
[107,{"$f":"SUMIF('Bill of Materials'!$V$16:$V$200,A116,'Bill of Materials'!$J$16:$J$200)","v":{"v":0,"d":"0%"}},{"$error":"#DIV/0!"},{"$f":"SUMIFS('Bill of Materials'!$I$16:$I$200,'Bill of Materials'!$V$16:$V$200,A116,'Bill of Materials'!$W$16:$W$200,\"Grey\")/SUMIF('Bill of Materials'!$V$16:$V$200,A116,'Bill of Materials'!$I$16:$I$200)","v":{"$error":"#DIV/0!"}},{"$f":"IFERROR((SUMIFS('Bill of Materials'!$Y$16:$Y$200,'Bill of Materials'!$V$16:$V$200,A116,'Bill of Materials'!$W$16:$W$200,\"Grey\")/SUMIF('Bill of Materials'!$V$16:$V$200,A116,'Bill of Materials'!$Y$16:$Y$200)),\"\")","v":""},"",{"$f":"SUMIFS('Bill of Materials'!$I$16:$I$200,'Bill of Materials'!$V$16:$V$200,$A116,'Bill of Materials'!$W$16:$W$200,\"a\")/SUMIF('Bill of Materials'!$V$16:$V$200,$A116,'Bill of Materials'!$I$16:$I$200)","v":{"$error":"#DIV/0!"}},{"$f":"IFERROR((SUMIFS('Bill of Materials'!$Y$16:$Y$200,'Bill of Materials'!$V$16:$V$200,A116,'Bill of Materials'!$W$16:$W$200,\"a\")/SUMIF('Bill of Materials'!$V$16:$V$200,A116,'Bill of Materials'!$Y$16:$Y$200)),\"\")","v":""},"",{"$f":"SUMIFS('Bill of Materials'!$I$16:$I$200,'Bill of Materials'!$V$16:$V$200,$A116,'Bill of Materials'!$W$16:$W$200,\"b\")/SUMIF('Bill of Materials'!$V$16:$V$200,$A116,'Bill of Materials'!$I$16:$I$200)","v":{"$error":"#DIV/0!"}},{"$f":"IFERROR((SUMIFS('Bill of Materials'!$Y$16:$Y$200,'Bill of Materials'!$V$16:$V$200,$A116,'Bill of Materials'!$W$16:$W$200,\"b\")/SUMIF('Bill of Materials'!$V$16:$V$200,$A116,'Bill of Materials'!$Y$16:$Y$200)),\"\")","v":""},"",{"$error":"#DIV/0!"},"",{"$f":"SUMIFS('Bill of Materials'!$I$16:$I$200,'Bill of Materials'!$V$16:$V$200,$A116,'Bill of Materials'!$W$16:$W$200,\"c\")/SUMIF('Bill of Materials'!$V$16:$V$200,$A116,'Bill of Materials'!$I$16:$I$200)","v":{"$error":"#DIV/0!"}},{"$f":"IFERROR((SUMIFS('Bill of Materials'!$Y$16:$Y$200,'Bill of Materials'!$V$16:$V$200,$A116,'Bill of Materials'!$W$16:$W$200,\"c\")/SUMIF('Bill of Materials'!$V$16:$V$200,$A116,'Bill of Materials'!$Y$16:$Y$200)),\"\")","v":""},"",{"$f":"(SUMIFS('Bill of Materials'!$I$16:$I$200,'Bill of Materials'!$V$16:$V$200,$A116,'Bill of Materials'!$W$16:$W$200,\"x\")+SUMIFS('Bill of Materials'!$I$16:$I$200,'Bill of Materials'!$V$16:$V$200,$A116,'Bill of Materials'!$W$16:$W$200,\"x - CMR or SVHC\"))/SUMIF('Bill of Materials'!$V$16:$V$200,$A116,'Bill of Materials'!$I$16:$I$200)","v":{"$error":"#DIV/0!"}},{"$f":"IFERROR(((SUMIFS('Bill of Materials'!$Y$16:$Y$200,'Bill of Materials'!$V$16:$V$200,$A116,'Bill of Materials'!$W$16:$W$200,\"x\")+SUMIFS('Bill of Materials'!$Y$16:$Y$200,'Bill of Materials'!$V$16:$V$200,$A116,'Bill of Materials'!$W$16:$W$200,\"x - CMR or SVHC\"))/SUMIF('Bill of Materials'!$V$16:$V$200,$A116,'Bill of Materials'!$Y$16:$Y$200)),\"\")","v":""},"",{"$error":"#DIV/0!"},"","",""]
[108,{"$f":"SUMIF('Bill of Materials'!$V$16:$V$200,A117,'Bill of Materials'!$J$16:$J$200)","v":{"v":0,"d":"0%"}},{"$error":"#DIV/0!"},{"$f":"SUMIFS('Bill of Materials'!$I$16:$I$200,'Bill of Materials'!$V$16:$V$200,A117,'Bill of Materials'!$W$16:$W$200,\"Grey\")/SUMIF('Bill of Materials'!$V$16:$V$200,A117,'Bill of Materials'!$I$16:$I$200)","v":{"$error":"#DIV/0!"}},{"$f":"IFERROR((SUMIFS('Bill of Materials'!$Y$16:$Y$200,'Bill of Materials'!$V$16:$V$200,A117,'Bill of Materials'!$W$16:$W$200,\"Grey\")/SUMIF('Bill of Materials'!$V$16:$V$200,A117,'Bill of Materials'!$Y$16:$Y$200)),\"\")","v":""},"",{"$f":"SUMIFS('Bill of Materials'!$I$16:$I$200,'Bill of Materials'!$V$16:$V$200,$A117,'Bill of Materials'!$W$16:$W$200,\"a\")/SUMIF('Bill of Materials'!$V$16:$V$200,$A117,'Bill of Materials'!$I$16:$I$200)","v":{"$error":"#DIV/0!"}},{"$f":"IFERROR((SUMIFS('Bill of Materials'!$Y$16:$Y$200,'Bill of Materials'!$V$16:$V$200,A117,'Bill of Materials'!$W$16:$W$200,\"a\")/SUMIF('Bill of Materials'!$V$16:$V$200,A117,'Bill of Materials'!$Y$16:$Y$200)),\"\")","v":""},"",{"$f":"SUMIFS('Bill of Materials'!$I$16:$I$200,'Bill of Materials'!$V$16:$V$200,$A117,'Bill of Materials'!$W$16:$W$200,\"b\")/SUMIF('Bill of Materials'!$V$16:$V$200,$A117,'Bill of Materials'!$I$16:$I$200)","v":{"$error":"#DIV/0!"}},{"$f":"IFERROR((SUMIFS('Bill of Materials'!$Y$16:$Y$200,'Bill of Materials'!$V$16:$V$200,$A117,'Bill of Materials'!$W$16:$W$200,\"b\")/SUMIF('Bill of Materials'!$V$16:$V$200,$A117,'Bill of Materials'!$Y$16:$Y$200)),\"\")","v":""},"",{"$error":"#DIV/0!"},"",{"$f":"SUMIFS('Bill of Materials'!$I$16:$I$200,'Bill of Materials'!$V$16:$V$200,$A117,'Bill of Materials'!$W$16:$W$200,\"c\")/SUMIF('Bill of Materials'!$V$16:$V$200,$A117,'Bill of Materials'!$I$16:$I$200)","v":{"$error":"#DIV/0!"}},{"$f":"IFERROR((SUMIFS('Bill of Materials'!$Y$16:$Y$200,'Bill of Materials'!$V$16:$V$200,$A117,'Bill of Materials'!$W$16:$W$200,\"c\")/SUMIF('Bill of Materials'!$V$16:$V$200,$A117,'Bill of Materials'!$Y$16:$Y$200)),\"\")","v":""},"",{"$f":"(SUMIFS('Bill of Materials'!$I$16:$I$200,'Bill of Materials'!$V$16:$V$200,$A117,'Bill of Materials'!$W$16:$W$200,\"x\")+SUMIFS('Bill of Materials'!$I$16:$I$200,'Bill of Materials'!$V$16:$V$200,$A117,'Bill of Materials'!$W$16:$W$200,\"x - CMR or SVHC\"))/SUMIF('Bill of Materials'!$V$16:$V$200,$A117,'Bill of Materials'!$I$16:$I$200)","v":{"$error":"#DIV/0!"}},{"$f":"IFERROR(((SUMIFS('Bill of Materials'!$Y$16:$Y$200,'Bill of Materials'!$V$16:$V$200,$A117,'Bill of Materials'!$W$16:$W$200,\"x\")+SUMIFS('Bill of Materials'!$Y$16:$Y$200,'Bill of Materials'!$V$16:$V$200,$A117,'Bill of Materials'!$W$16:$W$200,\"x - CMR or SVHC\"))/SUMIF('Bill of Materials'!$V$16:$V$200,$A117,'Bill of Materials'!$Y$16:$Y$200)),\"\")","v":""},"",{"$error":"#DIV/0!"},"","",""]
[109,{"$f":"SUMIF('Bill of Materials'!$V$16:$V$200,A118,'Bill of Materials'!$J$16:$J$200)","v":{"v":0,"d":"0%"}},{"$error":"#DIV/0!"},{"$f":"SUMIFS('Bill of Materials'!$I$16:$I$200,'Bill of Materials'!$V$16:$V$200,A118,'Bill of Materials'!$W$16:$W$200,\"Grey\")/SUMIF('Bill of Materials'!$V$16:$V$200,A118,'Bill of Materials'!$I$16:$I$200)","v":{"$error":"#DIV/0!"}},{"$f":"IFERROR((SUMIFS('Bill of Materials'!$Y$16:$Y$200,'Bill of Materials'!$V$16:$V$200,A118,'Bill of Materials'!$W$16:$W$200,\"Grey\")/SUMIF('Bill of Materials'!$V$16:$V$200,A118,'Bill of Materials'!$Y$16:$Y$200)),\"\")","v":""},"",{"$f":"SUMIFS('Bill of Materials'!$I$16:$I$200,'Bill of Materials'!$V$16:$V$200,$A118,'Bill of Materials'!$W$16:$W$200,\"a\")/SUMIF('Bill of Materials'!$V$16:$V$200,$A118,'Bill of Materials'!$I$16:$I$200)","v":{"$error":"#DIV/0!"}},{"$f":"IFERROR((SUMIFS('Bill of Materials'!$Y$16:$Y$200,'Bill of Materials'!$V$16:$V$200,A118,'Bill of Materials'!$W$16:$W$200,\"a\")/SUMIF('Bill of Materials'!$V$16:$V$200,A118,'Bill of Materials'!$Y$16:$Y$200)),\"\")","v":""},"",{"$f":"SUMIFS('Bill of Materials'!$I$16:$I$200,'Bill of Materials'!$V$16:$V$200,$A118,'Bill of Materials'!$W$16:$W$200,\"b\")/SUMIF('Bill of Materials'!$V$16:$V$200,$A118,'Bill of Materials'!$I$16:$I$200)","v":{"$error":"#DIV/0!"}},{"$f":"IFERROR((SUMIFS('Bill of Materials'!$Y$16:$Y$200,'Bill of Materials'!$V$16:$V$200,$A118,'Bill of Materials'!$W$16:$W$200,\"b\")/SUMIF('Bill of Materials'!$V$16:$V$200,$A118,'Bill of Materials'!$Y$16:$Y$200)),\"\")","v":""},"",{"$error":"#DIV/0!"},"",{"$f":"SUMIFS('Bill of Materials'!$I$16:$I$200,'Bill of Materials'!$V$16:$V$200,$A118,'Bill of Materials'!$W$16:$W$200,\"c\")/SUMIF('Bill of Materials'!$V$16:$V$200,$A118,'Bill of Materials'!$I$16:$I$200)","v":{"$error":"#DIV/0!"}},{"$f":"IFERROR((SUMIFS('Bill of Materials'!$Y$16:$Y$200,'Bill of Materials'!$V$16:$V$200,$A118,'Bill of Materials'!$W$16:$W$200,\"c\")/SUMIF('Bill of Materials'!$V$16:$V$200,$A118,'Bill of Materials'!$Y$16:$Y$200)),\"\")","v":""},"",{"$f":"(SUMIFS('Bill of Materials'!$I$16:$I$200,'Bill of Materials'!$V$16:$V$200,$A118,'Bill of Materials'!$W$16:$W$200,\"x\")+SUMIFS('Bill of Materials'!$I$16:$I$200,'Bill of Materials'!$V$16:$V$200,$A118,'Bill of Materials'!$W$16:$W$200,\"x - CMR or SVHC\"))/SUMIF('Bill of Materials'!$V$16:$V$200,$A118,'Bill of Materials'!$I$16:$I$200)","v":{"$error":"#DIV/0!"}},{"$f":"IFERROR(((SUMIFS('Bill of Materials'!$Y$16:$Y$200,'Bill of Materials'!$V$16:$V$200,$A118,'Bill of Materials'!$W$16:$W$200,\"x\")+SUMIFS('Bill of Materials'!$Y$16:$Y$200,'Bill of Materials'!$V$16:$V$200,$A118,'Bill of Materials'!$W$16:$W$200,\"x - CMR or SVHC\"))/SUMIF('Bill of Materials'!$V$16:$V$200,$A118,'Bill of Materials'!$Y$16:$Y$200)),\"\")","v":""},"",{"$error":"#DIV/0!"},"","",""]
[110,{"$f":"SUMIF('Bill of Materials'!$V$16:$V$200,A119,'Bill of Materials'!$J$16:$J$200)","v":{"v":0,"d":"0%"}},{"$error":"#DIV/0!"},{"$f":"SUMIFS('Bill of Materials'!$I$16:$I$200,'Bill of Materials'!$V$16:$V$200,A119,'Bill of Materials'!$W$16:$W$200,\"Grey\")/SUMIF('Bill of Materials'!$V$16:$V$200,A119,'Bill of Materials'!$I$16:$I$200)","v":{"$error":"#DIV/0!"}},{"$f":"IFERROR((SUMIFS('Bill of Materials'!$Y$16:$Y$200,'Bill of Materials'!$V$16:$V$200,A119,'Bill of Materials'!$W$16:$W$200,\"Grey\")/SUMIF('Bill of Materials'!$V$16:$V$200,A119,'Bill of Materials'!$Y$16:$Y$200)),\"\")","v":""},"",{"$f":"SUMIFS('Bill of Materials'!$I$16:$I$200,'Bill of Materials'!$V$16:$V$200,$A119,'Bill of Materials'!$W$16:$W$200,\"a\")/SUMIF('Bill of Materials'!$V$16:$V$200,$A119,'Bill of Materials'!$I$16:$I$200)","v":{"$error":"#DIV/0!"}},{"$f":"IFERROR((SUMIFS('Bill of Materials'!$Y$16:$Y$200,'Bill of Materials'!$V$16:$V$200,A119,'Bill of Materials'!$W$16:$W$200,\"a\")/SUMIF('Bill of Materials'!$V$16:$V$200,A119,'Bill of Materials'!$Y$16:$Y$200)),\"\")","v":""},"",{"$f":"SUMIFS('Bill of Materials'!$I$16:$I$200,'Bill of Materials'!$V$16:$V$200,$A119,'Bill of Materials'!$W$16:$W$200,\"b\")/SUMIF('Bill of Materials'!$V$16:$V$200,$A119,'Bill of Materials'!$I$16:$I$200)","v":{"$error":"#DIV/0!"}},{"$f":"IFERROR((SUMIFS('Bill of Materials'!$Y$16:$Y$200,'Bill of Materials'!$V$16:$V$200,$A119,'Bill of Materials'!$W$16:$W$200,\"b\")/SUMIF('Bill of Materials'!$V$16:$V$200,$A119,'Bill of Materials'!$Y$16:$Y$200)),\"\")","v":""},"",{"$error":"#DIV/0!"},"",{"$f":"SUMIFS('Bill of Materials'!$I$16:$I$200,'Bill of Materials'!$V$16:$V$200,$A119,'Bill of Materials'!$W$16:$W$200,\"c\")/SUMIF('Bill of Materials'!$V$16:$V$200,$A119,'Bill of Materials'!$I$16:$I$200)","v":{"$error":"#DIV/0!"}},{"$f":"IFERROR((SUMIFS('Bill of Materials'!$Y$16:$Y$200,'Bill of Materials'!$V$16:$V$200,$A119,'Bill of Materials'!$W$16:$W$200,\"c\")/SUMIF('Bill of Materials'!$V$16:$V$200,$A119,'Bill of Materials'!$Y$16:$Y$200)),\"\")","v":""},"",{"$f":"(SUMIFS('Bill of Materials'!$I$16:$I$200,'Bill of Materials'!$V$16:$V$200,$A119,'Bill of Materials'!$W$16:$W$200,\"x\")+SUMIFS('Bill of Materials'!$I$16:$I$200,'Bill of Materials'!$V$16:$V$200,$A119,'Bill of Materials'!$W$16:$W$200,\"x - CMR or SVHC\"))/SUMIF('Bill of Materials'!$V$16:$V$200,$A119,'Bill of Materials'!$I$16:$I$200)","v":{"$error":"#DIV/0!"}},{"$f":"IFERROR(((SUMIFS('Bill of Materials'!$Y$16:$Y$200,'Bill of Materials'!$V$16:$V$200,$A119,'Bill of Materials'!$W$16:$W$200,\"x\")+SUMIFS('Bill of Materials'!$Y$16:$Y$200,'Bill of Materials'!$V$16:$V$200,$A119,'Bill of Materials'!$W$16:$W$200,\"x - CMR or SVHC\"))/SUMIF('Bill of Materials'!$V$16:$V$200,$A119,'Bill of Materials'!$Y$16:$Y$200)),\"\")","v":""},"",{"$error":"#DIV/0!"},"","",""]
[111,{"$f":"SUMIF('Bill of Materials'!$V$16:$V$200,A120,'Bill of Materials'!$J$16:$J$200)","v":{"v":0,"d":"0%"}},{"$error":"#DIV/0!"},{"$f":"SUMIFS('Bill of Materials'!$I$16:$I$200,'Bill of Materials'!$V$16:$V$200,A120,'Bill of Materials'!$W$16:$W$200,\"Grey\")/SUMIF('Bill of Materials'!$V$16:$V$200,A120,'Bill of Materials'!$I$16:$I$200)","v":{"$error":"#DIV/0!"}},{"$f":"IFERROR((SUMIFS('Bill of Materials'!$Y$16:$Y$200,'Bill of Materials'!$V$16:$V$200,A120,'Bill of Materials'!$W$16:$W$200,\"Grey\")/SUMIF('Bill of Materials'!$V$16:$V$200,A120,'Bill of Materials'!$Y$16:$Y$200)),\"\")","v":""},"",{"$f":"SUMIFS('Bill of Materials'!$I$16:$I$200,'Bill of Materials'!$V$16:$V$200,$A120,'Bill of Materials'!$W$16:$W$200,\"a\")/SUMIF('Bill of Materials'!$V$16:$V$200,$A120,'Bill of Materials'!$I$16:$I$200)","v":{"$error":"#DIV/0!"}},{"$f":"IFERROR((SUMIFS('Bill of Materials'!$Y$16:$Y$200,'Bill of Materials'!$V$16:$V$200,A120,'Bill of Materials'!$W$16:$W$200,\"a\")/SUMIF('Bill of Materials'!$V$16:$V$200,A120,'Bill of Materials'!$Y$16:$Y$200)),\"\")","v":""},"",{"$f":"SUMIFS('Bill of Materials'!$I$16:$I$200,'Bill of Materials'!$V$16:$V$200,$A120,'Bill of Materials'!$W$16:$W$200,\"b\")/SUMIF('Bill of Materials'!$V$16:$V$200,$A120,'Bill of Materials'!$I$16:$I$200)","v":{"$error":"#DIV/0!"}},{"$f":"IFERROR((SUMIFS('Bill of Materials'!$Y$16:$Y$200,'Bill of Materials'!$V$16:$V$200,$A120,'Bill of Materials'!$W$16:$W$200,\"b\")/SUMIF('Bill of Materials'!$V$16:$V$200,$A120,'Bill of Materials'!$Y$16:$Y$200)),\"\")","v":""},"",{"$error":"#DIV/0!"},"",{"$f":"SUMIFS('Bill of Materials'!$I$16:$I$200,'Bill of Materials'!$V$16:$V$200,$A120,'Bill of Materials'!$W$16:$W$200,\"c\")/SUMIF('Bill of Materials'!$V$16:$V$200,$A120,'Bill of Materials'!$I$16:$I$200)","v":{"$error":"#DIV/0!"}},{"$f":"IFERROR((SUMIFS('Bill of Materials'!$Y$16:$Y$200,'Bill of Materials'!$V$16:$V$200,$A120,'Bill of Materials'!$W$16:$W$200,\"c\")/SUMIF('Bill of Materials'!$V$16:$V$200,$A120,'Bill of Materials'!$Y$16:$Y$200)),\"\")","v":""},"",{"$f":"(SUMIFS('Bill of Materials'!$I$16:$I$200,'Bill of Materials'!$V$16:$V$200,$A120,'Bill of Materials'!$W$16:$W$200,\"x\")+SUMIFS('Bill of Materials'!$I$16:$I$200,'Bill of Materials'!$V$16:$V$200,$A120,'Bill of Materials'!$W$16:$W$200,\"x - CMR or SVHC\"))/SUMIF('Bill of Materials'!$V$16:$V$200,$A120,'Bill of Materials'!$I$16:$I$200)","v":{"$error":"#DIV/0!"}},{"$f":"IFERROR(((SUMIFS('Bill of Materials'!$Y$16:$Y$200,'Bill of Materials'!$V$16:$V$200,$A120,'Bill of Materials'!$W$16:$W$200,\"x\")+SUMIFS('Bill of Materials'!$Y$16:$Y$200,'Bill of Materials'!$V$16:$V$200,$A120,'Bill of Materials'!$W$16:$W$200,\"x - CMR or SVHC\"))/SUMIF('Bill of Materials'!$V$16:$V$200,$A120,'Bill of Materials'!$Y$16:$Y$200)),\"\")","v":""},"",{"$error":"#DIV/0!"},"","",""]
[112,{"$f":"SUMIF('Bill of Materials'!$V$16:$V$200,A121,'Bill of Materials'!$J$16:$J$200)","v":{"v":0,"d":"0%"}},{"$error":"#DIV/0!"},{"$f":"SUMIFS('Bill of Materials'!$I$16:$I$200,'Bill of Materials'!$V$16:$V$200,A121,'Bill of Materials'!$W$16:$W$200,\"Grey\")/SUMIF('Bill of Materials'!$V$16:$V$200,A121,'Bill of Materials'!$I$16:$I$200)","v":{"$error":"#DIV/0!"}},{"$f":"IFERROR((SUMIFS('Bill of Materials'!$Y$16:$Y$200,'Bill of Materials'!$V$16:$V$200,A121,'Bill of Materials'!$W$16:$W$200,\"Grey\")/SUMIF('Bill of Materials'!$V$16:$V$200,A121,'Bill of Materials'!$Y$16:$Y$200)),\"\")","v":""},"",{"$f":"SUMIFS('Bill of Materials'!$I$16:$I$200,'Bill of Materials'!$V$16:$V$200,$A121,'Bill of Materials'!$W$16:$W$200,\"a\")/SUMIF('Bill of Materials'!$V$16:$V$200,$A121,'Bill of Materials'!$I$16:$I$200)","v":{"$error":"#DIV/0!"}},{"$f":"IFERROR((SUMIFS('Bill of Materials'!$Y$16:$Y$200,'Bill of Materials'!$V$16:$V$200,A121,'Bill of Materials'!$W$16:$W$200,\"a\")/SUMIF('Bill of Materials'!$V$16:$V$200,A121,'Bill of Materials'!$Y$16:$Y$200)),\"\")","v":""},"",{"$f":"SUMIFS('Bill of Materials'!$I$16:$I$200,'Bill of Materials'!$V$16:$V$200,$A121,'Bill of Materials'!$W$16:$W$200,\"b\")/SUMIF('Bill of Materials'!$V$16:$V$200,$A121,'Bill of Materials'!$I$16:$I$200)","v":{"$error":"#DIV/0!"}},{"$f":"IFERROR((SUMIFS('Bill of Materials'!$Y$16:$Y$200,'Bill of Materials'!$V$16:$V$200,$A121,'Bill of Materials'!$W$16:$W$200,\"b\")/SUMIF('Bill of Materials'!$V$16:$V$200,$A121,'Bill of Materials'!$Y$16:$Y$200)),\"\")","v":""},"",{"$error":"#DIV/0!"},"",{"$f":"SUMIFS('Bill of Materials'!$I$16:$I$200,'Bill of Materials'!$V$16:$V$200,$A121,'Bill of Materials'!$W$16:$W$200,\"c\")/SUMIF('Bill of Materials'!$V$16:$V$200,$A121,'Bill of Materials'!$I$16:$I$200)","v":{"$error":"#DIV/0!"}},{"$f":"IFERROR((SUMIFS('Bill of Materials'!$Y$16:$Y$200,'Bill of Materials'!$V$16:$V$200,$A121,'Bill of Materials'!$W$16:$W$200,\"c\")/SUMIF('Bill of Materials'!$V$16:$V$200,$A121,'Bill of Materials'!$Y$16:$Y$200)),\"\")","v":""},"",{"$f":"(SUMIFS('Bill of Materials'!$I$16:$I$200,'Bill of Materials'!$V$16:$V$200,$A121,'Bill of Materials'!$W$16:$W$200,\"x\")+SUMIFS('Bill of Materials'!$I$16:$I$200,'Bill of Materials'!$V$16:$V$200,$A121,'Bill of Materials'!$W$16:$W$200,\"x - CMR or SVHC\"))/SUMIF('Bill of Materials'!$V$16:$V$200,$A121,'Bill of Materials'!$I$16:$I$200)","v":{"$error":"#DIV/0!"}},{"$f":"IFERROR(((SUMIFS('Bill of Materials'!$Y$16:$Y$200,'Bill of Materials'!$V$16:$V$200,$A121,'Bill of Materials'!$W$16:$W$200,\"x\")+SUMIFS('Bill of Materials'!$Y$16:$Y$200,'Bill of Materials'!$V$16:$V$200,$A121,'Bill of Materials'!$W$16:$W$200,\"x - CMR or SVHC\"))/SUMIF('Bill of Materials'!$V$16:$V$200,$A121,'Bill of Materials'!$Y$16:$Y$200)),\"\")","v":""},"",{"$error":"#DIV/0!"},"","",""]
[113,{"$f":"SUMIF('Bill of Materials'!$V$16:$V$200,A122,'Bill of Materials'!$J$16:$J$200)","v":{"v":0,"d":"0%"}},{"$error":"#DIV/0!"},{"$f":"SUMIFS('Bill of Materials'!$I$16:$I$200,'Bill of Materials'!$V$16:$V$200,A122,'Bill of Materials'!$W$16:$W$200,\"Grey\")/SUMIF('Bill of Materials'!$V$16:$V$200,A122,'Bill of Materials'!$I$16:$I$200)","v":{"$error":"#DIV/0!"}},{"$f":"IFERROR((SUMIFS('Bill of Materials'!$Y$16:$Y$200,'Bill of Materials'!$V$16:$V$200,A122,'Bill of Materials'!$W$16:$W$200,\"Grey\")/SUMIF('Bill of Materials'!$V$16:$V$200,A122,'Bill of Materials'!$Y$16:$Y$200)),\"\")","v":""},"",{"$f":"SUMIFS('Bill of Materials'!$I$16:$I$200,'Bill of Materials'!$V$16:$V$200,$A122,'Bill of Materials'!$W$16:$W$200,\"a\")/SUMIF('Bill of Materials'!$V$16:$V$200,$A122,'Bill of Materials'!$I$16:$I$200)","v":{"$error":"#DIV/0!"}},{"$f":"IFERROR((SUMIFS('Bill of Materials'!$Y$16:$Y$200,'Bill of Materials'!$V$16:$V$200,A122,'Bill of Materials'!$W$16:$W$200,\"a\")/SUMIF('Bill of Materials'!$V$16:$V$200,A122,'Bill of Materials'!$Y$16:$Y$200)),\"\")","v":""},"",{"$f":"SUMIFS('Bill of Materials'!$I$16:$I$200,'Bill of Materials'!$V$16:$V$200,$A122,'Bill of Materials'!$W$16:$W$200,\"b\")/SUMIF('Bill of Materials'!$V$16:$V$200,$A122,'Bill of Materials'!$I$16:$I$200)","v":{"$error":"#DIV/0!"}},{"$f":"IFERROR((SUMIFS('Bill of Materials'!$Y$16:$Y$200,'Bill of Materials'!$V$16:$V$200,$A122,'Bill of Materials'!$W$16:$W$200,\"b\")/SUMIF('Bill of Materials'!$V$16:$V$200,$A122,'Bill of Materials'!$Y$16:$Y$200)),\"\")","v":""},"",{"$error":"#DIV/0!"},"",{"$f":"SUMIFS('Bill of Materials'!$I$16:$I$200,'Bill of Materials'!$V$16:$V$200,$A122,'Bill of Materials'!$W$16:$W$200,\"c\")/SUMIF('Bill of Materials'!$V$16:$V$200,$A122,'Bill of Materials'!$I$16:$I$200)","v":{"$error":"#DIV/0!"}},{"$f":"IFERROR((SUMIFS('Bill of Materials'!$Y$16:$Y$200,'Bill of Materials'!$V$16:$V$200,$A122,'Bill of Materials'!$W$16:$W$200,\"c\")/SUMIF('Bill of Materials'!$V$16:$V$200,$A122,'Bill of Materials'!$Y$16:$Y$200)),\"\")","v":""},"",{"$f":"(SUMIFS('Bill of Materials'!$I$16:$I$200,'Bill of Materials'!$V$16:$V$200,$A122,'Bill of Materials'!$W$16:$W$200,\"x\")+SUMIFS('Bill of Materials'!$I$16:$I$200,'Bill of Materials'!$V$16:$V$200,$A122,'Bill of Materials'!$W$16:$W$200,\"x - CMR or SVHC\"))/SUMIF('Bill of Materials'!$V$16:$V$200,$A122,'Bill of Materials'!$I$16:$I$200)","v":{"$error":"#DIV/0!"}},{"$f":"IFERROR(((SUMIFS('Bill of Materials'!$Y$16:$Y$200,'Bill of Materials'!$V$16:$V$200,$A122,'Bill of Materials'!$W$16:$W$200,\"x\")+SUMIFS('Bill of Materials'!$Y$16:$Y$200,'Bill of Materials'!$V$16:$V$200,$A122,'Bill of Materials'!$W$16:$W$200,\"x - CMR or SVHC\"))/SUMIF('Bill of Materials'!$V$16:$V$200,$A122,'Bill of Materials'!$Y$16:$Y$200)),\"\")","v":""},"",{"$error":"#DIV/0!"},"","",""]
[114,{"$f":"SUMIF('Bill of Materials'!$V$16:$V$200,A123,'Bill of Materials'!$J$16:$J$200)","v":{"v":0,"d":"0%"}},{"$error":"#DIV/0!"},{"$f":"SUMIFS('Bill of Materials'!$I$16:$I$200,'Bill of Materials'!$V$16:$V$200,A123,'Bill of Materials'!$W$16:$W$200,\"Grey\")/SUMIF('Bill of Materials'!$V$16:$V$200,A123,'Bill of Materials'!$I$16:$I$200)","v":{"$error":"#DIV/0!"}},{"$f":"IFERROR((SUMIFS('Bill of Materials'!$Y$16:$Y$200,'Bill of Materials'!$V$16:$V$200,A123,'Bill of Materials'!$W$16:$W$200,\"Grey\")/SUMIF('Bill of Materials'!$V$16:$V$200,A123,'Bill of Materials'!$Y$16:$Y$200)),\"\")","v":""},"",{"$f":"SUMIFS('Bill of Materials'!$I$16:$I$200,'Bill of Materials'!$V$16:$V$200,$A123,'Bill of Materials'!$W$16:$W$200,\"a\")/SUMIF('Bill of Materials'!$V$16:$V$200,$A123,'Bill of Materials'!$I$16:$I$200)","v":{"$error":"#DIV/0!"}},{"$f":"IFERROR((SUMIFS('Bill of Materials'!$Y$16:$Y$200,'Bill of Materials'!$V$16:$V$200,A123,'Bill of Materials'!$W$16:$W$200,\"a\")/SUMIF('Bill of Materials'!$V$16:$V$200,A123,'Bill of Materials'!$Y$16:$Y$200)),\"\")","v":""},"",{"$f":"SUMIFS('Bill of Materials'!$I$16:$I$200,'Bill of Materials'!$V$16:$V$200,$A123,'Bill of Materials'!$W$16:$W$200,\"b\")/SUMIF('Bill of Materials'!$V$16:$V$200,$A123,'Bill of Materials'!$I$16:$I$200)","v":{"$error":"#DIV/0!"}},{"$f":"IFERROR((SUMIFS('Bill of Materials'!$Y$16:$Y$200,'Bill of Materials'!$V$16:$V$200,$A123,'Bill of Materials'!$W$16:$W$200,\"b\")/SUMIF('Bill of Materials'!$V$16:$V$200,$A123,'Bill of Materials'!$Y$16:$Y$200)),\"\")","v":""},"",{"$error":"#DIV/0!"},"",{"$f":"SUMIFS('Bill of Materials'!$I$16:$I$200,'Bill of Materials'!$V$16:$V$200,$A123,'Bill of Materials'!$W$16:$W$200,\"c\")/SUMIF('Bill of Materials'!$V$16:$V$200,$A123,'Bill of Materials'!$I$16:$I$200)","v":{"$error":"#DIV/0!"}},{"$f":"IFERROR((SUMIFS('Bill of Materials'!$Y$16:$Y$200,'Bill of Materials'!$V$16:$V$200,$A123,'Bill of Materials'!$W$16:$W$200,\"c\")/SUMIF('Bill of Materials'!$V$16:$V$200,$A123,'Bill of Materials'!$Y$16:$Y$200)),\"\")","v":""},"",{"$f":"(SUMIFS('Bill of Materials'!$I$16:$I$200,'Bill of Materials'!$V$16:$V$200,$A123,'Bill of Materials'!$W$16:$W$200,\"x\")+SUMIFS('Bill of Materials'!$I$16:$I$200,'Bill of Materials'!$V$16:$V$200,$A123,'Bill of Materials'!$W$16:$W$200,\"x - CMR or SVHC\"))/SUMIF('Bill of Materials'!$V$16:$V$200,$A123,'Bill of Materials'!$I$16:$I$200)","v":{"$error":"#DIV/0!"}},{"$f":"IFERROR(((SUMIFS('Bill of Materials'!$Y$16:$Y$200,'Bill of Materials'!$V$16:$V$200,$A123,'Bill of Materials'!$W$16:$W$200,\"x\")+SUMIFS('Bill of Materials'!$Y$16:$Y$200,'Bill of Materials'!$V$16:$V$200,$A123,'Bill of Materials'!$W$16:$W$200,\"x - CMR or SVHC\"))/SUMIF('Bill of Materials'!$V$16:$V$200,$A123,'Bill of Materials'!$Y$16:$Y$200)),\"\")","v":""},"",{"$error":"#DIV/0!"},"","",""]
[115,{"$f":"SUMIF('Bill of Materials'!$V$16:$V$200,A124,'Bill of Materials'!$J$16:$J$200)","v":{"v":0,"d":"0%"}},{"$error":"#DIV/0!"},{"$f":"SUMIFS('Bill of Materials'!$I$16:$I$200,'Bill of Materials'!$V$16:$V$200,A124,'Bill of Materials'!$W$16:$W$200,\"Grey\")/SUMIF('Bill of Materials'!$V$16:$V$200,A124,'Bill of Materials'!$I$16:$I$200)","v":{"$error":"#DIV/0!"}},{"$f":"IFERROR((SUMIFS('Bill of Materials'!$Y$16:$Y$200,'Bill of Materials'!$V$16:$V$200,A124,'Bill of Materials'!$W$16:$W$200,\"Grey\")/SUMIF('Bill of Materials'!$V$16:$V$200,A124,'Bill of Materials'!$Y$16:$Y$200)),\"\")","v":""},"",{"$f":"SUMIFS('Bill of Materials'!$I$16:$I$200,'Bill of Materials'!$V$16:$V$200,$A124,'Bill of Materials'!$W$16:$W$200,\"a\")/SUMIF('Bill of Materials'!$V$16:$V$200,$A124,'Bill of Materials'!$I$16:$I$200)","v":{"$error":"#DIV/0!"}},{"$f":"IFERROR((SUMIFS('Bill of Materials'!$Y$16:$Y$200,'Bill of Materials'!$V$16:$V$200,A124,'Bill of Materials'!$W$16:$W$200,\"a\")/SUMIF('Bill of Materials'!$V$16:$V$200,A124,'Bill of Materials'!$Y$16:$Y$200)),\"\")","v":""},"",{"$f":"SUMIFS('Bill of Materials'!$I$16:$I$200,'Bill of Materials'!$V$16:$V$200,$A124,'Bill of Materials'!$W$16:$W$200,\"b\")/SUMIF('Bill of Materials'!$V$16:$V$200,$A124,'Bill of Materials'!$I$16:$I$200)","v":{"$error":"#DIV/0!"}},{"$f":"IFERROR((SUMIFS('Bill of Materials'!$Y$16:$Y$200,'Bill of Materials'!$V$16:$V$200,$A124,'Bill of Materials'!$W$16:$W$200,\"b\")/SUMIF('Bill of Materials'!$V$16:$V$200,$A124,'Bill of Materials'!$Y$16:$Y$200)),\"\")","v":""},"",{"$error":"#DIV/0!"},"",{"$f":"SUMIFS('Bill of Materials'!$I$16:$I$200,'Bill of Materials'!$V$16:$V$200,$A124,'Bill of Materials'!$W$16:$W$200,\"c\")/SUMIF('Bill of Materials'!$V$16:$V$200,$A124,'Bill of Materials'!$I$16:$I$200)","v":{"$error":"#DIV/0!"}},{"$f":"IFERROR((SUMIFS('Bill of Materials'!$Y$16:$Y$200,'Bill of Materials'!$V$16:$V$200,$A124,'Bill of Materials'!$W$16:$W$200,\"c\")/SUMIF('Bill of Materials'!$V$16:$V$200,$A124,'Bill of Materials'!$Y$16:$Y$200)),\"\")","v":""},"",{"$f":"(SUMIFS('Bill of Materials'!$I$16:$I$200,'Bill of Materials'!$V$16:$V$200,$A124,'Bill of Materials'!$W$16:$W$200,\"x\")+SUMIFS('Bill of Materials'!$I$16:$I$200,'Bill of Materials'!$V$16:$V$200,$A124,'Bill of Materials'!$W$16:$W$200,\"x - CMR or SVHC\"))/SUMIF('Bill of Materials'!$V$16:$V$200,$A124,'Bill of Materials'!$I$16:$I$200)","v":{"$error":"#DIV/0!"}},{"$f":"IFERROR(((SUMIFS('Bill of Materials'!$Y$16:$Y$200,'Bill of Materials'!$V$16:$V$200,$A124,'Bill of Materials'!$W$16:$W$200,\"x\")+SUMIFS('Bill of Materials'!$Y$16:$Y$200,'Bill of Materials'!$V$16:$V$200,$A124,'Bill of Materials'!$W$16:$W$200,\"x - CMR or SVHC\"))/SUMIF('Bill of Materials'!$V$16:$V$200,$A124,'Bill of Materials'!$Y$16:$Y$200)),\"\")","v":""},"",{"$error":"#DIV/0!"},"","",""]
[116,{"$f":"SUMIF('Bill of Materials'!$V$16:$V$200,A125,'Bill of Materials'!$J$16:$J$200)","v":{"v":0,"d":"0%"}},{"$error":"#DIV/0!"},{"$f":"SUMIFS('Bill of Materials'!$I$16:$I$200,'Bill of Materials'!$V$16:$V$200,A125,'Bill of Materials'!$W$16:$W$200,\"Grey\")/SUMIF('Bill of Materials'!$V$16:$V$200,A125,'Bill of Materials'!$I$16:$I$200)","v":{"$error":"#DIV/0!"}},{"$f":"IFERROR((SUMIFS('Bill of Materials'!$Y$16:$Y$200,'Bill of Materials'!$V$16:$V$200,A125,'Bill of Materials'!$W$16:$W$200,\"Grey\")/SUMIF('Bill of Materials'!$V$16:$V$200,A125,'Bill of Materials'!$Y$16:$Y$200)),\"\")","v":""},"",{"$f":"SUMIFS('Bill of Materials'!$I$16:$I$200,'Bill of Materials'!$V$16:$V$200,$A125,'Bill of Materials'!$W$16:$W$200,\"a\")/SUMIF('Bill of Materials'!$V$16:$V$200,$A125,'Bill of Materials'!$I$16:$I$200)","v":{"$error":"#DIV/0!"}},{"$f":"IFERROR((SUMIFS('Bill of Materials'!$Y$16:$Y$200,'Bill of Materials'!$V$16:$V$200,A125,'Bill of Materials'!$W$16:$W$200,\"a\")/SUMIF('Bill of Materials'!$V$16:$V$200,A125,'Bill of Materials'!$Y$16:$Y$200)),\"\")","v":""},"",{"$f":"SUMIFS('Bill of Materials'!$I$16:$I$200,'Bill of Materials'!$V$16:$V$200,$A125,'Bill of Materials'!$W$16:$W$200,\"b\")/SUMIF('Bill of Materials'!$V$16:$V$200,$A125,'Bill of Materials'!$I$16:$I$200)","v":{"$error":"#DIV/0!"}},{"$f":"IFERROR((SUMIFS('Bill of Materials'!$Y$16:$Y$200,'Bill of Materials'!$V$16:$V$200,$A125,'Bill of Materials'!$W$16:$W$200,\"b\")/SUMIF('Bill of Materials'!$V$16:$V$200,$A125,'Bill of Materials'!$Y$16:$Y$200)),\"\")","v":""},"",{"$error":"#DIV/0!"},"",{"$f":"SUMIFS('Bill of Materials'!$I$16:$I$200,'Bill of Materials'!$V$16:$V$200,$A125,'Bill of Materials'!$W$16:$W$200,\"c\")/SUMIF('Bill of Materials'!$V$16:$V$200,$A125,'Bill of Materials'!$I$16:$I$200)","v":{"$error":"#DIV/0!"}},{"$f":"IFERROR((SUMIFS('Bill of Materials'!$Y$16:$Y$200,'Bill of Materials'!$V$16:$V$200,$A125,'Bill of Materials'!$W$16:$W$200,\"c\")/SUMIF('Bill of Materials'!$V$16:$V$200,$A125,'Bill of Materials'!$Y$16:$Y$200)),\"\")","v":""},"",{"$f":"(SUMIFS('Bill of Materials'!$I$16:$I$200,'Bill of Materials'!$V$16:$V$200,$A125,'Bill of Materials'!$W$16:$W$200,\"x\")+SUMIFS('Bill of Materials'!$I$16:$I$200,'Bill of Materials'!$V$16:$V$200,$A125,'Bill of Materials'!$W$16:$W$200,\"x - CMR or SVHC\"))/SUMIF('Bill of Materials'!$V$16:$V$200,$A125,'Bill of Materials'!$I$16:$I$200)","v":{"$error":"#DIV/0!"}},{"$f":"IFERROR(((SUMIFS('Bill of Materials'!$Y$16:$Y$200,'Bill of Materials'!$V$16:$V$200,$A125,'Bill of Materials'!$W$16:$W$200,\"x\")+SUMIFS('Bill of Materials'!$Y$16:$Y$200,'Bill of Materials'!$V$16:$V$200,$A125,'Bill of Materials'!$W$16:$W$200,\"x - CMR or SVHC\"))/SUMIF('Bill of Materials'!$V$16:$V$200,$A125,'Bill of Materials'!$Y$16:$Y$200)),\"\")","v":""},"",{"$error":"#DIV/0!"},"","",""]
[117,{"$f":"SUMIF('Bill of Materials'!$V$16:$V$200,A126,'Bill of Materials'!$J$16:$J$200)","v":{"v":0,"d":"0%"}},{"$error":"#DIV/0!"},{"$f":"SUMIFS('Bill of Materials'!$I$16:$I$200,'Bill of Materials'!$V$16:$V$200,A126,'Bill of Materials'!$W$16:$W$200,\"Grey\")/SUMIF('Bill of Materials'!$V$16:$V$200,A126,'Bill of Materials'!$I$16:$I$200)","v":{"$error":"#DIV/0!"}},{"$f":"IFERROR((SUMIFS('Bill of Materials'!$Y$16:$Y$200,'Bill of Materials'!$V$16:$V$200,A126,'Bill of Materials'!$W$16:$W$200,\"Grey\")/SUMIF('Bill of Materials'!$V$16:$V$200,A126,'Bill of Materials'!$Y$16:$Y$200)),\"\")","v":""},"",{"$f":"SUMIFS('Bill of Materials'!$I$16:$I$200,'Bill of Materials'!$V$16:$V$200,$A126,'Bill of Materials'!$W$16:$W$200,\"a\")/SUMIF('Bill of Materials'!$V$16:$V$200,$A126,'Bill of Materials'!$I$16:$I$200)","v":{"$error":"#DIV/0!"}},{"$f":"IFERROR((SUMIFS('Bill of Materials'!$Y$16:$Y$200,'Bill of Materials'!$V$16:$V$200,A126,'Bill of Materials'!$W$16:$W$200,\"a\")/SUMIF('Bill of Materials'!$V$16:$V$200,A126,'Bill of Materials'!$Y$16:$Y$200)),\"\")","v":""},"",{"$f":"SUMIFS('Bill of Materials'!$I$16:$I$200,'Bill of Materials'!$V$16:$V$200,$A126,'Bill of Materials'!$W$16:$W$200,\"b\")/SUMIF('Bill of Materials'!$V$16:$V$200,$A126,'Bill of Materials'!$I$16:$I$200)","v":{"$error":"#DIV/0!"}},{"$f":"IFERROR((SUMIFS('Bill of Materials'!$Y$16:$Y$200,'Bill of Materials'!$V$16:$V$200,$A126,'Bill of Materials'!$W$16:$W$200,\"b\")/SUMIF('Bill of Materials'!$V$16:$V$200,$A126,'Bill of Materials'!$Y$16:$Y$200)),\"\")","v":""},"",{"$error":"#DIV/0!"},"",{"$f":"SUMIFS('Bill of Materials'!$I$16:$I$200,'Bill of Materials'!$V$16:$V$200,$A126,'Bill of Materials'!$W$16:$W$200,\"c\")/SUMIF('Bill of Materials'!$V$16:$V$200,$A126,'Bill of Materials'!$I$16:$I$200)","v":{"$error":"#DIV/0!"}},{"$f":"IFERROR((SUMIFS('Bill of Materials'!$Y$16:$Y$200,'Bill of Materials'!$V$16:$V$200,$A126,'Bill of Materials'!$W$16:$W$200,\"c\")/SUMIF('Bill of Materials'!$V$16:$V$200,$A126,'Bill of Materials'!$Y$16:$Y$200)),\"\")","v":""},"",{"$f":"(SUMIFS('Bill of Materials'!$I$16:$I$200,'Bill of Materials'!$V$16:$V$200,$A126,'Bill of Materials'!$W$16:$W$200,\"x\")+SUMIFS('Bill of Materials'!$I$16:$I$200,'Bill of Materials'!$V$16:$V$200,$A126,'Bill of Materials'!$W$16:$W$200,\"x - CMR or SVHC\"))/SUMIF('Bill of Materials'!$V$16:$V$200,$A126,'Bill of Materials'!$I$16:$I$200)","v":{"$error":"#DIV/0!"}},{"$f":"IFERROR(((SUMIFS('Bill of Materials'!$Y$16:$Y$200,'Bill of Materials'!$V$16:$V$200,$A126,'Bill of Materials'!$W$16:$W$200,\"x\")+SUMIFS('Bill of Materials'!$Y$16:$Y$200,'Bill of Materials'!$V$16:$V$200,$A126,'Bill of Materials'!$W$16:$W$200,\"x - CMR or SVHC\"))/SUMIF('Bill of Materials'!$V$16:$V$200,$A126,'Bill of Materials'!$Y$16:$Y$200)),\"\")","v":""},"",{"$error":"#DIV/0!"},"","",""]
[118,{"$f":"SUMIF('Bill of Materials'!$V$16:$V$200,A127,'Bill of Materials'!$J$16:$J$200)","v":{"v":0,"d":"0%"}},{"$error":"#DIV/0!"},{"$f":"SUMIFS('Bill of Materials'!$I$16:$I$200,'Bill of Materials'!$V$16:$V$200,A127,'Bill of Materials'!$W$16:$W$200,\"Grey\")/SUMIF('Bill of Materials'!$V$16:$V$200,A127,'Bill of Materials'!$I$16:$I$200)","v":{"$error":"#DIV/0!"}},{"$f":"IFERROR((SUMIFS('Bill of Materials'!$Y$16:$Y$200,'Bill of Materials'!$V$16:$V$200,A127,'Bill of Materials'!$W$16:$W$200,\"Grey\")/SUMIF('Bill of Materials'!$V$16:$V$200,A127,'Bill of Materials'!$Y$16:$Y$200)),\"\")","v":""},"",{"$f":"SUMIFS('Bill of Materials'!$I$16:$I$200,'Bill of Materials'!$V$16:$V$200,$A127,'Bill of Materials'!$W$16:$W$200,\"a\")/SUMIF('Bill of Materials'!$V$16:$V$200,$A127,'Bill of Materials'!$I$16:$I$200)","v":{"$error":"#DIV/0!"}},{"$f":"IFERROR((SUMIFS('Bill of Materials'!$Y$16:$Y$200,'Bill of Materials'!$V$16:$V$200,A127,'Bill of Materials'!$W$16:$W$200,\"a\")/SUMIF('Bill of Materials'!$V$16:$V$200,A127,'Bill of Materials'!$Y$16:$Y$200)),\"\")","v":""},"",{"$f":"SUMIFS('Bill of Materials'!$I$16:$I$200,'Bill of Materials'!$V$16:$V$200,$A127,'Bill of Materials'!$W$16:$W$200,\"b\")/SUMIF('Bill of Materials'!$V$16:$V$200,$A127,'Bill of Materials'!$I$16:$I$200)","v":{"$error":"#DIV/0!"}},{"$f":"IFERROR((SUMIFS('Bill of Materials'!$Y$16:$Y$200,'Bill of Materials'!$V$16:$V$200,$A127,'Bill of Materials'!$W$16:$W$200,\"b\")/SUMIF('Bill of Materials'!$V$16:$V$200,$A127,'Bill of Materials'!$Y$16:$Y$200)),\"\")","v":""},"",{"$error":"#DIV/0!"},"",{"$f":"SUMIFS('Bill of Materials'!$I$16:$I$200,'Bill of Materials'!$V$16:$V$200,$A127,'Bill of Materials'!$W$16:$W$200,\"c\")/SUMIF('Bill of Materials'!$V$16:$V$200,$A127,'Bill of Materials'!$I$16:$I$200)","v":{"$error":"#DIV/0!"}},{"$f":"IFERROR((SUMIFS('Bill of Materials'!$Y$16:$Y$200,'Bill of Materials'!$V$16:$V$200,$A127,'Bill of Materials'!$W$16:$W$200,\"c\")/SUMIF('Bill of Materials'!$V$16:$V$200,$A127,'Bill of Materials'!$Y$16:$Y$200)),\"\")","v":""},"",{"$f":"(SUMIFS('Bill of Materials'!$I$16:$I$200,'Bill of Materials'!$V$16:$V$200,$A127,'Bill of Materials'!$W$16:$W$200,\"x\")+SUMIFS('Bill of Materials'!$I$16:$I$200,'Bill of Materials'!$V$16:$V$200,$A127,'Bill of Materials'!$W$16:$W$200,\"x - CMR or SVHC\"))/SUMIF('Bill of Materials'!$V$16:$V$200,$A127,'Bill of Materials'!$I$16:$I$200)","v":{"$error":"#DIV/0!"}},{"$f":"IFERROR(((SUMIFS('Bill of Materials'!$Y$16:$Y$200,'Bill of Materials'!$V$16:$V$200,$A127,'Bill of Materials'!$W$16:$W$200,\"x\")+SUMIFS('Bill of Materials'!$Y$16:$Y$200,'Bill of Materials'!$V$16:$V$200,$A127,'Bill of Materials'!$W$16:$W$200,\"x - CMR or SVHC\"))/SUMIF('Bill of Materials'!$V$16:$V$200,$A127,'Bill of Materials'!$Y$16:$Y$200)),\"\")","v":""},"",{"$error":"#DIV/0!"},"","",""]
[119,{"$f":"SUMIF('Bill of Materials'!$V$16:$V$200,A128,'Bill of Materials'!$J$16:$J$200)","v":{"v":0,"d":"0%"}},{"$error":"#DIV/0!"},{"$f":"SUMIFS('Bill of Materials'!$I$16:$I$200,'Bill of Materials'!$V$16:$V$200,A128,'Bill of Materials'!$W$16:$W$200,\"Grey\")/SUMIF('Bill of Materials'!$V$16:$V$200,A128,'Bill of Materials'!$I$16:$I$200)","v":{"$error":"#DIV/0!"}},{"$f":"IFERROR((SUMIFS('Bill of Materials'!$Y$16:$Y$200,'Bill of Materials'!$V$16:$V$200,A128,'Bill of Materials'!$W$16:$W$200,\"Grey\")/SUMIF('Bill of Materials'!$V$16:$V$200,A128,'Bill of Materials'!$Y$16:$Y$200)),\"\")","v":""},"",{"$f":"SUMIFS('Bill of Materials'!$I$16:$I$200,'Bill of Materials'!$V$16:$V$200,$A128,'Bill of Materials'!$W$16:$W$200,\"a\")/SUMIF('Bill of Materials'!$V$16:$V$200,$A128,'Bill of Materials'!$I$16:$I$200)","v":{"$error":"#DIV/0!"}},{"$f":"IFERROR((SUMIFS('Bill of Materials'!$Y$16:$Y$200,'Bill of Materials'!$V$16:$V$200,A128,'Bill of Materials'!$W$16:$W$200,\"a\")/SUMIF('Bill of Materials'!$V$16:$V$200,A128,'Bill of Materials'!$Y$16:$Y$200)),\"\")","v":""},"",{"$f":"SUMIFS('Bill of Materials'!$I$16:$I$200,'Bill of Materials'!$V$16:$V$200,$A128,'Bill of Materials'!$W$16:$W$200,\"b\")/SUMIF('Bill of Materials'!$V$16:$V$200,$A128,'Bill of Materials'!$I$16:$I$200)","v":{"$error":"#DIV/0!"}},{"$f":"IFERROR((SUMIFS('Bill of Materials'!$Y$16:$Y$200,'Bill of Materials'!$V$16:$V$200,$A128,'Bill of Materials'!$W$16:$W$200,\"b\")/SUMIF('Bill of Materials'!$V$16:$V$200,$A128,'Bill of Materials'!$Y$16:$Y$200)),\"\")","v":""},"",{"$error":"#DIV/0!"},"",{"$f":"SUMIFS('Bill of Materials'!$I$16:$I$200,'Bill of Materials'!$V$16:$V$200,$A128,'Bill of Materials'!$W$16:$W$200,\"c\")/SUMIF('Bill of Materials'!$V$16:$V$200,$A128,'Bill of Materials'!$I$16:$I$200)","v":{"$error":"#DIV/0!"}},{"$f":"IFERROR((SUMIFS('Bill of Materials'!$Y$16:$Y$200,'Bill of Materials'!$V$16:$V$200,$A128,'Bill of Materials'!$W$16:$W$200,\"c\")/SUMIF('Bill of Materials'!$V$16:$V$200,$A128,'Bill of Materials'!$Y$16:$Y$200)),\"\")","v":""},"",{"$f":"(SUMIFS('Bill of Materials'!$I$16:$I$200,'Bill of Materials'!$V$16:$V$200,$A128,'Bill of Materials'!$W$16:$W$200,\"x\")+SUMIFS('Bill of Materials'!$I$16:$I$200,'Bill of Materials'!$V$16:$V$200,$A128,'Bill of Materials'!$W$16:$W$200,\"x - CMR or SVHC\"))/SUMIF('Bill of Materials'!$V$16:$V$200,$A128,'Bill of Materials'!$I$16:$I$200)","v":{"$error":"#DIV/0!"}},{"$f":"IFERROR(((SUMIFS('Bill of Materials'!$Y$16:$Y$200,'Bill of Materials'!$V$16:$V$200,$A128,'Bill of Materials'!$W$16:$W$200,\"x\")+SUMIFS('Bill of Materials'!$Y$16:$Y$200,'Bill of Materials'!$V$16:$V$200,$A128,'Bill of Materials'!$W$16:$W$200,\"x - CMR or SVHC\"))/SUMIF('Bill of Materials'!$V$16:$V$200,$A128,'Bill of Materials'!$Y$16:$Y$200)),\"\")","v":""},"",{"$error":"#DIV/0!"},"","",""]
[120,{"$f":"SUMIF('Bill of Materials'!$V$16:$V$200,A129,'Bill of Materials'!$J$16:$J$200)","v":{"v":0,"d":"0%"}},{"$error":"#DIV/0!"},{"$f":"SUMIFS('Bill of Materials'!$I$16:$I$200,'Bill of Materials'!$V$16:$V$200,A129,'Bill of Materials'!$W$16:$W$200,\"Grey\")/SUMIF('Bill of Materials'!$V$16:$V$200,A129,'Bill of Materials'!$I$16:$I$200)","v":{"$error":"#DIV/0!"}},{"$f":"IFERROR((SUMIFS('Bill of Materials'!$Y$16:$Y$200,'Bill of Materials'!$V$16:$V$200,A129,'Bill of Materials'!$W$16:$W$200,\"Grey\")/SUMIF('Bill of Materials'!$V$16:$V$200,A129,'Bill of Materials'!$Y$16:$Y$200)),\"\")","v":""},"",{"$f":"SUMIFS('Bill of Materials'!$I$16:$I$200,'Bill of Materials'!$V$16:$V$200,$A129,'Bill of Materials'!$W$16:$W$200,\"a\")/SUMIF('Bill of Materials'!$V$16:$V$200,$A129,'Bill of Materials'!$I$16:$I$200)","v":{"$error":"#DIV/0!"}},{"$f":"IFERROR((SUMIFS('Bill of Materials'!$Y$16:$Y$200,'Bill of Materials'!$V$16:$V$200,A129,'Bill of Materials'!$W$16:$W$200,\"a\")/SUMIF('Bill of Materials'!$V$16:$V$200,A129,'Bill of Materials'!$Y$16:$Y$200)),\"\")","v":""},"",{"$f":"SUMIFS('Bill of Materials'!$I$16:$I$200,'Bill of Materials'!$V$16:$V$200,$A129,'Bill of Materials'!$W$16:$W$200,\"b\")/SUMIF('Bill of Materials'!$V$16:$V$200,$A129,'Bill of Materials'!$I$16:$I$200)","v":{"$error":"#DIV/0!"}},{"$f":"IFERROR((SUMIFS('Bill of Materials'!$Y$16:$Y$200,'Bill of Materials'!$V$16:$V$200,$A129,'Bill of Materials'!$W$16:$W$200,\"b\")/SUMIF('Bill of Materials'!$V$16:$V$200,$A129,'Bill of Materials'!$Y$16:$Y$200)),\"\")","v":""},"",{"$error":"#DIV/0!"},"",{"$f":"SUMIFS('Bill of Materials'!$I$16:$I$200,'Bill of Materials'!$V$16:$V$200,$A129,'Bill of Materials'!$W$16:$W$200,\"c\")/SUMIF('Bill of Materials'!$V$16:$V$200,$A129,'Bill of Materials'!$I$16:$I$200)","v":{"$error":"#DIV/0!"}},{"$f":"IFERROR((SUMIFS('Bill of Materials'!$Y$16:$Y$200,'Bill of Materials'!$V$16:$V$200,$A129,'Bill of Materials'!$W$16:$W$200,\"c\")/SUMIF('Bill of Materials'!$V$16:$V$200,$A129,'Bill of Materials'!$Y$16:$Y$200)),\"\")","v":""},"",{"$f":"(SUMIFS('Bill of Materials'!$I$16:$I$200,'Bill of Materials'!$V$16:$V$200,$A129,'Bill of Materials'!$W$16:$W$200,\"x\")+SUMIFS('Bill of Materials'!$I$16:$I$200,'Bill of Materials'!$V$16:$V$200,$A129,'Bill of Materials'!$W$16:$W$200,\"x - CMR or SVHC\"))/SUMIF('Bill of Materials'!$V$16:$V$200,$A129,'Bill of Materials'!$I$16:$I$200)","v":{"$error":"#DIV/0!"}},{"$f":"IFERROR(((SUMIFS('Bill of Materials'!$Y$16:$Y$200,'Bill of Materials'!$V$16:$V$200,$A129,'Bill of Materials'!$W$16:$W$200,\"x\")+SUMIFS('Bill of Materials'!$Y$16:$Y$200,'Bill of Materials'!$V$16:$V$200,$A129,'Bill of Materials'!$W$16:$W$200,\"x - CMR or SVHC\"))/SUMIF('Bill of Materials'!$V$16:$V$200,$A129,'Bill of Materials'!$Y$16:$Y$200)),\"\")","v":""},"",{"$error":"#DIV/0!"},"","",""]
[121,{"$f":"SUMIF('Bill of Materials'!$V$16:$V$200,A130,'Bill of Materials'!$J$16:$J$200)","v":{"v":0,"d":"0%"}},{"$error":"#DIV/0!"},{"$f":"SUMIFS('Bill of Materials'!$I$16:$I$200,'Bill of Materials'!$V$16:$V$200,A130,'Bill of Materials'!$W$16:$W$200,\"Grey\")/SUMIF('Bill of Materials'!$V$16:$V$200,A130,'Bill of Materials'!$I$16:$I$200)","v":{"$error":"#DIV/0!"}},{"$f":"IFERROR((SUMIFS('Bill of Materials'!$Y$16:$Y$200,'Bill of Materials'!$V$16:$V$200,A130,'Bill of Materials'!$W$16:$W$200,\"Grey\")/SUMIF('Bill of Materials'!$V$16:$V$200,A130,'Bill of Materials'!$Y$16:$Y$200)),\"\")","v":""},"",{"$f":"SUMIFS('Bill of Materials'!$I$16:$I$200,'Bill of Materials'!$V$16:$V$200,$A130,'Bill of Materials'!$W$16:$W$200,\"a\")/SUMIF('Bill of Materials'!$V$16:$V$200,$A130,'Bill of Materials'!$I$16:$I$200)","v":{"$error":"#DIV/0!"}},{"$f":"IFERROR((SUMIFS('Bill of Materials'!$Y$16:$Y$200,'Bill of Materials'!$V$16:$V$200,A130,'Bill of Materials'!$W$16:$W$200,\"a\")/SUMIF('Bill of Materials'!$V$16:$V$200,A130,'Bill of Materials'!$Y$16:$Y$200)),\"\")","v":""},"",{"$f":"SUMIFS('Bill of Materials'!$I$16:$I$200,'Bill of Materials'!$V$16:$V$200,$A130,'Bill of Materials'!$W$16:$W$200,\"b\")/SUMIF('Bill of Materials'!$V$16:$V$200,$A130,'Bill of Materials'!$I$16:$I$200)","v":{"$error":"#DIV/0!"}},{"$f":"IFERROR((SUMIFS('Bill of Materials'!$Y$16:$Y$200,'Bill of Materials'!$V$16:$V$200,$A130,'Bill of Materials'!$W$16:$W$200,\"b\")/SUMIF('Bill of Materials'!$V$16:$V$200,$A130,'Bill of Materials'!$Y$16:$Y$200)),\"\")","v":""},"",{"$error":"#DIV/0!"},"",{"$f":"SUMIFS('Bill of Materials'!$I$16:$I$200,'Bill of Materials'!$V$16:$V$200,$A130,'Bill of Materials'!$W$16:$W$200,\"c\")/SUMIF('Bill of Materials'!$V$16:$V$200,$A130,'Bill of Materials'!$I$16:$I$200)","v":{"$error":"#DIV/0!"}},{"$f":"IFERROR((SUMIFS('Bill of Materials'!$Y$16:$Y$200,'Bill of Materials'!$V$16:$V$200,$A130,'Bill of Materials'!$W$16:$W$200,\"c\")/SUMIF('Bill of Materials'!$V$16:$V$200,$A130,'Bill of Materials'!$Y$16:$Y$200)),\"\")","v":""},"",{"$f":"(SUMIFS('Bill of Materials'!$I$16:$I$200,'Bill of Materials'!$V$16:$V$200,$A130,'Bill of Materials'!$W$16:$W$200,\"x\")+SUMIFS('Bill of Materials'!$I$16:$I$200,'Bill of Materials'!$V$16:$V$200,$A130,'Bill of Materials'!$W$16:$W$200,\"x - CMR or SVHC\"))/SUMIF('Bill of Materials'!$V$16:$V$200,$A130,'Bill of Materials'!$I$16:$I$200)","v":{"$error":"#DIV/0!"}},{"$f":"IFERROR(((SUMIFS('Bill of Materials'!$Y$16:$Y$200,'Bill of Materials'!$V$16:$V$200,$A130,'Bill of Materials'!$W$16:$W$200,\"x\")+SUMIFS('Bill of Materials'!$Y$16:$Y$200,'Bill of Materials'!$V$16:$V$200,$A130,'Bill of Materials'!$W$16:$W$200,\"x - CMR or SVHC\"))/SUMIF('Bill of Materials'!$V$16:$V$200,$A130,'Bill of Materials'!$Y$16:$Y$200)),\"\")","v":""},"",{"$error":"#DIV/0!"},"","",""]
[122,{"$f":"SUMIF('Bill of Materials'!$V$16:$V$200,A131,'Bill of Materials'!$J$16:$J$200)","v":{"v":0,"d":"0%"}},{"$error":"#DIV/0!"},{"$f":"SUMIFS('Bill of Materials'!$I$16:$I$200,'Bill of Materials'!$V$16:$V$200,A131,'Bill of Materials'!$W$16:$W$200,\"Grey\")/SUMIF('Bill of Materials'!$V$16:$V$200,A131,'Bill of Materials'!$I$16:$I$200)","v":{"$error":"#DIV/0!"}},{"$f":"IFERROR((SUMIFS('Bill of Materials'!$Y$16:$Y$200,'Bill of Materials'!$V$16:$V$200,A131,'Bill of Materials'!$W$16:$W$200,\"Grey\")/SUMIF('Bill of Materials'!$V$16:$V$200,A131,'Bill of Materials'!$Y$16:$Y$200)),\"\")","v":""},"",{"$f":"SUMIFS('Bill of Materials'!$I$16:$I$200,'Bill of Materials'!$V$16:$V$200,$A131,'Bill of Materials'!$W$16:$W$200,\"a\")/SUMIF('Bill of Materials'!$V$16:$V$200,$A131,'Bill of Materials'!$I$16:$I$200)","v":{"$error":"#DIV/0!"}},{"$f":"IFERROR((SUMIFS('Bill of Materials'!$Y$16:$Y$200,'Bill of Materials'!$V$16:$V$200,A131,'Bill of Materials'!$W$16:$W$200,\"a\")/SUMIF('Bill of Materials'!$V$16:$V$200,A131,'Bill of Materials'!$Y$16:$Y$200)),\"\")","v":""},"",{"$f":"SUMIFS('Bill of Materials'!$I$16:$I$200,'Bill of Materials'!$V$16:$V$200,$A131,'Bill of Materials'!$W$16:$W$200,\"b\")/SUMIF('Bill of Materials'!$V$16:$V$200,$A131,'Bill of Materials'!$I$16:$I$200)","v":{"$error":"#DIV/0!"}},{"$f":"IFERROR((SUMIFS('Bill of Materials'!$Y$16:$Y$200,'Bill of Materials'!$V$16:$V$200,$A131,'Bill of Materials'!$W$16:$W$200,\"b\")/SUMIF('Bill of Materials'!$V$16:$V$200,$A131,'Bill of Materials'!$Y$16:$Y$200)),\"\")","v":""},"",{"$error":"#DIV/0!"},"",{"$f":"SUMIFS('Bill of Materials'!$I$16:$I$200,'Bill of Materials'!$V$16:$V$200,$A131,'Bill of Materials'!$W$16:$W$200,\"c\")/SUMIF('Bill of Materials'!$V$16:$V$200,$A131,'Bill of Materials'!$I$16:$I$200)","v":{"$error":"#DIV/0!"}},{"$f":"IFERROR((SUMIFS('Bill of Materials'!$Y$16:$Y$200,'Bill of Materials'!$V$16:$V$200,$A131,'Bill of Materials'!$W$16:$W$200,\"c\")/SUMIF('Bill of Materials'!$V$16:$V$200,$A131,'Bill of Materials'!$Y$16:$Y$200)),\"\")","v":""},"",{"$f":"(SUMIFS('Bill of Materials'!$I$16:$I$200,'Bill of Materials'!$V$16:$V$200,$A131,'Bill of Materials'!$W$16:$W$200,\"x\")+SUMIFS('Bill of Materials'!$I$16:$I$200,'Bill of Materials'!$V$16:$V$200,$A131,'Bill of Materials'!$W$16:$W$200,\"x - CMR or SVHC\"))/SUMIF('Bill of Materials'!$V$16:$V$200,$A131,'Bill of Materials'!$I$16:$I$200)","v":{"$error":"#DIV/0!"}},{"$f":"IFERROR(((SUMIFS('Bill of Materials'!$Y$16:$Y$200,'Bill of Materials'!$V$16:$V$200,$A131,'Bill of Materials'!$W$16:$W$200,\"x\")+SUMIFS('Bill of Materials'!$Y$16:$Y$200,'Bill of Materials'!$V$16:$V$200,$A131,'Bill of Materials'!$W$16:$W$200,\"x - CMR or SVHC\"))/SUMIF('Bill of Materials'!$V$16:$V$200,$A131,'Bill of Materials'!$Y$16:$Y$200)),\"\")","v":""},"",{"$error":"#DIV/0!"},"","",""]
[123,{"$f":"SUMIF('Bill of Materials'!$V$16:$V$200,A132,'Bill of Materials'!$J$16:$J$200)","v":{"v":0,"d":"0%"}},{"$error":"#DIV/0!"},{"$f":"SUMIFS('Bill of Materials'!$I$16:$I$200,'Bill of Materials'!$V$16:$V$200,A132,'Bill of Materials'!$W$16:$W$200,\"Grey\")/SUMIF('Bill of Materials'!$V$16:$V$200,A132,'Bill of Materials'!$I$16:$I$200)","v":{"$error":"#DIV/0!"}},{"$f":"IFERROR((SUMIFS('Bill of Materials'!$Y$16:$Y$200,'Bill of Materials'!$V$16:$V$200,A132,'Bill of Materials'!$W$16:$W$200,\"Grey\")/SUMIF('Bill of Materials'!$V$16:$V$200,A132,'Bill of Materials'!$Y$16:$Y$200)),\"\")","v":""},"",{"$f":"SUMIFS('Bill of Materials'!$I$16:$I$200,'Bill of Materials'!$V$16:$V$200,$A132,'Bill of Materials'!$W$16:$W$200,\"a\")/SUMIF('Bill of Materials'!$V$16:$V$200,$A132,'Bill of Materials'!$I$16:$I$200)","v":{"$error":"#DIV/0!"}},{"$f":"IFERROR((SUMIFS('Bill of Materials'!$Y$16:$Y$200,'Bill of Materials'!$V$16:$V$200,A132,'Bill of Materials'!$W$16:$W$200,\"a\")/SUMIF('Bill of Materials'!$V$16:$V$200,A132,'Bill of Materials'!$Y$16:$Y$200)),\"\")","v":""},"",{"$f":"SUMIFS('Bill of Materials'!$I$16:$I$200,'Bill of Materials'!$V$16:$V$200,$A132,'Bill of Materials'!$W$16:$W$200,\"b\")/SUMIF('Bill of Materials'!$V$16:$V$200,$A132,'Bill of Materials'!$I$16:$I$200)","v":{"$error":"#DIV/0!"}},{"$f":"IFERROR((SUMIFS('Bill of Materials'!$Y$16:$Y$200,'Bill of Materials'!$V$16:$V$200,$A132,'Bill of Materials'!$W$16:$W$200,\"b\")/SUMIF('Bill of Materials'!$V$16:$V$200,$A132,'Bill of Materials'!$Y$16:$Y$200)),\"\")","v":""},"",{"$error":"#DIV/0!"},"",{"$f":"SUMIFS('Bill of Materials'!$I$16:$I$200,'Bill of Materials'!$V$16:$V$200,$A132,'Bill of Materials'!$W$16:$W$200,\"c\")/SUMIF('Bill of Materials'!$V$16:$V$200,$A132,'Bill of Materials'!$I$16:$I$200)","v":{"$error":"#DIV/0!"}},{"$f":"IFERROR((SUMIFS('Bill of Materials'!$Y$16:$Y$200,'Bill of Materials'!$V$16:$V$200,$A132,'Bill of Materials'!$W$16:$W$200,\"c\")/SUMIF('Bill of Materials'!$V$16:$V$200,$A132,'Bill of Materials'!$Y$16:$Y$200)),\"\")","v":""},"",{"$f":"(SUMIFS('Bill of Materials'!$I$16:$I$200,'Bill of Materials'!$V$16:$V$200,$A132,'Bill of Materials'!$W$16:$W$200,\"x\")+SUMIFS('Bill of Materials'!$I$16:$I$200,'Bill of Materials'!$V$16:$V$200,$A132,'Bill of Materials'!$W$16:$W$200,\"x - CMR or SVHC\"))/SUMIF('Bill of Materials'!$V$16:$V$200,$A132,'Bill of Materials'!$I$16:$I$200)","v":{"$error":"#DIV/0!"}},{"$f":"IFERROR(((SUMIFS('Bill of Materials'!$Y$16:$Y$200,'Bill of Materials'!$V$16:$V$200,$A132,'Bill of Materials'!$W$16:$W$200,\"x\")+SUMIFS('Bill of Materials'!$Y$16:$Y$200,'Bill of Materials'!$V$16:$V$200,$A132,'Bill of Materials'!$W$16:$W$200,\"x - CMR or SVHC\"))/SUMIF('Bill of Materials'!$V$16:$V$200,$A132,'Bill of Materials'!$Y$16:$Y$200)),\"\")","v":""},"",{"$error":"#DIV/0!"},"","",""]
[124,{"$f":"SUMIF('Bill of Materials'!$V$16:$V$200,A133,'Bill of Materials'!$J$16:$J$200)","v":{"v":0,"d":"0%"}},{"$error":"#DIV/0!"},{"$f":"SUMIFS('Bill of Materials'!$I$16:$I$200,'Bill of Materials'!$V$16:$V$200,A133,'Bill of Materials'!$W$16:$W$200,\"Grey\")/SUMIF('Bill of Materials'!$V$16:$V$200,A133,'Bill of Materials'!$I$16:$I$200)","v":{"$error":"#DIV/0!"}},{"$f":"IFERROR((SUMIFS('Bill of Materials'!$Y$16:$Y$200,'Bill of Materials'!$V$16:$V$200,A133,'Bill of Materials'!$W$16:$W$200,\"Grey\")/SUMIF('Bill of Materials'!$V$16:$V$200,A133,'Bill of Materials'!$Y$16:$Y$200)),\"\")","v":""},"",{"$f":"SUMIFS('Bill of Materials'!$I$16:$I$200,'Bill of Materials'!$V$16:$V$200,$A133,'Bill of Materials'!$W$16:$W$200,\"a\")/SUMIF('Bill of Materials'!$V$16:$V$200,$A133,'Bill of Materials'!$I$16:$I$200)","v":{"$error":"#DIV/0!"}},{"$f":"IFERROR((SUMIFS('Bill of Materials'!$Y$16:$Y$200,'Bill of Materials'!$V$16:$V$200,A133,'Bill of Materials'!$W$16:$W$200,\"a\")/SUMIF('Bill of Materials'!$V$16:$V$200,A133,'Bill of Materials'!$Y$16:$Y$200)),\"\")","v":""},"",{"$f":"SUMIFS('Bill of Materials'!$I$16:$I$200,'Bill of Materials'!$V$16:$V$200,$A133,'Bill of Materials'!$W$16:$W$200,\"b\")/SUMIF('Bill of Materials'!$V$16:$V$200,$A133,'Bill of Materials'!$I$16:$I$200)","v":{"$error":"#DIV/0!"}},{"$f":"IFERROR((SUMIFS('Bill of Materials'!$Y$16:$Y$200,'Bill of Materials'!$V$16:$V$200,$A133,'Bill of Materials'!$W$16:$W$200,\"b\")/SUMIF('Bill of Materials'!$V$16:$V$200,$A133,'Bill of Materials'!$Y$16:$Y$200)),\"\")","v":""},"",{"$error":"#DIV/0!"},"",{"$f":"SUMIFS('Bill of Materials'!$I$16:$I$200,'Bill of Materials'!$V$16:$V$200,$A133,'Bill of Materials'!$W$16:$W$200,\"c\")/SUMIF('Bill of Materials'!$V$16:$V$200,$A133,'Bill of Materials'!$I$16:$I$200)","v":{"$error":"#DIV/0!"}},{"$f":"IFERROR((SUMIFS('Bill of Materials'!$Y$16:$Y$200,'Bill of Materials'!$V$16:$V$200,$A133,'Bill of Materials'!$W$16:$W$200,\"c\")/SUMIF('Bill of Materials'!$V$16:$V$200,$A133,'Bill of Materials'!$Y$16:$Y$200)),\"\")","v":""},"",{"$f":"(SUMIFS('Bill of Materials'!$I$16:$I$200,'Bill of Materials'!$V$16:$V$200,$A133,'Bill of Materials'!$W$16:$W$200,\"x\")+SUMIFS('Bill of Materials'!$I$16:$I$200,'Bill of Materials'!$V$16:$V$200,$A133,'Bill of Materials'!$W$16:$W$200,\"x - CMR or SVHC\"))/SUMIF('Bill of Materials'!$V$16:$V$200,$A133,'Bill of Materials'!$I$16:$I$200)","v":{"$error":"#DIV/0!"}},{"$f":"IFERROR(((SUMIFS('Bill of Materials'!$Y$16:$Y$200,'Bill of Materials'!$V$16:$V$200,$A133,'Bill of Materials'!$W$16:$W$200,\"x\")+SUMIFS('Bill of Materials'!$Y$16:$Y$200,'Bill of Materials'!$V$16:$V$200,$A133,'Bill of Materials'!$W$16:$W$200,\"x - CMR or SVHC\"))/SUMIF('Bill of Materials'!$V$16:$V$200,$A133,'Bill of Materials'!$Y$16:$Y$200)),\"\")","v":""},"",{"$error":"#DIV/0!"},"","",""]
[125,{"$f":"SUMIF('Bill of Materials'!$V$16:$V$200,A134,'Bill of Materials'!$J$16:$J$200)","v":{"v":0,"d":"0%"}},{"$error":"#DIV/0!"},{"$f":"SUMIFS('Bill of Materials'!$I$16:$I$200,'Bill of Materials'!$V$16:$V$200,A134,'Bill of Materials'!$W$16:$W$200,\"Grey\")/SUMIF('Bill of Materials'!$V$16:$V$200,A134,'Bill of Materials'!$I$16:$I$200)","v":{"$error":"#DIV/0!"}},{"$f":"IFERROR((SUMIFS('Bill of Materials'!$Y$16:$Y$200,'Bill of Materials'!$V$16:$V$200,A134,'Bill of Materials'!$W$16:$W$200,\"Grey\")/SUMIF('Bill of Materials'!$V$16:$V$200,A134,'Bill of Materials'!$Y$16:$Y$200)),\"\")","v":""},"",{"$f":"SUMIFS('Bill of Materials'!$I$16:$I$200,'Bill of Materials'!$V$16:$V$200,$A134,'Bill of Materials'!$W$16:$W$200,\"a\")/SUMIF('Bill of Materials'!$V$16:$V$200,$A134,'Bill of Materials'!$I$16:$I$200)","v":{"$error":"#DIV/0!"}},{"$f":"IFERROR((SUMIFS('Bill of Materials'!$Y$16:$Y$200,'Bill of Materials'!$V$16:$V$200,A134,'Bill of Materials'!$W$16:$W$200,\"a\")/SUMIF('Bill of Materials'!$V$16:$V$200,A134,'Bill of Materials'!$Y$16:$Y$200)),\"\")","v":""},"",{"$f":"SUMIFS('Bill of Materials'!$I$16:$I$200,'Bill of Materials'!$V$16:$V$200,$A134,'Bill of Materials'!$W$16:$W$200,\"b\")/SUMIF('Bill of Materials'!$V$16:$V$200,$A134,'Bill of Materials'!$I$16:$I$200)","v":{"$error":"#DIV/0!"}},{"$f":"IFERROR((SUMIFS('Bill of Materials'!$Y$16:$Y$200,'Bill of Materials'!$V$16:$V$200,$A134,'Bill of Materials'!$W$16:$W$200,\"b\")/SUMIF('Bill of Materials'!$V$16:$V$200,$A134,'Bill of Materials'!$Y$16:$Y$200)),\"\")","v":""},"",{"$error":"#DIV/0!"},"",{"$f":"SUMIFS('Bill of Materials'!$I$16:$I$200,'Bill of Materials'!$V$16:$V$200,$A134,'Bill of Materials'!$W$16:$W$200,\"c\")/SUMIF('Bill of Materials'!$V$16:$V$200,$A134,'Bill of Materials'!$I$16:$I$200)","v":{"$error":"#DIV/0!"}},{"$f":"IFERROR((SUMIFS('Bill of Materials'!$Y$16:$Y$200,'Bill of Materials'!$V$16:$V$200,$A134,'Bill of Materials'!$W$16:$W$200,\"c\")/SUMIF('Bill of Materials'!$V$16:$V$200,$A134,'Bill of Materials'!$Y$16:$Y$200)),\"\")","v":""},"",{"$f":"(SUMIFS('Bill of Materials'!$I$16:$I$200,'Bill of Materials'!$V$16:$V$200,$A134,'Bill of Materials'!$W$16:$W$200,\"x\")+SUMIFS('Bill of Materials'!$I$16:$I$200,'Bill of Materials'!$V$16:$V$200,$A134,'Bill of Materials'!$W$16:$W$200,\"x - CMR or SVHC\"))/SUMIF('Bill of Materials'!$V$16:$V$200,$A134,'Bill of Materials'!$I$16:$I$200)","v":{"$error":"#DIV/0!"}},{"$f":"IFERROR(((SUMIFS('Bill of Materials'!$Y$16:$Y$200,'Bill of Materials'!$V$16:$V$200,$A134,'Bill of Materials'!$W$16:$W$200,\"x\")+SUMIFS('Bill of Materials'!$Y$16:$Y$200,'Bill of Materials'!$V$16:$V$200,$A134,'Bill of Materials'!$W$16:$W$200,\"x - CMR or SVHC\"))/SUMIF('Bill of Materials'!$V$16:$V$200,$A134,'Bill of Materials'!$Y$16:$Y$200)),\"\")","v":""},"",{"$error":"#DIV/0!"},"","",""]
[126,{"$f":"SUMIF('Bill of Materials'!$V$16:$V$200,A135,'Bill of Materials'!$J$16:$J$200)","v":{"v":0,"d":"0%"}},{"$error":"#DIV/0!"},{"$f":"SUMIFS('Bill of Materials'!$I$16:$I$200,'Bill of Materials'!$V$16:$V$200,A135,'Bill of Materials'!$W$16:$W$200,\"Grey\")/SUMIF('Bill of Materials'!$V$16:$V$200,A135,'Bill of Materials'!$I$16:$I$200)","v":{"$error":"#DIV/0!"}},{"$f":"IFERROR((SUMIFS('Bill of Materials'!$Y$16:$Y$200,'Bill of Materials'!$V$16:$V$200,A135,'Bill of Materials'!$W$16:$W$200,\"Grey\")/SUMIF('Bill of Materials'!$V$16:$V$200,A135,'Bill of Materials'!$Y$16:$Y$200)),\"\")","v":""},"",{"$f":"SUMIFS('Bill of Materials'!$I$16:$I$200,'Bill of Materials'!$V$16:$V$200,$A135,'Bill of Materials'!$W$16:$W$200,\"a\")/SUMIF('Bill of Materials'!$V$16:$V$200,$A135,'Bill of Materials'!$I$16:$I$200)","v":{"$error":"#DIV/0!"}},{"$f":"IFERROR((SUMIFS('Bill of Materials'!$Y$16:$Y$200,'Bill of Materials'!$V$16:$V$200,A135,'Bill of Materials'!$W$16:$W$200,\"a\")/SUMIF('Bill of Materials'!$V$16:$V$200,A135,'Bill of Materials'!$Y$16:$Y$200)),\"\")","v":""},"",{"$f":"SUMIFS('Bill of Materials'!$I$16:$I$200,'Bill of Materials'!$V$16:$V$200,$A135,'Bill of Materials'!$W$16:$W$200,\"b\")/SUMIF('Bill of Materials'!$V$16:$V$200,$A135,'Bill of Materials'!$I$16:$I$200)","v":{"$error":"#DIV/0!"}},{"$f":"IFERROR((SUMIFS('Bill of Materials'!$Y$16:$Y$200,'Bill of Materials'!$V$16:$V$200,$A135,'Bill of Materials'!$W$16:$W$200,\"b\")/SUMIF('Bill of Materials'!$V$16:$V$200,$A135,'Bill of Materials'!$Y$16:$Y$200)),\"\")","v":""},"",{"$error":"#DIV/0!"},"",{"$f":"SUMIFS('Bill of Materials'!$I$16:$I$200,'Bill of Materials'!$V$16:$V$200,$A135,'Bill of Materials'!$W$16:$W$200,\"c\")/SUMIF('Bill of Materials'!$V$16:$V$200,$A135,'Bill of Materials'!$I$16:$I$200)","v":{"$error":"#DIV/0!"}},{"$f":"IFERROR((SUMIFS('Bill of Materials'!$Y$16:$Y$200,'Bill of Materials'!$V$16:$V$200,$A135,'Bill of Materials'!$W$16:$W$200,\"c\")/SUMIF('Bill of Materials'!$V$16:$V$200,$A135,'Bill of Materials'!$Y$16:$Y$200)),\"\")","v":""},"",{"$f":"(SUMIFS('Bill of Materials'!$I$16:$I$200,'Bill of Materials'!$V$16:$V$200,$A135,'Bill of Materials'!$W$16:$W$200,\"x\")+SUMIFS('Bill of Materials'!$I$16:$I$200,'Bill of Materials'!$V$16:$V$200,$A135,'Bill of Materials'!$W$16:$W$200,\"x - CMR or SVHC\"))/SUMIF('Bill of Materials'!$V$16:$V$200,$A135,'Bill of Materials'!$I$16:$I$200)","v":{"$error":"#DIV/0!"}},{"$f":"IFERROR(((SUMIFS('Bill of Materials'!$Y$16:$Y$200,'Bill of Materials'!$V$16:$V$200,$A135,'Bill of Materials'!$W$16:$W$200,\"x\")+SUMIFS('Bill of Materials'!$Y$16:$Y$200,'Bill of Materials'!$V$16:$V$200,$A135,'Bill of Materials'!$W$16:$W$200,\"x - CMR or SVHC\"))/SUMIF('Bill of Materials'!$V$16:$V$200,$A135,'Bill of Materials'!$Y$16:$Y$200)),\"\")","v":""},"",{"$error":"#DIV/0!"},"","",""]
[127,{"$f":"SUMIF('Bill of Materials'!$V$16:$V$200,A136,'Bill of Materials'!$J$16:$J$200)","v":{"v":0,"d":"0%"}},{"$error":"#DIV/0!"},{"$f":"SUMIFS('Bill of Materials'!$I$16:$I$200,'Bill of Materials'!$V$16:$V$200,A136,'Bill of Materials'!$W$16:$W$200,\"Grey\")/SUMIF('Bill of Materials'!$V$16:$V$200,A136,'Bill of Materials'!$I$16:$I$200)","v":{"$error":"#DIV/0!"}},{"$f":"IFERROR((SUMIFS('Bill of Materials'!$Y$16:$Y$200,'Bill of Materials'!$V$16:$V$200,A136,'Bill of Materials'!$W$16:$W$200,\"Grey\")/SUMIF('Bill of Materials'!$V$16:$V$200,A136,'Bill of Materials'!$Y$16:$Y$200)),\"\")","v":""},"",{"$f":"SUMIFS('Bill of Materials'!$I$16:$I$200,'Bill of Materials'!$V$16:$V$200,$A136,'Bill of Materials'!$W$16:$W$200,\"a\")/SUMIF('Bill of Materials'!$V$16:$V$200,$A136,'Bill of Materials'!$I$16:$I$200)","v":{"$error":"#DIV/0!"}},{"$f":"IFERROR((SUMIFS('Bill of Materials'!$Y$16:$Y$200,'Bill of Materials'!$V$16:$V$200,A136,'Bill of Materials'!$W$16:$W$200,\"a\")/SUMIF('Bill of Materials'!$V$16:$V$200,A136,'Bill of Materials'!$Y$16:$Y$200)),\"\")","v":""},"",{"$f":"SUMIFS('Bill of Materials'!$I$16:$I$200,'Bill of Materials'!$V$16:$V$200,$A136,'Bill of Materials'!$W$16:$W$200,\"b\")/SUMIF('Bill of Materials'!$V$16:$V$200,$A136,'Bill of Materials'!$I$16:$I$200)","v":{"$error":"#DIV/0!"}},{"$f":"IFERROR((SUMIFS('Bill of Materials'!$Y$16:$Y$200,'Bill of Materials'!$V$16:$V$200,$A136,'Bill of Materials'!$W$16:$W$200,\"b\")/SUMIF('Bill of Materials'!$V$16:$V$200,$A136,'Bill of Materials'!$Y$16:$Y$200)),\"\")","v":""},"",{"$error":"#DIV/0!"},"",{"$f":"SUMIFS('Bill of Materials'!$I$16:$I$200,'Bill of Materials'!$V$16:$V$200,$A136,'Bill of Materials'!$W$16:$W$200,\"c\")/SUMIF('Bill of Materials'!$V$16:$V$200,$A136,'Bill of Materials'!$I$16:$I$200)","v":{"$error":"#DIV/0!"}},{"$f":"IFERROR((SUMIFS('Bill of Materials'!$Y$16:$Y$200,'Bill of Materials'!$V$16:$V$200,$A136,'Bill of Materials'!$W$16:$W$200,\"c\")/SUMIF('Bill of Materials'!$V$16:$V$200,$A136,'Bill of Materials'!$Y$16:$Y$200)),\"\")","v":""},"",{"$f":"(SUMIFS('Bill of Materials'!$I$16:$I$200,'Bill of Materials'!$V$16:$V$200,$A136,'Bill of Materials'!$W$16:$W$200,\"x\")+SUMIFS('Bill of Materials'!$I$16:$I$200,'Bill of Materials'!$V$16:$V$200,$A136,'Bill of Materials'!$W$16:$W$200,\"x - CMR or SVHC\"))/SUMIF('Bill of Materials'!$V$16:$V$200,$A136,'Bill of Materials'!$I$16:$I$200)","v":{"$error":"#DIV/0!"}},{"$f":"IFERROR(((SUMIFS('Bill of Materials'!$Y$16:$Y$200,'Bill of Materials'!$V$16:$V$200,$A136,'Bill of Materials'!$W$16:$W$200,\"x\")+SUMIFS('Bill of Materials'!$Y$16:$Y$200,'Bill of Materials'!$V$16:$V$200,$A136,'Bill of Materials'!$W$16:$W$200,\"x - CMR or SVHC\"))/SUMIF('Bill of Materials'!$V$16:$V$200,$A136,'Bill of Materials'!$Y$16:$Y$200)),\"\")","v":""},"",{"$error":"#DIV/0!"},"","",""]
[128,{"$f":"SUMIF('Bill of Materials'!$V$16:$V$200,A137,'Bill of Materials'!$J$16:$J$200)","v":{"v":0,"d":"0%"}},{"$error":"#DIV/0!"},{"$f":"SUMIFS('Bill of Materials'!$I$16:$I$200,'Bill of Materials'!$V$16:$V$200,A137,'Bill of Materials'!$W$16:$W$200,\"Grey\")/SUMIF('Bill of Materials'!$V$16:$V$200,A137,'Bill of Materials'!$I$16:$I$200)","v":{"$error":"#DIV/0!"}},{"$f":"IFERROR((SUMIFS('Bill of Materials'!$Y$16:$Y$200,'Bill of Materials'!$V$16:$V$200,A137,'Bill of Materials'!$W$16:$W$200,\"Grey\")/SUMIF('Bill of Materials'!$V$16:$V$200,A137,'Bill of Materials'!$Y$16:$Y$200)),\"\")","v":""},"",{"$f":"SUMIFS('Bill of Materials'!$I$16:$I$200,'Bill of Materials'!$V$16:$V$200,$A137,'Bill of Materials'!$W$16:$W$200,\"a\")/SUMIF('Bill of Materials'!$V$16:$V$200,$A137,'Bill of Materials'!$I$16:$I$200)","v":{"$error":"#DIV/0!"}},{"$f":"IFERROR((SUMIFS('Bill of Materials'!$Y$16:$Y$200,'Bill of Materials'!$V$16:$V$200,A137,'Bill of Materials'!$W$16:$W$200,\"a\")/SUMIF('Bill of Materials'!$V$16:$V$200,A137,'Bill of Materials'!$Y$16:$Y$200)),\"\")","v":""},"",{"$f":"SUMIFS('Bill of Materials'!$I$16:$I$200,'Bill of Materials'!$V$16:$V$200,$A137,'Bill of Materials'!$W$16:$W$200,\"b\")/SUMIF('Bill of Materials'!$V$16:$V$200,$A137,'Bill of Materials'!$I$16:$I$200)","v":{"$error":"#DIV/0!"}},{"$f":"IFERROR((SUMIFS('Bill of Materials'!$Y$16:$Y$200,'Bill of Materials'!$V$16:$V$200,$A137,'Bill of Materials'!$W$16:$W$200,\"b\")/SUMIF('Bill of Materials'!$V$16:$V$200,$A137,'Bill of Materials'!$Y$16:$Y$200)),\"\")","v":""},"",{"$error":"#DIV/0!"},"",{"$f":"SUMIFS('Bill of Materials'!$I$16:$I$200,'Bill of Materials'!$V$16:$V$200,$A137,'Bill of Materials'!$W$16:$W$200,\"c\")/SUMIF('Bill of Materials'!$V$16:$V$200,$A137,'Bill of Materials'!$I$16:$I$200)","v":{"$error":"#DIV/0!"}},{"$f":"IFERROR((SUMIFS('Bill of Materials'!$Y$16:$Y$200,'Bill of Materials'!$V$16:$V$200,$A137,'Bill of Materials'!$W$16:$W$200,\"c\")/SUMIF('Bill of Materials'!$V$16:$V$200,$A137,'Bill of Materials'!$Y$16:$Y$200)),\"\")","v":""},"",{"$f":"(SUMIFS('Bill of Materials'!$I$16:$I$200,'Bill of Materials'!$V$16:$V$200,$A137,'Bill of Materials'!$W$16:$W$200,\"x\")+SUMIFS('Bill of Materials'!$I$16:$I$200,'Bill of Materials'!$V$16:$V$200,$A137,'Bill of Materials'!$W$16:$W$200,\"x - CMR or SVHC\"))/SUMIF('Bill of Materials'!$V$16:$V$200,$A137,'Bill of Materials'!$I$16:$I$200)","v":{"$error":"#DIV/0!"}},{"$f":"IFERROR(((SUMIFS('Bill of Materials'!$Y$16:$Y$200,'Bill of Materials'!$V$16:$V$200,$A137,'Bill of Materials'!$W$16:$W$200,\"x\")+SUMIFS('Bill of Materials'!$Y$16:$Y$200,'Bill of Materials'!$V$16:$V$200,$A137,'Bill of Materials'!$W$16:$W$200,\"x - CMR or SVHC\"))/SUMIF('Bill of Materials'!$V$16:$V$200,$A137,'Bill of Materials'!$Y$16:$Y$200)),\"\")","v":""},"",{"$error":"#DIV/0!"},"","",""]
[129,{"$f":"SUMIF('Bill of Materials'!$V$16:$V$200,A138,'Bill of Materials'!$J$16:$J$200)","v":{"v":0,"d":"0%"}},{"$error":"#DIV/0!"},{"$f":"SUMIFS('Bill of Materials'!$I$16:$I$200,'Bill of Materials'!$V$16:$V$200,A138,'Bill of Materials'!$W$16:$W$200,\"Grey\")/SUMIF('Bill of Materials'!$V$16:$V$200,A138,'Bill of Materials'!$I$16:$I$200)","v":{"$error":"#DIV/0!"}},{"$f":"IFERROR((SUMIFS('Bill of Materials'!$Y$16:$Y$200,'Bill of Materials'!$V$16:$V$200,A138,'Bill of Materials'!$W$16:$W$200,\"Grey\")/SUMIF('Bill of Materials'!$V$16:$V$200,A138,'Bill of Materials'!$Y$16:$Y$200)),\"\")","v":""},"",{"$f":"SUMIFS('Bill of Materials'!$I$16:$I$200,'Bill of Materials'!$V$16:$V$200,$A138,'Bill of Materials'!$W$16:$W$200,\"a\")/SUMIF('Bill of Materials'!$V$16:$V$200,$A138,'Bill of Materials'!$I$16:$I$200)","v":{"$error":"#DIV/0!"}},{"$f":"IFERROR((SUMIFS('Bill of Materials'!$Y$16:$Y$200,'Bill of Materials'!$V$16:$V$200,A138,'Bill of Materials'!$W$16:$W$200,\"a\")/SUMIF('Bill of Materials'!$V$16:$V$200,A138,'Bill of Materials'!$Y$16:$Y$200)),\"\")","v":""},"",{"$f":"SUMIFS('Bill of Materials'!$I$16:$I$200,'Bill of Materials'!$V$16:$V$200,$A138,'Bill of Materials'!$W$16:$W$200,\"b\")/SUMIF('Bill of Materials'!$V$16:$V$200,$A138,'Bill of Materials'!$I$16:$I$200)","v":{"$error":"#DIV/0!"}},{"$f":"IFERROR((SUMIFS('Bill of Materials'!$Y$16:$Y$200,'Bill of Materials'!$V$16:$V$200,$A138,'Bill of Materials'!$W$16:$W$200,\"b\")/SUMIF('Bill of Materials'!$V$16:$V$200,$A138,'Bill of Materials'!$Y$16:$Y$200)),\"\")","v":""},"",{"$error":"#DIV/0!"},"",{"$f":"SUMIFS('Bill of Materials'!$I$16:$I$200,'Bill of Materials'!$V$16:$V$200,$A138,'Bill of Materials'!$W$16:$W$200,\"c\")/SUMIF('Bill of Materials'!$V$16:$V$200,$A138,'Bill of Materials'!$I$16:$I$200)","v":{"$error":"#DIV/0!"}},{"$f":"IFERROR((SUMIFS('Bill of Materials'!$Y$16:$Y$200,'Bill of Materials'!$V$16:$V$200,$A138,'Bill of Materials'!$W$16:$W$200,\"c\")/SUMIF('Bill of Materials'!$V$16:$V$200,$A138,'Bill of Materials'!$Y$16:$Y$200)),\"\")","v":""},"",{"$f":"(SUMIFS('Bill of Materials'!$I$16:$I$200,'Bill of Materials'!$V$16:$V$200,$A138,'Bill of Materials'!$W$16:$W$200,\"x\")+SUMIFS('Bill of Materials'!$I$16:$I$200,'Bill of Materials'!$V$16:$V$200,$A138,'Bill of Materials'!$W$16:$W$200,\"x - CMR or SVHC\"))/SUMIF('Bill of Materials'!$V$16:$V$200,$A138,'Bill of Materials'!$I$16:$I$200)","v":{"$error":"#DIV/0!"}},{"$f":"IFERROR(((SUMIFS('Bill of Materials'!$Y$16:$Y$200,'Bill of Materials'!$V$16:$V$200,$A138,'Bill of Materials'!$W$16:$W$200,\"x\")+SUMIFS('Bill of Materials'!$Y$16:$Y$200,'Bill of Materials'!$V$16:$V$200,$A138,'Bill of Materials'!$W$16:$W$200,\"x - CMR or SVHC\"))/SUMIF('Bill of Materials'!$V$16:$V$200,$A138,'Bill of Materials'!$Y$16:$Y$200)),\"\")","v":""},"",{"$error":"#DIV/0!"},"","",""]
[130,{"$f":"SUMIF('Bill of Materials'!$V$16:$V$200,A139,'Bill of Materials'!$J$16:$J$200)","v":{"v":0,"d":"0%"}},{"$f":"IF(AND(D139=0,N139<>\"\",N139<M139,R139=0),\"number\",IF(AND(E139<>\"\",E139>D139),\"number\",\"weight\"))","v":{"$error":"#DIV/0!"}},{"$f":"SUMIFS('Bill of Materials'!$I$16:$I$200,'Bill of Materials'!$V$16:$V$200,A139,'Bill of Materials'!$W$16:$W$200,\"Grey\")/SUMIF('Bill of Materials'!$V$16:$V$200,A139,'Bill of Materials'!$I$16:$I$200)","v":{"$error":"#DIV/0!"}},{"$f":"IFERROR((SUMIFS('Bill of Materials'!$Y$16:$Y$200,'Bill of Materials'!$V$16:$V$200,A139,'Bill of Materials'!$W$16:$W$200,\"Grey\")/SUMIF('Bill of Materials'!$V$16:$V$200,A139,'Bill of Materials'!$Y$16:$Y$200)),\"\")","v":""},{"$f":"IFERROR((IF($C139=\"weight\",D139*$B139,E139*$B139)),\"\")","v":""},{"$f":"SUMIFS('Bill of Materials'!$I$16:$I$200,'Bill of Materials'!$V$16:$V$200,$A139,'Bill of Materials'!$W$16:$W$200,\"a\")/SUMIF('Bill of Materials'!$V$16:$V$200,$A139,'Bill of Materials'!$I$16:$I$200)","v":{"$error":"#DIV/0!"}},{"$f":"IFERROR((SUMIFS('Bill of Materials'!$Y$16:$Y$200,'Bill of Materials'!$V$16:$V$200,A139,'Bill of Materials'!$W$16:$W$200,\"a\")/SUMIF('Bill of Materials'!$V$16:$V$200,A139,'Bill of Materials'!$Y$16:$Y$200)),\"\")","v":""},{"$f":"IFERROR((IF($C139=\"weight\",G139*$B139,H139*$B139)),\"\")","v":""},{"$f":"SUMIFS('Bill of Materials'!$I$16:$I$200,'Bill of Materials'!$V$16:$V$200,$A139,'Bill of Materials'!$W$16:$W$200,\"b\")/SUMIF('Bill of Materials'!$V$16:$V$200,$A139,'Bill of Materials'!$I$16:$I$200)","v":{"$error":"#DIV/0!"}},{"$f":"IFERROR((SUMIFS('Bill of Materials'!$Y$16:$Y$200,'Bill of Materials'!$V$16:$V$200,$A139,'Bill of Materials'!$W$16:$W$200,\"b\")/SUMIF('Bill of Materials'!$V$16:$V$200,$A139,'Bill of Materials'!$Y$16:$Y$200)),\"\")","v":""},{"$f":"IFERROR((IF($C139=\"weight\",J139*$B139,K139*$B139)),\"\")","v":""},{"$f":"G139+J139","v":{"$error":"#DIV/0!"}},{"$f":"IF(AND(H139=\"\",K139=\"\"),\"\",H139+K139)","v":""},{"$f":"SUMIFS('Bill of Materials'!$I$16:$I$200,'Bill of Materials'!$V$16:$V$200,$A139,'Bill of Materials'!$W$16:$W$200,\"c\")/SUMIF('Bill of Materials'!$V$16:$V$200,$A139,'Bill of Materials'!$I$16:$I$200)","v":{"$error":"#DIV/0!"}},{"$f":"IFERROR((SUMIFS('Bill of Materials'!$Y$16:$Y$200,'Bill of Materials'!$V$16:$V$200,$A139,'Bill of Materials'!$W$16:$W$200,\"c\")/SUMIF('Bill of Materials'!$V$16:$V$200,$A139,'Bill of Materials'!$Y$16:$Y$200)),\"\")","v":""},{"$f":"IFERROR((IF($C139=\"weight\",O139*$B139,P139*$B139)),\"\")","v":""},{"$f":"(SUMIFS('Bill of Materials'!$I$16:$I$200,'Bill of Materials'!$V$16:$V$200,$A139,'Bill of Materials'!$W$16:$W$200,\"x\")+SUMIFS('Bill of Materials'!$I$16:$I$200,'Bill of Materials'!$V$16:$V$200,$A139,'Bill of Materials'!$W$16:$W$200,\"x - CMR or SVHC\"))/SUMIF('Bill of Materials'!$V$16:$V$200,$A139,'Bill of Materials'!$I$16:$I$200)","v":{"$error":"#DIV/0!"}},{"$f":"IFERROR(((SUMIFS('Bill of Materials'!$Y$16:$Y$200,'Bill of Materials'!$V$16:$V$200,$A139,'Bill of Materials'!$W$16:$W$200,\"x\")+SUMIFS('Bill of Materials'!$Y$16:$Y$200,'Bill of Materials'!$V$16:$V$200,$A139,'Bill of Materials'!$W$16:$W$200,\"x - CMR or SVHC\"))/SUMIF('Bill of Materials'!$V$16:$V$200,$A139,'Bill of Materials'!$Y$16:$Y$200)),\"\")","v":""},{"$f":"IFERROR((IF($C139=\"weight\",R139*$B139,S139*$B139)),\"\")","v":""},{"$f":"(1-D139)-(G139+J139+O139+R139)","v":{"$error":"#DIV/0!"}},{"$f":"IF(E139=\"\",\"\",((1-E139)-(H139+K139+P139+S139)))","v":""},{"$f":"IFERROR((IF($C139=\"weight\",U139*$B139,V139*$B139)),\"\")","v":""},{"$f":"IFERROR((IF(C139=\"number\",((H139+K139+P139+S139+V139)*B139),((G139+J139+O139+R139+U139)*B139))),\"\")","v":""}]
[131,{"$f":"SUMIF('Bill of Materials'!$V$16:$V$200,A140,'Bill of Materials'!$J$16:$J$200)","v":{"v":0,"d":"0%"}},{"$error":"#DIV/0!"},{"$f":"SUMIFS('Bill of Materials'!$I$16:$I$200,'Bill of Materials'!$V$16:$V$200,A140,'Bill of Materials'!$W$16:$W$200,\"Grey\")/SUMIF('Bill of Materials'!$V$16:$V$200,A140,'Bill of Materials'!$I$16:$I$200)","v":{"$error":"#DIV/0!"}},{"$f":"IFERROR((SUMIFS('Bill of Materials'!$Y$16:$Y$200,'Bill of Materials'!$V$16:$V$200,A140,'Bill of Materials'!$W$16:$W$200,\"Grey\")/SUMIF('Bill of Materials'!$V$16:$V$200,A140,'Bill of Materials'!$Y$16:$Y$200)),\"\")","v":""},"",{"$f":"SUMIFS('Bill of Materials'!$I$16:$I$200,'Bill of Materials'!$V$16:$V$200,$A140,'Bill of Materials'!$W$16:$W$200,\"a\")/SUMIF('Bill of Materials'!$V$16:$V$200,$A140,'Bill of Materials'!$I$16:$I$200)","v":{"$error":"#DIV/0!"}},{"$f":"IFERROR((SUMIFS('Bill of Materials'!$Y$16:$Y$200,'Bill of Materials'!$V$16:$V$200,A140,'Bill of Materials'!$W$16:$W$200,\"a\")/SUMIF('Bill of Materials'!$V$16:$V$200,A140,'Bill of Materials'!$Y$16:$Y$200)),\"\")","v":""},"",{"$f":"SUMIFS('Bill of Materials'!$I$16:$I$200,'Bill of Materials'!$V$16:$V$200,$A140,'Bill of Materials'!$W$16:$W$200,\"b\")/SUMIF('Bill of Materials'!$V$16:$V$200,$A140,'Bill of Materials'!$I$16:$I$200)","v":{"$error":"#DIV/0!"}},{"$f":"IFERROR((SUMIFS('Bill of Materials'!$Y$16:$Y$200,'Bill of Materials'!$V$16:$V$200,$A140,'Bill of Materials'!$W$16:$W$200,\"b\")/SUMIF('Bill of Materials'!$V$16:$V$200,$A140,'Bill of Materials'!$Y$16:$Y$200)),\"\")","v":""},"",{"$error":"#DIV/0!"},"",{"$f":"SUMIFS('Bill of Materials'!$I$16:$I$200,'Bill of Materials'!$V$16:$V$200,$A140,'Bill of Materials'!$W$16:$W$200,\"c\")/SUMIF('Bill of Materials'!$V$16:$V$200,$A140,'Bill of Materials'!$I$16:$I$200)","v":{"$error":"#DIV/0!"}},{"$f":"IFERROR((SUMIFS('Bill of Materials'!$Y$16:$Y$200,'Bill of Materials'!$V$16:$V$200,$A140,'Bill of Materials'!$W$16:$W$200,\"c\")/SUMIF('Bill of Materials'!$V$16:$V$200,$A140,'Bill of Materials'!$Y$16:$Y$200)),\"\")","v":""},"",{"$f":"(SUMIFS('Bill of Materials'!$I$16:$I$200,'Bill of Materials'!$V$16:$V$200,$A140,'Bill of Materials'!$W$16:$W$200,\"x\")+SUMIFS('Bill of Materials'!$I$16:$I$200,'Bill of Materials'!$V$16:$V$200,$A140,'Bill of Materials'!$W$16:$W$200,\"x - CMR or SVHC\"))/SUMIF('Bill of Materials'!$V$16:$V$200,$A140,'Bill of Materials'!$I$16:$I$200)","v":{"$error":"#DIV/0!"}},{"$f":"IFERROR(((SUMIFS('Bill of Materials'!$Y$16:$Y$200,'Bill of Materials'!$V$16:$V$200,$A140,'Bill of Materials'!$W$16:$W$200,\"x\")+SUMIFS('Bill of Materials'!$Y$16:$Y$200,'Bill of Materials'!$V$16:$V$200,$A140,'Bill of Materials'!$W$16:$W$200,\"x - CMR or SVHC\"))/SUMIF('Bill of Materials'!$V$16:$V$200,$A140,'Bill of Materials'!$Y$16:$Y$200)),\"\")","v":""},"",{"$error":"#DIV/0!"},"","",""]
[132,{"$f":"SUMIF('Bill of Materials'!$V$16:$V$200,A141,'Bill of Materials'!$J$16:$J$200)","v":{"v":0,"d":"0%"}},{"$error":"#DIV/0!"},{"$f":"SUMIFS('Bill of Materials'!$I$16:$I$200,'Bill of Materials'!$V$16:$V$200,A141,'Bill of Materials'!$W$16:$W$200,\"Grey\")/SUMIF('Bill of Materials'!$V$16:$V$200,A141,'Bill of Materials'!$I$16:$I$200)","v":{"$error":"#DIV/0!"}},{"$f":"IFERROR((SUMIFS('Bill of Materials'!$Y$16:$Y$200,'Bill of Materials'!$V$16:$V$200,A141,'Bill of Materials'!$W$16:$W$200,\"Grey\")/SUMIF('Bill of Materials'!$V$16:$V$200,A141,'Bill of Materials'!$Y$16:$Y$200)),\"\")","v":""},"",{"$f":"SUMIFS('Bill of Materials'!$I$16:$I$200,'Bill of Materials'!$V$16:$V$200,$A141,'Bill of Materials'!$W$16:$W$200,\"a\")/SUMIF('Bill of Materials'!$V$16:$V$200,$A141,'Bill of Materials'!$I$16:$I$200)","v":{"$error":"#DIV/0!"}},{"$f":"IFERROR((SUMIFS('Bill of Materials'!$Y$16:$Y$200,'Bill of Materials'!$V$16:$V$200,A141,'Bill of Materials'!$W$16:$W$200,\"a\")/SUMIF('Bill of Materials'!$V$16:$V$200,A141,'Bill of Materials'!$Y$16:$Y$200)),\"\")","v":""},"",{"$f":"SUMIFS('Bill of Materials'!$I$16:$I$200,'Bill of Materials'!$V$16:$V$200,$A141,'Bill of Materials'!$W$16:$W$200,\"b\")/SUMIF('Bill of Materials'!$V$16:$V$200,$A141,'Bill of Materials'!$I$16:$I$200)","v":{"$error":"#DIV/0!"}},{"$f":"IFERROR((SUMIFS('Bill of Materials'!$Y$16:$Y$200,'Bill of Materials'!$V$16:$V$200,$A141,'Bill of Materials'!$W$16:$W$200,\"b\")/SUMIF('Bill of Materials'!$V$16:$V$200,$A141,'Bill of Materials'!$Y$16:$Y$200)),\"\")","v":""},"",{"$error":"#DIV/0!"},"",{"$f":"SUMIFS('Bill of Materials'!$I$16:$I$200,'Bill of Materials'!$V$16:$V$200,$A141,'Bill of Materials'!$W$16:$W$200,\"c\")/SUMIF('Bill of Materials'!$V$16:$V$200,$A141,'Bill of Materials'!$I$16:$I$200)","v":{"$error":"#DIV/0!"}},{"$f":"IFERROR((SUMIFS('Bill of Materials'!$Y$16:$Y$200,'Bill of Materials'!$V$16:$V$200,$A141,'Bill of Materials'!$W$16:$W$200,\"c\")/SUMIF('Bill of Materials'!$V$16:$V$200,$A141,'Bill of Materials'!$Y$16:$Y$200)),\"\")","v":""},"",{"$f":"(SUMIFS('Bill of Materials'!$I$16:$I$200,'Bill of Materials'!$V$16:$V$200,$A141,'Bill of Materials'!$W$16:$W$200,\"x\")+SUMIFS('Bill of Materials'!$I$16:$I$200,'Bill of Materials'!$V$16:$V$200,$A141,'Bill of Materials'!$W$16:$W$200,\"x - CMR or SVHC\"))/SUMIF('Bill of Materials'!$V$16:$V$200,$A141,'Bill of Materials'!$I$16:$I$200)","v":{"$error":"#DIV/0!"}},{"$f":"IFERROR(((SUMIFS('Bill of Materials'!$Y$16:$Y$200,'Bill of Materials'!$V$16:$V$200,$A141,'Bill of Materials'!$W$16:$W$200,\"x\")+SUMIFS('Bill of Materials'!$Y$16:$Y$200,'Bill of Materials'!$V$16:$V$200,$A141,'Bill of Materials'!$W$16:$W$200,\"x - CMR or SVHC\"))/SUMIF('Bill of Materials'!$V$16:$V$200,$A141,'Bill of Materials'!$Y$16:$Y$200)),\"\")","v":""},"",{"$error":"#DIV/0!"},"","",""]
[133,{"$f":"SUMIF('Bill of Materials'!$V$16:$V$200,A142,'Bill of Materials'!$J$16:$J$200)","v":{"v":0,"d":"0%"}},{"$error":"#DIV/0!"},{"$f":"SUMIFS('Bill of Materials'!$I$16:$I$200,'Bill of Materials'!$V$16:$V$200,A142,'Bill of Materials'!$W$16:$W$200,\"Grey\")/SUMIF('Bill of Materials'!$V$16:$V$200,A142,'Bill of Materials'!$I$16:$I$200)","v":{"$error":"#DIV/0!"}},{"$f":"IFERROR((SUMIFS('Bill of Materials'!$Y$16:$Y$200,'Bill of Materials'!$V$16:$V$200,A142,'Bill of Materials'!$W$16:$W$200,\"Grey\")/SUMIF('Bill of Materials'!$V$16:$V$200,A142,'Bill of Materials'!$Y$16:$Y$200)),\"\")","v":""},"",{"$f":"SUMIFS('Bill of Materials'!$I$16:$I$200,'Bill of Materials'!$V$16:$V$200,$A142,'Bill of Materials'!$W$16:$W$200,\"a\")/SUMIF('Bill of Materials'!$V$16:$V$200,$A142,'Bill of Materials'!$I$16:$I$200)","v":{"$error":"#DIV/0!"}},{"$f":"IFERROR((SUMIFS('Bill of Materials'!$Y$16:$Y$200,'Bill of Materials'!$V$16:$V$200,A142,'Bill of Materials'!$W$16:$W$200,\"a\")/SUMIF('Bill of Materials'!$V$16:$V$200,A142,'Bill of Materials'!$Y$16:$Y$200)),\"\")","v":""},"",{"$f":"SUMIFS('Bill of Materials'!$I$16:$I$200,'Bill of Materials'!$V$16:$V$200,$A142,'Bill of Materials'!$W$16:$W$200,\"b\")/SUMIF('Bill of Materials'!$V$16:$V$200,$A142,'Bill of Materials'!$I$16:$I$200)","v":{"$error":"#DIV/0!"}},{"$f":"IFERROR((SUMIFS('Bill of Materials'!$Y$16:$Y$200,'Bill of Materials'!$V$16:$V$200,$A142,'Bill of Materials'!$W$16:$W$200,\"b\")/SUMIF('Bill of Materials'!$V$16:$V$200,$A142,'Bill of Materials'!$Y$16:$Y$200)),\"\")","v":""},"",{"$error":"#DIV/0!"},"",{"$f":"SUMIFS('Bill of Materials'!$I$16:$I$200,'Bill of Materials'!$V$16:$V$200,$A142,'Bill of Materials'!$W$16:$W$200,\"c\")/SUMIF('Bill of Materials'!$V$16:$V$200,$A142,'Bill of Materials'!$I$16:$I$200)","v":{"$error":"#DIV/0!"}},{"$f":"IFERROR((SUMIFS('Bill of Materials'!$Y$16:$Y$200,'Bill of Materials'!$V$16:$V$200,$A142,'Bill of Materials'!$W$16:$W$200,\"c\")/SUMIF('Bill of Materials'!$V$16:$V$200,$A142,'Bill of Materials'!$Y$16:$Y$200)),\"\")","v":""},"",{"$f":"(SUMIFS('Bill of Materials'!$I$16:$I$200,'Bill of Materials'!$V$16:$V$200,$A142,'Bill of Materials'!$W$16:$W$200,\"x\")+SUMIFS('Bill of Materials'!$I$16:$I$200,'Bill of Materials'!$V$16:$V$200,$A142,'Bill of Materials'!$W$16:$W$200,\"x - CMR or SVHC\"))/SUMIF('Bill of Materials'!$V$16:$V$200,$A142,'Bill of Materials'!$I$16:$I$200)","v":{"$error":"#DIV/0!"}},{"$f":"IFERROR(((SUMIFS('Bill of Materials'!$Y$16:$Y$200,'Bill of Materials'!$V$16:$V$200,$A142,'Bill of Materials'!$W$16:$W$200,\"x\")+SUMIFS('Bill of Materials'!$Y$16:$Y$200,'Bill of Materials'!$V$16:$V$200,$A142,'Bill of Materials'!$W$16:$W$200,\"x - CMR or SVHC\"))/SUMIF('Bill of Materials'!$V$16:$V$200,$A142,'Bill of Materials'!$Y$16:$Y$200)),\"\")","v":""},"",{"$error":"#DIV/0!"},"","",""]
[134,{"$f":"SUMIF('Bill of Materials'!$V$16:$V$200,A143,'Bill of Materials'!$J$16:$J$200)","v":{"v":0,"d":"0%"}},{"$error":"#DIV/0!"},{"$f":"SUMIFS('Bill of Materials'!$I$16:$I$200,'Bill of Materials'!$V$16:$V$200,A143,'Bill of Materials'!$W$16:$W$200,\"Grey\")/SUMIF('Bill of Materials'!$V$16:$V$200,A143,'Bill of Materials'!$I$16:$I$200)","v":{"$error":"#DIV/0!"}},{"$f":"IFERROR((SUMIFS('Bill of Materials'!$Y$16:$Y$200,'Bill of Materials'!$V$16:$V$200,A143,'Bill of Materials'!$W$16:$W$200,\"Grey\")/SUMIF('Bill of Materials'!$V$16:$V$200,A143,'Bill of Materials'!$Y$16:$Y$200)),\"\")","v":""},"",{"$f":"SUMIFS('Bill of Materials'!$I$16:$I$200,'Bill of Materials'!$V$16:$V$200,$A143,'Bill of Materials'!$W$16:$W$200,\"a\")/SUMIF('Bill of Materials'!$V$16:$V$200,$A143,'Bill of Materials'!$I$16:$I$200)","v":{"$error":"#DIV/0!"}},{"$f":"IFERROR((SUMIFS('Bill of Materials'!$Y$16:$Y$200,'Bill of Materials'!$V$16:$V$200,A143,'Bill of Materials'!$W$16:$W$200,\"a\")/SUMIF('Bill of Materials'!$V$16:$V$200,A143,'Bill of Materials'!$Y$16:$Y$200)),\"\")","v":""},"",{"$f":"SUMIFS('Bill of Materials'!$I$16:$I$200,'Bill of Materials'!$V$16:$V$200,$A143,'Bill of Materials'!$W$16:$W$200,\"b\")/SUMIF('Bill of Materials'!$V$16:$V$200,$A143,'Bill of Materials'!$I$16:$I$200)","v":{"$error":"#DIV/0!"}},{"$f":"IFERROR((SUMIFS('Bill of Materials'!$Y$16:$Y$200,'Bill of Materials'!$V$16:$V$200,$A143,'Bill of Materials'!$W$16:$W$200,\"b\")/SUMIF('Bill of Materials'!$V$16:$V$200,$A143,'Bill of Materials'!$Y$16:$Y$200)),\"\")","v":""},"",{"$error":"#DIV/0!"},"",{"$f":"SUMIFS('Bill of Materials'!$I$16:$I$200,'Bill of Materials'!$V$16:$V$200,$A143,'Bill of Materials'!$W$16:$W$200,\"c\")/SUMIF('Bill of Materials'!$V$16:$V$200,$A143,'Bill of Materials'!$I$16:$I$200)","v":{"$error":"#DIV/0!"}},{"$f":"IFERROR((SUMIFS('Bill of Materials'!$Y$16:$Y$200,'Bill of Materials'!$V$16:$V$200,$A143,'Bill of Materials'!$W$16:$W$200,\"c\")/SUMIF('Bill of Materials'!$V$16:$V$200,$A143,'Bill of Materials'!$Y$16:$Y$200)),\"\")","v":""},"",{"$f":"(SUMIFS('Bill of Materials'!$I$16:$I$200,'Bill of Materials'!$V$16:$V$200,$A143,'Bill of Materials'!$W$16:$W$200,\"x\")+SUMIFS('Bill of Materials'!$I$16:$I$200,'Bill of Materials'!$V$16:$V$200,$A143,'Bill of Materials'!$W$16:$W$200,\"x - CMR or SVHC\"))/SUMIF('Bill of Materials'!$V$16:$V$200,$A143,'Bill of Materials'!$I$16:$I$200)","v":{"$error":"#DIV/0!"}},{"$f":"IFERROR(((SUMIFS('Bill of Materials'!$Y$16:$Y$200,'Bill of Materials'!$V$16:$V$200,$A143,'Bill of Materials'!$W$16:$W$200,\"x\")+SUMIFS('Bill of Materials'!$Y$16:$Y$200,'Bill of Materials'!$V$16:$V$200,$A143,'Bill of Materials'!$W$16:$W$200,\"x - CMR or SVHC\"))/SUMIF('Bill of Materials'!$V$16:$V$200,$A143,'Bill of Materials'!$Y$16:$Y$200)),\"\")","v":""},"",{"$error":"#DIV/0!"},"","",""]
[135,{"$f":"SUMIF('Bill of Materials'!$V$16:$V$200,A144,'Bill of Materials'!$J$16:$J$200)","v":{"v":0,"d":"0%"}},{"$error":"#DIV/0!"},{"$f":"SUMIFS('Bill of Materials'!$I$16:$I$200,'Bill of Materials'!$V$16:$V$200,A144,'Bill of Materials'!$W$16:$W$200,\"Grey\")/SUMIF('Bill of Materials'!$V$16:$V$200,A144,'Bill of Materials'!$I$16:$I$200)","v":{"$error":"#DIV/0!"}},{"$f":"IFERROR((SUMIFS('Bill of Materials'!$Y$16:$Y$200,'Bill of Materials'!$V$16:$V$200,A144,'Bill of Materials'!$W$16:$W$200,\"Grey\")/SUMIF('Bill of Materials'!$V$16:$V$200,A144,'Bill of Materials'!$Y$16:$Y$200)),\"\")","v":""},"",{"$f":"SUMIFS('Bill of Materials'!$I$16:$I$200,'Bill of Materials'!$V$16:$V$200,$A144,'Bill of Materials'!$W$16:$W$200,\"a\")/SUMIF('Bill of Materials'!$V$16:$V$200,$A144,'Bill of Materials'!$I$16:$I$200)","v":{"$error":"#DIV/0!"}},{"$f":"IFERROR((SUMIFS('Bill of Materials'!$Y$16:$Y$200,'Bill of Materials'!$V$16:$V$200,A144,'Bill of Materials'!$W$16:$W$200,\"a\")/SUMIF('Bill of Materials'!$V$16:$V$200,A144,'Bill of Materials'!$Y$16:$Y$200)),\"\")","v":""},"",{"$f":"SUMIFS('Bill of Materials'!$I$16:$I$200,'Bill of Materials'!$V$16:$V$200,$A144,'Bill of Materials'!$W$16:$W$200,\"b\")/SUMIF('Bill of Materials'!$V$16:$V$200,$A144,'Bill of Materials'!$I$16:$I$200)","v":{"$error":"#DIV/0!"}},{"$f":"IFERROR((SUMIFS('Bill of Materials'!$Y$16:$Y$200,'Bill of Materials'!$V$16:$V$200,$A144,'Bill of Materials'!$W$16:$W$200,\"b\")/SUMIF('Bill of Materials'!$V$16:$V$200,$A144,'Bill of Materials'!$Y$16:$Y$200)),\"\")","v":""},"",{"$error":"#DIV/0!"},"",{"$f":"SUMIFS('Bill of Materials'!$I$16:$I$200,'Bill of Materials'!$V$16:$V$200,$A144,'Bill of Materials'!$W$16:$W$200,\"c\")/SUMIF('Bill of Materials'!$V$16:$V$200,$A144,'Bill of Materials'!$I$16:$I$200)","v":{"$error":"#DIV/0!"}},{"$f":"IFERROR((SUMIFS('Bill of Materials'!$Y$16:$Y$200,'Bill of Materials'!$V$16:$V$200,$A144,'Bill of Materials'!$W$16:$W$200,\"c\")/SUMIF('Bill of Materials'!$V$16:$V$200,$A144,'Bill of Materials'!$Y$16:$Y$200)),\"\")","v":""},"",{"$f":"(SUMIFS('Bill of Materials'!$I$16:$I$200,'Bill of Materials'!$V$16:$V$200,$A144,'Bill of Materials'!$W$16:$W$200,\"x\")+SUMIFS('Bill of Materials'!$I$16:$I$200,'Bill of Materials'!$V$16:$V$200,$A144,'Bill of Materials'!$W$16:$W$200,\"x - CMR or SVHC\"))/SUMIF('Bill of Materials'!$V$16:$V$200,$A144,'Bill of Materials'!$I$16:$I$200)","v":{"$error":"#DIV/0!"}},{"$f":"IFERROR(((SUMIFS('Bill of Materials'!$Y$16:$Y$200,'Bill of Materials'!$V$16:$V$200,$A144,'Bill of Materials'!$W$16:$W$200,\"x\")+SUMIFS('Bill of Materials'!$Y$16:$Y$200,'Bill of Materials'!$V$16:$V$200,$A144,'Bill of Materials'!$W$16:$W$200,\"x - CMR or SVHC\"))/SUMIF('Bill of Materials'!$V$16:$V$200,$A144,'Bill of Materials'!$Y$16:$Y$200)),\"\")","v":""},"",{"$error":"#DIV/0!"},"","",""]
[136,{"$f":"SUMIF('Bill of Materials'!$V$16:$V$200,A145,'Bill of Materials'!$J$16:$J$200)","v":{"v":0,"d":"0%"}},{"$error":"#DIV/0!"},{"$f":"SUMIFS('Bill of Materials'!$I$16:$I$200,'Bill of Materials'!$V$16:$V$200,A145,'Bill of Materials'!$W$16:$W$200,\"Grey\")/SUMIF('Bill of Materials'!$V$16:$V$200,A145,'Bill of Materials'!$I$16:$I$200)","v":{"$error":"#DIV/0!"}},{"$f":"IFERROR((SUMIFS('Bill of Materials'!$Y$16:$Y$200,'Bill of Materials'!$V$16:$V$200,A145,'Bill of Materials'!$W$16:$W$200,\"Grey\")/SUMIF('Bill of Materials'!$V$16:$V$200,A145,'Bill of Materials'!$Y$16:$Y$200)),\"\")","v":""},"",{"$f":"SUMIFS('Bill of Materials'!$I$16:$I$200,'Bill of Materials'!$V$16:$V$200,$A145,'Bill of Materials'!$W$16:$W$200,\"a\")/SUMIF('Bill of Materials'!$V$16:$V$200,$A145,'Bill of Materials'!$I$16:$I$200)","v":{"$error":"#DIV/0!"}},{"$f":"IFERROR((SUMIFS('Bill of Materials'!$Y$16:$Y$200,'Bill of Materials'!$V$16:$V$200,A145,'Bill of Materials'!$W$16:$W$200,\"a\")/SUMIF('Bill of Materials'!$V$16:$V$200,A145,'Bill of Materials'!$Y$16:$Y$200)),\"\")","v":""},"",{"$f":"SUMIFS('Bill of Materials'!$I$16:$I$200,'Bill of Materials'!$V$16:$V$200,$A145,'Bill of Materials'!$W$16:$W$200,\"b\")/SUMIF('Bill of Materials'!$V$16:$V$200,$A145,'Bill of Materials'!$I$16:$I$200)","v":{"$error":"#DIV/0!"}},{"$f":"IFERROR((SUMIFS('Bill of Materials'!$Y$16:$Y$200,'Bill of Materials'!$V$16:$V$200,$A145,'Bill of Materials'!$W$16:$W$200,\"b\")/SUMIF('Bill of Materials'!$V$16:$V$200,$A145,'Bill of Materials'!$Y$16:$Y$200)),\"\")","v":""},"",{"$error":"#DIV/0!"},"",{"$f":"SUMIFS('Bill of Materials'!$I$16:$I$200,'Bill of Materials'!$V$16:$V$200,$A145,'Bill of Materials'!$W$16:$W$200,\"c\")/SUMIF('Bill of Materials'!$V$16:$V$200,$A145,'Bill of Materials'!$I$16:$I$200)","v":{"$error":"#DIV/0!"}},{"$f":"IFERROR((SUMIFS('Bill of Materials'!$Y$16:$Y$200,'Bill of Materials'!$V$16:$V$200,$A145,'Bill of Materials'!$W$16:$W$200,\"c\")/SUMIF('Bill of Materials'!$V$16:$V$200,$A145,'Bill of Materials'!$Y$16:$Y$200)),\"\")","v":""},"",{"$f":"(SUMIFS('Bill of Materials'!$I$16:$I$200,'Bill of Materials'!$V$16:$V$200,$A145,'Bill of Materials'!$W$16:$W$200,\"x\")+SUMIFS('Bill of Materials'!$I$16:$I$200,'Bill of Materials'!$V$16:$V$200,$A145,'Bill of Materials'!$W$16:$W$200,\"x - CMR or SVHC\"))/SUMIF('Bill of Materials'!$V$16:$V$200,$A145,'Bill of Materials'!$I$16:$I$200)","v":{"$error":"#DIV/0!"}},{"$f":"IFERROR(((SUMIFS('Bill of Materials'!$Y$16:$Y$200,'Bill of Materials'!$V$16:$V$200,$A145,'Bill of Materials'!$W$16:$W$200,\"x\")+SUMIFS('Bill of Materials'!$Y$16:$Y$200,'Bill of Materials'!$V$16:$V$200,$A145,'Bill of Materials'!$W$16:$W$200,\"x - CMR or SVHC\"))/SUMIF('Bill of Materials'!$V$16:$V$200,$A145,'Bill of Materials'!$Y$16:$Y$200)),\"\")","v":""},"",{"$error":"#DIV/0!"},"","",""]
[137,{"$f":"SUMIF('Bill of Materials'!$V$16:$V$200,A146,'Bill of Materials'!$J$16:$J$200)","v":{"v":0,"d":"0%"}},{"$error":"#DIV/0!"},{"$f":"SUMIFS('Bill of Materials'!$I$16:$I$200,'Bill of Materials'!$V$16:$V$200,A146,'Bill of Materials'!$W$16:$W$200,\"Grey\")/SUMIF('Bill of Materials'!$V$16:$V$200,A146,'Bill of Materials'!$I$16:$I$200)","v":{"$error":"#DIV/0!"}},{"$f":"IFERROR((SUMIFS('Bill of Materials'!$Y$16:$Y$200,'Bill of Materials'!$V$16:$V$200,A146,'Bill of Materials'!$W$16:$W$200,\"Grey\")/SUMIF('Bill of Materials'!$V$16:$V$200,A146,'Bill of Materials'!$Y$16:$Y$200)),\"\")","v":""},"",{"$f":"SUMIFS('Bill of Materials'!$I$16:$I$200,'Bill of Materials'!$V$16:$V$200,$A146,'Bill of Materials'!$W$16:$W$200,\"a\")/SUMIF('Bill of Materials'!$V$16:$V$200,$A146,'Bill of Materials'!$I$16:$I$200)","v":{"$error":"#DIV/0!"}},{"$f":"IFERROR((SUMIFS('Bill of Materials'!$Y$16:$Y$200,'Bill of Materials'!$V$16:$V$200,A146,'Bill of Materials'!$W$16:$W$200,\"a\")/SUMIF('Bill of Materials'!$V$16:$V$200,A146,'Bill of Materials'!$Y$16:$Y$200)),\"\")","v":""},"",{"$f":"SUMIFS('Bill of Materials'!$I$16:$I$200,'Bill of Materials'!$V$16:$V$200,$A146,'Bill of Materials'!$W$16:$W$200,\"b\")/SUMIF('Bill of Materials'!$V$16:$V$200,$A146,'Bill of Materials'!$I$16:$I$200)","v":{"$error":"#DIV/0!"}},{"$f":"IFERROR((SUMIFS('Bill of Materials'!$Y$16:$Y$200,'Bill of Materials'!$V$16:$V$200,$A146,'Bill of Materials'!$W$16:$W$200,\"b\")/SUMIF('Bill of Materials'!$V$16:$V$200,$A146,'Bill of Materials'!$Y$16:$Y$200)),\"\")","v":""},"",{"$error":"#DIV/0!"},"",{"$f":"SUMIFS('Bill of Materials'!$I$16:$I$200,'Bill of Materials'!$V$16:$V$200,$A146,'Bill of Materials'!$W$16:$W$200,\"c\")/SUMIF('Bill of Materials'!$V$16:$V$200,$A146,'Bill of Materials'!$I$16:$I$200)","v":{"$error":"#DIV/0!"}},{"$f":"IFERROR((SUMIFS('Bill of Materials'!$Y$16:$Y$200,'Bill of Materials'!$V$16:$V$200,$A146,'Bill of Materials'!$W$16:$W$200,\"c\")/SUMIF('Bill of Materials'!$V$16:$V$200,$A146,'Bill of Materials'!$Y$16:$Y$200)),\"\")","v":""},"",{"$f":"(SUMIFS('Bill of Materials'!$I$16:$I$200,'Bill of Materials'!$V$16:$V$200,$A146,'Bill of Materials'!$W$16:$W$200,\"x\")+SUMIFS('Bill of Materials'!$I$16:$I$200,'Bill of Materials'!$V$16:$V$200,$A146,'Bill of Materials'!$W$16:$W$200,\"x - CMR or SVHC\"))/SUMIF('Bill of Materials'!$V$16:$V$200,$A146,'Bill of Materials'!$I$16:$I$200)","v":{"$error":"#DIV/0!"}},{"$f":"IFERROR(((SUMIFS('Bill of Materials'!$Y$16:$Y$200,'Bill of Materials'!$V$16:$V$200,$A146,'Bill of Materials'!$W$16:$W$200,\"x\")+SUMIFS('Bill of Materials'!$Y$16:$Y$200,'Bill of Materials'!$V$16:$V$200,$A146,'Bill of Materials'!$W$16:$W$200,\"x - CMR or SVHC\"))/SUMIF('Bill of Materials'!$V$16:$V$200,$A146,'Bill of Materials'!$Y$16:$Y$200)),\"\")","v":""},"",{"$error":"#DIV/0!"},"","",""]
[138,{"$f":"SUMIF('Bill of Materials'!$V$16:$V$200,A147,'Bill of Materials'!$J$16:$J$200)","v":{"v":0,"d":"0%"}},{"$error":"#DIV/0!"},{"$f":"SUMIFS('Bill of Materials'!$I$16:$I$200,'Bill of Materials'!$V$16:$V$200,A147,'Bill of Materials'!$W$16:$W$200,\"Grey\")/SUMIF('Bill of Materials'!$V$16:$V$200,A147,'Bill of Materials'!$I$16:$I$200)","v":{"$error":"#DIV/0!"}},{"$f":"IFERROR((SUMIFS('Bill of Materials'!$Y$16:$Y$200,'Bill of Materials'!$V$16:$V$200,A147,'Bill of Materials'!$W$16:$W$200,\"Grey\")/SUMIF('Bill of Materials'!$V$16:$V$200,A147,'Bill of Materials'!$Y$16:$Y$200)),\"\")","v":""},"",{"$f":"SUMIFS('Bill of Materials'!$I$16:$I$200,'Bill of Materials'!$V$16:$V$200,$A147,'Bill of Materials'!$W$16:$W$200,\"a\")/SUMIF('Bill of Materials'!$V$16:$V$200,$A147,'Bill of Materials'!$I$16:$I$200)","v":{"$error":"#DIV/0!"}},{"$f":"IFERROR((SUMIFS('Bill of Materials'!$Y$16:$Y$200,'Bill of Materials'!$V$16:$V$200,A147,'Bill of Materials'!$W$16:$W$200,\"a\")/SUMIF('Bill of Materials'!$V$16:$V$200,A147,'Bill of Materials'!$Y$16:$Y$200)),\"\")","v":""},"",{"$f":"SUMIFS('Bill of Materials'!$I$16:$I$200,'Bill of Materials'!$V$16:$V$200,$A147,'Bill of Materials'!$W$16:$W$200,\"b\")/SUMIF('Bill of Materials'!$V$16:$V$200,$A147,'Bill of Materials'!$I$16:$I$200)","v":{"$error":"#DIV/0!"}},{"$f":"IFERROR((SUMIFS('Bill of Materials'!$Y$16:$Y$200,'Bill of Materials'!$V$16:$V$200,$A147,'Bill of Materials'!$W$16:$W$200,\"b\")/SUMIF('Bill of Materials'!$V$16:$V$200,$A147,'Bill of Materials'!$Y$16:$Y$200)),\"\")","v":""},"",{"$error":"#DIV/0!"},"",{"$f":"SUMIFS('Bill of Materials'!$I$16:$I$200,'Bill of Materials'!$V$16:$V$200,$A147,'Bill of Materials'!$W$16:$W$200,\"c\")/SUMIF('Bill of Materials'!$V$16:$V$200,$A147,'Bill of Materials'!$I$16:$I$200)","v":{"$error":"#DIV/0!"}},{"$f":"IFERROR((SUMIFS('Bill of Materials'!$Y$16:$Y$200,'Bill of Materials'!$V$16:$V$200,$A147,'Bill of Materials'!$W$16:$W$200,\"c\")/SUMIF('Bill of Materials'!$V$16:$V$200,$A147,'Bill of Materials'!$Y$16:$Y$200)),\"\")","v":""},"",{"$f":"(SUMIFS('Bill of Materials'!$I$16:$I$200,'Bill of Materials'!$V$16:$V$200,$A147,'Bill of Materials'!$W$16:$W$200,\"x\")+SUMIFS('Bill of Materials'!$I$16:$I$200,'Bill of Materials'!$V$16:$V$200,$A147,'Bill of Materials'!$W$16:$W$200,\"x - CMR or SVHC\"))/SUMIF('Bill of Materials'!$V$16:$V$200,$A147,'Bill of Materials'!$I$16:$I$200)","v":{"$error":"#DIV/0!"}},{"$f":"IFERROR(((SUMIFS('Bill of Materials'!$Y$16:$Y$200,'Bill of Materials'!$V$16:$V$200,$A147,'Bill of Materials'!$W$16:$W$200,\"x\")+SUMIFS('Bill of Materials'!$Y$16:$Y$200,'Bill of Materials'!$V$16:$V$200,$A147,'Bill of Materials'!$W$16:$W$200,\"x - CMR or SVHC\"))/SUMIF('Bill of Materials'!$V$16:$V$200,$A147,'Bill of Materials'!$Y$16:$Y$200)),\"\")","v":""},"",{"$error":"#DIV/0!"},"","",""]
[139,{"$f":"SUMIF('Bill of Materials'!$V$16:$V$200,A148,'Bill of Materials'!$J$16:$J$200)","v":{"v":0,"d":"0%"}},{"$error":"#DIV/0!"},{"$f":"SUMIFS('Bill of Materials'!$I$16:$I$200,'Bill of Materials'!$V$16:$V$200,A148,'Bill of Materials'!$W$16:$W$200,\"Grey\")/SUMIF('Bill of Materials'!$V$16:$V$200,A148,'Bill of Materials'!$I$16:$I$200)","v":{"$error":"#DIV/0!"}},{"$f":"IFERROR((SUMIFS('Bill of Materials'!$Y$16:$Y$200,'Bill of Materials'!$V$16:$V$200,A148,'Bill of Materials'!$W$16:$W$200,\"Grey\")/SUMIF('Bill of Materials'!$V$16:$V$200,A148,'Bill of Materials'!$Y$16:$Y$200)),\"\")","v":""},"",{"$f":"SUMIFS('Bill of Materials'!$I$16:$I$200,'Bill of Materials'!$V$16:$V$200,$A148,'Bill of Materials'!$W$16:$W$200,\"a\")/SUMIF('Bill of Materials'!$V$16:$V$200,$A148,'Bill of Materials'!$I$16:$I$200)","v":{"$error":"#DIV/0!"}},{"$f":"IFERROR((SUMIFS('Bill of Materials'!$Y$16:$Y$200,'Bill of Materials'!$V$16:$V$200,A148,'Bill of Materials'!$W$16:$W$200,\"a\")/SUMIF('Bill of Materials'!$V$16:$V$200,A148,'Bill of Materials'!$Y$16:$Y$200)),\"\")","v":""},"",{"$f":"SUMIFS('Bill of Materials'!$I$16:$I$200,'Bill of Materials'!$V$16:$V$200,$A148,'Bill of Materials'!$W$16:$W$200,\"b\")/SUMIF('Bill of Materials'!$V$16:$V$200,$A148,'Bill of Materials'!$I$16:$I$200)","v":{"$error":"#DIV/0!"}},{"$f":"IFERROR((SUMIFS('Bill of Materials'!$Y$16:$Y$200,'Bill of Materials'!$V$16:$V$200,$A148,'Bill of Materials'!$W$16:$W$200,\"b\")/SUMIF('Bill of Materials'!$V$16:$V$200,$A148,'Bill of Materials'!$Y$16:$Y$200)),\"\")","v":""},"",{"$error":"#DIV/0!"},"",{"$f":"SUMIFS('Bill of Materials'!$I$16:$I$200,'Bill of Materials'!$V$16:$V$200,$A148,'Bill of Materials'!$W$16:$W$200,\"c\")/SUMIF('Bill of Materials'!$V$16:$V$200,$A148,'Bill of Materials'!$I$16:$I$200)","v":{"$error":"#DIV/0!"}},{"$f":"IFERROR((SUMIFS('Bill of Materials'!$Y$16:$Y$200,'Bill of Materials'!$V$16:$V$200,$A148,'Bill of Materials'!$W$16:$W$200,\"c\")/SUMIF('Bill of Materials'!$V$16:$V$200,$A148,'Bill of Materials'!$Y$16:$Y$200)),\"\")","v":""},"",{"$f":"(SUMIFS('Bill of Materials'!$I$16:$I$200,'Bill of Materials'!$V$16:$V$200,$A148,'Bill of Materials'!$W$16:$W$200,\"x\")+SUMIFS('Bill of Materials'!$I$16:$I$200,'Bill of Materials'!$V$16:$V$200,$A148,'Bill of Materials'!$W$16:$W$200,\"x - CMR or SVHC\"))/SUMIF('Bill of Materials'!$V$16:$V$200,$A148,'Bill of Materials'!$I$16:$I$200)","v":{"$error":"#DIV/0!"}},{"$f":"IFERROR(((SUMIFS('Bill of Materials'!$Y$16:$Y$200,'Bill of Materials'!$V$16:$V$200,$A148,'Bill of Materials'!$W$16:$W$200,\"x\")+SUMIFS('Bill of Materials'!$Y$16:$Y$200,'Bill of Materials'!$V$16:$V$200,$A148,'Bill of Materials'!$W$16:$W$200,\"x - CMR or SVHC\"))/SUMIF('Bill of Materials'!$V$16:$V$200,$A148,'Bill of Materials'!$Y$16:$Y$200)),\"\")","v":""},"",{"$error":"#DIV/0!"},"","",""]
[140,{"$f":"SUMIF('Bill of Materials'!$V$16:$V$200,A149,'Bill of Materials'!$J$16:$J$200)","v":{"v":0,"d":"0%"}},{"$error":"#DIV/0!"},{"$f":"SUMIFS('Bill of Materials'!$I$16:$I$200,'Bill of Materials'!$V$16:$V$200,A149,'Bill of Materials'!$W$16:$W$200,\"Grey\")/SUMIF('Bill of Materials'!$V$16:$V$200,A149,'Bill of Materials'!$I$16:$I$200)","v":{"$error":"#DIV/0!"}},{"$f":"IFERROR((SUMIFS('Bill of Materials'!$Y$16:$Y$200,'Bill of Materials'!$V$16:$V$200,A149,'Bill of Materials'!$W$16:$W$200,\"Grey\")/SUMIF('Bill of Materials'!$V$16:$V$200,A149,'Bill of Materials'!$Y$16:$Y$200)),\"\")","v":""},"",{"$f":"SUMIFS('Bill of Materials'!$I$16:$I$200,'Bill of Materials'!$V$16:$V$200,$A149,'Bill of Materials'!$W$16:$W$200,\"a\")/SUMIF('Bill of Materials'!$V$16:$V$200,$A149,'Bill of Materials'!$I$16:$I$200)","v":{"$error":"#DIV/0!"}},{"$f":"IFERROR((SUMIFS('Bill of Materials'!$Y$16:$Y$200,'Bill of Materials'!$V$16:$V$200,A149,'Bill of Materials'!$W$16:$W$200,\"a\")/SUMIF('Bill of Materials'!$V$16:$V$200,A149,'Bill of Materials'!$Y$16:$Y$200)),\"\")","v":""},"",{"$f":"SUMIFS('Bill of Materials'!$I$16:$I$200,'Bill of Materials'!$V$16:$V$200,$A149,'Bill of Materials'!$W$16:$W$200,\"b\")/SUMIF('Bill of Materials'!$V$16:$V$200,$A149,'Bill of Materials'!$I$16:$I$200)","v":{"$error":"#DIV/0!"}},{"$f":"IFERROR((SUMIFS('Bill of Materials'!$Y$16:$Y$200,'Bill of Materials'!$V$16:$V$200,$A149,'Bill of Materials'!$W$16:$W$200,\"b\")/SUMIF('Bill of Materials'!$V$16:$V$200,$A149,'Bill of Materials'!$Y$16:$Y$200)),\"\")","v":""},"",{"$error":"#DIV/0!"},"",{"$f":"SUMIFS('Bill of Materials'!$I$16:$I$200,'Bill of Materials'!$V$16:$V$200,$A149,'Bill of Materials'!$W$16:$W$200,\"c\")/SUMIF('Bill of Materials'!$V$16:$V$200,$A149,'Bill of Materials'!$I$16:$I$200)","v":{"$error":"#DIV/0!"}},{"$f":"IFERROR((SUMIFS('Bill of Materials'!$Y$16:$Y$200,'Bill of Materials'!$V$16:$V$200,$A149,'Bill of Materials'!$W$16:$W$200,\"c\")/SUMIF('Bill of Materials'!$V$16:$V$200,$A149,'Bill of Materials'!$Y$16:$Y$200)),\"\")","v":""},"",{"$f":"(SUMIFS('Bill of Materials'!$I$16:$I$200,'Bill of Materials'!$V$16:$V$200,$A149,'Bill of Materials'!$W$16:$W$200,\"x\")+SUMIFS('Bill of Materials'!$I$16:$I$200,'Bill of Materials'!$V$16:$V$200,$A149,'Bill of Materials'!$W$16:$W$200,\"x - CMR or SVHC\"))/SUMIF('Bill of Materials'!$V$16:$V$200,$A149,'Bill of Materials'!$I$16:$I$200)","v":{"$error":"#DIV/0!"}},{"$f":"IFERROR(((SUMIFS('Bill of Materials'!$Y$16:$Y$200,'Bill of Materials'!$V$16:$V$200,$A149,'Bill of Materials'!$W$16:$W$200,\"x\")+SUMIFS('Bill of Materials'!$Y$16:$Y$200,'Bill of Materials'!$V$16:$V$200,$A149,'Bill of Materials'!$W$16:$W$200,\"x - CMR or SVHC\"))/SUMIF('Bill of Materials'!$V$16:$V$200,$A149,'Bill of Materials'!$Y$16:$Y$200)),\"\")","v":""},"",{"$error":"#DIV/0!"},"","",""]
[141,{"$f":"SUMIF('Bill of Materials'!$V$16:$V$200,A150,'Bill of Materials'!$J$16:$J$200)","v":{"v":0,"d":"0%"}},{"$error":"#DIV/0!"},{"$f":"SUMIFS('Bill of Materials'!$I$16:$I$200,'Bill of Materials'!$V$16:$V$200,A150,'Bill of Materials'!$W$16:$W$200,\"Grey\")/SUMIF('Bill of Materials'!$V$16:$V$200,A150,'Bill of Materials'!$I$16:$I$200)","v":{"$error":"#DIV/0!"}},{"$f":"IFERROR((SUMIFS('Bill of Materials'!$Y$16:$Y$200,'Bill of Materials'!$V$16:$V$200,A150,'Bill of Materials'!$W$16:$W$200,\"Grey\")/SUMIF('Bill of Materials'!$V$16:$V$200,A150,'Bill of Materials'!$Y$16:$Y$200)),\"\")","v":""},"",{"$f":"SUMIFS('Bill of Materials'!$I$16:$I$200,'Bill of Materials'!$V$16:$V$200,$A150,'Bill of Materials'!$W$16:$W$200,\"a\")/SUMIF('Bill of Materials'!$V$16:$V$200,$A150,'Bill of Materials'!$I$16:$I$200)","v":{"$error":"#DIV/0!"}},{"$f":"IFERROR((SUMIFS('Bill of Materials'!$Y$16:$Y$200,'Bill of Materials'!$V$16:$V$200,A150,'Bill of Materials'!$W$16:$W$200,\"a\")/SUMIF('Bill of Materials'!$V$16:$V$200,A150,'Bill of Materials'!$Y$16:$Y$200)),\"\")","v":""},"",{"$f":"SUMIFS('Bill of Materials'!$I$16:$I$200,'Bill of Materials'!$V$16:$V$200,$A150,'Bill of Materials'!$W$16:$W$200,\"b\")/SUMIF('Bill of Materials'!$V$16:$V$200,$A150,'Bill of Materials'!$I$16:$I$200)","v":{"$error":"#DIV/0!"}},{"$f":"IFERROR((SUMIFS('Bill of Materials'!$Y$16:$Y$200,'Bill of Materials'!$V$16:$V$200,$A150,'Bill of Materials'!$W$16:$W$200,\"b\")/SUMIF('Bill of Materials'!$V$16:$V$200,$A150,'Bill of Materials'!$Y$16:$Y$200)),\"\")","v":""},"",{"$error":"#DIV/0!"},"",{"$f":"SUMIFS('Bill of Materials'!$I$16:$I$200,'Bill of Materials'!$V$16:$V$200,$A150,'Bill of Materials'!$W$16:$W$200,\"c\")/SUMIF('Bill of Materials'!$V$16:$V$200,$A150,'Bill of Materials'!$I$16:$I$200)","v":{"$error":"#DIV/0!"}},{"$f":"IFERROR((SUMIFS('Bill of Materials'!$Y$16:$Y$200,'Bill of Materials'!$V$16:$V$200,$A150,'Bill of Materials'!$W$16:$W$200,\"c\")/SUMIF('Bill of Materials'!$V$16:$V$200,$A150,'Bill of Materials'!$Y$16:$Y$200)),\"\")","v":""},"",{"$f":"(SUMIFS('Bill of Materials'!$I$16:$I$200,'Bill of Materials'!$V$16:$V$200,$A150,'Bill of Materials'!$W$16:$W$200,\"x\")+SUMIFS('Bill of Materials'!$I$16:$I$200,'Bill of Materials'!$V$16:$V$200,$A150,'Bill of Materials'!$W$16:$W$200,\"x - CMR or SVHC\"))/SUMIF('Bill of Materials'!$V$16:$V$200,$A150,'Bill of Materials'!$I$16:$I$200)","v":{"$error":"#DIV/0!"}},{"$f":"IFERROR(((SUMIFS('Bill of Materials'!$Y$16:$Y$200,'Bill of Materials'!$V$16:$V$200,$A150,'Bill of Materials'!$W$16:$W$200,\"x\")+SUMIFS('Bill of Materials'!$Y$16:$Y$200,'Bill of Materials'!$V$16:$V$200,$A150,'Bill of Materials'!$W$16:$W$200,\"x - CMR or SVHC\"))/SUMIF('Bill of Materials'!$V$16:$V$200,$A150,'Bill of Materials'!$Y$16:$Y$200)),\"\")","v":""},"",{"$error":"#DIV/0!"},"","",""]
[142,{"$f":"SUMIF('Bill of Materials'!$V$16:$V$200,A151,'Bill of Materials'!$J$16:$J$200)","v":{"v":0,"d":"0%"}},{"$error":"#DIV/0!"},{"$f":"SUMIFS('Bill of Materials'!$I$16:$I$200,'Bill of Materials'!$V$16:$V$200,A151,'Bill of Materials'!$W$16:$W$200,\"Grey\")/SUMIF('Bill of Materials'!$V$16:$V$200,A151,'Bill of Materials'!$I$16:$I$200)","v":{"$error":"#DIV/0!"}},{"$f":"IFERROR((SUMIFS('Bill of Materials'!$Y$16:$Y$200,'Bill of Materials'!$V$16:$V$200,A151,'Bill of Materials'!$W$16:$W$200,\"Grey\")/SUMIF('Bill of Materials'!$V$16:$V$200,A151,'Bill of Materials'!$Y$16:$Y$200)),\"\")","v":""},"",{"$f":"SUMIFS('Bill of Materials'!$I$16:$I$200,'Bill of Materials'!$V$16:$V$200,$A151,'Bill of Materials'!$W$16:$W$200,\"a\")/SUMIF('Bill of Materials'!$V$16:$V$200,$A151,'Bill of Materials'!$I$16:$I$200)","v":{"$error":"#DIV/0!"}},{"$f":"IFERROR((SUMIFS('Bill of Materials'!$Y$16:$Y$200,'Bill of Materials'!$V$16:$V$200,A151,'Bill of Materials'!$W$16:$W$200,\"a\")/SUMIF('Bill of Materials'!$V$16:$V$200,A151,'Bill of Materials'!$Y$16:$Y$200)),\"\")","v":""},"",{"$f":"SUMIFS('Bill of Materials'!$I$16:$I$200,'Bill of Materials'!$V$16:$V$200,$A151,'Bill of Materials'!$W$16:$W$200,\"b\")/SUMIF('Bill of Materials'!$V$16:$V$200,$A151,'Bill of Materials'!$I$16:$I$200)","v":{"$error":"#DIV/0!"}},{"$f":"IFERROR((SUMIFS('Bill of Materials'!$Y$16:$Y$200,'Bill of Materials'!$V$16:$V$200,$A151,'Bill of Materials'!$W$16:$W$200,\"b\")/SUMIF('Bill of Materials'!$V$16:$V$200,$A151,'Bill of Materials'!$Y$16:$Y$200)),\"\")","v":""},"",{"$error":"#DIV/0!"},"",{"$f":"SUMIFS('Bill of Materials'!$I$16:$I$200,'Bill of Materials'!$V$16:$V$200,$A151,'Bill of Materials'!$W$16:$W$200,\"c\")/SUMIF('Bill of Materials'!$V$16:$V$200,$A151,'Bill of Materials'!$I$16:$I$200)","v":{"$error":"#DIV/0!"}},{"$f":"IFERROR((SUMIFS('Bill of Materials'!$Y$16:$Y$200,'Bill of Materials'!$V$16:$V$200,$A151,'Bill of Materials'!$W$16:$W$200,\"c\")/SUMIF('Bill of Materials'!$V$16:$V$200,$A151,'Bill of Materials'!$Y$16:$Y$200)),\"\")","v":""},"",{"$f":"(SUMIFS('Bill of Materials'!$I$16:$I$200,'Bill of Materials'!$V$16:$V$200,$A151,'Bill of Materials'!$W$16:$W$200,\"x\")+SUMIFS('Bill of Materials'!$I$16:$I$200,'Bill of Materials'!$V$16:$V$200,$A151,'Bill of Materials'!$W$16:$W$200,\"x - CMR or SVHC\"))/SUMIF('Bill of Materials'!$V$16:$V$200,$A151,'Bill of Materials'!$I$16:$I$200)","v":{"$error":"#DIV/0!"}},{"$f":"IFERROR(((SUMIFS('Bill of Materials'!$Y$16:$Y$200,'Bill of Materials'!$V$16:$V$200,$A151,'Bill of Materials'!$W$16:$W$200,\"x\")+SUMIFS('Bill of Materials'!$Y$16:$Y$200,'Bill of Materials'!$V$16:$V$200,$A151,'Bill of Materials'!$W$16:$W$200,\"x - CMR or SVHC\"))/SUMIF('Bill of Materials'!$V$16:$V$200,$A151,'Bill of Materials'!$Y$16:$Y$200)),\"\")","v":""},"",{"$error":"#DIV/0!"},"","",""]
[143,{"$f":"SUMIF('Bill of Materials'!$V$16:$V$200,A152,'Bill of Materials'!$J$16:$J$200)","v":{"v":0,"d":"0%"}},{"$error":"#DIV/0!"},{"$f":"SUMIFS('Bill of Materials'!$I$16:$I$200,'Bill of Materials'!$V$16:$V$200,A152,'Bill of Materials'!$W$16:$W$200,\"Grey\")/SUMIF('Bill of Materials'!$V$16:$V$200,A152,'Bill of Materials'!$I$16:$I$200)","v":{"$error":"#DIV/0!"}},{"$f":"IFERROR((SUMIFS('Bill of Materials'!$Y$16:$Y$200,'Bill of Materials'!$V$16:$V$200,A152,'Bill of Materials'!$W$16:$W$200,\"Grey\")/SUMIF('Bill of Materials'!$V$16:$V$200,A152,'Bill of Materials'!$Y$16:$Y$200)),\"\")","v":""},"",{"$f":"SUMIFS('Bill of Materials'!$I$16:$I$200,'Bill of Materials'!$V$16:$V$200,$A152,'Bill of Materials'!$W$16:$W$200,\"a\")/SUMIF('Bill of Materials'!$V$16:$V$200,$A152,'Bill of Materials'!$I$16:$I$200)","v":{"$error":"#DIV/0!"}},{"$f":"IFERROR((SUMIFS('Bill of Materials'!$Y$16:$Y$200,'Bill of Materials'!$V$16:$V$200,A152,'Bill of Materials'!$W$16:$W$200,\"a\")/SUMIF('Bill of Materials'!$V$16:$V$200,A152,'Bill of Materials'!$Y$16:$Y$200)),\"\")","v":""},"",{"$f":"SUMIFS('Bill of Materials'!$I$16:$I$200,'Bill of Materials'!$V$16:$V$200,$A152,'Bill of Materials'!$W$16:$W$200,\"b\")/SUMIF('Bill of Materials'!$V$16:$V$200,$A152,'Bill of Materials'!$I$16:$I$200)","v":{"$error":"#DIV/0!"}},{"$f":"IFERROR((SUMIFS('Bill of Materials'!$Y$16:$Y$200,'Bill of Materials'!$V$16:$V$200,$A152,'Bill of Materials'!$W$16:$W$200,\"b\")/SUMIF('Bill of Materials'!$V$16:$V$200,$A152,'Bill of Materials'!$Y$16:$Y$200)),\"\")","v":""},"",{"$error":"#DIV/0!"},"",{"$f":"SUMIFS('Bill of Materials'!$I$16:$I$200,'Bill of Materials'!$V$16:$V$200,$A152,'Bill of Materials'!$W$16:$W$200,\"c\")/SUMIF('Bill of Materials'!$V$16:$V$200,$A152,'Bill of Materials'!$I$16:$I$200)","v":{"$error":"#DIV/0!"}},{"$f":"IFERROR((SUMIFS('Bill of Materials'!$Y$16:$Y$200,'Bill of Materials'!$V$16:$V$200,$A152,'Bill of Materials'!$W$16:$W$200,\"c\")/SUMIF('Bill of Materials'!$V$16:$V$200,$A152,'Bill of Materials'!$Y$16:$Y$200)),\"\")","v":""},"",{"$f":"(SUMIFS('Bill of Materials'!$I$16:$I$200,'Bill of Materials'!$V$16:$V$200,$A152,'Bill of Materials'!$W$16:$W$200,\"x\")+SUMIFS('Bill of Materials'!$I$16:$I$200,'Bill of Materials'!$V$16:$V$200,$A152,'Bill of Materials'!$W$16:$W$200,\"x - CMR or SVHC\"))/SUMIF('Bill of Materials'!$V$16:$V$200,$A152,'Bill of Materials'!$I$16:$I$200)","v":{"$error":"#DIV/0!"}},{"$f":"IFERROR(((SUMIFS('Bill of Materials'!$Y$16:$Y$200,'Bill of Materials'!$V$16:$V$200,$A152,'Bill of Materials'!$W$16:$W$200,\"x\")+SUMIFS('Bill of Materials'!$Y$16:$Y$200,'Bill of Materials'!$V$16:$V$200,$A152,'Bill of Materials'!$W$16:$W$200,\"x - CMR or SVHC\"))/SUMIF('Bill of Materials'!$V$16:$V$200,$A152,'Bill of Materials'!$Y$16:$Y$200)),\"\")","v":""},"",{"$error":"#DIV/0!"},"","",""]
[144,{"$f":"SUMIF('Bill of Materials'!$V$16:$V$200,A153,'Bill of Materials'!$J$16:$J$200)","v":{"v":0,"d":"0%"}},{"$error":"#DIV/0!"},{"$f":"SUMIFS('Bill of Materials'!$I$16:$I$200,'Bill of Materials'!$V$16:$V$200,A153,'Bill of Materials'!$W$16:$W$200,\"Grey\")/SUMIF('Bill of Materials'!$V$16:$V$200,A153,'Bill of Materials'!$I$16:$I$200)","v":{"$error":"#DIV/0!"}},{"$f":"IFERROR((SUMIFS('Bill of Materials'!$Y$16:$Y$200,'Bill of Materials'!$V$16:$V$200,A153,'Bill of Materials'!$W$16:$W$200,\"Grey\")/SUMIF('Bill of Materials'!$V$16:$V$200,A153,'Bill of Materials'!$Y$16:$Y$200)),\"\")","v":""},"",{"$f":"SUMIFS('Bill of Materials'!$I$16:$I$200,'Bill of Materials'!$V$16:$V$200,$A153,'Bill of Materials'!$W$16:$W$200,\"a\")/SUMIF('Bill of Materials'!$V$16:$V$200,$A153,'Bill of Materials'!$I$16:$I$200)","v":{"$error":"#DIV/0!"}},{"$f":"IFERROR((SUMIFS('Bill of Materials'!$Y$16:$Y$200,'Bill of Materials'!$V$16:$V$200,A153,'Bill of Materials'!$W$16:$W$200,\"a\")/SUMIF('Bill of Materials'!$V$16:$V$200,A153,'Bill of Materials'!$Y$16:$Y$200)),\"\")","v":""},"",{"$f":"SUMIFS('Bill of Materials'!$I$16:$I$200,'Bill of Materials'!$V$16:$V$200,$A153,'Bill of Materials'!$W$16:$W$200,\"b\")/SUMIF('Bill of Materials'!$V$16:$V$200,$A153,'Bill of Materials'!$I$16:$I$200)","v":{"$error":"#DIV/0!"}},{"$f":"IFERROR((SUMIFS('Bill of Materials'!$Y$16:$Y$200,'Bill of Materials'!$V$16:$V$200,$A153,'Bill of Materials'!$W$16:$W$200,\"b\")/SUMIF('Bill of Materials'!$V$16:$V$200,$A153,'Bill of Materials'!$Y$16:$Y$200)),\"\")","v":""},"",{"$error":"#DIV/0!"},"",{"$f":"SUMIFS('Bill of Materials'!$I$16:$I$200,'Bill of Materials'!$V$16:$V$200,$A153,'Bill of Materials'!$W$16:$W$200,\"c\")/SUMIF('Bill of Materials'!$V$16:$V$200,$A153,'Bill of Materials'!$I$16:$I$200)","v":{"$error":"#DIV/0!"}},{"$f":"IFERROR((SUMIFS('Bill of Materials'!$Y$16:$Y$200,'Bill of Materials'!$V$16:$V$200,$A153,'Bill of Materials'!$W$16:$W$200,\"c\")/SUMIF('Bill of Materials'!$V$16:$V$200,$A153,'Bill of Materials'!$Y$16:$Y$200)),\"\")","v":""},"",{"$f":"(SUMIFS('Bill of Materials'!$I$16:$I$200,'Bill of Materials'!$V$16:$V$200,$A153,'Bill of Materials'!$W$16:$W$200,\"x\")+SUMIFS('Bill of Materials'!$I$16:$I$200,'Bill of Materials'!$V$16:$V$200,$A153,'Bill of Materials'!$W$16:$W$200,\"x - CMR or SVHC\"))/SUMIF('Bill of Materials'!$V$16:$V$200,$A153,'Bill of Materials'!$I$16:$I$200)","v":{"$error":"#DIV/0!"}},{"$f":"IFERROR(((SUMIFS('Bill of Materials'!$Y$16:$Y$200,'Bill of Materials'!$V$16:$V$200,$A153,'Bill of Materials'!$W$16:$W$200,\"x\")+SUMIFS('Bill of Materials'!$Y$16:$Y$200,'Bill of Materials'!$V$16:$V$200,$A153,'Bill of Materials'!$W$16:$W$200,\"x - CMR or SVHC\"))/SUMIF('Bill of Materials'!$V$16:$V$200,$A153,'Bill of Materials'!$Y$16:$Y$200)),\"\")","v":""},"",{"$error":"#DIV/0!"},"","",""]
[145,{"$f":"SUMIF('Bill of Materials'!$V$16:$V$200,A154,'Bill of Materials'!$J$16:$J$200)","v":{"v":0,"d":"0%"}},{"$error":"#DIV/0!"},{"$f":"SUMIFS('Bill of Materials'!$I$16:$I$200,'Bill of Materials'!$V$16:$V$200,A154,'Bill of Materials'!$W$16:$W$200,\"Grey\")/SUMIF('Bill of Materials'!$V$16:$V$200,A154,'Bill of Materials'!$I$16:$I$200)","v":{"$error":"#DIV/0!"}},{"$f":"IFERROR((SUMIFS('Bill of Materials'!$Y$16:$Y$200,'Bill of Materials'!$V$16:$V$200,A154,'Bill of Materials'!$W$16:$W$200,\"Grey\")/SUMIF('Bill of Materials'!$V$16:$V$200,A154,'Bill of Materials'!$Y$16:$Y$200)),\"\")","v":""},"",{"$f":"SUMIFS('Bill of Materials'!$I$16:$I$200,'Bill of Materials'!$V$16:$V$200,$A154,'Bill of Materials'!$W$16:$W$200,\"a\")/SUMIF('Bill of Materials'!$V$16:$V$200,$A154,'Bill of Materials'!$I$16:$I$200)","v":{"$error":"#DIV/0!"}},{"$f":"IFERROR((SUMIFS('Bill of Materials'!$Y$16:$Y$200,'Bill of Materials'!$V$16:$V$200,A154,'Bill of Materials'!$W$16:$W$200,\"a\")/SUMIF('Bill of Materials'!$V$16:$V$200,A154,'Bill of Materials'!$Y$16:$Y$200)),\"\")","v":""},"",{"$f":"SUMIFS('Bill of Materials'!$I$16:$I$200,'Bill of Materials'!$V$16:$V$200,$A154,'Bill of Materials'!$W$16:$W$200,\"b\")/SUMIF('Bill of Materials'!$V$16:$V$200,$A154,'Bill of Materials'!$I$16:$I$200)","v":{"$error":"#DIV/0!"}},{"$f":"IFERROR((SUMIFS('Bill of Materials'!$Y$16:$Y$200,'Bill of Materials'!$V$16:$V$200,$A154,'Bill of Materials'!$W$16:$W$200,\"b\")/SUMIF('Bill of Materials'!$V$16:$V$200,$A154,'Bill of Materials'!$Y$16:$Y$200)),\"\")","v":""},"",{"$error":"#DIV/0!"},"",{"$f":"SUMIFS('Bill of Materials'!$I$16:$I$200,'Bill of Materials'!$V$16:$V$200,$A154,'Bill of Materials'!$W$16:$W$200,\"c\")/SUMIF('Bill of Materials'!$V$16:$V$200,$A154,'Bill of Materials'!$I$16:$I$200)","v":{"$error":"#DIV/0!"}},{"$f":"IFERROR((SUMIFS('Bill of Materials'!$Y$16:$Y$200,'Bill of Materials'!$V$16:$V$200,$A154,'Bill of Materials'!$W$16:$W$200,\"c\")/SUMIF('Bill of Materials'!$V$16:$V$200,$A154,'Bill of Materials'!$Y$16:$Y$200)),\"\")","v":""},"",{"$f":"(SUMIFS('Bill of Materials'!$I$16:$I$200,'Bill of Materials'!$V$16:$V$200,$A154,'Bill of Materials'!$W$16:$W$200,\"x\")+SUMIFS('Bill of Materials'!$I$16:$I$200,'Bill of Materials'!$V$16:$V$200,$A154,'Bill of Materials'!$W$16:$W$200,\"x - CMR or SVHC\"))/SUMIF('Bill of Materials'!$V$16:$V$200,$A154,'Bill of Materials'!$I$16:$I$200)","v":{"$error":"#DIV/0!"}},{"$f":"IFERROR(((SUMIFS('Bill of Materials'!$Y$16:$Y$200,'Bill of Materials'!$V$16:$V$200,$A154,'Bill of Materials'!$W$16:$W$200,\"x\")+SUMIFS('Bill of Materials'!$Y$16:$Y$200,'Bill of Materials'!$V$16:$V$200,$A154,'Bill of Materials'!$W$16:$W$200,\"x - CMR or SVHC\"))/SUMIF('Bill of Materials'!$V$16:$V$200,$A154,'Bill of Materials'!$Y$16:$Y$200)),\"\")","v":""},"",{"$error":"#DIV/0!"},"","",""]
[146,{"$f":"SUMIF('Bill of Materials'!$V$16:$V$200,A155,'Bill of Materials'!$J$16:$J$200)","v":{"v":0,"d":"0%"}},{"$error":"#DIV/0!"},{"$f":"SUMIFS('Bill of Materials'!$I$16:$I$200,'Bill of Materials'!$V$16:$V$200,A155,'Bill of Materials'!$W$16:$W$200,\"Grey\")/SUMIF('Bill of Materials'!$V$16:$V$200,A155,'Bill of Materials'!$I$16:$I$200)","v":{"$error":"#DIV/0!"}},{"$f":"IFERROR((SUMIFS('Bill of Materials'!$Y$16:$Y$200,'Bill of Materials'!$V$16:$V$200,A155,'Bill of Materials'!$W$16:$W$200,\"Grey\")/SUMIF('Bill of Materials'!$V$16:$V$200,A155,'Bill of Materials'!$Y$16:$Y$200)),\"\")","v":""},"",{"$f":"SUMIFS('Bill of Materials'!$I$16:$I$200,'Bill of Materials'!$V$16:$V$200,$A155,'Bill of Materials'!$W$16:$W$200,\"a\")/SUMIF('Bill of Materials'!$V$16:$V$200,$A155,'Bill of Materials'!$I$16:$I$200)","v":{"$error":"#DIV/0!"}},{"$f":"IFERROR((SUMIFS('Bill of Materials'!$Y$16:$Y$200,'Bill of Materials'!$V$16:$V$200,A155,'Bill of Materials'!$W$16:$W$200,\"a\")/SUMIF('Bill of Materials'!$V$16:$V$200,A155,'Bill of Materials'!$Y$16:$Y$200)),\"\")","v":""},"",{"$f":"SUMIFS('Bill of Materials'!$I$16:$I$200,'Bill of Materials'!$V$16:$V$200,$A155,'Bill of Materials'!$W$16:$W$200,\"b\")/SUMIF('Bill of Materials'!$V$16:$V$200,$A155,'Bill of Materials'!$I$16:$I$200)","v":{"$error":"#DIV/0!"}},{"$f":"IFERROR((SUMIFS('Bill of Materials'!$Y$16:$Y$200,'Bill of Materials'!$V$16:$V$200,$A155,'Bill of Materials'!$W$16:$W$200,\"b\")/SUMIF('Bill of Materials'!$V$16:$V$200,$A155,'Bill of Materials'!$Y$16:$Y$200)),\"\")","v":""},"",{"$error":"#DIV/0!"},"",{"$f":"SUMIFS('Bill of Materials'!$I$16:$I$200,'Bill of Materials'!$V$16:$V$200,$A155,'Bill of Materials'!$W$16:$W$200,\"c\")/SUMIF('Bill of Materials'!$V$16:$V$200,$A155,'Bill of Materials'!$I$16:$I$200)","v":{"$error":"#DIV/0!"}},{"$f":"IFERROR((SUMIFS('Bill of Materials'!$Y$16:$Y$200,'Bill of Materials'!$V$16:$V$200,$A155,'Bill of Materials'!$W$16:$W$200,\"c\")/SUMIF('Bill of Materials'!$V$16:$V$200,$A155,'Bill of Materials'!$Y$16:$Y$200)),\"\")","v":""},"",{"$f":"(SUMIFS('Bill of Materials'!$I$16:$I$200,'Bill of Materials'!$V$16:$V$200,$A155,'Bill of Materials'!$W$16:$W$200,\"x\")+SUMIFS('Bill of Materials'!$I$16:$I$200,'Bill of Materials'!$V$16:$V$200,$A155,'Bill of Materials'!$W$16:$W$200,\"x - CMR or SVHC\"))/SUMIF('Bill of Materials'!$V$16:$V$200,$A155,'Bill of Materials'!$I$16:$I$200)","v":{"$error":"#DIV/0!"}},{"$f":"IFERROR(((SUMIFS('Bill of Materials'!$Y$16:$Y$200,'Bill of Materials'!$V$16:$V$200,$A155,'Bill of Materials'!$W$16:$W$200,\"x\")+SUMIFS('Bill of Materials'!$Y$16:$Y$200,'Bill of Materials'!$V$16:$V$200,$A155,'Bill of Materials'!$W$16:$W$200,\"x - CMR or SVHC\"))/SUMIF('Bill of Materials'!$V$16:$V$200,$A155,'Bill of Materials'!$Y$16:$Y$200)),\"\")","v":""},"",{"$error":"#DIV/0!"},"","",""]
[147,{"$f":"SUMIF('Bill of Materials'!$V$16:$V$200,A156,'Bill of Materials'!$J$16:$J$200)","v":{"v":0,"d":"0%"}},{"$error":"#DIV/0!"},{"$f":"SUMIFS('Bill of Materials'!$I$16:$I$200,'Bill of Materials'!$V$16:$V$200,A156,'Bill of Materials'!$W$16:$W$200,\"Grey\")/SUMIF('Bill of Materials'!$V$16:$V$200,A156,'Bill of Materials'!$I$16:$I$200)","v":{"$error":"#DIV/0!"}},{"$f":"IFERROR((SUMIFS('Bill of Materials'!$Y$16:$Y$200,'Bill of Materials'!$V$16:$V$200,A156,'Bill of Materials'!$W$16:$W$200,\"Grey\")/SUMIF('Bill of Materials'!$V$16:$V$200,A156,'Bill of Materials'!$Y$16:$Y$200)),\"\")","v":""},"",{"$f":"SUMIFS('Bill of Materials'!$I$16:$I$200,'Bill of Materials'!$V$16:$V$200,$A156,'Bill of Materials'!$W$16:$W$200,\"a\")/SUMIF('Bill of Materials'!$V$16:$V$200,$A156,'Bill of Materials'!$I$16:$I$200)","v":{"$error":"#DIV/0!"}},{"$f":"IFERROR((SUMIFS('Bill of Materials'!$Y$16:$Y$200,'Bill of Materials'!$V$16:$V$200,A156,'Bill of Materials'!$W$16:$W$200,\"a\")/SUMIF('Bill of Materials'!$V$16:$V$200,A156,'Bill of Materials'!$Y$16:$Y$200)),\"\")","v":""},"",{"$f":"SUMIFS('Bill of Materials'!$I$16:$I$200,'Bill of Materials'!$V$16:$V$200,$A156,'Bill of Materials'!$W$16:$W$200,\"b\")/SUMIF('Bill of Materials'!$V$16:$V$200,$A156,'Bill of Materials'!$I$16:$I$200)","v":{"$error":"#DIV/0!"}},{"$f":"IFERROR((SUMIFS('Bill of Materials'!$Y$16:$Y$200,'Bill of Materials'!$V$16:$V$200,$A156,'Bill of Materials'!$W$16:$W$200,\"b\")/SUMIF('Bill of Materials'!$V$16:$V$200,$A156,'Bill of Materials'!$Y$16:$Y$200)),\"\")","v":""},"",{"$error":"#DIV/0!"},"",{"$f":"SUMIFS('Bill of Materials'!$I$16:$I$200,'Bill of Materials'!$V$16:$V$200,$A156,'Bill of Materials'!$W$16:$W$200,\"c\")/SUMIF('Bill of Materials'!$V$16:$V$200,$A156,'Bill of Materials'!$I$16:$I$200)","v":{"$error":"#DIV/0!"}},{"$f":"IFERROR((SUMIFS('Bill of Materials'!$Y$16:$Y$200,'Bill of Materials'!$V$16:$V$200,$A156,'Bill of Materials'!$W$16:$W$200,\"c\")/SUMIF('Bill of Materials'!$V$16:$V$200,$A156,'Bill of Materials'!$Y$16:$Y$200)),\"\")","v":""},"",{"$f":"(SUMIFS('Bill of Materials'!$I$16:$I$200,'Bill of Materials'!$V$16:$V$200,$A156,'Bill of Materials'!$W$16:$W$200,\"x\")+SUMIFS('Bill of Materials'!$I$16:$I$200,'Bill of Materials'!$V$16:$V$200,$A156,'Bill of Materials'!$W$16:$W$200,\"x - CMR or SVHC\"))/SUMIF('Bill of Materials'!$V$16:$V$200,$A156,'Bill of Materials'!$I$16:$I$200)","v":{"$error":"#DIV/0!"}},{"$f":"IFERROR(((SUMIFS('Bill of Materials'!$Y$16:$Y$200,'Bill of Materials'!$V$16:$V$200,$A156,'Bill of Materials'!$W$16:$W$200,\"x\")+SUMIFS('Bill of Materials'!$Y$16:$Y$200,'Bill of Materials'!$V$16:$V$200,$A156,'Bill of Materials'!$W$16:$W$200,\"x - CMR or SVHC\"))/SUMIF('Bill of Materials'!$V$16:$V$200,$A156,'Bill of Materials'!$Y$16:$Y$200)),\"\")","v":""},"",{"$error":"#DIV/0!"},"","",""]
[148,{"$f":"SUMIF('Bill of Materials'!$V$16:$V$200,A157,'Bill of Materials'!$J$16:$J$200)","v":{"v":0,"d":"0%"}},{"$error":"#DIV/0!"},{"$f":"SUMIFS('Bill of Materials'!$I$16:$I$200,'Bill of Materials'!$V$16:$V$200,A157,'Bill of Materials'!$W$16:$W$200,\"Grey\")/SUMIF('Bill of Materials'!$V$16:$V$200,A157,'Bill of Materials'!$I$16:$I$200)","v":{"$error":"#DIV/0!"}},{"$f":"IFERROR((SUMIFS('Bill of Materials'!$Y$16:$Y$200,'Bill of Materials'!$V$16:$V$200,A157,'Bill of Materials'!$W$16:$W$200,\"Grey\")/SUMIF('Bill of Materials'!$V$16:$V$200,A157,'Bill of Materials'!$Y$16:$Y$200)),\"\")","v":""},"",{"$f":"SUMIFS('Bill of Materials'!$I$16:$I$200,'Bill of Materials'!$V$16:$V$200,$A157,'Bill of Materials'!$W$16:$W$200,\"a\")/SUMIF('Bill of Materials'!$V$16:$V$200,$A157,'Bill of Materials'!$I$16:$I$200)","v":{"$error":"#DIV/0!"}},{"$f":"IFERROR((SUMIFS('Bill of Materials'!$Y$16:$Y$200,'Bill of Materials'!$V$16:$V$200,A157,'Bill of Materials'!$W$16:$W$200,\"a\")/SUMIF('Bill of Materials'!$V$16:$V$200,A157,'Bill of Materials'!$Y$16:$Y$200)),\"\")","v":""},"",{"$f":"SUMIFS('Bill of Materials'!$I$16:$I$200,'Bill of Materials'!$V$16:$V$200,$A157,'Bill of Materials'!$W$16:$W$200,\"b\")/SUMIF('Bill of Materials'!$V$16:$V$200,$A157,'Bill of Materials'!$I$16:$I$200)","v":{"$error":"#DIV/0!"}},{"$f":"IFERROR((SUMIFS('Bill of Materials'!$Y$16:$Y$200,'Bill of Materials'!$V$16:$V$200,$A157,'Bill of Materials'!$W$16:$W$200,\"b\")/SUMIF('Bill of Materials'!$V$16:$V$200,$A157,'Bill of Materials'!$Y$16:$Y$200)),\"\")","v":""},"",{"$error":"#DIV/0!"},"",{"$f":"SUMIFS('Bill of Materials'!$I$16:$I$200,'Bill of Materials'!$V$16:$V$200,$A157,'Bill of Materials'!$W$16:$W$200,\"c\")/SUMIF('Bill of Materials'!$V$16:$V$200,$A157,'Bill of Materials'!$I$16:$I$200)","v":{"$error":"#DIV/0!"}},{"$f":"IFERROR((SUMIFS('Bill of Materials'!$Y$16:$Y$200,'Bill of Materials'!$V$16:$V$200,$A157,'Bill of Materials'!$W$16:$W$200,\"c\")/SUMIF('Bill of Materials'!$V$16:$V$200,$A157,'Bill of Materials'!$Y$16:$Y$200)),\"\")","v":""},"",{"$f":"(SUMIFS('Bill of Materials'!$I$16:$I$200,'Bill of Materials'!$V$16:$V$200,$A157,'Bill of Materials'!$W$16:$W$200,\"x\")+SUMIFS('Bill of Materials'!$I$16:$I$200,'Bill of Materials'!$V$16:$V$200,$A157,'Bill of Materials'!$W$16:$W$200,\"x - CMR or SVHC\"))/SUMIF('Bill of Materials'!$V$16:$V$200,$A157,'Bill of Materials'!$I$16:$I$200)","v":{"$error":"#DIV/0!"}},{"$f":"IFERROR(((SUMIFS('Bill of Materials'!$Y$16:$Y$200,'Bill of Materials'!$V$16:$V$200,$A157,'Bill of Materials'!$W$16:$W$200,\"x\")+SUMIFS('Bill of Materials'!$Y$16:$Y$200,'Bill of Materials'!$V$16:$V$200,$A157,'Bill of Materials'!$W$16:$W$200,\"x - CMR or SVHC\"))/SUMIF('Bill of Materials'!$V$16:$V$200,$A157,'Bill of Materials'!$Y$16:$Y$200)),\"\")","v":""},"",{"$error":"#DIV/0!"},"","",""]
[149,{"$f":"SUMIF('Bill of Materials'!$V$16:$V$200,A158,'Bill of Materials'!$J$16:$J$200)","v":{"v":0,"d":"0%"}},{"$error":"#DIV/0!"},{"$f":"SUMIFS('Bill of Materials'!$I$16:$I$200,'Bill of Materials'!$V$16:$V$200,A158,'Bill of Materials'!$W$16:$W$200,\"Grey\")/SUMIF('Bill of Materials'!$V$16:$V$200,A158,'Bill of Materials'!$I$16:$I$200)","v":{"$error":"#DIV/0!"}},{"$f":"IFERROR((SUMIFS('Bill of Materials'!$Y$16:$Y$200,'Bill of Materials'!$V$16:$V$200,A158,'Bill of Materials'!$W$16:$W$200,\"Grey\")/SUMIF('Bill of Materials'!$V$16:$V$200,A158,'Bill of Materials'!$Y$16:$Y$200)),\"\")","v":""},"",{"$f":"SUMIFS('Bill of Materials'!$I$16:$I$200,'Bill of Materials'!$V$16:$V$200,$A158,'Bill of Materials'!$W$16:$W$200,\"a\")/SUMIF('Bill of Materials'!$V$16:$V$200,$A158,'Bill of Materials'!$I$16:$I$200)","v":{"$error":"#DIV/0!"}},{"$f":"IFERROR((SUMIFS('Bill of Materials'!$Y$16:$Y$200,'Bill of Materials'!$V$16:$V$200,A158,'Bill of Materials'!$W$16:$W$200,\"a\")/SUMIF('Bill of Materials'!$V$16:$V$200,A158,'Bill of Materials'!$Y$16:$Y$200)),\"\")","v":""},"",{"$f":"SUMIFS('Bill of Materials'!$I$16:$I$200,'Bill of Materials'!$V$16:$V$200,$A158,'Bill of Materials'!$W$16:$W$200,\"b\")/SUMIF('Bill of Materials'!$V$16:$V$200,$A158,'Bill of Materials'!$I$16:$I$200)","v":{"$error":"#DIV/0!"}},{"$f":"IFERROR((SUMIFS('Bill of Materials'!$Y$16:$Y$200,'Bill of Materials'!$V$16:$V$200,$A158,'Bill of Materials'!$W$16:$W$200,\"b\")/SUMIF('Bill of Materials'!$V$16:$V$200,$A158,'Bill of Materials'!$Y$16:$Y$200)),\"\")","v":""},"",{"$error":"#DIV/0!"},"",{"$f":"SUMIFS('Bill of Materials'!$I$16:$I$200,'Bill of Materials'!$V$16:$V$200,$A158,'Bill of Materials'!$W$16:$W$200,\"c\")/SUMIF('Bill of Materials'!$V$16:$V$200,$A158,'Bill of Materials'!$I$16:$I$200)","v":{"$error":"#DIV/0!"}},{"$f":"IFERROR((SUMIFS('Bill of Materials'!$Y$16:$Y$200,'Bill of Materials'!$V$16:$V$200,$A158,'Bill of Materials'!$W$16:$W$200,\"c\")/SUMIF('Bill of Materials'!$V$16:$V$200,$A158,'Bill of Materials'!$Y$16:$Y$200)),\"\")","v":""},"",{"$f":"(SUMIFS('Bill of Materials'!$I$16:$I$200,'Bill of Materials'!$V$16:$V$200,$A158,'Bill of Materials'!$W$16:$W$200,\"x\")+SUMIFS('Bill of Materials'!$I$16:$I$200,'Bill of Materials'!$V$16:$V$200,$A158,'Bill of Materials'!$W$16:$W$200,\"x - CMR or SVHC\"))/SUMIF('Bill of Materials'!$V$16:$V$200,$A158,'Bill of Materials'!$I$16:$I$200)","v":{"$error":"#DIV/0!"}},{"$f":"IFERROR(((SUMIFS('Bill of Materials'!$Y$16:$Y$200,'Bill of Materials'!$V$16:$V$200,$A158,'Bill of Materials'!$W$16:$W$200,\"x\")+SUMIFS('Bill of Materials'!$Y$16:$Y$200,'Bill of Materials'!$V$16:$V$200,$A158,'Bill of Materials'!$W$16:$W$200,\"x - CMR or SVHC\"))/SUMIF('Bill of Materials'!$V$16:$V$200,$A158,'Bill of Materials'!$Y$16:$Y$200)),\"\")","v":""},"",{"$error":"#DIV/0!"},"","",""]
[150,{"$f":"SUMIF('Bill of Materials'!$V$16:$V$200,A159,'Bill of Materials'!$J$16:$J$200)","v":{"v":0,"d":"0%"}},{"$error":"#DIV/0!"},{"$f":"SUMIFS('Bill of Materials'!$I$16:$I$200,'Bill of Materials'!$V$16:$V$200,A159,'Bill of Materials'!$W$16:$W$200,\"Grey\")/SUMIF('Bill of Materials'!$V$16:$V$200,A159,'Bill of Materials'!$I$16:$I$200)","v":{"$error":"#DIV/0!"}},{"$f":"IFERROR((SUMIFS('Bill of Materials'!$Y$16:$Y$200,'Bill of Materials'!$V$16:$V$200,A159,'Bill of Materials'!$W$16:$W$200,\"Grey\")/SUMIF('Bill of Materials'!$V$16:$V$200,A159,'Bill of Materials'!$Y$16:$Y$200)),\"\")","v":""},"",{"$f":"SUMIFS('Bill of Materials'!$I$16:$I$200,'Bill of Materials'!$V$16:$V$200,$A159,'Bill of Materials'!$W$16:$W$200,\"a\")/SUMIF('Bill of Materials'!$V$16:$V$200,$A159,'Bill of Materials'!$I$16:$I$200)","v":{"$error":"#DIV/0!"}},{"$f":"IFERROR((SUMIFS('Bill of Materials'!$Y$16:$Y$200,'Bill of Materials'!$V$16:$V$200,A159,'Bill of Materials'!$W$16:$W$200,\"a\")/SUMIF('Bill of Materials'!$V$16:$V$200,A159,'Bill of Materials'!$Y$16:$Y$200)),\"\")","v":""},"",{"$f":"SUMIFS('Bill of Materials'!$I$16:$I$200,'Bill of Materials'!$V$16:$V$200,$A159,'Bill of Materials'!$W$16:$W$200,\"b\")/SUMIF('Bill of Materials'!$V$16:$V$200,$A159,'Bill of Materials'!$I$16:$I$200)","v":{"$error":"#DIV/0!"}},{"$f":"IFERROR((SUMIFS('Bill of Materials'!$Y$16:$Y$200,'Bill of Materials'!$V$16:$V$200,$A159,'Bill of Materials'!$W$16:$W$200,\"b\")/SUMIF('Bill of Materials'!$V$16:$V$200,$A159,'Bill of Materials'!$Y$16:$Y$200)),\"\")","v":""},"",{"$error":"#DIV/0!"},"",{"$f":"SUMIFS('Bill of Materials'!$I$16:$I$200,'Bill of Materials'!$V$16:$V$200,$A159,'Bill of Materials'!$W$16:$W$200,\"c\")/SUMIF('Bill of Materials'!$V$16:$V$200,$A159,'Bill of Materials'!$I$16:$I$200)","v":{"$error":"#DIV/0!"}},{"$f":"IFERROR((SUMIFS('Bill of Materials'!$Y$16:$Y$200,'Bill of Materials'!$V$16:$V$200,$A159,'Bill of Materials'!$W$16:$W$200,\"c\")/SUMIF('Bill of Materials'!$V$16:$V$200,$A159,'Bill of Materials'!$Y$16:$Y$200)),\"\")","v":""},"",{"$f":"(SUMIFS('Bill of Materials'!$I$16:$I$200,'Bill of Materials'!$V$16:$V$200,$A159,'Bill of Materials'!$W$16:$W$200,\"x\")+SUMIFS('Bill of Materials'!$I$16:$I$200,'Bill of Materials'!$V$16:$V$200,$A159,'Bill of Materials'!$W$16:$W$200,\"x - CMR or SVHC\"))/SUMIF('Bill of Materials'!$V$16:$V$200,$A159,'Bill of Materials'!$I$16:$I$200)","v":{"$error":"#DIV/0!"}},{"$f":"IFERROR(((SUMIFS('Bill of Materials'!$Y$16:$Y$200,'Bill of Materials'!$V$16:$V$200,$A159,'Bill of Materials'!$W$16:$W$200,\"x\")+SUMIFS('Bill of Materials'!$Y$16:$Y$200,'Bill of Materials'!$V$16:$V$200,$A159,'Bill of Materials'!$W$16:$W$200,\"x - CMR or SVHC\"))/SUMIF('Bill of Materials'!$V$16:$V$200,$A159,'Bill of Materials'!$Y$16:$Y$200)),\"\")","v":""},"",{"$error":"#DIV/0!"},"","",""]
[151,{"$f":"SUMIF('Bill of Materials'!$V$16:$V$200,A160,'Bill of Materials'!$J$16:$J$200)","v":{"v":0,"d":"0%"}},{"$error":"#DIV/0!"},{"$f":"SUMIFS('Bill of Materials'!$I$16:$I$200,'Bill of Materials'!$V$16:$V$200,A160,'Bill of Materials'!$W$16:$W$200,\"Grey\")/SUMIF('Bill of Materials'!$V$16:$V$200,A160,'Bill of Materials'!$I$16:$I$200)","v":{"$error":"#DIV/0!"}},{"$f":"IFERROR((SUMIFS('Bill of Materials'!$Y$16:$Y$200,'Bill of Materials'!$V$16:$V$200,A160,'Bill of Materials'!$W$16:$W$200,\"Grey\")/SUMIF('Bill of Materials'!$V$16:$V$200,A160,'Bill of Materials'!$Y$16:$Y$200)),\"\")","v":""},"",{"$f":"SUMIFS('Bill of Materials'!$I$16:$I$200,'Bill of Materials'!$V$16:$V$200,$A160,'Bill of Materials'!$W$16:$W$200,\"a\")/SUMIF('Bill of Materials'!$V$16:$V$200,$A160,'Bill of Materials'!$I$16:$I$200)","v":{"$error":"#DIV/0!"}},{"$f":"IFERROR((SUMIFS('Bill of Materials'!$Y$16:$Y$200,'Bill of Materials'!$V$16:$V$200,A160,'Bill of Materials'!$W$16:$W$200,\"a\")/SUMIF('Bill of Materials'!$V$16:$V$200,A160,'Bill of Materials'!$Y$16:$Y$200)),\"\")","v":""},"",{"$f":"SUMIFS('Bill of Materials'!$I$16:$I$200,'Bill of Materials'!$V$16:$V$200,$A160,'Bill of Materials'!$W$16:$W$200,\"b\")/SUMIF('Bill of Materials'!$V$16:$V$200,$A160,'Bill of Materials'!$I$16:$I$200)","v":{"$error":"#DIV/0!"}},{"$f":"IFERROR((SUMIFS('Bill of Materials'!$Y$16:$Y$200,'Bill of Materials'!$V$16:$V$200,$A160,'Bill of Materials'!$W$16:$W$200,\"b\")/SUMIF('Bill of Materials'!$V$16:$V$200,$A160,'Bill of Materials'!$Y$16:$Y$200)),\"\")","v":""},"",{"$error":"#DIV/0!"},"",{"$f":"SUMIFS('Bill of Materials'!$I$16:$I$200,'Bill of Materials'!$V$16:$V$200,$A160,'Bill of Materials'!$W$16:$W$200,\"c\")/SUMIF('Bill of Materials'!$V$16:$V$200,$A160,'Bill of Materials'!$I$16:$I$200)","v":{"$error":"#DIV/0!"}},{"$f":"IFERROR((SUMIFS('Bill of Materials'!$Y$16:$Y$200,'Bill of Materials'!$V$16:$V$200,$A160,'Bill of Materials'!$W$16:$W$200,\"c\")/SUMIF('Bill of Materials'!$V$16:$V$200,$A160,'Bill of Materials'!$Y$16:$Y$200)),\"\")","v":""},"",{"$f":"(SUMIFS('Bill of Materials'!$I$16:$I$200,'Bill of Materials'!$V$16:$V$200,$A160,'Bill of Materials'!$W$16:$W$200,\"x\")+SUMIFS('Bill of Materials'!$I$16:$I$200,'Bill of Materials'!$V$16:$V$200,$A160,'Bill of Materials'!$W$16:$W$200,\"x - CMR or SVHC\"))/SUMIF('Bill of Materials'!$V$16:$V$200,$A160,'Bill of Materials'!$I$16:$I$200)","v":{"$error":"#DIV/0!"}},{"$f":"IFERROR(((SUMIFS('Bill of Materials'!$Y$16:$Y$200,'Bill of Materials'!$V$16:$V$200,$A160,'Bill of Materials'!$W$16:$W$200,\"x\")+SUMIFS('Bill of Materials'!$Y$16:$Y$200,'Bill of Materials'!$V$16:$V$200,$A160,'Bill of Materials'!$W$16:$W$200,\"x - CMR or SVHC\"))/SUMIF('Bill of Materials'!$V$16:$V$200,$A160,'Bill of Materials'!$Y$16:$Y$200)),\"\")","v":""},"",{"$error":"#DIV/0!"},"","",""]
[152,{"$f":"SUMIF('Bill of Materials'!$V$16:$V$200,A161,'Bill of Materials'!$J$16:$J$200)","v":{"v":0,"d":"0%"}},{"$error":"#DIV/0!"},{"$f":"SUMIFS('Bill of Materials'!$I$16:$I$200,'Bill of Materials'!$V$16:$V$200,A161,'Bill of Materials'!$W$16:$W$200,\"Grey\")/SUMIF('Bill of Materials'!$V$16:$V$200,A161,'Bill of Materials'!$I$16:$I$200)","v":{"$error":"#DIV/0!"}},{"$f":"IFERROR((SUMIFS('Bill of Materials'!$Y$16:$Y$200,'Bill of Materials'!$V$16:$V$200,A161,'Bill of Materials'!$W$16:$W$200,\"Grey\")/SUMIF('Bill of Materials'!$V$16:$V$200,A161,'Bill of Materials'!$Y$16:$Y$200)),\"\")","v":""},"",{"$f":"SUMIFS('Bill of Materials'!$I$16:$I$200,'Bill of Materials'!$V$16:$V$200,$A161,'Bill of Materials'!$W$16:$W$200,\"a\")/SUMIF('Bill of Materials'!$V$16:$V$200,$A161,'Bill of Materials'!$I$16:$I$200)","v":{"$error":"#DIV/0!"}},{"$f":"IFERROR((SUMIFS('Bill of Materials'!$Y$16:$Y$200,'Bill of Materials'!$V$16:$V$200,A161,'Bill of Materials'!$W$16:$W$200,\"a\")/SUMIF('Bill of Materials'!$V$16:$V$200,A161,'Bill of Materials'!$Y$16:$Y$200)),\"\")","v":""},"",{"$f":"SUMIFS('Bill of Materials'!$I$16:$I$200,'Bill of Materials'!$V$16:$V$200,$A161,'Bill of Materials'!$W$16:$W$200,\"b\")/SUMIF('Bill of Materials'!$V$16:$V$200,$A161,'Bill of Materials'!$I$16:$I$200)","v":{"$error":"#DIV/0!"}},{"$f":"IFERROR((SUMIFS('Bill of Materials'!$Y$16:$Y$200,'Bill of Materials'!$V$16:$V$200,$A161,'Bill of Materials'!$W$16:$W$200,\"b\")/SUMIF('Bill of Materials'!$V$16:$V$200,$A161,'Bill of Materials'!$Y$16:$Y$200)),\"\")","v":""},"",{"$error":"#DIV/0!"},"",{"$f":"SUMIFS('Bill of Materials'!$I$16:$I$200,'Bill of Materials'!$V$16:$V$200,$A161,'Bill of Materials'!$W$16:$W$200,\"c\")/SUMIF('Bill of Materials'!$V$16:$V$200,$A161,'Bill of Materials'!$I$16:$I$200)","v":{"$error":"#DIV/0!"}},{"$f":"IFERROR((SUMIFS('Bill of Materials'!$Y$16:$Y$200,'Bill of Materials'!$V$16:$V$200,$A161,'Bill of Materials'!$W$16:$W$200,\"c\")/SUMIF('Bill of Materials'!$V$16:$V$200,$A161,'Bill of Materials'!$Y$16:$Y$200)),\"\")","v":""},"",{"$f":"(SUMIFS('Bill of Materials'!$I$16:$I$200,'Bill of Materials'!$V$16:$V$200,$A161,'Bill of Materials'!$W$16:$W$200,\"x\")+SUMIFS('Bill of Materials'!$I$16:$I$200,'Bill of Materials'!$V$16:$V$200,$A161,'Bill of Materials'!$W$16:$W$200,\"x - CMR or SVHC\"))/SUMIF('Bill of Materials'!$V$16:$V$200,$A161,'Bill of Materials'!$I$16:$I$200)","v":{"$error":"#DIV/0!"}},{"$f":"IFERROR(((SUMIFS('Bill of Materials'!$Y$16:$Y$200,'Bill of Materials'!$V$16:$V$200,$A161,'Bill of Materials'!$W$16:$W$200,\"x\")+SUMIFS('Bill of Materials'!$Y$16:$Y$200,'Bill of Materials'!$V$16:$V$200,$A161,'Bill of Materials'!$W$16:$W$200,\"x - CMR or SVHC\"))/SUMIF('Bill of Materials'!$V$16:$V$200,$A161,'Bill of Materials'!$Y$16:$Y$200)),\"\")","v":""},"",{"$error":"#DIV/0!"},"","",""]
[153,{"$f":"SUMIF('Bill of Materials'!$V$16:$V$200,A162,'Bill of Materials'!$J$16:$J$200)","v":{"v":0,"d":"0%"}},{"$error":"#DIV/0!"},{"$f":"SUMIFS('Bill of Materials'!$I$16:$I$200,'Bill of Materials'!$V$16:$V$200,A162,'Bill of Materials'!$W$16:$W$200,\"Grey\")/SUMIF('Bill of Materials'!$V$16:$V$200,A162,'Bill of Materials'!$I$16:$I$200)","v":{"$error":"#DIV/0!"}},{"$f":"IFERROR((SUMIFS('Bill of Materials'!$Y$16:$Y$200,'Bill of Materials'!$V$16:$V$200,A162,'Bill of Materials'!$W$16:$W$200,\"Grey\")/SUMIF('Bill of Materials'!$V$16:$V$200,A162,'Bill of Materials'!$Y$16:$Y$200)),\"\")","v":""},"",{"$f":"SUMIFS('Bill of Materials'!$I$16:$I$200,'Bill of Materials'!$V$16:$V$200,$A162,'Bill of Materials'!$W$16:$W$200,\"a\")/SUMIF('Bill of Materials'!$V$16:$V$200,$A162,'Bill of Materials'!$I$16:$I$200)","v":{"$error":"#DIV/0!"}},{"$f":"IFERROR((SUMIFS('Bill of Materials'!$Y$16:$Y$200,'Bill of Materials'!$V$16:$V$200,A162,'Bill of Materials'!$W$16:$W$200,\"a\")/SUMIF('Bill of Materials'!$V$16:$V$200,A162,'Bill of Materials'!$Y$16:$Y$200)),\"\")","v":""},"",{"$f":"SUMIFS('Bill of Materials'!$I$16:$I$200,'Bill of Materials'!$V$16:$V$200,$A162,'Bill of Materials'!$W$16:$W$200,\"b\")/SUMIF('Bill of Materials'!$V$16:$V$200,$A162,'Bill of Materials'!$I$16:$I$200)","v":{"$error":"#DIV/0!"}},{"$f":"IFERROR((SUMIFS('Bill of Materials'!$Y$16:$Y$200,'Bill of Materials'!$V$16:$V$200,$A162,'Bill of Materials'!$W$16:$W$200,\"b\")/SUMIF('Bill of Materials'!$V$16:$V$200,$A162,'Bill of Materials'!$Y$16:$Y$200)),\"\")","v":""},"",{"$error":"#DIV/0!"},"",{"$f":"SUMIFS('Bill of Materials'!$I$16:$I$200,'Bill of Materials'!$V$16:$V$200,$A162,'Bill of Materials'!$W$16:$W$200,\"c\")/SUMIF('Bill of Materials'!$V$16:$V$200,$A162,'Bill of Materials'!$I$16:$I$200)","v":{"$error":"#DIV/0!"}},{"$f":"IFERROR((SUMIFS('Bill of Materials'!$Y$16:$Y$200,'Bill of Materials'!$V$16:$V$200,$A162,'Bill of Materials'!$W$16:$W$200,\"c\")/SUMIF('Bill of Materials'!$V$16:$V$200,$A162,'Bill of Materials'!$Y$16:$Y$200)),\"\")","v":""},"",{"$f":"(SUMIFS('Bill of Materials'!$I$16:$I$200,'Bill of Materials'!$V$16:$V$200,$A162,'Bill of Materials'!$W$16:$W$200,\"x\")+SUMIFS('Bill of Materials'!$I$16:$I$200,'Bill of Materials'!$V$16:$V$200,$A162,'Bill of Materials'!$W$16:$W$200,\"x - CMR or SVHC\"))/SUMIF('Bill of Materials'!$V$16:$V$200,$A162,'Bill of Materials'!$I$16:$I$200)","v":{"$error":"#DIV/0!"}},{"$f":"IFERROR(((SUMIFS('Bill of Materials'!$Y$16:$Y$200,'Bill of Materials'!$V$16:$V$200,$A162,'Bill of Materials'!$W$16:$W$200,\"x\")+SUMIFS('Bill of Materials'!$Y$16:$Y$200,'Bill of Materials'!$V$16:$V$200,$A162,'Bill of Materials'!$W$16:$W$200,\"x - CMR or SVHC\"))/SUMIF('Bill of Materials'!$V$16:$V$200,$A162,'Bill of Materials'!$Y$16:$Y$200)),\"\")","v":""},"",{"$error":"#DIV/0!"},"","",""]
[154,{"$f":"SUMIF('Bill of Materials'!$V$16:$V$200,A163,'Bill of Materials'!$J$16:$J$200)","v":{"v":0,"d":"0%"}},{"$error":"#DIV/0!"},{"$f":"SUMIFS('Bill of Materials'!$I$16:$I$200,'Bill of Materials'!$V$16:$V$200,A163,'Bill of Materials'!$W$16:$W$200,\"Grey\")/SUMIF('Bill of Materials'!$V$16:$V$200,A163,'Bill of Materials'!$I$16:$I$200)","v":{"$error":"#DIV/0!"}},{"$f":"IFERROR((SUMIFS('Bill of Materials'!$Y$16:$Y$200,'Bill of Materials'!$V$16:$V$200,A163,'Bill of Materials'!$W$16:$W$200,\"Grey\")/SUMIF('Bill of Materials'!$V$16:$V$200,A163,'Bill of Materials'!$Y$16:$Y$200)),\"\")","v":""},"",{"$f":"SUMIFS('Bill of Materials'!$I$16:$I$200,'Bill of Materials'!$V$16:$V$200,$A163,'Bill of Materials'!$W$16:$W$200,\"a\")/SUMIF('Bill of Materials'!$V$16:$V$200,$A163,'Bill of Materials'!$I$16:$I$200)","v":{"$error":"#DIV/0!"}},{"$f":"IFERROR((SUMIFS('Bill of Materials'!$Y$16:$Y$200,'Bill of Materials'!$V$16:$V$200,A163,'Bill of Materials'!$W$16:$W$200,\"a\")/SUMIF('Bill of Materials'!$V$16:$V$200,A163,'Bill of Materials'!$Y$16:$Y$200)),\"\")","v":""},"",{"$f":"SUMIFS('Bill of Materials'!$I$16:$I$200,'Bill of Materials'!$V$16:$V$200,$A163,'Bill of Materials'!$W$16:$W$200,\"b\")/SUMIF('Bill of Materials'!$V$16:$V$200,$A163,'Bill of Materials'!$I$16:$I$200)","v":{"$error":"#DIV/0!"}},{"$f":"IFERROR((SUMIFS('Bill of Materials'!$Y$16:$Y$200,'Bill of Materials'!$V$16:$V$200,$A163,'Bill of Materials'!$W$16:$W$200,\"b\")/SUMIF('Bill of Materials'!$V$16:$V$200,$A163,'Bill of Materials'!$Y$16:$Y$200)),\"\")","v":""},"",{"$error":"#DIV/0!"},"",{"$f":"SUMIFS('Bill of Materials'!$I$16:$I$200,'Bill of Materials'!$V$16:$V$200,$A163,'Bill of Materials'!$W$16:$W$200,\"c\")/SUMIF('Bill of Materials'!$V$16:$V$200,$A163,'Bill of Materials'!$I$16:$I$200)","v":{"$error":"#DIV/0!"}},{"$f":"IFERROR((SUMIFS('Bill of Materials'!$Y$16:$Y$200,'Bill of Materials'!$V$16:$V$200,$A163,'Bill of Materials'!$W$16:$W$200,\"c\")/SUMIF('Bill of Materials'!$V$16:$V$200,$A163,'Bill of Materials'!$Y$16:$Y$200)),\"\")","v":""},"",{"$f":"(SUMIFS('Bill of Materials'!$I$16:$I$200,'Bill of Materials'!$V$16:$V$200,$A163,'Bill of Materials'!$W$16:$W$200,\"x\")+SUMIFS('Bill of Materials'!$I$16:$I$200,'Bill of Materials'!$V$16:$V$200,$A163,'Bill of Materials'!$W$16:$W$200,\"x - CMR or SVHC\"))/SUMIF('Bill of Materials'!$V$16:$V$200,$A163,'Bill of Materials'!$I$16:$I$200)","v":{"$error":"#DIV/0!"}},{"$f":"IFERROR(((SUMIFS('Bill of Materials'!$Y$16:$Y$200,'Bill of Materials'!$V$16:$V$200,$A163,'Bill of Materials'!$W$16:$W$200,\"x\")+SUMIFS('Bill of Materials'!$Y$16:$Y$200,'Bill of Materials'!$V$16:$V$200,$A163,'Bill of Materials'!$W$16:$W$200,\"x - CMR or SVHC\"))/SUMIF('Bill of Materials'!$V$16:$V$200,$A163,'Bill of Materials'!$Y$16:$Y$200)),\"\")","v":""},"",{"$error":"#DIV/0!"},"","",""]
[155,{"$f":"SUMIF('Bill of Materials'!$V$16:$V$200,A164,'Bill of Materials'!$J$16:$J$200)","v":{"v":0,"d":"0%"}},{"$error":"#DIV/0!"},{"$f":"SUMIFS('Bill of Materials'!$I$16:$I$200,'Bill of Materials'!$V$16:$V$200,A164,'Bill of Materials'!$W$16:$W$200,\"Grey\")/SUMIF('Bill of Materials'!$V$16:$V$200,A164,'Bill of Materials'!$I$16:$I$200)","v":{"$error":"#DIV/0!"}},{"$f":"IFERROR((SUMIFS('Bill of Materials'!$Y$16:$Y$200,'Bill of Materials'!$V$16:$V$200,A164,'Bill of Materials'!$W$16:$W$200,\"Grey\")/SUMIF('Bill of Materials'!$V$16:$V$200,A164,'Bill of Materials'!$Y$16:$Y$200)),\"\")","v":""},"",{"$f":"SUMIFS('Bill of Materials'!$I$16:$I$200,'Bill of Materials'!$V$16:$V$200,$A164,'Bill of Materials'!$W$16:$W$200,\"a\")/SUMIF('Bill of Materials'!$V$16:$V$200,$A164,'Bill of Materials'!$I$16:$I$200)","v":{"$error":"#DIV/0!"}},{"$f":"IFERROR((SUMIFS('Bill of Materials'!$Y$16:$Y$200,'Bill of Materials'!$V$16:$V$200,A164,'Bill of Materials'!$W$16:$W$200,\"a\")/SUMIF('Bill of Materials'!$V$16:$V$200,A164,'Bill of Materials'!$Y$16:$Y$200)),\"\")","v":""},"",{"$f":"SUMIFS('Bill of Materials'!$I$16:$I$200,'Bill of Materials'!$V$16:$V$200,$A164,'Bill of Materials'!$W$16:$W$200,\"b\")/SUMIF('Bill of Materials'!$V$16:$V$200,$A164,'Bill of Materials'!$I$16:$I$200)","v":{"$error":"#DIV/0!"}},{"$f":"IFERROR((SUMIFS('Bill of Materials'!$Y$16:$Y$200,'Bill of Materials'!$V$16:$V$200,$A164,'Bill of Materials'!$W$16:$W$200,\"b\")/SUMIF('Bill of Materials'!$V$16:$V$200,$A164,'Bill of Materials'!$Y$16:$Y$200)),\"\")","v":""},"",{"$error":"#DIV/0!"},"",{"$f":"SUMIFS('Bill of Materials'!$I$16:$I$200,'Bill of Materials'!$V$16:$V$200,$A164,'Bill of Materials'!$W$16:$W$200,\"c\")/SUMIF('Bill of Materials'!$V$16:$V$200,$A164,'Bill of Materials'!$I$16:$I$200)","v":{"$error":"#DIV/0!"}},{"$f":"IFERROR((SUMIFS('Bill of Materials'!$Y$16:$Y$200,'Bill of Materials'!$V$16:$V$200,$A164,'Bill of Materials'!$W$16:$W$200,\"c\")/SUMIF('Bill of Materials'!$V$16:$V$200,$A164,'Bill of Materials'!$Y$16:$Y$200)),\"\")","v":""},"",{"$f":"(SUMIFS('Bill of Materials'!$I$16:$I$200,'Bill of Materials'!$V$16:$V$200,$A164,'Bill of Materials'!$W$16:$W$200,\"x\")+SUMIFS('Bill of Materials'!$I$16:$I$200,'Bill of Materials'!$V$16:$V$200,$A164,'Bill of Materials'!$W$16:$W$200,\"x - CMR or SVHC\"))/SUMIF('Bill of Materials'!$V$16:$V$200,$A164,'Bill of Materials'!$I$16:$I$200)","v":{"$error":"#DIV/0!"}},{"$f":"IFERROR(((SUMIFS('Bill of Materials'!$Y$16:$Y$200,'Bill of Materials'!$V$16:$V$200,$A164,'Bill of Materials'!$W$16:$W$200,\"x\")+SUMIFS('Bill of Materials'!$Y$16:$Y$200,'Bill of Materials'!$V$16:$V$200,$A164,'Bill of Materials'!$W$16:$W$200,\"x - CMR or SVHC\"))/SUMIF('Bill of Materials'!$V$16:$V$200,$A164,'Bill of Materials'!$Y$16:$Y$200)),\"\")","v":""},"",{"$error":"#DIV/0!"},"","",""]
[156,{"$f":"SUMIF('Bill of Materials'!$V$16:$V$200,A165,'Bill of Materials'!$J$16:$J$200)","v":{"v":0,"d":"0%"}},{"$error":"#DIV/0!"},{"$f":"SUMIFS('Bill of Materials'!$I$16:$I$200,'Bill of Materials'!$V$16:$V$200,A165,'Bill of Materials'!$W$16:$W$200,\"Grey\")/SUMIF('Bill of Materials'!$V$16:$V$200,A165,'Bill of Materials'!$I$16:$I$200)","v":{"$error":"#DIV/0!"}},{"$f":"IFERROR((SUMIFS('Bill of Materials'!$Y$16:$Y$200,'Bill of Materials'!$V$16:$V$200,A165,'Bill of Materials'!$W$16:$W$200,\"Grey\")/SUMIF('Bill of Materials'!$V$16:$V$200,A165,'Bill of Materials'!$Y$16:$Y$200)),\"\")","v":""},"",{"$f":"SUMIFS('Bill of Materials'!$I$16:$I$200,'Bill of Materials'!$V$16:$V$200,$A165,'Bill of Materials'!$W$16:$W$200,\"a\")/SUMIF('Bill of Materials'!$V$16:$V$200,$A165,'Bill of Materials'!$I$16:$I$200)","v":{"$error":"#DIV/0!"}},{"$f":"IFERROR((SUMIFS('Bill of Materials'!$Y$16:$Y$200,'Bill of Materials'!$V$16:$V$200,A165,'Bill of Materials'!$W$16:$W$200,\"a\")/SUMIF('Bill of Materials'!$V$16:$V$200,A165,'Bill of Materials'!$Y$16:$Y$200)),\"\")","v":""},"",{"$f":"SUMIFS('Bill of Materials'!$I$16:$I$200,'Bill of Materials'!$V$16:$V$200,$A165,'Bill of Materials'!$W$16:$W$200,\"b\")/SUMIF('Bill of Materials'!$V$16:$V$200,$A165,'Bill of Materials'!$I$16:$I$200)","v":{"$error":"#DIV/0!"}},{"$f":"IFERROR((SUMIFS('Bill of Materials'!$Y$16:$Y$200,'Bill of Materials'!$V$16:$V$200,$A165,'Bill of Materials'!$W$16:$W$200,\"b\")/SUMIF('Bill of Materials'!$V$16:$V$200,$A165,'Bill of Materials'!$Y$16:$Y$200)),\"\")","v":""},"",{"$error":"#DIV/0!"},"",{"$f":"SUMIFS('Bill of Materials'!$I$16:$I$200,'Bill of Materials'!$V$16:$V$200,$A165,'Bill of Materials'!$W$16:$W$200,\"c\")/SUMIF('Bill of Materials'!$V$16:$V$200,$A165,'Bill of Materials'!$I$16:$I$200)","v":{"$error":"#DIV/0!"}},{"$f":"IFERROR((SUMIFS('Bill of Materials'!$Y$16:$Y$200,'Bill of Materials'!$V$16:$V$200,$A165,'Bill of Materials'!$W$16:$W$200,\"c\")/SUMIF('Bill of Materials'!$V$16:$V$200,$A165,'Bill of Materials'!$Y$16:$Y$200)),\"\")","v":""},"",{"$f":"(SUMIFS('Bill of Materials'!$I$16:$I$200,'Bill of Materials'!$V$16:$V$200,$A165,'Bill of Materials'!$W$16:$W$200,\"x\")+SUMIFS('Bill of Materials'!$I$16:$I$200,'Bill of Materials'!$V$16:$V$200,$A165,'Bill of Materials'!$W$16:$W$200,\"x - CMR or SVHC\"))/SUMIF('Bill of Materials'!$V$16:$V$200,$A165,'Bill of Materials'!$I$16:$I$200)","v":{"$error":"#DIV/0!"}},{"$f":"IFERROR(((SUMIFS('Bill of Materials'!$Y$16:$Y$200,'Bill of Materials'!$V$16:$V$200,$A165,'Bill of Materials'!$W$16:$W$200,\"x\")+SUMIFS('Bill of Materials'!$Y$16:$Y$200,'Bill of Materials'!$V$16:$V$200,$A165,'Bill of Materials'!$W$16:$W$200,\"x - CMR or SVHC\"))/SUMIF('Bill of Materials'!$V$16:$V$200,$A165,'Bill of Materials'!$Y$16:$Y$200)),\"\")","v":""},"",{"$error":"#DIV/0!"},"","",""]
[157,{"$f":"SUMIF('Bill of Materials'!$V$16:$V$200,A166,'Bill of Materials'!$J$16:$J$200)","v":{"v":0,"d":"0%"}},{"$error":"#DIV/0!"},{"$f":"SUMIFS('Bill of Materials'!$I$16:$I$200,'Bill of Materials'!$V$16:$V$200,A166,'Bill of Materials'!$W$16:$W$200,\"Grey\")/SUMIF('Bill of Materials'!$V$16:$V$200,A166,'Bill of Materials'!$I$16:$I$200)","v":{"$error":"#DIV/0!"}},{"$f":"IFERROR((SUMIFS('Bill of Materials'!$Y$16:$Y$200,'Bill of Materials'!$V$16:$V$200,A166,'Bill of Materials'!$W$16:$W$200,\"Grey\")/SUMIF('Bill of Materials'!$V$16:$V$200,A166,'Bill of Materials'!$Y$16:$Y$200)),\"\")","v":""},"",{"$f":"SUMIFS('Bill of Materials'!$I$16:$I$200,'Bill of Materials'!$V$16:$V$200,$A166,'Bill of Materials'!$W$16:$W$200,\"a\")/SUMIF('Bill of Materials'!$V$16:$V$200,$A166,'Bill of Materials'!$I$16:$I$200)","v":{"$error":"#DIV/0!"}},{"$f":"IFERROR((SUMIFS('Bill of Materials'!$Y$16:$Y$200,'Bill of Materials'!$V$16:$V$200,A166,'Bill of Materials'!$W$16:$W$200,\"a\")/SUMIF('Bill of Materials'!$V$16:$V$200,A166,'Bill of Materials'!$Y$16:$Y$200)),\"\")","v":""},"",{"$f":"SUMIFS('Bill of Materials'!$I$16:$I$200,'Bill of Materials'!$V$16:$V$200,$A166,'Bill of Materials'!$W$16:$W$200,\"b\")/SUMIF('Bill of Materials'!$V$16:$V$200,$A166,'Bill of Materials'!$I$16:$I$200)","v":{"$error":"#DIV/0!"}},{"$f":"IFERROR((SUMIFS('Bill of Materials'!$Y$16:$Y$200,'Bill of Materials'!$V$16:$V$200,$A166,'Bill of Materials'!$W$16:$W$200,\"b\")/SUMIF('Bill of Materials'!$V$16:$V$200,$A166,'Bill of Materials'!$Y$16:$Y$200)),\"\")","v":""},"",{"$error":"#DIV/0!"},"",{"$f":"SUMIFS('Bill of Materials'!$I$16:$I$200,'Bill of Materials'!$V$16:$V$200,$A166,'Bill of Materials'!$W$16:$W$200,\"c\")/SUMIF('Bill of Materials'!$V$16:$V$200,$A166,'Bill of Materials'!$I$16:$I$200)","v":{"$error":"#DIV/0!"}},{"$f":"IFERROR((SUMIFS('Bill of Materials'!$Y$16:$Y$200,'Bill of Materials'!$V$16:$V$200,$A166,'Bill of Materials'!$W$16:$W$200,\"c\")/SUMIF('Bill of Materials'!$V$16:$V$200,$A166,'Bill of Materials'!$Y$16:$Y$200)),\"\")","v":""},"",{"$f":"(SUMIFS('Bill of Materials'!$I$16:$I$200,'Bill of Materials'!$V$16:$V$200,$A166,'Bill of Materials'!$W$16:$W$200,\"x\")+SUMIFS('Bill of Materials'!$I$16:$I$200,'Bill of Materials'!$V$16:$V$200,$A166,'Bill of Materials'!$W$16:$W$200,\"x - CMR or SVHC\"))/SUMIF('Bill of Materials'!$V$16:$V$200,$A166,'Bill of Materials'!$I$16:$I$200)","v":{"$error":"#DIV/0!"}},{"$f":"IFERROR(((SUMIFS('Bill of Materials'!$Y$16:$Y$200,'Bill of Materials'!$V$16:$V$200,$A166,'Bill of Materials'!$W$16:$W$200,\"x\")+SUMIFS('Bill of Materials'!$Y$16:$Y$200,'Bill of Materials'!$V$16:$V$200,$A166,'Bill of Materials'!$W$16:$W$200,\"x - CMR or SVHC\"))/SUMIF('Bill of Materials'!$V$16:$V$200,$A166,'Bill of Materials'!$Y$16:$Y$200)),\"\")","v":""},"",{"$error":"#DIV/0!"},"","",""]
[158,{"$f":"SUMIF('Bill of Materials'!$V$16:$V$200,A167,'Bill of Materials'!$J$16:$J$200)","v":{"v":0,"d":"0%"}},{"$error":"#DIV/0!"},{"$f":"SUMIFS('Bill of Materials'!$I$16:$I$200,'Bill of Materials'!$V$16:$V$200,A167,'Bill of Materials'!$W$16:$W$200,\"Grey\")/SUMIF('Bill of Materials'!$V$16:$V$200,A167,'Bill of Materials'!$I$16:$I$200)","v":{"$error":"#DIV/0!"}},{"$f":"IFERROR((SUMIFS('Bill of Materials'!$Y$16:$Y$200,'Bill of Materials'!$V$16:$V$200,A167,'Bill of Materials'!$W$16:$W$200,\"Grey\")/SUMIF('Bill of Materials'!$V$16:$V$200,A167,'Bill of Materials'!$Y$16:$Y$200)),\"\")","v":""},"",{"$f":"SUMIFS('Bill of Materials'!$I$16:$I$200,'Bill of Materials'!$V$16:$V$200,$A167,'Bill of Materials'!$W$16:$W$200,\"a\")/SUMIF('Bill of Materials'!$V$16:$V$200,$A167,'Bill of Materials'!$I$16:$I$200)","v":{"$error":"#DIV/0!"}},{"$f":"IFERROR((SUMIFS('Bill of Materials'!$Y$16:$Y$200,'Bill of Materials'!$V$16:$V$200,A167,'Bill of Materials'!$W$16:$W$200,\"a\")/SUMIF('Bill of Materials'!$V$16:$V$200,A167,'Bill of Materials'!$Y$16:$Y$200)),\"\")","v":""},"",{"$f":"SUMIFS('Bill of Materials'!$I$16:$I$200,'Bill of Materials'!$V$16:$V$200,$A167,'Bill of Materials'!$W$16:$W$200,\"b\")/SUMIF('Bill of Materials'!$V$16:$V$200,$A167,'Bill of Materials'!$I$16:$I$200)","v":{"$error":"#DIV/0!"}},{"$f":"IFERROR((SUMIFS('Bill of Materials'!$Y$16:$Y$200,'Bill of Materials'!$V$16:$V$200,$A167,'Bill of Materials'!$W$16:$W$200,\"b\")/SUMIF('Bill of Materials'!$V$16:$V$200,$A167,'Bill of Materials'!$Y$16:$Y$200)),\"\")","v":""},"",{"$error":"#DIV/0!"},"",{"$f":"SUMIFS('Bill of Materials'!$I$16:$I$200,'Bill of Materials'!$V$16:$V$200,$A167,'Bill of Materials'!$W$16:$W$200,\"c\")/SUMIF('Bill of Materials'!$V$16:$V$200,$A167,'Bill of Materials'!$I$16:$I$200)","v":{"$error":"#DIV/0!"}},{"$f":"IFERROR((SUMIFS('Bill of Materials'!$Y$16:$Y$200,'Bill of Materials'!$V$16:$V$200,$A167,'Bill of Materials'!$W$16:$W$200,\"c\")/SUMIF('Bill of Materials'!$V$16:$V$200,$A167,'Bill of Materials'!$Y$16:$Y$200)),\"\")","v":""},"",{"$f":"(SUMIFS('Bill of Materials'!$I$16:$I$200,'Bill of Materials'!$V$16:$V$200,$A167,'Bill of Materials'!$W$16:$W$200,\"x\")+SUMIFS('Bill of Materials'!$I$16:$I$200,'Bill of Materials'!$V$16:$V$200,$A167,'Bill of Materials'!$W$16:$W$200,\"x - CMR or SVHC\"))/SUMIF('Bill of Materials'!$V$16:$V$200,$A167,'Bill of Materials'!$I$16:$I$200)","v":{"$error":"#DIV/0!"}},{"$f":"IFERROR(((SUMIFS('Bill of Materials'!$Y$16:$Y$200,'Bill of Materials'!$V$16:$V$200,$A167,'Bill of Materials'!$W$16:$W$200,\"x\")+SUMIFS('Bill of Materials'!$Y$16:$Y$200,'Bill of Materials'!$V$16:$V$200,$A167,'Bill of Materials'!$W$16:$W$200,\"x - CMR or SVHC\"))/SUMIF('Bill of Materials'!$V$16:$V$200,$A167,'Bill of Materials'!$Y$16:$Y$200)),\"\")","v":""},"",{"$error":"#DIV/0!"},"","",""]
[159,{"$f":"SUMIF('Bill of Materials'!$V$16:$V$200,A168,'Bill of Materials'!$J$16:$J$200)","v":{"v":0,"d":"0%"}},{"$error":"#DIV/0!"},{"$f":"SUMIFS('Bill of Materials'!$I$16:$I$200,'Bill of Materials'!$V$16:$V$200,A168,'Bill of Materials'!$W$16:$W$200,\"Grey\")/SUMIF('Bill of Materials'!$V$16:$V$200,A168,'Bill of Materials'!$I$16:$I$200)","v":{"$error":"#DIV/0!"}},{"$f":"IFERROR((SUMIFS('Bill of Materials'!$Y$16:$Y$200,'Bill of Materials'!$V$16:$V$200,A168,'Bill of Materials'!$W$16:$W$200,\"Grey\")/SUMIF('Bill of Materials'!$V$16:$V$200,A168,'Bill of Materials'!$Y$16:$Y$200)),\"\")","v":""},"",{"$f":"SUMIFS('Bill of Materials'!$I$16:$I$200,'Bill of Materials'!$V$16:$V$200,$A168,'Bill of Materials'!$W$16:$W$200,\"a\")/SUMIF('Bill of Materials'!$V$16:$V$200,$A168,'Bill of Materials'!$I$16:$I$200)","v":{"$error":"#DIV/0!"}},{"$f":"IFERROR((SUMIFS('Bill of Materials'!$Y$16:$Y$200,'Bill of Materials'!$V$16:$V$200,A168,'Bill of Materials'!$W$16:$W$200,\"a\")/SUMIF('Bill of Materials'!$V$16:$V$200,A168,'Bill of Materials'!$Y$16:$Y$200)),\"\")","v":""},"",{"$f":"SUMIFS('Bill of Materials'!$I$16:$I$200,'Bill of Materials'!$V$16:$V$200,$A168,'Bill of Materials'!$W$16:$W$200,\"b\")/SUMIF('Bill of Materials'!$V$16:$V$200,$A168,'Bill of Materials'!$I$16:$I$200)","v":{"$error":"#DIV/0!"}},{"$f":"IFERROR((SUMIFS('Bill of Materials'!$Y$16:$Y$200,'Bill of Materials'!$V$16:$V$200,$A168,'Bill of Materials'!$W$16:$W$200,\"b\")/SUMIF('Bill of Materials'!$V$16:$V$200,$A168,'Bill of Materials'!$Y$16:$Y$200)),\"\")","v":""},"",{"$error":"#DIV/0!"},"",{"$f":"SUMIFS('Bill of Materials'!$I$16:$I$200,'Bill of Materials'!$V$16:$V$200,$A168,'Bill of Materials'!$W$16:$W$200,\"c\")/SUMIF('Bill of Materials'!$V$16:$V$200,$A168,'Bill of Materials'!$I$16:$I$200)","v":{"$error":"#DIV/0!"}},{"$f":"IFERROR((SUMIFS('Bill of Materials'!$Y$16:$Y$200,'Bill of Materials'!$V$16:$V$200,$A168,'Bill of Materials'!$W$16:$W$200,\"c\")/SUMIF('Bill of Materials'!$V$16:$V$200,$A168,'Bill of Materials'!$Y$16:$Y$200)),\"\")","v":""},"",{"$f":"(SUMIFS('Bill of Materials'!$I$16:$I$200,'Bill of Materials'!$V$16:$V$200,$A168,'Bill of Materials'!$W$16:$W$200,\"x\")+SUMIFS('Bill of Materials'!$I$16:$I$200,'Bill of Materials'!$V$16:$V$200,$A168,'Bill of Materials'!$W$16:$W$200,\"x - CMR or SVHC\"))/SUMIF('Bill of Materials'!$V$16:$V$200,$A168,'Bill of Materials'!$I$16:$I$200)","v":{"$error":"#DIV/0!"}},{"$f":"IFERROR(((SUMIFS('Bill of Materials'!$Y$16:$Y$200,'Bill of Materials'!$V$16:$V$200,$A168,'Bill of Materials'!$W$16:$W$200,\"x\")+SUMIFS('Bill of Materials'!$Y$16:$Y$200,'Bill of Materials'!$V$16:$V$200,$A168,'Bill of Materials'!$W$16:$W$200,\"x - CMR or SVHC\"))/SUMIF('Bill of Materials'!$V$16:$V$200,$A168,'Bill of Materials'!$Y$16:$Y$200)),\"\")","v":""},"",{"$error":"#DIV/0!"},"","",""]
[160,{"$f":"SUMIF('Bill of Materials'!$V$16:$V$200,A169,'Bill of Materials'!$J$16:$J$200)","v":{"v":0,"d":"0%"}},{"$error":"#DIV/0!"},{"$f":"SUMIFS('Bill of Materials'!$I$16:$I$200,'Bill of Materials'!$V$16:$V$200,A169,'Bill of Materials'!$W$16:$W$200,\"Grey\")/SUMIF('Bill of Materials'!$V$16:$V$200,A169,'Bill of Materials'!$I$16:$I$200)","v":{"$error":"#DIV/0!"}},{"$f":"IFERROR((SUMIFS('Bill of Materials'!$Y$16:$Y$200,'Bill of Materials'!$V$16:$V$200,A169,'Bill of Materials'!$W$16:$W$200,\"Grey\")/SUMIF('Bill of Materials'!$V$16:$V$200,A169,'Bill of Materials'!$Y$16:$Y$200)),\"\")","v":""},"",{"$f":"SUMIFS('Bill of Materials'!$I$16:$I$200,'Bill of Materials'!$V$16:$V$200,$A169,'Bill of Materials'!$W$16:$W$200,\"a\")/SUMIF('Bill of Materials'!$V$16:$V$200,$A169,'Bill of Materials'!$I$16:$I$200)","v":{"$error":"#DIV/0!"}},{"$f":"IFERROR((SUMIFS('Bill of Materials'!$Y$16:$Y$200,'Bill of Materials'!$V$16:$V$200,A169,'Bill of Materials'!$W$16:$W$200,\"a\")/SUMIF('Bill of Materials'!$V$16:$V$200,A169,'Bill of Materials'!$Y$16:$Y$200)),\"\")","v":""},"",{"$f":"SUMIFS('Bill of Materials'!$I$16:$I$200,'Bill of Materials'!$V$16:$V$200,$A169,'Bill of Materials'!$W$16:$W$200,\"b\")/SUMIF('Bill of Materials'!$V$16:$V$200,$A169,'Bill of Materials'!$I$16:$I$200)","v":{"$error":"#DIV/0!"}},{"$f":"IFERROR((SUMIFS('Bill of Materials'!$Y$16:$Y$200,'Bill of Materials'!$V$16:$V$200,$A169,'Bill of Materials'!$W$16:$W$200,\"b\")/SUMIF('Bill of Materials'!$V$16:$V$200,$A169,'Bill of Materials'!$Y$16:$Y$200)),\"\")","v":""},"",{"$error":"#DIV/0!"},"",{"$f":"SUMIFS('Bill of Materials'!$I$16:$I$200,'Bill of Materials'!$V$16:$V$200,$A169,'Bill of Materials'!$W$16:$W$200,\"c\")/SUMIF('Bill of Materials'!$V$16:$V$200,$A169,'Bill of Materials'!$I$16:$I$200)","v":{"$error":"#DIV/0!"}},{"$f":"IFERROR((SUMIFS('Bill of Materials'!$Y$16:$Y$200,'Bill of Materials'!$V$16:$V$200,$A169,'Bill of Materials'!$W$16:$W$200,\"c\")/SUMIF('Bill of Materials'!$V$16:$V$200,$A169,'Bill of Materials'!$Y$16:$Y$200)),\"\")","v":""},"",{"$f":"(SUMIFS('Bill of Materials'!$I$16:$I$200,'Bill of Materials'!$V$16:$V$200,$A169,'Bill of Materials'!$W$16:$W$200,\"x\")+SUMIFS('Bill of Materials'!$I$16:$I$200,'Bill of Materials'!$V$16:$V$200,$A169,'Bill of Materials'!$W$16:$W$200,\"x - CMR or SVHC\"))/SUMIF('Bill of Materials'!$V$16:$V$200,$A169,'Bill of Materials'!$I$16:$I$200)","v":{"$error":"#DIV/0!"}},{"$f":"IFERROR(((SUMIFS('Bill of Materials'!$Y$16:$Y$200,'Bill of Materials'!$V$16:$V$200,$A169,'Bill of Materials'!$W$16:$W$200,\"x\")+SUMIFS('Bill of Materials'!$Y$16:$Y$200,'Bill of Materials'!$V$16:$V$200,$A169,'Bill of Materials'!$W$16:$W$200,\"x - CMR or SVHC\"))/SUMIF('Bill of Materials'!$V$16:$V$200,$A169,'Bill of Materials'!$Y$16:$Y$200)),\"\")","v":""},"",{"$error":"#DIV/0!"},"","",""]
[161,{"$f":"SUMIF('Bill of Materials'!$V$16:$V$200,A170,'Bill of Materials'!$J$16:$J$200)","v":{"v":0,"d":"0%"}},{"$error":"#DIV/0!"},{"$f":"SUMIFS('Bill of Materials'!$I$16:$I$200,'Bill of Materials'!$V$16:$V$200,A170,'Bill of Materials'!$W$16:$W$200,\"Grey\")/SUMIF('Bill of Materials'!$V$16:$V$200,A170,'Bill of Materials'!$I$16:$I$200)","v":{"$error":"#DIV/0!"}},{"$f":"IFERROR((SUMIFS('Bill of Materials'!$Y$16:$Y$200,'Bill of Materials'!$V$16:$V$200,A170,'Bill of Materials'!$W$16:$W$200,\"Grey\")/SUMIF('Bill of Materials'!$V$16:$V$200,A170,'Bill of Materials'!$Y$16:$Y$200)),\"\")","v":""},"",{"$f":"SUMIFS('Bill of Materials'!$I$16:$I$200,'Bill of Materials'!$V$16:$V$200,$A170,'Bill of Materials'!$W$16:$W$200,\"a\")/SUMIF('Bill of Materials'!$V$16:$V$200,$A170,'Bill of Materials'!$I$16:$I$200)","v":{"$error":"#DIV/0!"}},{"$f":"IFERROR((SUMIFS('Bill of Materials'!$Y$16:$Y$200,'Bill of Materials'!$V$16:$V$200,A170,'Bill of Materials'!$W$16:$W$200,\"a\")/SUMIF('Bill of Materials'!$V$16:$V$200,A170,'Bill of Materials'!$Y$16:$Y$200)),\"\")","v":""},"",{"$f":"SUMIFS('Bill of Materials'!$I$16:$I$200,'Bill of Materials'!$V$16:$V$200,$A170,'Bill of Materials'!$W$16:$W$200,\"b\")/SUMIF('Bill of Materials'!$V$16:$V$200,$A170,'Bill of Materials'!$I$16:$I$200)","v":{"$error":"#DIV/0!"}},{"$f":"IFERROR((SUMIFS('Bill of Materials'!$Y$16:$Y$200,'Bill of Materials'!$V$16:$V$200,$A170,'Bill of Materials'!$W$16:$W$200,\"b\")/SUMIF('Bill of Materials'!$V$16:$V$200,$A170,'Bill of Materials'!$Y$16:$Y$200)),\"\")","v":""},"",{"$error":"#DIV/0!"},"",{"$f":"SUMIFS('Bill of Materials'!$I$16:$I$200,'Bill of Materials'!$V$16:$V$200,$A170,'Bill of Materials'!$W$16:$W$200,\"c\")/SUMIF('Bill of Materials'!$V$16:$V$200,$A170,'Bill of Materials'!$I$16:$I$200)","v":{"$error":"#DIV/0!"}},{"$f":"IFERROR((SUMIFS('Bill of Materials'!$Y$16:$Y$200,'Bill of Materials'!$V$16:$V$200,$A170,'Bill of Materials'!$W$16:$W$200,\"c\")/SUMIF('Bill of Materials'!$V$16:$V$200,$A170,'Bill of Materials'!$Y$16:$Y$200)),\"\")","v":""},"",{"$f":"(SUMIFS('Bill of Materials'!$I$16:$I$200,'Bill of Materials'!$V$16:$V$200,$A170,'Bill of Materials'!$W$16:$W$200,\"x\")+SUMIFS('Bill of Materials'!$I$16:$I$200,'Bill of Materials'!$V$16:$V$200,$A170,'Bill of Materials'!$W$16:$W$200,\"x - CMR or SVHC\"))/SUMIF('Bill of Materials'!$V$16:$V$200,$A170,'Bill of Materials'!$I$16:$I$200)","v":{"$error":"#DIV/0!"}},{"$f":"IFERROR(((SUMIFS('Bill of Materials'!$Y$16:$Y$200,'Bill of Materials'!$V$16:$V$200,$A170,'Bill of Materials'!$W$16:$W$200,\"x\")+SUMIFS('Bill of Materials'!$Y$16:$Y$200,'Bill of Materials'!$V$16:$V$200,$A170,'Bill of Materials'!$W$16:$W$200,\"x - CMR or SVHC\"))/SUMIF('Bill of Materials'!$V$16:$V$200,$A170,'Bill of Materials'!$Y$16:$Y$200)),\"\")","v":""},"",{"$error":"#DIV/0!"},"","",""]
[162,{"$f":"SUMIF('Bill of Materials'!$V$16:$V$200,A171,'Bill of Materials'!$J$16:$J$200)","v":{"v":0,"d":"0%"}},{"$error":"#DIV/0!"},{"$f":"SUMIFS('Bill of Materials'!$I$16:$I$200,'Bill of Materials'!$V$16:$V$200,A171,'Bill of Materials'!$W$16:$W$200,\"Grey\")/SUMIF('Bill of Materials'!$V$16:$V$200,A171,'Bill of Materials'!$I$16:$I$200)","v":{"$error":"#DIV/0!"}},{"$f":"IFERROR((SUMIFS('Bill of Materials'!$Y$16:$Y$200,'Bill of Materials'!$V$16:$V$200,A171,'Bill of Materials'!$W$16:$W$200,\"Grey\")/SUMIF('Bill of Materials'!$V$16:$V$200,A171,'Bill of Materials'!$Y$16:$Y$200)),\"\")","v":""},"",{"$f":"SUMIFS('Bill of Materials'!$I$16:$I$200,'Bill of Materials'!$V$16:$V$200,$A171,'Bill of Materials'!$W$16:$W$200,\"a\")/SUMIF('Bill of Materials'!$V$16:$V$200,$A171,'Bill of Materials'!$I$16:$I$200)","v":{"$error":"#DIV/0!"}},{"$f":"IFERROR((SUMIFS('Bill of Materials'!$Y$16:$Y$200,'Bill of Materials'!$V$16:$V$200,A171,'Bill of Materials'!$W$16:$W$200,\"a\")/SUMIF('Bill of Materials'!$V$16:$V$200,A171,'Bill of Materials'!$Y$16:$Y$200)),\"\")","v":""},"",{"$f":"SUMIFS('Bill of Materials'!$I$16:$I$200,'Bill of Materials'!$V$16:$V$200,$A171,'Bill of Materials'!$W$16:$W$200,\"b\")/SUMIF('Bill of Materials'!$V$16:$V$200,$A171,'Bill of Materials'!$I$16:$I$200)","v":{"$error":"#DIV/0!"}},{"$f":"IFERROR((SUMIFS('Bill of Materials'!$Y$16:$Y$200,'Bill of Materials'!$V$16:$V$200,$A171,'Bill of Materials'!$W$16:$W$200,\"b\")/SUMIF('Bill of Materials'!$V$16:$V$200,$A171,'Bill of Materials'!$Y$16:$Y$200)),\"\")","v":""},"",{"$error":"#DIV/0!"},"",{"$f":"SUMIFS('Bill of Materials'!$I$16:$I$200,'Bill of Materials'!$V$16:$V$200,$A171,'Bill of Materials'!$W$16:$W$200,\"c\")/SUMIF('Bill of Materials'!$V$16:$V$200,$A171,'Bill of Materials'!$I$16:$I$200)","v":{"$error":"#DIV/0!"}},{"$f":"IFERROR((SUMIFS('Bill of Materials'!$Y$16:$Y$200,'Bill of Materials'!$V$16:$V$200,$A171,'Bill of Materials'!$W$16:$W$200,\"c\")/SUMIF('Bill of Materials'!$V$16:$V$200,$A171,'Bill of Materials'!$Y$16:$Y$200)),\"\")","v":""},"",{"$f":"(SUMIFS('Bill of Materials'!$I$16:$I$200,'Bill of Materials'!$V$16:$V$200,$A171,'Bill of Materials'!$W$16:$W$200,\"x\")+SUMIFS('Bill of Materials'!$I$16:$I$200,'Bill of Materials'!$V$16:$V$200,$A171,'Bill of Materials'!$W$16:$W$200,\"x - CMR or SVHC\"))/SUMIF('Bill of Materials'!$V$16:$V$200,$A171,'Bill of Materials'!$I$16:$I$200)","v":{"$error":"#DIV/0!"}},{"$f":"IFERROR(((SUMIFS('Bill of Materials'!$Y$16:$Y$200,'Bill of Materials'!$V$16:$V$200,$A171,'Bill of Materials'!$W$16:$W$200,\"x\")+SUMIFS('Bill of Materials'!$Y$16:$Y$200,'Bill of Materials'!$V$16:$V$200,$A171,'Bill of Materials'!$W$16:$W$200,\"x - CMR or SVHC\"))/SUMIF('Bill of Materials'!$V$16:$V$200,$A171,'Bill of Materials'!$Y$16:$Y$200)),\"\")","v":""},"",{"$error":"#DIV/0!"},"","",""]
[163,{"$f":"SUMIF('Bill of Materials'!$V$16:$V$200,A172,'Bill of Materials'!$J$16:$J$200)","v":{"v":0,"d":"0%"}},{"$error":"#DIV/0!"},{"$f":"SUMIFS('Bill of Materials'!$I$16:$I$200,'Bill of Materials'!$V$16:$V$200,A172,'Bill of Materials'!$W$16:$W$200,\"Grey\")/SUMIF('Bill of Materials'!$V$16:$V$200,A172,'Bill of Materials'!$I$16:$I$200)","v":{"$error":"#DIV/0!"}},{"$f":"IFERROR((SUMIFS('Bill of Materials'!$Y$16:$Y$200,'Bill of Materials'!$V$16:$V$200,A172,'Bill of Materials'!$W$16:$W$200,\"Grey\")/SUMIF('Bill of Materials'!$V$16:$V$200,A172,'Bill of Materials'!$Y$16:$Y$200)),\"\")","v":""},"",{"$f":"SUMIFS('Bill of Materials'!$I$16:$I$200,'Bill of Materials'!$V$16:$V$200,$A172,'Bill of Materials'!$W$16:$W$200,\"a\")/SUMIF('Bill of Materials'!$V$16:$V$200,$A172,'Bill of Materials'!$I$16:$I$200)","v":{"$error":"#DIV/0!"}},{"$f":"IFERROR((SUMIFS('Bill of Materials'!$Y$16:$Y$200,'Bill of Materials'!$V$16:$V$200,A172,'Bill of Materials'!$W$16:$W$200,\"a\")/SUMIF('Bill of Materials'!$V$16:$V$200,A172,'Bill of Materials'!$Y$16:$Y$200)),\"\")","v":""},"",{"$f":"SUMIFS('Bill of Materials'!$I$16:$I$200,'Bill of Materials'!$V$16:$V$200,$A172,'Bill of Materials'!$W$16:$W$200,\"b\")/SUMIF('Bill of Materials'!$V$16:$V$200,$A172,'Bill of Materials'!$I$16:$I$200)","v":{"$error":"#DIV/0!"}},{"$f":"IFERROR((SUMIFS('Bill of Materials'!$Y$16:$Y$200,'Bill of Materials'!$V$16:$V$200,$A172,'Bill of Materials'!$W$16:$W$200,\"b\")/SUMIF('Bill of Materials'!$V$16:$V$200,$A172,'Bill of Materials'!$Y$16:$Y$200)),\"\")","v":""},"",{"$error":"#DIV/0!"},"",{"$f":"SUMIFS('Bill of Materials'!$I$16:$I$200,'Bill of Materials'!$V$16:$V$200,$A172,'Bill of Materials'!$W$16:$W$200,\"c\")/SUMIF('Bill of Materials'!$V$16:$V$200,$A172,'Bill of Materials'!$I$16:$I$200)","v":{"$error":"#DIV/0!"}},{"$f":"IFERROR((SUMIFS('Bill of Materials'!$Y$16:$Y$200,'Bill of Materials'!$V$16:$V$200,$A172,'Bill of Materials'!$W$16:$W$200,\"c\")/SUMIF('Bill of Materials'!$V$16:$V$200,$A172,'Bill of Materials'!$Y$16:$Y$200)),\"\")","v":""},"",{"$f":"(SUMIFS('Bill of Materials'!$I$16:$I$200,'Bill of Materials'!$V$16:$V$200,$A172,'Bill of Materials'!$W$16:$W$200,\"x\")+SUMIFS('Bill of Materials'!$I$16:$I$200,'Bill of Materials'!$V$16:$V$200,$A172,'Bill of Materials'!$W$16:$W$200,\"x - CMR or SVHC\"))/SUMIF('Bill of Materials'!$V$16:$V$200,$A172,'Bill of Materials'!$I$16:$I$200)","v":{"$error":"#DIV/0!"}},{"$f":"IFERROR(((SUMIFS('Bill of Materials'!$Y$16:$Y$200,'Bill of Materials'!$V$16:$V$200,$A172,'Bill of Materials'!$W$16:$W$200,\"x\")+SUMIFS('Bill of Materials'!$Y$16:$Y$200,'Bill of Materials'!$V$16:$V$200,$A172,'Bill of Materials'!$W$16:$W$200,\"x - CMR or SVHC\"))/SUMIF('Bill of Materials'!$V$16:$V$200,$A172,'Bill of Materials'!$Y$16:$Y$200)),\"\")","v":""},"",{"$error":"#DIV/0!"},"","",""]
[164,{"$f":"SUMIF('Bill of Materials'!$V$16:$V$200,A173,'Bill of Materials'!$J$16:$J$200)","v":{"v":0,"d":"0%"}},{"$error":"#DIV/0!"},{"$f":"SUMIFS('Bill of Materials'!$I$16:$I$200,'Bill of Materials'!$V$16:$V$200,A173,'Bill of Materials'!$W$16:$W$200,\"Grey\")/SUMIF('Bill of Materials'!$V$16:$V$200,A173,'Bill of Materials'!$I$16:$I$200)","v":{"$error":"#DIV/0!"}},{"$f":"IFERROR((SUMIFS('Bill of Materials'!$Y$16:$Y$200,'Bill of Materials'!$V$16:$V$200,A173,'Bill of Materials'!$W$16:$W$200,\"Grey\")/SUMIF('Bill of Materials'!$V$16:$V$200,A173,'Bill of Materials'!$Y$16:$Y$200)),\"\")","v":""},"",{"$f":"SUMIFS('Bill of Materials'!$I$16:$I$200,'Bill of Materials'!$V$16:$V$200,$A173,'Bill of Materials'!$W$16:$W$200,\"a\")/SUMIF('Bill of Materials'!$V$16:$V$200,$A173,'Bill of Materials'!$I$16:$I$200)","v":{"$error":"#DIV/0!"}},{"$f":"IFERROR((SUMIFS('Bill of Materials'!$Y$16:$Y$200,'Bill of Materials'!$V$16:$V$200,A173,'Bill of Materials'!$W$16:$W$200,\"a\")/SUMIF('Bill of Materials'!$V$16:$V$200,A173,'Bill of Materials'!$Y$16:$Y$200)),\"\")","v":""},"",{"$f":"SUMIFS('Bill of Materials'!$I$16:$I$200,'Bill of Materials'!$V$16:$V$200,$A173,'Bill of Materials'!$W$16:$W$200,\"b\")/SUMIF('Bill of Materials'!$V$16:$V$200,$A173,'Bill of Materials'!$I$16:$I$200)","v":{"$error":"#DIV/0!"}},{"$f":"IFERROR((SUMIFS('Bill of Materials'!$Y$16:$Y$200,'Bill of Materials'!$V$16:$V$200,$A173,'Bill of Materials'!$W$16:$W$200,\"b\")/SUMIF('Bill of Materials'!$V$16:$V$200,$A173,'Bill of Materials'!$Y$16:$Y$200)),\"\")","v":""},"",{"$error":"#DIV/0!"},"",{"$f":"SUMIFS('Bill of Materials'!$I$16:$I$200,'Bill of Materials'!$V$16:$V$200,$A173,'Bill of Materials'!$W$16:$W$200,\"c\")/SUMIF('Bill of Materials'!$V$16:$V$200,$A173,'Bill of Materials'!$I$16:$I$200)","v":{"$error":"#DIV/0!"}},{"$f":"IFERROR((SUMIFS('Bill of Materials'!$Y$16:$Y$200,'Bill of Materials'!$V$16:$V$200,$A173,'Bill of Materials'!$W$16:$W$200,\"c\")/SUMIF('Bill of Materials'!$V$16:$V$200,$A173,'Bill of Materials'!$Y$16:$Y$200)),\"\")","v":""},"",{"$f":"(SUMIFS('Bill of Materials'!$I$16:$I$200,'Bill of Materials'!$V$16:$V$200,$A173,'Bill of Materials'!$W$16:$W$200,\"x\")+SUMIFS('Bill of Materials'!$I$16:$I$200,'Bill of Materials'!$V$16:$V$200,$A173,'Bill of Materials'!$W$16:$W$200,\"x - CMR or SVHC\"))/SUMIF('Bill of Materials'!$V$16:$V$200,$A173,'Bill of Materials'!$I$16:$I$200)","v":{"$error":"#DIV/0!"}},{"$f":"IFERROR(((SUMIFS('Bill of Materials'!$Y$16:$Y$200,'Bill of Materials'!$V$16:$V$200,$A173,'Bill of Materials'!$W$16:$W$200,\"x\")+SUMIFS('Bill of Materials'!$Y$16:$Y$200,'Bill of Materials'!$V$16:$V$200,$A173,'Bill of Materials'!$W$16:$W$200,\"x - CMR or SVHC\"))/SUMIF('Bill of Materials'!$V$16:$V$200,$A173,'Bill of Materials'!$Y$16:$Y$200)),\"\")","v":""},"",{"$error":"#DIV/0!"},"","",""]
[165,{"$f":"SUMIF('Bill of Materials'!$V$16:$V$200,A174,'Bill of Materials'!$J$16:$J$200)","v":{"v":0,"d":"0%"}},{"$error":"#DIV/0!"},{"$f":"SUMIFS('Bill of Materials'!$I$16:$I$200,'Bill of Materials'!$V$16:$V$200,A174,'Bill of Materials'!$W$16:$W$200,\"Grey\")/SUMIF('Bill of Materials'!$V$16:$V$200,A174,'Bill of Materials'!$I$16:$I$200)","v":{"$error":"#DIV/0!"}},{"$f":"IFERROR((SUMIFS('Bill of Materials'!$Y$16:$Y$200,'Bill of Materials'!$V$16:$V$200,A174,'Bill of Materials'!$W$16:$W$200,\"Grey\")/SUMIF('Bill of Materials'!$V$16:$V$200,A174,'Bill of Materials'!$Y$16:$Y$200)),\"\")","v":""},"",{"$f":"SUMIFS('Bill of Materials'!$I$16:$I$200,'Bill of Materials'!$V$16:$V$200,$A174,'Bill of Materials'!$W$16:$W$200,\"a\")/SUMIF('Bill of Materials'!$V$16:$V$200,$A174,'Bill of Materials'!$I$16:$I$200)","v":{"$error":"#DIV/0!"}},{"$f":"IFERROR((SUMIFS('Bill of Materials'!$Y$16:$Y$200,'Bill of Materials'!$V$16:$V$200,A174,'Bill of Materials'!$W$16:$W$200,\"a\")/SUMIF('Bill of Materials'!$V$16:$V$200,A174,'Bill of Materials'!$Y$16:$Y$200)),\"\")","v":""},"",{"$f":"SUMIFS('Bill of Materials'!$I$16:$I$200,'Bill of Materials'!$V$16:$V$200,$A174,'Bill of Materials'!$W$16:$W$200,\"b\")/SUMIF('Bill of Materials'!$V$16:$V$200,$A174,'Bill of Materials'!$I$16:$I$200)","v":{"$error":"#DIV/0!"}},{"$f":"IFERROR((SUMIFS('Bill of Materials'!$Y$16:$Y$200,'Bill of Materials'!$V$16:$V$200,$A174,'Bill of Materials'!$W$16:$W$200,\"b\")/SUMIF('Bill of Materials'!$V$16:$V$200,$A174,'Bill of Materials'!$Y$16:$Y$200)),\"\")","v":""},"",{"$error":"#DIV/0!"},"",{"$f":"SUMIFS('Bill of Materials'!$I$16:$I$200,'Bill of Materials'!$V$16:$V$200,$A174,'Bill of Materials'!$W$16:$W$200,\"c\")/SUMIF('Bill of Materials'!$V$16:$V$200,$A174,'Bill of Materials'!$I$16:$I$200)","v":{"$error":"#DIV/0!"}},{"$f":"IFERROR((SUMIFS('Bill of Materials'!$Y$16:$Y$200,'Bill of Materials'!$V$16:$V$200,$A174,'Bill of Materials'!$W$16:$W$200,\"c\")/SUMIF('Bill of Materials'!$V$16:$V$200,$A174,'Bill of Materials'!$Y$16:$Y$200)),\"\")","v":""},"",{"$f":"(SUMIFS('Bill of Materials'!$I$16:$I$200,'Bill of Materials'!$V$16:$V$200,$A174,'Bill of Materials'!$W$16:$W$200,\"x\")+SUMIFS('Bill of Materials'!$I$16:$I$200,'Bill of Materials'!$V$16:$V$200,$A174,'Bill of Materials'!$W$16:$W$200,\"x - CMR or SVHC\"))/SUMIF('Bill of Materials'!$V$16:$V$200,$A174,'Bill of Materials'!$I$16:$I$200)","v":{"$error":"#DIV/0!"}},{"$f":"IFERROR(((SUMIFS('Bill of Materials'!$Y$16:$Y$200,'Bill of Materials'!$V$16:$V$200,$A174,'Bill of Materials'!$W$16:$W$200,\"x\")+SUMIFS('Bill of Materials'!$Y$16:$Y$200,'Bill of Materials'!$V$16:$V$200,$A174,'Bill of Materials'!$W$16:$W$200,\"x - CMR or SVHC\"))/SUMIF('Bill of Materials'!$V$16:$V$200,$A174,'Bill of Materials'!$Y$16:$Y$200)),\"\")","v":""},"",{"$error":"#DIV/0!"},"","",""]
[166,{"$f":"SUMIF('Bill of Materials'!$V$16:$V$200,A175,'Bill of Materials'!$J$16:$J$200)","v":{"v":0,"d":"0%"}},{"$error":"#DIV/0!"},{"$f":"SUMIFS('Bill of Materials'!$I$16:$I$200,'Bill of Materials'!$V$16:$V$200,A175,'Bill of Materials'!$W$16:$W$200,\"Grey\")/SUMIF('Bill of Materials'!$V$16:$V$200,A175,'Bill of Materials'!$I$16:$I$200)","v":{"$error":"#DIV/0!"}},{"$f":"IFERROR((SUMIFS('Bill of Materials'!$Y$16:$Y$200,'Bill of Materials'!$V$16:$V$200,A175,'Bill of Materials'!$W$16:$W$200,\"Grey\")/SUMIF('Bill of Materials'!$V$16:$V$200,A175,'Bill of Materials'!$Y$16:$Y$200)),\"\")","v":""},"",{"$f":"SUMIFS('Bill of Materials'!$I$16:$I$200,'Bill of Materials'!$V$16:$V$200,$A175,'Bill of Materials'!$W$16:$W$200,\"a\")/SUMIF('Bill of Materials'!$V$16:$V$200,$A175,'Bill of Materials'!$I$16:$I$200)","v":{"$error":"#DIV/0!"}},{"$f":"IFERROR((SUMIFS('Bill of Materials'!$Y$16:$Y$200,'Bill of Materials'!$V$16:$V$200,A175,'Bill of Materials'!$W$16:$W$200,\"a\")/SUMIF('Bill of Materials'!$V$16:$V$200,A175,'Bill of Materials'!$Y$16:$Y$200)),\"\")","v":""},"",{"$f":"SUMIFS('Bill of Materials'!$I$16:$I$200,'Bill of Materials'!$V$16:$V$200,$A175,'Bill of Materials'!$W$16:$W$200,\"b\")/SUMIF('Bill of Materials'!$V$16:$V$200,$A175,'Bill of Materials'!$I$16:$I$200)","v":{"$error":"#DIV/0!"}},{"$f":"IFERROR((SUMIFS('Bill of Materials'!$Y$16:$Y$200,'Bill of Materials'!$V$16:$V$200,$A175,'Bill of Materials'!$W$16:$W$200,\"b\")/SUMIF('Bill of Materials'!$V$16:$V$200,$A175,'Bill of Materials'!$Y$16:$Y$200)),\"\")","v":""},"",{"$error":"#DIV/0!"},"",{"$f":"SUMIFS('Bill of Materials'!$I$16:$I$200,'Bill of Materials'!$V$16:$V$200,$A175,'Bill of Materials'!$W$16:$W$200,\"c\")/SUMIF('Bill of Materials'!$V$16:$V$200,$A175,'Bill of Materials'!$I$16:$I$200)","v":{"$error":"#DIV/0!"}},{"$f":"IFERROR((SUMIFS('Bill of Materials'!$Y$16:$Y$200,'Bill of Materials'!$V$16:$V$200,$A175,'Bill of Materials'!$W$16:$W$200,\"c\")/SUMIF('Bill of Materials'!$V$16:$V$200,$A175,'Bill of Materials'!$Y$16:$Y$200)),\"\")","v":""},"",{"$f":"(SUMIFS('Bill of Materials'!$I$16:$I$200,'Bill of Materials'!$V$16:$V$200,$A175,'Bill of Materials'!$W$16:$W$200,\"x\")+SUMIFS('Bill of Materials'!$I$16:$I$200,'Bill of Materials'!$V$16:$V$200,$A175,'Bill of Materials'!$W$16:$W$200,\"x - CMR or SVHC\"))/SUMIF('Bill of Materials'!$V$16:$V$200,$A175,'Bill of Materials'!$I$16:$I$200)","v":{"$error":"#DIV/0!"}},{"$f":"IFERROR(((SUMIFS('Bill of Materials'!$Y$16:$Y$200,'Bill of Materials'!$V$16:$V$200,$A175,'Bill of Materials'!$W$16:$W$200,\"x\")+SUMIFS('Bill of Materials'!$Y$16:$Y$200,'Bill of Materials'!$V$16:$V$200,$A175,'Bill of Materials'!$W$16:$W$200,\"x - CMR or SVHC\"))/SUMIF('Bill of Materials'!$V$16:$V$200,$A175,'Bill of Materials'!$Y$16:$Y$200)),\"\")","v":""},"",{"$error":"#DIV/0!"},"","",""]
[167,{"$f":"SUMIF('Bill of Materials'!$V$16:$V$200,A176,'Bill of Materials'!$J$16:$J$200)","v":{"v":0,"d":"0%"}},{"$error":"#DIV/0!"},{"$f":"SUMIFS('Bill of Materials'!$I$16:$I$200,'Bill of Materials'!$V$16:$V$200,A176,'Bill of Materials'!$W$16:$W$200,\"Grey\")/SUMIF('Bill of Materials'!$V$16:$V$200,A176,'Bill of Materials'!$I$16:$I$200)","v":{"$error":"#DIV/0!"}},{"$f":"IFERROR((SUMIFS('Bill of Materials'!$Y$16:$Y$200,'Bill of Materials'!$V$16:$V$200,A176,'Bill of Materials'!$W$16:$W$200,\"Grey\")/SUMIF('Bill of Materials'!$V$16:$V$200,A176,'Bill of Materials'!$Y$16:$Y$200)),\"\")","v":""},"",{"$f":"SUMIFS('Bill of Materials'!$I$16:$I$200,'Bill of Materials'!$V$16:$V$200,$A176,'Bill of Materials'!$W$16:$W$200,\"a\")/SUMIF('Bill of Materials'!$V$16:$V$200,$A176,'Bill of Materials'!$I$16:$I$200)","v":{"$error":"#DIV/0!"}},{"$f":"IFERROR((SUMIFS('Bill of Materials'!$Y$16:$Y$200,'Bill of Materials'!$V$16:$V$200,A176,'Bill of Materials'!$W$16:$W$200,\"a\")/SUMIF('Bill of Materials'!$V$16:$V$200,A176,'Bill of Materials'!$Y$16:$Y$200)),\"\")","v":""},"",{"$f":"SUMIFS('Bill of Materials'!$I$16:$I$200,'Bill of Materials'!$V$16:$V$200,$A176,'Bill of Materials'!$W$16:$W$200,\"b\")/SUMIF('Bill of Materials'!$V$16:$V$200,$A176,'Bill of Materials'!$I$16:$I$200)","v":{"$error":"#DIV/0!"}},{"$f":"IFERROR((SUMIFS('Bill of Materials'!$Y$16:$Y$200,'Bill of Materials'!$V$16:$V$200,$A176,'Bill of Materials'!$W$16:$W$200,\"b\")/SUMIF('Bill of Materials'!$V$16:$V$200,$A176,'Bill of Materials'!$Y$16:$Y$200)),\"\")","v":""},"",{"$error":"#DIV/0!"},"",{"$f":"SUMIFS('Bill of Materials'!$I$16:$I$200,'Bill of Materials'!$V$16:$V$200,$A176,'Bill of Materials'!$W$16:$W$200,\"c\")/SUMIF('Bill of Materials'!$V$16:$V$200,$A176,'Bill of Materials'!$I$16:$I$200)","v":{"$error":"#DIV/0!"}},{"$f":"IFERROR((SUMIFS('Bill of Materials'!$Y$16:$Y$200,'Bill of Materials'!$V$16:$V$200,$A176,'Bill of Materials'!$W$16:$W$200,\"c\")/SUMIF('Bill of Materials'!$V$16:$V$200,$A176,'Bill of Materials'!$Y$16:$Y$200)),\"\")","v":""},"",{"$f":"(SUMIFS('Bill of Materials'!$I$16:$I$200,'Bill of Materials'!$V$16:$V$200,$A176,'Bill of Materials'!$W$16:$W$200,\"x\")+SUMIFS('Bill of Materials'!$I$16:$I$200,'Bill of Materials'!$V$16:$V$200,$A176,'Bill of Materials'!$W$16:$W$200,\"x - CMR or SVHC\"))/SUMIF('Bill of Materials'!$V$16:$V$200,$A176,'Bill of Materials'!$I$16:$I$200)","v":{"$error":"#DIV/0!"}},{"$f":"IFERROR(((SUMIFS('Bill of Materials'!$Y$16:$Y$200,'Bill of Materials'!$V$16:$V$200,$A176,'Bill of Materials'!$W$16:$W$200,\"x\")+SUMIFS('Bill of Materials'!$Y$16:$Y$200,'Bill of Materials'!$V$16:$V$200,$A176,'Bill of Materials'!$W$16:$W$200,\"x - CMR or SVHC\"))/SUMIF('Bill of Materials'!$V$16:$V$200,$A176,'Bill of Materials'!$Y$16:$Y$200)),\"\")","v":""},"",{"$error":"#DIV/0!"},"","",""]
[168,{"$f":"SUMIF('Bill of Materials'!$V$16:$V$200,A177,'Bill of Materials'!$J$16:$J$200)","v":{"v":0,"d":"0%"}},{"$error":"#DIV/0!"},{"$f":"SUMIFS('Bill of Materials'!$I$16:$I$200,'Bill of Materials'!$V$16:$V$200,A177,'Bill of Materials'!$W$16:$W$200,\"Grey\")/SUMIF('Bill of Materials'!$V$16:$V$200,A177,'Bill of Materials'!$I$16:$I$200)","v":{"$error":"#DIV/0!"}},{"$f":"IFERROR((SUMIFS('Bill of Materials'!$Y$16:$Y$200,'Bill of Materials'!$V$16:$V$200,A177,'Bill of Materials'!$W$16:$W$200,\"Grey\")/SUMIF('Bill of Materials'!$V$16:$V$200,A177,'Bill of Materials'!$Y$16:$Y$200)),\"\")","v":""},"",{"$f":"SUMIFS('Bill of Materials'!$I$16:$I$200,'Bill of Materials'!$V$16:$V$200,$A177,'Bill of Materials'!$W$16:$W$200,\"a\")/SUMIF('Bill of Materials'!$V$16:$V$200,$A177,'Bill of Materials'!$I$16:$I$200)","v":{"$error":"#DIV/0!"}},{"$f":"IFERROR((SUMIFS('Bill of Materials'!$Y$16:$Y$200,'Bill of Materials'!$V$16:$V$200,A177,'Bill of Materials'!$W$16:$W$200,\"a\")/SUMIF('Bill of Materials'!$V$16:$V$200,A177,'Bill of Materials'!$Y$16:$Y$200)),\"\")","v":""},"",{"$f":"SUMIFS('Bill of Materials'!$I$16:$I$200,'Bill of Materials'!$V$16:$V$200,$A177,'Bill of Materials'!$W$16:$W$200,\"b\")/SUMIF('Bill of Materials'!$V$16:$V$200,$A177,'Bill of Materials'!$I$16:$I$200)","v":{"$error":"#DIV/0!"}},{"$f":"IFERROR((SUMIFS('Bill of Materials'!$Y$16:$Y$200,'Bill of Materials'!$V$16:$V$200,$A177,'Bill of Materials'!$W$16:$W$200,\"b\")/SUMIF('Bill of Materials'!$V$16:$V$200,$A177,'Bill of Materials'!$Y$16:$Y$200)),\"\")","v":""},"",{"$error":"#DIV/0!"},"",{"$f":"SUMIFS('Bill of Materials'!$I$16:$I$200,'Bill of Materials'!$V$16:$V$200,$A177,'Bill of Materials'!$W$16:$W$200,\"c\")/SUMIF('Bill of Materials'!$V$16:$V$200,$A177,'Bill of Materials'!$I$16:$I$200)","v":{"$error":"#DIV/0!"}},{"$f":"IFERROR((SUMIFS('Bill of Materials'!$Y$16:$Y$200,'Bill of Materials'!$V$16:$V$200,$A177,'Bill of Materials'!$W$16:$W$200,\"c\")/SUMIF('Bill of Materials'!$V$16:$V$200,$A177,'Bill of Materials'!$Y$16:$Y$200)),\"\")","v":""},"",{"$f":"(SUMIFS('Bill of Materials'!$I$16:$I$200,'Bill of Materials'!$V$16:$V$200,$A177,'Bill of Materials'!$W$16:$W$200,\"x\")+SUMIFS('Bill of Materials'!$I$16:$I$200,'Bill of Materials'!$V$16:$V$200,$A177,'Bill of Materials'!$W$16:$W$200,\"x - CMR or SVHC\"))/SUMIF('Bill of Materials'!$V$16:$V$200,$A177,'Bill of Materials'!$I$16:$I$200)","v":{"$error":"#DIV/0!"}},{"$f":"IFERROR(((SUMIFS('Bill of Materials'!$Y$16:$Y$200,'Bill of Materials'!$V$16:$V$200,$A177,'Bill of Materials'!$W$16:$W$200,\"x\")+SUMIFS('Bill of Materials'!$Y$16:$Y$200,'Bill of Materials'!$V$16:$V$200,$A177,'Bill of Materials'!$W$16:$W$200,\"x - CMR or SVHC\"))/SUMIF('Bill of Materials'!$V$16:$V$200,$A177,'Bill of Materials'!$Y$16:$Y$200)),\"\")","v":""},"",{"$error":"#DIV/0!"},"","",""]
[169,{"$f":"SUMIF('Bill of Materials'!$V$16:$V$200,A178,'Bill of Materials'!$J$16:$J$200)","v":{"v":0,"d":"0%"}},{"$error":"#DIV/0!"},{"$f":"SUMIFS('Bill of Materials'!$I$16:$I$200,'Bill of Materials'!$V$16:$V$200,A178,'Bill of Materials'!$W$16:$W$200,\"Grey\")/SUMIF('Bill of Materials'!$V$16:$V$200,A178,'Bill of Materials'!$I$16:$I$200)","v":{"$error":"#DIV/0!"}},{"$f":"IFERROR((SUMIFS('Bill of Materials'!$Y$16:$Y$200,'Bill of Materials'!$V$16:$V$200,A178,'Bill of Materials'!$W$16:$W$200,\"Grey\")/SUMIF('Bill of Materials'!$V$16:$V$200,A178,'Bill of Materials'!$Y$16:$Y$200)),\"\")","v":""},"",{"$f":"SUMIFS('Bill of Materials'!$I$16:$I$200,'Bill of Materials'!$V$16:$V$200,$A178,'Bill of Materials'!$W$16:$W$200,\"a\")/SUMIF('Bill of Materials'!$V$16:$V$200,$A178,'Bill of Materials'!$I$16:$I$200)","v":{"$error":"#DIV/0!"}},{"$f":"IFERROR((SUMIFS('Bill of Materials'!$Y$16:$Y$200,'Bill of Materials'!$V$16:$V$200,A178,'Bill of Materials'!$W$16:$W$200,\"a\")/SUMIF('Bill of Materials'!$V$16:$V$200,A178,'Bill of Materials'!$Y$16:$Y$200)),\"\")","v":""},"",{"$f":"SUMIFS('Bill of Materials'!$I$16:$I$200,'Bill of Materials'!$V$16:$V$200,$A178,'Bill of Materials'!$W$16:$W$200,\"b\")/SUMIF('Bill of Materials'!$V$16:$V$200,$A178,'Bill of Materials'!$I$16:$I$200)","v":{"$error":"#DIV/0!"}},{"$f":"IFERROR((SUMIFS('Bill of Materials'!$Y$16:$Y$200,'Bill of Materials'!$V$16:$V$200,$A178,'Bill of Materials'!$W$16:$W$200,\"b\")/SUMIF('Bill of Materials'!$V$16:$V$200,$A178,'Bill of Materials'!$Y$16:$Y$200)),\"\")","v":""},"",{"$error":"#DIV/0!"},"",{"$f":"SUMIFS('Bill of Materials'!$I$16:$I$200,'Bill of Materials'!$V$16:$V$200,$A178,'Bill of Materials'!$W$16:$W$200,\"c\")/SUMIF('Bill of Materials'!$V$16:$V$200,$A178,'Bill of Materials'!$I$16:$I$200)","v":{"$error":"#DIV/0!"}},{"$f":"IFERROR((SUMIFS('Bill of Materials'!$Y$16:$Y$200,'Bill of Materials'!$V$16:$V$200,$A178,'Bill of Materials'!$W$16:$W$200,\"c\")/SUMIF('Bill of Materials'!$V$16:$V$200,$A178,'Bill of Materials'!$Y$16:$Y$200)),\"\")","v":""},"",{"$f":"(SUMIFS('Bill of Materials'!$I$16:$I$200,'Bill of Materials'!$V$16:$V$200,$A178,'Bill of Materials'!$W$16:$W$200,\"x\")+SUMIFS('Bill of Materials'!$I$16:$I$200,'Bill of Materials'!$V$16:$V$200,$A178,'Bill of Materials'!$W$16:$W$200,\"x - CMR or SVHC\"))/SUMIF('Bill of Materials'!$V$16:$V$200,$A178,'Bill of Materials'!$I$16:$I$200)","v":{"$error":"#DIV/0!"}},{"$f":"IFERROR(((SUMIFS('Bill of Materials'!$Y$16:$Y$200,'Bill of Materials'!$V$16:$V$200,$A178,'Bill of Materials'!$W$16:$W$200,\"x\")+SUMIFS('Bill of Materials'!$Y$16:$Y$200,'Bill of Materials'!$V$16:$V$200,$A178,'Bill of Materials'!$W$16:$W$200,\"x - CMR or SVHC\"))/SUMIF('Bill of Materials'!$V$16:$V$200,$A178,'Bill of Materials'!$Y$16:$Y$200)),\"\")","v":""},"",{"$error":"#DIV/0!"},"","",""]
[170,{"$f":"SUMIF('Bill of Materials'!$V$16:$V$200,A179,'Bill of Materials'!$J$16:$J$200)","v":{"v":0,"d":"0%"}},{"$error":"#DIV/0!"},{"$f":"SUMIFS('Bill of Materials'!$I$16:$I$200,'Bill of Materials'!$V$16:$V$200,A179,'Bill of Materials'!$W$16:$W$200,\"Grey\")/SUMIF('Bill of Materials'!$V$16:$V$200,A179,'Bill of Materials'!$I$16:$I$200)","v":{"$error":"#DIV/0!"}},{"$f":"IFERROR((SUMIFS('Bill of Materials'!$Y$16:$Y$200,'Bill of Materials'!$V$16:$V$200,A179,'Bill of Materials'!$W$16:$W$200,\"Grey\")/SUMIF('Bill of Materials'!$V$16:$V$200,A179,'Bill of Materials'!$Y$16:$Y$200)),\"\")","v":""},"",{"$f":"SUMIFS('Bill of Materials'!$I$16:$I$200,'Bill of Materials'!$V$16:$V$200,$A179,'Bill of Materials'!$W$16:$W$200,\"a\")/SUMIF('Bill of Materials'!$V$16:$V$200,$A179,'Bill of Materials'!$I$16:$I$200)","v":{"$error":"#DIV/0!"}},{"$f":"IFERROR((SUMIFS('Bill of Materials'!$Y$16:$Y$200,'Bill of Materials'!$V$16:$V$200,A179,'Bill of Materials'!$W$16:$W$200,\"a\")/SUMIF('Bill of Materials'!$V$16:$V$200,A179,'Bill of Materials'!$Y$16:$Y$200)),\"\")","v":""},"",{"$f":"SUMIFS('Bill of Materials'!$I$16:$I$200,'Bill of Materials'!$V$16:$V$200,$A179,'Bill of Materials'!$W$16:$W$200,\"b\")/SUMIF('Bill of Materials'!$V$16:$V$200,$A179,'Bill of Materials'!$I$16:$I$200)","v":{"$error":"#DIV/0!"}},{"$f":"IFERROR((SUMIFS('Bill of Materials'!$Y$16:$Y$200,'Bill of Materials'!$V$16:$V$200,$A179,'Bill of Materials'!$W$16:$W$200,\"b\")/SUMIF('Bill of Materials'!$V$16:$V$200,$A179,'Bill of Materials'!$Y$16:$Y$200)),\"\")","v":""},"",{"$error":"#DIV/0!"},"",{"$f":"SUMIFS('Bill of Materials'!$I$16:$I$200,'Bill of Materials'!$V$16:$V$200,$A179,'Bill of Materials'!$W$16:$W$200,\"c\")/SUMIF('Bill of Materials'!$V$16:$V$200,$A179,'Bill of Materials'!$I$16:$I$200)","v":{"$error":"#DIV/0!"}},{"$f":"IFERROR((SUMIFS('Bill of Materials'!$Y$16:$Y$200,'Bill of Materials'!$V$16:$V$200,$A179,'Bill of Materials'!$W$16:$W$200,\"c\")/SUMIF('Bill of Materials'!$V$16:$V$200,$A179,'Bill of Materials'!$Y$16:$Y$200)),\"\")","v":""},"",{"$f":"(SUMIFS('Bill of Materials'!$I$16:$I$200,'Bill of Materials'!$V$16:$V$200,$A179,'Bill of Materials'!$W$16:$W$200,\"x\")+SUMIFS('Bill of Materials'!$I$16:$I$200,'Bill of Materials'!$V$16:$V$200,$A179,'Bill of Materials'!$W$16:$W$200,\"x - CMR or SVHC\"))/SUMIF('Bill of Materials'!$V$16:$V$200,$A179,'Bill of Materials'!$I$16:$I$200)","v":{"$error":"#DIV/0!"}},{"$f":"IFERROR(((SUMIFS('Bill of Materials'!$Y$16:$Y$200,'Bill of Materials'!$V$16:$V$200,$A179,'Bill of Materials'!$W$16:$W$200,\"x\")+SUMIFS('Bill of Materials'!$Y$16:$Y$200,'Bill of Materials'!$V$16:$V$200,$A179,'Bill of Materials'!$W$16:$W$200,\"x - CMR or SVHC\"))/SUMIF('Bill of Materials'!$V$16:$V$200,$A179,'Bill of Materials'!$Y$16:$Y$200)),\"\")","v":""},"",{"$error":"#DIV/0!"},"","",""]
[171,{"$f":"SUMIF('Bill of Materials'!$V$16:$V$200,A180,'Bill of Materials'!$J$16:$J$200)","v":{"v":0,"d":"0%"}},{"$error":"#DIV/0!"},{"$f":"SUMIFS('Bill of Materials'!$I$16:$I$200,'Bill of Materials'!$V$16:$V$200,A180,'Bill of Materials'!$W$16:$W$200,\"Grey\")/SUMIF('Bill of Materials'!$V$16:$V$200,A180,'Bill of Materials'!$I$16:$I$200)","v":{"$error":"#DIV/0!"}},{"$f":"IFERROR((SUMIFS('Bill of Materials'!$Y$16:$Y$200,'Bill of Materials'!$V$16:$V$200,A180,'Bill of Materials'!$W$16:$W$200,\"Grey\")/SUMIF('Bill of Materials'!$V$16:$V$200,A180,'Bill of Materials'!$Y$16:$Y$200)),\"\")","v":""},"",{"$f":"SUMIFS('Bill of Materials'!$I$16:$I$200,'Bill of Materials'!$V$16:$V$200,$A180,'Bill of Materials'!$W$16:$W$200,\"a\")/SUMIF('Bill of Materials'!$V$16:$V$200,$A180,'Bill of Materials'!$I$16:$I$200)","v":{"$error":"#DIV/0!"}},{"$f":"IFERROR((SUMIFS('Bill of Materials'!$Y$16:$Y$200,'Bill of Materials'!$V$16:$V$200,A180,'Bill of Materials'!$W$16:$W$200,\"a\")/SUMIF('Bill of Materials'!$V$16:$V$200,A180,'Bill of Materials'!$Y$16:$Y$200)),\"\")","v":""},"",{"$f":"SUMIFS('Bill of Materials'!$I$16:$I$200,'Bill of Materials'!$V$16:$V$200,$A180,'Bill of Materials'!$W$16:$W$200,\"b\")/SUMIF('Bill of Materials'!$V$16:$V$200,$A180,'Bill of Materials'!$I$16:$I$200)","v":{"$error":"#DIV/0!"}},{"$f":"IFERROR((SUMIFS('Bill of Materials'!$Y$16:$Y$200,'Bill of Materials'!$V$16:$V$200,$A180,'Bill of Materials'!$W$16:$W$200,\"b\")/SUMIF('Bill of Materials'!$V$16:$V$200,$A180,'Bill of Materials'!$Y$16:$Y$200)),\"\")","v":""},"",{"$error":"#DIV/0!"},"",{"$f":"SUMIFS('Bill of Materials'!$I$16:$I$200,'Bill of Materials'!$V$16:$V$200,$A180,'Bill of Materials'!$W$16:$W$200,\"c\")/SUMIF('Bill of Materials'!$V$16:$V$200,$A180,'Bill of Materials'!$I$16:$I$200)","v":{"$error":"#DIV/0!"}},{"$f":"IFERROR((SUMIFS('Bill of Materials'!$Y$16:$Y$200,'Bill of Materials'!$V$16:$V$200,$A180,'Bill of Materials'!$W$16:$W$200,\"c\")/SUMIF('Bill of Materials'!$V$16:$V$200,$A180,'Bill of Materials'!$Y$16:$Y$200)),\"\")","v":""},"",{"$f":"(SUMIFS('Bill of Materials'!$I$16:$I$200,'Bill of Materials'!$V$16:$V$200,$A180,'Bill of Materials'!$W$16:$W$200,\"x\")+SUMIFS('Bill of Materials'!$I$16:$I$200,'Bill of Materials'!$V$16:$V$200,$A180,'Bill of Materials'!$W$16:$W$200,\"x - CMR or SVHC\"))/SUMIF('Bill of Materials'!$V$16:$V$200,$A180,'Bill of Materials'!$I$16:$I$200)","v":{"$error":"#DIV/0!"}},{"$f":"IFERROR(((SUMIFS('Bill of Materials'!$Y$16:$Y$200,'Bill of Materials'!$V$16:$V$200,$A180,'Bill of Materials'!$W$16:$W$200,\"x\")+SUMIFS('Bill of Materials'!$Y$16:$Y$200,'Bill of Materials'!$V$16:$V$200,$A180,'Bill of Materials'!$W$16:$W$200,\"x - CMR or SVHC\"))/SUMIF('Bill of Materials'!$V$16:$V$200,$A180,'Bill of Materials'!$Y$16:$Y$200)),\"\")","v":""},"",{"$error":"#DIV/0!"},"","",""]
[172,{"$f":"SUMIF('Bill of Materials'!$V$16:$V$200,A181,'Bill of Materials'!$J$16:$J$200)","v":{"v":0,"d":"0%"}},{"$error":"#DIV/0!"},{"$f":"SUMIFS('Bill of Materials'!$I$16:$I$200,'Bill of Materials'!$V$16:$V$200,A181,'Bill of Materials'!$W$16:$W$200,\"Grey\")/SUMIF('Bill of Materials'!$V$16:$V$200,A181,'Bill of Materials'!$I$16:$I$200)","v":{"$error":"#DIV/0!"}},{"$f":"IFERROR((SUMIFS('Bill of Materials'!$Y$16:$Y$200,'Bill of Materials'!$V$16:$V$200,A181,'Bill of Materials'!$W$16:$W$200,\"Grey\")/SUMIF('Bill of Materials'!$V$16:$V$200,A181,'Bill of Materials'!$Y$16:$Y$200)),\"\")","v":""},"",{"$f":"SUMIFS('Bill of Materials'!$I$16:$I$200,'Bill of Materials'!$V$16:$V$200,$A181,'Bill of Materials'!$W$16:$W$200,\"a\")/SUMIF('Bill of Materials'!$V$16:$V$200,$A181,'Bill of Materials'!$I$16:$I$200)","v":{"$error":"#DIV/0!"}},{"$f":"IFERROR((SUMIFS('Bill of Materials'!$Y$16:$Y$200,'Bill of Materials'!$V$16:$V$200,A181,'Bill of Materials'!$W$16:$W$200,\"a\")/SUMIF('Bill of Materials'!$V$16:$V$200,A181,'Bill of Materials'!$Y$16:$Y$200)),\"\")","v":""},"",{"$f":"SUMIFS('Bill of Materials'!$I$16:$I$200,'Bill of Materials'!$V$16:$V$200,$A181,'Bill of Materials'!$W$16:$W$200,\"b\")/SUMIF('Bill of Materials'!$V$16:$V$200,$A181,'Bill of Materials'!$I$16:$I$200)","v":{"$error":"#DIV/0!"}},{"$f":"IFERROR((SUMIFS('Bill of Materials'!$Y$16:$Y$200,'Bill of Materials'!$V$16:$V$200,$A181,'Bill of Materials'!$W$16:$W$200,\"b\")/SUMIF('Bill of Materials'!$V$16:$V$200,$A181,'Bill of Materials'!$Y$16:$Y$200)),\"\")","v":""},"",{"$error":"#DIV/0!"},"",{"$f":"SUMIFS('Bill of Materials'!$I$16:$I$200,'Bill of Materials'!$V$16:$V$200,$A181,'Bill of Materials'!$W$16:$W$200,\"c\")/SUMIF('Bill of Materials'!$V$16:$V$200,$A181,'Bill of Materials'!$I$16:$I$200)","v":{"$error":"#DIV/0!"}},{"$f":"IFERROR((SUMIFS('Bill of Materials'!$Y$16:$Y$200,'Bill of Materials'!$V$16:$V$200,$A181,'Bill of Materials'!$W$16:$W$200,\"c\")/SUMIF('Bill of Materials'!$V$16:$V$200,$A181,'Bill of Materials'!$Y$16:$Y$200)),\"\")","v":""},"",{"$f":"(SUMIFS('Bill of Materials'!$I$16:$I$200,'Bill of Materials'!$V$16:$V$200,$A181,'Bill of Materials'!$W$16:$W$200,\"x\")+SUMIFS('Bill of Materials'!$I$16:$I$200,'Bill of Materials'!$V$16:$V$200,$A181,'Bill of Materials'!$W$16:$W$200,\"x - CMR or SVHC\"))/SUMIF('Bill of Materials'!$V$16:$V$200,$A181,'Bill of Materials'!$I$16:$I$200)","v":{"$error":"#DIV/0!"}},{"$f":"IFERROR(((SUMIFS('Bill of Materials'!$Y$16:$Y$200,'Bill of Materials'!$V$16:$V$200,$A181,'Bill of Materials'!$W$16:$W$200,\"x\")+SUMIFS('Bill of Materials'!$Y$16:$Y$200,'Bill of Materials'!$V$16:$V$200,$A181,'Bill of Materials'!$W$16:$W$200,\"x - CMR or SVHC\"))/SUMIF('Bill of Materials'!$V$16:$V$200,$A181,'Bill of Materials'!$Y$16:$Y$200)),\"\")","v":""},"",{"$error":"#DIV/0!"},"","",""]
[173,{"$f":"SUMIF('Bill of Materials'!$V$16:$V$200,A182,'Bill of Materials'!$J$16:$J$200)","v":{"v":0,"d":"0%"}},{"$error":"#DIV/0!"},{"$f":"SUMIFS('Bill of Materials'!$I$16:$I$200,'Bill of Materials'!$V$16:$V$200,A182,'Bill of Materials'!$W$16:$W$200,\"Grey\")/SUMIF('Bill of Materials'!$V$16:$V$200,A182,'Bill of Materials'!$I$16:$I$200)","v":{"$error":"#DIV/0!"}},{"$f":"IFERROR((SUMIFS('Bill of Materials'!$Y$16:$Y$200,'Bill of Materials'!$V$16:$V$200,A182,'Bill of Materials'!$W$16:$W$200,\"Grey\")/SUMIF('Bill of Materials'!$V$16:$V$200,A182,'Bill of Materials'!$Y$16:$Y$200)),\"\")","v":""},"",{"$f":"SUMIFS('Bill of Materials'!$I$16:$I$200,'Bill of Materials'!$V$16:$V$200,$A182,'Bill of Materials'!$W$16:$W$200,\"a\")/SUMIF('Bill of Materials'!$V$16:$V$200,$A182,'Bill of Materials'!$I$16:$I$200)","v":{"$error":"#DIV/0!"}},{"$f":"IFERROR((SUMIFS('Bill of Materials'!$Y$16:$Y$200,'Bill of Materials'!$V$16:$V$200,A182,'Bill of Materials'!$W$16:$W$200,\"a\")/SUMIF('Bill of Materials'!$V$16:$V$200,A182,'Bill of Materials'!$Y$16:$Y$200)),\"\")","v":""},"",{"$f":"SUMIFS('Bill of Materials'!$I$16:$I$200,'Bill of Materials'!$V$16:$V$200,$A182,'Bill of Materials'!$W$16:$W$200,\"b\")/SUMIF('Bill of Materials'!$V$16:$V$200,$A182,'Bill of Materials'!$I$16:$I$200)","v":{"$error":"#DIV/0!"}},{"$f":"IFERROR((SUMIFS('Bill of Materials'!$Y$16:$Y$200,'Bill of Materials'!$V$16:$V$200,$A182,'Bill of Materials'!$W$16:$W$200,\"b\")/SUMIF('Bill of Materials'!$V$16:$V$200,$A182,'Bill of Materials'!$Y$16:$Y$200)),\"\")","v":""},"",{"$error":"#DIV/0!"},"",{"$f":"SUMIFS('Bill of Materials'!$I$16:$I$200,'Bill of Materials'!$V$16:$V$200,$A182,'Bill of Materials'!$W$16:$W$200,\"c\")/SUMIF('Bill of Materials'!$V$16:$V$200,$A182,'Bill of Materials'!$I$16:$I$200)","v":{"$error":"#DIV/0!"}},{"$f":"IFERROR((SUMIFS('Bill of Materials'!$Y$16:$Y$200,'Bill of Materials'!$V$16:$V$200,$A182,'Bill of Materials'!$W$16:$W$200,\"c\")/SUMIF('Bill of Materials'!$V$16:$V$200,$A182,'Bill of Materials'!$Y$16:$Y$200)),\"\")","v":""},"",{"$f":"(SUMIFS('Bill of Materials'!$I$16:$I$200,'Bill of Materials'!$V$16:$V$200,$A182,'Bill of Materials'!$W$16:$W$200,\"x\")+SUMIFS('Bill of Materials'!$I$16:$I$200,'Bill of Materials'!$V$16:$V$200,$A182,'Bill of Materials'!$W$16:$W$200,\"x - CMR or SVHC\"))/SUMIF('Bill of Materials'!$V$16:$V$200,$A182,'Bill of Materials'!$I$16:$I$200)","v":{"$error":"#DIV/0!"}},{"$f":"IFERROR(((SUMIFS('Bill of Materials'!$Y$16:$Y$200,'Bill of Materials'!$V$16:$V$200,$A182,'Bill of Materials'!$W$16:$W$200,\"x\")+SUMIFS('Bill of Materials'!$Y$16:$Y$200,'Bill of Materials'!$V$16:$V$200,$A182,'Bill of Materials'!$W$16:$W$200,\"x - CMR or SVHC\"))/SUMIF('Bill of Materials'!$V$16:$V$200,$A182,'Bill of Materials'!$Y$16:$Y$200)),\"\")","v":""},"",{"$error":"#DIV/0!"},"","",""]
[174,{"$f":"SUMIF('Bill of Materials'!$V$16:$V$200,A183,'Bill of Materials'!$J$16:$J$200)","v":{"v":0,"d":"0%"}},{"$error":"#DIV/0!"},{"$f":"SUMIFS('Bill of Materials'!$I$16:$I$200,'Bill of Materials'!$V$16:$V$200,A183,'Bill of Materials'!$W$16:$W$200,\"Grey\")/SUMIF('Bill of Materials'!$V$16:$V$200,A183,'Bill of Materials'!$I$16:$I$200)","v":{"$error":"#DIV/0!"}},{"$f":"IFERROR((SUMIFS('Bill of Materials'!$Y$16:$Y$200,'Bill of Materials'!$V$16:$V$200,A183,'Bill of Materials'!$W$16:$W$200,\"Grey\")/SUMIF('Bill of Materials'!$V$16:$V$200,A183,'Bill of Materials'!$Y$16:$Y$200)),\"\")","v":""},"",{"$f":"SUMIFS('Bill of Materials'!$I$16:$I$200,'Bill of Materials'!$V$16:$V$200,$A183,'Bill of Materials'!$W$16:$W$200,\"a\")/SUMIF('Bill of Materials'!$V$16:$V$200,$A183,'Bill of Materials'!$I$16:$I$200)","v":{"$error":"#DIV/0!"}},{"$f":"IFERROR((SUMIFS('Bill of Materials'!$Y$16:$Y$200,'Bill of Materials'!$V$16:$V$200,A183,'Bill of Materials'!$W$16:$W$200,\"a\")/SUMIF('Bill of Materials'!$V$16:$V$200,A183,'Bill of Materials'!$Y$16:$Y$200)),\"\")","v":""},"",{"$f":"SUMIFS('Bill of Materials'!$I$16:$I$200,'Bill of Materials'!$V$16:$V$200,$A183,'Bill of Materials'!$W$16:$W$200,\"b\")/SUMIF('Bill of Materials'!$V$16:$V$200,$A183,'Bill of Materials'!$I$16:$I$200)","v":{"$error":"#DIV/0!"}},{"$f":"IFERROR((SUMIFS('Bill of Materials'!$Y$16:$Y$200,'Bill of Materials'!$V$16:$V$200,$A183,'Bill of Materials'!$W$16:$W$200,\"b\")/SUMIF('Bill of Materials'!$V$16:$V$200,$A183,'Bill of Materials'!$Y$16:$Y$200)),\"\")","v":""},"",{"$error":"#DIV/0!"},"",{"$f":"SUMIFS('Bill of Materials'!$I$16:$I$200,'Bill of Materials'!$V$16:$V$200,$A183,'Bill of Materials'!$W$16:$W$200,\"c\")/SUMIF('Bill of Materials'!$V$16:$V$200,$A183,'Bill of Materials'!$I$16:$I$200)","v":{"$error":"#DIV/0!"}},{"$f":"IFERROR((SUMIFS('Bill of Materials'!$Y$16:$Y$200,'Bill of Materials'!$V$16:$V$200,$A183,'Bill of Materials'!$W$16:$W$200,\"c\")/SUMIF('Bill of Materials'!$V$16:$V$200,$A183,'Bill of Materials'!$Y$16:$Y$200)),\"\")","v":""},"",{"$f":"(SUMIFS('Bill of Materials'!$I$16:$I$200,'Bill of Materials'!$V$16:$V$200,$A183,'Bill of Materials'!$W$16:$W$200,\"x\")+SUMIFS('Bill of Materials'!$I$16:$I$200,'Bill of Materials'!$V$16:$V$200,$A183,'Bill of Materials'!$W$16:$W$200,\"x - CMR or SVHC\"))/SUMIF('Bill of Materials'!$V$16:$V$200,$A183,'Bill of Materials'!$I$16:$I$200)","v":{"$error":"#DIV/0!"}},{"$f":"IFERROR(((SUMIFS('Bill of Materials'!$Y$16:$Y$200,'Bill of Materials'!$V$16:$V$200,$A183,'Bill of Materials'!$W$16:$W$200,\"x\")+SUMIFS('Bill of Materials'!$Y$16:$Y$200,'Bill of Materials'!$V$16:$V$200,$A183,'Bill of Materials'!$W$16:$W$200,\"x - CMR or SVHC\"))/SUMIF('Bill of Materials'!$V$16:$V$200,$A183,'Bill of Materials'!$Y$16:$Y$200)),\"\")","v":""},"",{"$error":"#DIV/0!"},"","",""]
[175,{"$f":"SUMIF('Bill of Materials'!$V$16:$V$200,A184,'Bill of Materials'!$J$16:$J$200)","v":{"v":0,"d":"0%"}},{"$error":"#DIV/0!"},{"$f":"SUMIFS('Bill of Materials'!$I$16:$I$200,'Bill of Materials'!$V$16:$V$200,A184,'Bill of Materials'!$W$16:$W$200,\"Grey\")/SUMIF('Bill of Materials'!$V$16:$V$200,A184,'Bill of Materials'!$I$16:$I$200)","v":{"$error":"#DIV/0!"}},{"$f":"IFERROR((SUMIFS('Bill of Materials'!$Y$16:$Y$200,'Bill of Materials'!$V$16:$V$200,A184,'Bill of Materials'!$W$16:$W$200,\"Grey\")/SUMIF('Bill of Materials'!$V$16:$V$200,A184,'Bill of Materials'!$Y$16:$Y$200)),\"\")","v":""},"",{"$f":"SUMIFS('Bill of Materials'!$I$16:$I$200,'Bill of Materials'!$V$16:$V$200,$A184,'Bill of Materials'!$W$16:$W$200,\"a\")/SUMIF('Bill of Materials'!$V$16:$V$200,$A184,'Bill of Materials'!$I$16:$I$200)","v":{"$error":"#DIV/0!"}},{"$f":"IFERROR((SUMIFS('Bill of Materials'!$Y$16:$Y$200,'Bill of Materials'!$V$16:$V$200,A184,'Bill of Materials'!$W$16:$W$200,\"a\")/SUMIF('Bill of Materials'!$V$16:$V$200,A184,'Bill of Materials'!$Y$16:$Y$200)),\"\")","v":""},"",{"$f":"SUMIFS('Bill of Materials'!$I$16:$I$200,'Bill of Materials'!$V$16:$V$200,$A184,'Bill of Materials'!$W$16:$W$200,\"b\")/SUMIF('Bill of Materials'!$V$16:$V$200,$A184,'Bill of Materials'!$I$16:$I$200)","v":{"$error":"#DIV/0!"}},{"$f":"IFERROR((SUMIFS('Bill of Materials'!$Y$16:$Y$200,'Bill of Materials'!$V$16:$V$200,$A184,'Bill of Materials'!$W$16:$W$200,\"b\")/SUMIF('Bill of Materials'!$V$16:$V$200,$A184,'Bill of Materials'!$Y$16:$Y$200)),\"\")","v":""},"",{"$error":"#DIV/0!"},"",{"$f":"SUMIFS('Bill of Materials'!$I$16:$I$200,'Bill of Materials'!$V$16:$V$200,$A184,'Bill of Materials'!$W$16:$W$200,\"c\")/SUMIF('Bill of Materials'!$V$16:$V$200,$A184,'Bill of Materials'!$I$16:$I$200)","v":{"$error":"#DIV/0!"}},{"$f":"IFERROR((SUMIFS('Bill of Materials'!$Y$16:$Y$200,'Bill of Materials'!$V$16:$V$200,$A184,'Bill of Materials'!$W$16:$W$200,\"c\")/SUMIF('Bill of Materials'!$V$16:$V$200,$A184,'Bill of Materials'!$Y$16:$Y$200)),\"\")","v":""},"",{"$f":"(SUMIFS('Bill of Materials'!$I$16:$I$200,'Bill of Materials'!$V$16:$V$200,$A184,'Bill of Materials'!$W$16:$W$200,\"x\")+SUMIFS('Bill of Materials'!$I$16:$I$200,'Bill of Materials'!$V$16:$V$200,$A184,'Bill of Materials'!$W$16:$W$200,\"x - CMR or SVHC\"))/SUMIF('Bill of Materials'!$V$16:$V$200,$A184,'Bill of Materials'!$I$16:$I$200)","v":{"$error":"#DIV/0!"}},{"$f":"IFERROR(((SUMIFS('Bill of Materials'!$Y$16:$Y$200,'Bill of Materials'!$V$16:$V$200,$A184,'Bill of Materials'!$W$16:$W$200,\"x\")+SUMIFS('Bill of Materials'!$Y$16:$Y$200,'Bill of Materials'!$V$16:$V$200,$A184,'Bill of Materials'!$W$16:$W$200,\"x - CMR or SVHC\"))/SUMIF('Bill of Materials'!$V$16:$V$200,$A184,'Bill of Materials'!$Y$16:$Y$200)),\"\")","v":""},"",{"$error":"#DIV/0!"},"","",""]
[176,{"$f":"SUMIF('Bill of Materials'!$V$16:$V$200,A185,'Bill of Materials'!$J$16:$J$200)","v":{"v":0,"d":"0%"}},{"$error":"#DIV/0!"},{"$f":"SUMIFS('Bill of Materials'!$I$16:$I$200,'Bill of Materials'!$V$16:$V$200,A185,'Bill of Materials'!$W$16:$W$200,\"Grey\")/SUMIF('Bill of Materials'!$V$16:$V$200,A185,'Bill of Materials'!$I$16:$I$200)","v":{"$error":"#DIV/0!"}},{"$f":"IFERROR((SUMIFS('Bill of Materials'!$Y$16:$Y$200,'Bill of Materials'!$V$16:$V$200,A185,'Bill of Materials'!$W$16:$W$200,\"Grey\")/SUMIF('Bill of Materials'!$V$16:$V$200,A185,'Bill of Materials'!$Y$16:$Y$200)),\"\")","v":""},"",{"$f":"SUMIFS('Bill of Materials'!$I$16:$I$200,'Bill of Materials'!$V$16:$V$200,$A185,'Bill of Materials'!$W$16:$W$200,\"a\")/SUMIF('Bill of Materials'!$V$16:$V$200,$A185,'Bill of Materials'!$I$16:$I$200)","v":{"$error":"#DIV/0!"}},{"$f":"IFERROR((SUMIFS('Bill of Materials'!$Y$16:$Y$200,'Bill of Materials'!$V$16:$V$200,A185,'Bill of Materials'!$W$16:$W$200,\"a\")/SUMIF('Bill of Materials'!$V$16:$V$200,A185,'Bill of Materials'!$Y$16:$Y$200)),\"\")","v":""},"",{"$f":"SUMIFS('Bill of Materials'!$I$16:$I$200,'Bill of Materials'!$V$16:$V$200,$A185,'Bill of Materials'!$W$16:$W$200,\"b\")/SUMIF('Bill of Materials'!$V$16:$V$200,$A185,'Bill of Materials'!$I$16:$I$200)","v":{"$error":"#DIV/0!"}},{"$f":"IFERROR((SUMIFS('Bill of Materials'!$Y$16:$Y$200,'Bill of Materials'!$V$16:$V$200,$A185,'Bill of Materials'!$W$16:$W$200,\"b\")/SUMIF('Bill of Materials'!$V$16:$V$200,$A185,'Bill of Materials'!$Y$16:$Y$200)),\"\")","v":""},"",{"$error":"#DIV/0!"},"",{"$f":"SUMIFS('Bill of Materials'!$I$16:$I$200,'Bill of Materials'!$V$16:$V$200,$A185,'Bill of Materials'!$W$16:$W$200,\"c\")/SUMIF('Bill of Materials'!$V$16:$V$200,$A185,'Bill of Materials'!$I$16:$I$200)","v":{"$error":"#DIV/0!"}},{"$f":"IFERROR((SUMIFS('Bill of Materials'!$Y$16:$Y$200,'Bill of Materials'!$V$16:$V$200,$A185,'Bill of Materials'!$W$16:$W$200,\"c\")/SUMIF('Bill of Materials'!$V$16:$V$200,$A185,'Bill of Materials'!$Y$16:$Y$200)),\"\")","v":""},"",{"$f":"(SUMIFS('Bill of Materials'!$I$16:$I$200,'Bill of Materials'!$V$16:$V$200,$A185,'Bill of Materials'!$W$16:$W$200,\"x\")+SUMIFS('Bill of Materials'!$I$16:$I$200,'Bill of Materials'!$V$16:$V$200,$A185,'Bill of Materials'!$W$16:$W$200,\"x - CMR or SVHC\"))/SUMIF('Bill of Materials'!$V$16:$V$200,$A185,'Bill of Materials'!$I$16:$I$200)","v":{"$error":"#DIV/0!"}},{"$f":"IFERROR(((SUMIFS('Bill of Materials'!$Y$16:$Y$200,'Bill of Materials'!$V$16:$V$200,$A185,'Bill of Materials'!$W$16:$W$200,\"x\")+SUMIFS('Bill of Materials'!$Y$16:$Y$200,'Bill of Materials'!$V$16:$V$200,$A185,'Bill of Materials'!$W$16:$W$200,\"x - CMR or SVHC\"))/SUMIF('Bill of Materials'!$V$16:$V$200,$A185,'Bill of Materials'!$Y$16:$Y$200)),\"\")","v":""},"",{"$error":"#DIV/0!"},"","",""]
[177,{"$f":"SUMIF('Bill of Materials'!$V$16:$V$200,A186,'Bill of Materials'!$J$16:$J$200)","v":{"v":0,"d":"0%"}},{"$error":"#DIV/0!"},{"$f":"SUMIFS('Bill of Materials'!$I$16:$I$200,'Bill of Materials'!$V$16:$V$200,A186,'Bill of Materials'!$W$16:$W$200,\"Grey\")/SUMIF('Bill of Materials'!$V$16:$V$200,A186,'Bill of Materials'!$I$16:$I$200)","v":{"$error":"#DIV/0!"}},{"$f":"IFERROR((SUMIFS('Bill of Materials'!$Y$16:$Y$200,'Bill of Materials'!$V$16:$V$200,A186,'Bill of Materials'!$W$16:$W$200,\"Grey\")/SUMIF('Bill of Materials'!$V$16:$V$200,A186,'Bill of Materials'!$Y$16:$Y$200)),\"\")","v":""},"",{"$f":"SUMIFS('Bill of Materials'!$I$16:$I$200,'Bill of Materials'!$V$16:$V$200,$A186,'Bill of Materials'!$W$16:$W$200,\"a\")/SUMIF('Bill of Materials'!$V$16:$V$200,$A186,'Bill of Materials'!$I$16:$I$200)","v":{"$error":"#DIV/0!"}},{"$f":"IFERROR((SUMIFS('Bill of Materials'!$Y$16:$Y$200,'Bill of Materials'!$V$16:$V$200,A186,'Bill of Materials'!$W$16:$W$200,\"a\")/SUMIF('Bill of Materials'!$V$16:$V$200,A186,'Bill of Materials'!$Y$16:$Y$200)),\"\")","v":""},"",{"$f":"SUMIFS('Bill of Materials'!$I$16:$I$200,'Bill of Materials'!$V$16:$V$200,$A186,'Bill of Materials'!$W$16:$W$200,\"b\")/SUMIF('Bill of Materials'!$V$16:$V$200,$A186,'Bill of Materials'!$I$16:$I$200)","v":{"$error":"#DIV/0!"}},{"$f":"IFERROR((SUMIFS('Bill of Materials'!$Y$16:$Y$200,'Bill of Materials'!$V$16:$V$200,$A186,'Bill of Materials'!$W$16:$W$200,\"b\")/SUMIF('Bill of Materials'!$V$16:$V$200,$A186,'Bill of Materials'!$Y$16:$Y$200)),\"\")","v":""},"",{"$error":"#DIV/0!"},"",{"$f":"SUMIFS('Bill of Materials'!$I$16:$I$200,'Bill of Materials'!$V$16:$V$200,$A186,'Bill of Materials'!$W$16:$W$200,\"c\")/SUMIF('Bill of Materials'!$V$16:$V$200,$A186,'Bill of Materials'!$I$16:$I$200)","v":{"$error":"#DIV/0!"}},{"$f":"IFERROR((SUMIFS('Bill of Materials'!$Y$16:$Y$200,'Bill of Materials'!$V$16:$V$200,$A186,'Bill of Materials'!$W$16:$W$200,\"c\")/SUMIF('Bill of Materials'!$V$16:$V$200,$A186,'Bill of Materials'!$Y$16:$Y$200)),\"\")","v":""},"",{"$f":"(SUMIFS('Bill of Materials'!$I$16:$I$200,'Bill of Materials'!$V$16:$V$200,$A186,'Bill of Materials'!$W$16:$W$200,\"x\")+SUMIFS('Bill of Materials'!$I$16:$I$200,'Bill of Materials'!$V$16:$V$200,$A186,'Bill of Materials'!$W$16:$W$200,\"x - CMR or SVHC\"))/SUMIF('Bill of Materials'!$V$16:$V$200,$A186,'Bill of Materials'!$I$16:$I$200)","v":{"$error":"#DIV/0!"}},{"$f":"IFERROR(((SUMIFS('Bill of Materials'!$Y$16:$Y$200,'Bill of Materials'!$V$16:$V$200,$A186,'Bill of Materials'!$W$16:$W$200,\"x\")+SUMIFS('Bill of Materials'!$Y$16:$Y$200,'Bill of Materials'!$V$16:$V$200,$A186,'Bill of Materials'!$W$16:$W$200,\"x - CMR or SVHC\"))/SUMIF('Bill of Materials'!$V$16:$V$200,$A186,'Bill of Materials'!$Y$16:$Y$200)),\"\")","v":""},"",{"$error":"#DIV/0!"},"","",""]
[178,{"$f":"SUMIF('Bill of Materials'!$V$16:$V$200,A187,'Bill of Materials'!$J$16:$J$200)","v":{"v":0,"d":"0%"}},{"$error":"#DIV/0!"},{"$f":"SUMIFS('Bill of Materials'!$I$16:$I$200,'Bill of Materials'!$V$16:$V$200,A187,'Bill of Materials'!$W$16:$W$200,\"Grey\")/SUMIF('Bill of Materials'!$V$16:$V$200,A187,'Bill of Materials'!$I$16:$I$200)","v":{"$error":"#DIV/0!"}},{"$f":"IFERROR((SUMIFS('Bill of Materials'!$Y$16:$Y$200,'Bill of Materials'!$V$16:$V$200,A187,'Bill of Materials'!$W$16:$W$200,\"Grey\")/SUMIF('Bill of Materials'!$V$16:$V$200,A187,'Bill of Materials'!$Y$16:$Y$200)),\"\")","v":""},"",{"$f":"SUMIFS('Bill of Materials'!$I$16:$I$200,'Bill of Materials'!$V$16:$V$200,$A187,'Bill of Materials'!$W$16:$W$200,\"a\")/SUMIF('Bill of Materials'!$V$16:$V$200,$A187,'Bill of Materials'!$I$16:$I$200)","v":{"$error":"#DIV/0!"}},{"$f":"IFERROR((SUMIFS('Bill of Materials'!$Y$16:$Y$200,'Bill of Materials'!$V$16:$V$200,A187,'Bill of Materials'!$W$16:$W$200,\"a\")/SUMIF('Bill of Materials'!$V$16:$V$200,A187,'Bill of Materials'!$Y$16:$Y$200)),\"\")","v":""},"",{"$f":"SUMIFS('Bill of Materials'!$I$16:$I$200,'Bill of Materials'!$V$16:$V$200,$A187,'Bill of Materials'!$W$16:$W$200,\"b\")/SUMIF('Bill of Materials'!$V$16:$V$200,$A187,'Bill of Materials'!$I$16:$I$200)","v":{"$error":"#DIV/0!"}},{"$f":"IFERROR((SUMIFS('Bill of Materials'!$Y$16:$Y$200,'Bill of Materials'!$V$16:$V$200,$A187,'Bill of Materials'!$W$16:$W$200,\"b\")/SUMIF('Bill of Materials'!$V$16:$V$200,$A187,'Bill of Materials'!$Y$16:$Y$200)),\"\")","v":""},"",{"$error":"#DIV/0!"},"",{"$f":"SUMIFS('Bill of Materials'!$I$16:$I$200,'Bill of Materials'!$V$16:$V$200,$A187,'Bill of Materials'!$W$16:$W$200,\"c\")/SUMIF('Bill of Materials'!$V$16:$V$200,$A187,'Bill of Materials'!$I$16:$I$200)","v":{"$error":"#DIV/0!"}},{"$f":"IFERROR((SUMIFS('Bill of Materials'!$Y$16:$Y$200,'Bill of Materials'!$V$16:$V$200,$A187,'Bill of Materials'!$W$16:$W$200,\"c\")/SUMIF('Bill of Materials'!$V$16:$V$200,$A187,'Bill of Materials'!$Y$16:$Y$200)),\"\")","v":""},"",{"$f":"(SUMIFS('Bill of Materials'!$I$16:$I$200,'Bill of Materials'!$V$16:$V$200,$A187,'Bill of Materials'!$W$16:$W$200,\"x\")+SUMIFS('Bill of Materials'!$I$16:$I$200,'Bill of Materials'!$V$16:$V$200,$A187,'Bill of Materials'!$W$16:$W$200,\"x - CMR or SVHC\"))/SUMIF('Bill of Materials'!$V$16:$V$200,$A187,'Bill of Materials'!$I$16:$I$200)","v":{"$error":"#DIV/0!"}},{"$f":"IFERROR(((SUMIFS('Bill of Materials'!$Y$16:$Y$200,'Bill of Materials'!$V$16:$V$200,$A187,'Bill of Materials'!$W$16:$W$200,\"x\")+SUMIFS('Bill of Materials'!$Y$16:$Y$200,'Bill of Materials'!$V$16:$V$200,$A187,'Bill of Materials'!$W$16:$W$200,\"x - CMR or SVHC\"))/SUMIF('Bill of Materials'!$V$16:$V$200,$A187,'Bill of Materials'!$Y$16:$Y$200)),\"\")","v":""},"",{"$error":"#DIV/0!"},"","",""]
[179,{"$f":"SUMIF('Bill of Materials'!$V$16:$V$200,A188,'Bill of Materials'!$J$16:$J$200)","v":{"v":0,"d":"0%"}},{"$error":"#DIV/0!"},{"$f":"SUMIFS('Bill of Materials'!$I$16:$I$200,'Bill of Materials'!$V$16:$V$200,A188,'Bill of Materials'!$W$16:$W$200,\"Grey\")/SUMIF('Bill of Materials'!$V$16:$V$200,A188,'Bill of Materials'!$I$16:$I$200)","v":{"$error":"#DIV/0!"}},{"$f":"IFERROR((SUMIFS('Bill of Materials'!$Y$16:$Y$200,'Bill of Materials'!$V$16:$V$200,A188,'Bill of Materials'!$W$16:$W$200,\"Grey\")/SUMIF('Bill of Materials'!$V$16:$V$200,A188,'Bill of Materials'!$Y$16:$Y$200)),\"\")","v":""},"",{"$f":"SUMIFS('Bill of Materials'!$I$16:$I$200,'Bill of Materials'!$V$16:$V$200,$A188,'Bill of Materials'!$W$16:$W$200,\"a\")/SUMIF('Bill of Materials'!$V$16:$V$200,$A188,'Bill of Materials'!$I$16:$I$200)","v":{"$error":"#DIV/0!"}},{"$f":"IFERROR((SUMIFS('Bill of Materials'!$Y$16:$Y$200,'Bill of Materials'!$V$16:$V$200,A188,'Bill of Materials'!$W$16:$W$200,\"a\")/SUMIF('Bill of Materials'!$V$16:$V$200,A188,'Bill of Materials'!$Y$16:$Y$200)),\"\")","v":""},"",{"$f":"SUMIFS('Bill of Materials'!$I$16:$I$200,'Bill of Materials'!$V$16:$V$200,$A188,'Bill of Materials'!$W$16:$W$200,\"b\")/SUMIF('Bill of Materials'!$V$16:$V$200,$A188,'Bill of Materials'!$I$16:$I$200)","v":{"$error":"#DIV/0!"}},{"$f":"IFERROR((SUMIFS('Bill of Materials'!$Y$16:$Y$200,'Bill of Materials'!$V$16:$V$200,$A188,'Bill of Materials'!$W$16:$W$200,\"b\")/SUMIF('Bill of Materials'!$V$16:$V$200,$A188,'Bill of Materials'!$Y$16:$Y$200)),\"\")","v":""},"",{"$error":"#DIV/0!"},"",{"$f":"SUMIFS('Bill of Materials'!$I$16:$I$200,'Bill of Materials'!$V$16:$V$200,$A188,'Bill of Materials'!$W$16:$W$200,\"c\")/SUMIF('Bill of Materials'!$V$16:$V$200,$A188,'Bill of Materials'!$I$16:$I$200)","v":{"$error":"#DIV/0!"}},{"$f":"IFERROR((SUMIFS('Bill of Materials'!$Y$16:$Y$200,'Bill of Materials'!$V$16:$V$200,$A188,'Bill of Materials'!$W$16:$W$200,\"c\")/SUMIF('Bill of Materials'!$V$16:$V$200,$A188,'Bill of Materials'!$Y$16:$Y$200)),\"\")","v":""},"",{"$f":"(SUMIFS('Bill of Materials'!$I$16:$I$200,'Bill of Materials'!$V$16:$V$200,$A188,'Bill of Materials'!$W$16:$W$200,\"x\")+SUMIFS('Bill of Materials'!$I$16:$I$200,'Bill of Materials'!$V$16:$V$200,$A188,'Bill of Materials'!$W$16:$W$200,\"x - CMR or SVHC\"))/SUMIF('Bill of Materials'!$V$16:$V$200,$A188,'Bill of Materials'!$I$16:$I$200)","v":{"$error":"#DIV/0!"}},{"$f":"IFERROR(((SUMIFS('Bill of Materials'!$Y$16:$Y$200,'Bill of Materials'!$V$16:$V$200,$A188,'Bill of Materials'!$W$16:$W$200,\"x\")+SUMIFS('Bill of Materials'!$Y$16:$Y$200,'Bill of Materials'!$V$16:$V$200,$A188,'Bill of Materials'!$W$16:$W$200,\"x - CMR or SVHC\"))/SUMIF('Bill of Materials'!$V$16:$V$200,$A188,'Bill of Materials'!$Y$16:$Y$200)),\"\")","v":""},"",{"$error":"#DIV/0!"},"","",""]
[180,{"$f":"SUMIF('Bill of Materials'!$V$16:$V$200,A189,'Bill of Materials'!$J$16:$J$200)","v":{"v":0,"d":"0%"}},{"$error":"#DIV/0!"},{"$f":"SUMIFS('Bill of Materials'!$I$16:$I$200,'Bill of Materials'!$V$16:$V$200,A189,'Bill of Materials'!$W$16:$W$200,\"Grey\")/SUMIF('Bill of Materials'!$V$16:$V$200,A189,'Bill of Materials'!$I$16:$I$200)","v":{"$error":"#DIV/0!"}},{"$f":"IFERROR((SUMIFS('Bill of Materials'!$Y$16:$Y$200,'Bill of Materials'!$V$16:$V$200,A189,'Bill of Materials'!$W$16:$W$200,\"Grey\")/SUMIF('Bill of Materials'!$V$16:$V$200,A189,'Bill of Materials'!$Y$16:$Y$200)),\"\")","v":""},"",{"$f":"SUMIFS('Bill of Materials'!$I$16:$I$200,'Bill of Materials'!$V$16:$V$200,$A189,'Bill of Materials'!$W$16:$W$200,\"a\")/SUMIF('Bill of Materials'!$V$16:$V$200,$A189,'Bill of Materials'!$I$16:$I$200)","v":{"$error":"#DIV/0!"}},{"$f":"IFERROR((SUMIFS('Bill of Materials'!$Y$16:$Y$200,'Bill of Materials'!$V$16:$V$200,A189,'Bill of Materials'!$W$16:$W$200,\"a\")/SUMIF('Bill of Materials'!$V$16:$V$200,A189,'Bill of Materials'!$Y$16:$Y$200)),\"\")","v":""},"",{"$f":"SUMIFS('Bill of Materials'!$I$16:$I$200,'Bill of Materials'!$V$16:$V$200,$A189,'Bill of Materials'!$W$16:$W$200,\"b\")/SUMIF('Bill of Materials'!$V$16:$V$200,$A189,'Bill of Materials'!$I$16:$I$200)","v":{"$error":"#DIV/0!"}},{"$f":"IFERROR((SUMIFS('Bill of Materials'!$Y$16:$Y$200,'Bill of Materials'!$V$16:$V$200,$A189,'Bill of Materials'!$W$16:$W$200,\"b\")/SUMIF('Bill of Materials'!$V$16:$V$200,$A189,'Bill of Materials'!$Y$16:$Y$200)),\"\")","v":""},"",{"$error":"#DIV/0!"},"",{"$f":"SUMIFS('Bill of Materials'!$I$16:$I$200,'Bill of Materials'!$V$16:$V$200,$A189,'Bill of Materials'!$W$16:$W$200,\"c\")/SUMIF('Bill of Materials'!$V$16:$V$200,$A189,'Bill of Materials'!$I$16:$I$200)","v":{"$error":"#DIV/0!"}},{"$f":"IFERROR((SUMIFS('Bill of Materials'!$Y$16:$Y$200,'Bill of Materials'!$V$16:$V$200,$A189,'Bill of Materials'!$W$16:$W$200,\"c\")/SUMIF('Bill of Materials'!$V$16:$V$200,$A189,'Bill of Materials'!$Y$16:$Y$200)),\"\")","v":""},"",{"$f":"(SUMIFS('Bill of Materials'!$I$16:$I$200,'Bill of Materials'!$V$16:$V$200,$A189,'Bill of Materials'!$W$16:$W$200,\"x\")+SUMIFS('Bill of Materials'!$I$16:$I$200,'Bill of Materials'!$V$16:$V$200,$A189,'Bill of Materials'!$W$16:$W$200,\"x - CMR or SVHC\"))/SUMIF('Bill of Materials'!$V$16:$V$200,$A189,'Bill of Materials'!$I$16:$I$200)","v":{"$error":"#DIV/0!"}},{"$f":"IFERROR(((SUMIFS('Bill of Materials'!$Y$16:$Y$200,'Bill of Materials'!$V$16:$V$200,$A189,'Bill of Materials'!$W$16:$W$200,\"x\")+SUMIFS('Bill of Materials'!$Y$16:$Y$200,'Bill of Materials'!$V$16:$V$200,$A189,'Bill of Materials'!$W$16:$W$200,\"x - CMR or SVHC\"))/SUMIF('Bill of Materials'!$V$16:$V$200,$A189,'Bill of Materials'!$Y$16:$Y$200)),\"\")","v":""},"",{"$error":"#DIV/0!"},"","",""]
[181,{"$f":"SUMIF('Bill of Materials'!$V$16:$V$200,A190,'Bill of Materials'!$J$16:$J$200)","v":{"v":0,"d":"0%"}},{"$error":"#DIV/0!"},{"$f":"SUMIFS('Bill of Materials'!$I$16:$I$200,'Bill of Materials'!$V$16:$V$200,A190,'Bill of Materials'!$W$16:$W$200,\"Grey\")/SUMIF('Bill of Materials'!$V$16:$V$200,A190,'Bill of Materials'!$I$16:$I$200)","v":{"$error":"#DIV/0!"}},{"$f":"IFERROR((SUMIFS('Bill of Materials'!$Y$16:$Y$200,'Bill of Materials'!$V$16:$V$200,A190,'Bill of Materials'!$W$16:$W$200,\"Grey\")/SUMIF('Bill of Materials'!$V$16:$V$200,A190,'Bill of Materials'!$Y$16:$Y$200)),\"\")","v":""},"",{"$f":"SUMIFS('Bill of Materials'!$I$16:$I$200,'Bill of Materials'!$V$16:$V$200,$A190,'Bill of Materials'!$W$16:$W$200,\"a\")/SUMIF('Bill of Materials'!$V$16:$V$200,$A190,'Bill of Materials'!$I$16:$I$200)","v":{"$error":"#DIV/0!"}},{"$f":"IFERROR((SUMIFS('Bill of Materials'!$Y$16:$Y$200,'Bill of Materials'!$V$16:$V$200,A190,'Bill of Materials'!$W$16:$W$200,\"a\")/SUMIF('Bill of Materials'!$V$16:$V$200,A190,'Bill of Materials'!$Y$16:$Y$200)),\"\")","v":""},"",{"$f":"SUMIFS('Bill of Materials'!$I$16:$I$200,'Bill of Materials'!$V$16:$V$200,$A190,'Bill of Materials'!$W$16:$W$200,\"b\")/SUMIF('Bill of Materials'!$V$16:$V$200,$A190,'Bill of Materials'!$I$16:$I$200)","v":{"$error":"#DIV/0!"}},{"$f":"IFERROR((SUMIFS('Bill of Materials'!$Y$16:$Y$200,'Bill of Materials'!$V$16:$V$200,$A190,'Bill of Materials'!$W$16:$W$200,\"b\")/SUMIF('Bill of Materials'!$V$16:$V$200,$A190,'Bill of Materials'!$Y$16:$Y$200)),\"\")","v":""},"",{"$error":"#DIV/0!"},"",{"$f":"SUMIFS('Bill of Materials'!$I$16:$I$200,'Bill of Materials'!$V$16:$V$200,$A190,'Bill of Materials'!$W$16:$W$200,\"c\")/SUMIF('Bill of Materials'!$V$16:$V$200,$A190,'Bill of Materials'!$I$16:$I$200)","v":{"$error":"#DIV/0!"}},{"$f":"IFERROR((SUMIFS('Bill of Materials'!$Y$16:$Y$200,'Bill of Materials'!$V$16:$V$200,$A190,'Bill of Materials'!$W$16:$W$200,\"c\")/SUMIF('Bill of Materials'!$V$16:$V$200,$A190,'Bill of Materials'!$Y$16:$Y$200)),\"\")","v":""},"",{"$f":"(SUMIFS('Bill of Materials'!$I$16:$I$200,'Bill of Materials'!$V$16:$V$200,$A190,'Bill of Materials'!$W$16:$W$200,\"x\")+SUMIFS('Bill of Materials'!$I$16:$I$200,'Bill of Materials'!$V$16:$V$200,$A190,'Bill of Materials'!$W$16:$W$200,\"x - CMR or SVHC\"))/SUMIF('Bill of Materials'!$V$16:$V$200,$A190,'Bill of Materials'!$I$16:$I$200)","v":{"$error":"#DIV/0!"}},{"$f":"IFERROR(((SUMIFS('Bill of Materials'!$Y$16:$Y$200,'Bill of Materials'!$V$16:$V$200,$A190,'Bill of Materials'!$W$16:$W$200,\"x\")+SUMIFS('Bill of Materials'!$Y$16:$Y$200,'Bill of Materials'!$V$16:$V$200,$A190,'Bill of Materials'!$W$16:$W$200,\"x - CMR or SVHC\"))/SUMIF('Bill of Materials'!$V$16:$V$200,$A190,'Bill of Materials'!$Y$16:$Y$200)),\"\")","v":""},"",{"$error":"#DIV/0!"},"","",""]
[182,{"$f":"SUMIF('Bill of Materials'!$V$16:$V$200,A191,'Bill of Materials'!$J$16:$J$200)","v":{"v":0,"d":"0%"}},{"$error":"#DIV/0!"},{"$f":"SUMIFS('Bill of Materials'!$I$16:$I$200,'Bill of Materials'!$V$16:$V$200,A191,'Bill of Materials'!$W$16:$W$200,\"Grey\")/SUMIF('Bill of Materials'!$V$16:$V$200,A191,'Bill of Materials'!$I$16:$I$200)","v":{"$error":"#DIV/0!"}},{"$f":"IFERROR((SUMIFS('Bill of Materials'!$Y$16:$Y$200,'Bill of Materials'!$V$16:$V$200,A191,'Bill of Materials'!$W$16:$W$200,\"Grey\")/SUMIF('Bill of Materials'!$V$16:$V$200,A191,'Bill of Materials'!$Y$16:$Y$200)),\"\")","v":""},"",{"$f":"SUMIFS('Bill of Materials'!$I$16:$I$200,'Bill of Materials'!$V$16:$V$200,$A191,'Bill of Materials'!$W$16:$W$200,\"a\")/SUMIF('Bill of Materials'!$V$16:$V$200,$A191,'Bill of Materials'!$I$16:$I$200)","v":{"$error":"#DIV/0!"}},{"$f":"IFERROR((SUMIFS('Bill of Materials'!$Y$16:$Y$200,'Bill of Materials'!$V$16:$V$200,A191,'Bill of Materials'!$W$16:$W$200,\"a\")/SUMIF('Bill of Materials'!$V$16:$V$200,A191,'Bill of Materials'!$Y$16:$Y$200)),\"\")","v":""},"",{"$f":"SUMIFS('Bill of Materials'!$I$16:$I$200,'Bill of Materials'!$V$16:$V$200,$A191,'Bill of Materials'!$W$16:$W$200,\"b\")/SUMIF('Bill of Materials'!$V$16:$V$200,$A191,'Bill of Materials'!$I$16:$I$200)","v":{"$error":"#DIV/0!"}},{"$f":"IFERROR((SUMIFS('Bill of Materials'!$Y$16:$Y$200,'Bill of Materials'!$V$16:$V$200,$A191,'Bill of Materials'!$W$16:$W$200,\"b\")/SUMIF('Bill of Materials'!$V$16:$V$200,$A191,'Bill of Materials'!$Y$16:$Y$200)),\"\")","v":""},"",{"$error":"#DIV/0!"},"",{"$f":"SUMIFS('Bill of Materials'!$I$16:$I$200,'Bill of Materials'!$V$16:$V$200,$A191,'Bill of Materials'!$W$16:$W$200,\"c\")/SUMIF('Bill of Materials'!$V$16:$V$200,$A191,'Bill of Materials'!$I$16:$I$200)","v":{"$error":"#DIV/0!"}},{"$f":"IFERROR((SUMIFS('Bill of Materials'!$Y$16:$Y$200,'Bill of Materials'!$V$16:$V$200,$A191,'Bill of Materials'!$W$16:$W$200,\"c\")/SUMIF('Bill of Materials'!$V$16:$V$200,$A191,'Bill of Materials'!$Y$16:$Y$200)),\"\")","v":""},"",{"$f":"(SUMIFS('Bill of Materials'!$I$16:$I$200,'Bill of Materials'!$V$16:$V$200,$A191,'Bill of Materials'!$W$16:$W$200,\"x\")+SUMIFS('Bill of Materials'!$I$16:$I$200,'Bill of Materials'!$V$16:$V$200,$A191,'Bill of Materials'!$W$16:$W$200,\"x - CMR or SVHC\"))/SUMIF('Bill of Materials'!$V$16:$V$200,$A191,'Bill of Materials'!$I$16:$I$200)","v":{"$error":"#DIV/0!"}},{"$f":"IFERROR(((SUMIFS('Bill of Materials'!$Y$16:$Y$200,'Bill of Materials'!$V$16:$V$200,$A191,'Bill of Materials'!$W$16:$W$200,\"x\")+SUMIFS('Bill of Materials'!$Y$16:$Y$200,'Bill of Materials'!$V$16:$V$200,$A191,'Bill of Materials'!$W$16:$W$200,\"x - CMR or SVHC\"))/SUMIF('Bill of Materials'!$V$16:$V$200,$A191,'Bill of Materials'!$Y$16:$Y$200)),\"\")","v":""},"",{"$error":"#DIV/0!"},"","",""]
[183,{"$f":"SUMIF('Bill of Materials'!$V$16:$V$200,A192,'Bill of Materials'!$J$16:$J$200)","v":{"v":0,"d":"0%"}},{"$error":"#DIV/0!"},{"$f":"SUMIFS('Bill of Materials'!$I$16:$I$200,'Bill of Materials'!$V$16:$V$200,A192,'Bill of Materials'!$W$16:$W$200,\"Grey\")/SUMIF('Bill of Materials'!$V$16:$V$200,A192,'Bill of Materials'!$I$16:$I$200)","v":{"$error":"#DIV/0!"}},{"$f":"IFERROR((SUMIFS('Bill of Materials'!$Y$16:$Y$200,'Bill of Materials'!$V$16:$V$200,A192,'Bill of Materials'!$W$16:$W$200,\"Grey\")/SUMIF('Bill of Materials'!$V$16:$V$200,A192,'Bill of Materials'!$Y$16:$Y$200)),\"\")","v":""},"",{"$f":"SUMIFS('Bill of Materials'!$I$16:$I$200,'Bill of Materials'!$V$16:$V$200,$A192,'Bill of Materials'!$W$16:$W$200,\"a\")/SUMIF('Bill of Materials'!$V$16:$V$200,$A192,'Bill of Materials'!$I$16:$I$200)","v":{"$error":"#DIV/0!"}},{"$f":"IFERROR((SUMIFS('Bill of Materials'!$Y$16:$Y$200,'Bill of Materials'!$V$16:$V$200,A192,'Bill of Materials'!$W$16:$W$200,\"a\")/SUMIF('Bill of Materials'!$V$16:$V$200,A192,'Bill of Materials'!$Y$16:$Y$200)),\"\")","v":""},"",{"$f":"SUMIFS('Bill of Materials'!$I$16:$I$200,'Bill of Materials'!$V$16:$V$200,$A192,'Bill of Materials'!$W$16:$W$200,\"b\")/SUMIF('Bill of Materials'!$V$16:$V$200,$A192,'Bill of Materials'!$I$16:$I$200)","v":{"$error":"#DIV/0!"}},{"$f":"IFERROR((SUMIFS('Bill of Materials'!$Y$16:$Y$200,'Bill of Materials'!$V$16:$V$200,$A192,'Bill of Materials'!$W$16:$W$200,\"b\")/SUMIF('Bill of Materials'!$V$16:$V$200,$A192,'Bill of Materials'!$Y$16:$Y$200)),\"\")","v":""},"",{"$error":"#DIV/0!"},"",{"$f":"SUMIFS('Bill of Materials'!$I$16:$I$200,'Bill of Materials'!$V$16:$V$200,$A192,'Bill of Materials'!$W$16:$W$200,\"c\")/SUMIF('Bill of Materials'!$V$16:$V$200,$A192,'Bill of Materials'!$I$16:$I$200)","v":{"$error":"#DIV/0!"}},{"$f":"IFERROR((SUMIFS('Bill of Materials'!$Y$16:$Y$200,'Bill of Materials'!$V$16:$V$200,$A192,'Bill of Materials'!$W$16:$W$200,\"c\")/SUMIF('Bill of Materials'!$V$16:$V$200,$A192,'Bill of Materials'!$Y$16:$Y$200)),\"\")","v":""},"",{"$f":"(SUMIFS('Bill of Materials'!$I$16:$I$200,'Bill of Materials'!$V$16:$V$200,$A192,'Bill of Materials'!$W$16:$W$200,\"x\")+SUMIFS('Bill of Materials'!$I$16:$I$200,'Bill of Materials'!$V$16:$V$200,$A192,'Bill of Materials'!$W$16:$W$200,\"x - CMR or SVHC\"))/SUMIF('Bill of Materials'!$V$16:$V$200,$A192,'Bill of Materials'!$I$16:$I$200)","v":{"$error":"#DIV/0!"}},{"$f":"IFERROR(((SUMIFS('Bill of Materials'!$Y$16:$Y$200,'Bill of Materials'!$V$16:$V$200,$A192,'Bill of Materials'!$W$16:$W$200,\"x\")+SUMIFS('Bill of Materials'!$Y$16:$Y$200,'Bill of Materials'!$V$16:$V$200,$A192,'Bill of Materials'!$W$16:$W$200,\"x - CMR or SVHC\"))/SUMIF('Bill of Materials'!$V$16:$V$200,$A192,'Bill of Materials'!$Y$16:$Y$200)),\"\")","v":""},"",{"$error":"#DIV/0!"},"","",""]
[184,{"$f":"SUMIF('Bill of Materials'!$V$16:$V$200,A193,'Bill of Materials'!$J$16:$J$200)","v":{"v":0,"d":"0%"}},{"$error":"#DIV/0!"},{"$f":"SUMIFS('Bill of Materials'!$I$16:$I$200,'Bill of Materials'!$V$16:$V$200,A193,'Bill of Materials'!$W$16:$W$200,\"Grey\")/SUMIF('Bill of Materials'!$V$16:$V$200,A193,'Bill of Materials'!$I$16:$I$200)","v":{"$error":"#DIV/0!"}},{"$f":"IFERROR((SUMIFS('Bill of Materials'!$Y$16:$Y$200,'Bill of Materials'!$V$16:$V$200,A193,'Bill of Materials'!$W$16:$W$200,\"Grey\")/SUMIF('Bill of Materials'!$V$16:$V$200,A193,'Bill of Materials'!$Y$16:$Y$200)),\"\")","v":""},"",{"$f":"SUMIFS('Bill of Materials'!$I$16:$I$200,'Bill of Materials'!$V$16:$V$200,$A193,'Bill of Materials'!$W$16:$W$200,\"a\")/SUMIF('Bill of Materials'!$V$16:$V$200,$A193,'Bill of Materials'!$I$16:$I$200)","v":{"$error":"#DIV/0!"}},{"$f":"IFERROR((SUMIFS('Bill of Materials'!$Y$16:$Y$200,'Bill of Materials'!$V$16:$V$200,A193,'Bill of Materials'!$W$16:$W$200,\"a\")/SUMIF('Bill of Materials'!$V$16:$V$200,A193,'Bill of Materials'!$Y$16:$Y$200)),\"\")","v":""},"",{"$f":"SUMIFS('Bill of Materials'!$I$16:$I$200,'Bill of Materials'!$V$16:$V$200,$A193,'Bill of Materials'!$W$16:$W$200,\"b\")/SUMIF('Bill of Materials'!$V$16:$V$200,$A193,'Bill of Materials'!$I$16:$I$200)","v":{"$error":"#DIV/0!"}},{"$f":"IFERROR((SUMIFS('Bill of Materials'!$Y$16:$Y$200,'Bill of Materials'!$V$16:$V$200,$A193,'Bill of Materials'!$W$16:$W$200,\"b\")/SUMIF('Bill of Materials'!$V$16:$V$200,$A193,'Bill of Materials'!$Y$16:$Y$200)),\"\")","v":""},"",{"$error":"#DIV/0!"},"",{"$f":"SUMIFS('Bill of Materials'!$I$16:$I$200,'Bill of Materials'!$V$16:$V$200,$A193,'Bill of Materials'!$W$16:$W$200,\"c\")/SUMIF('Bill of Materials'!$V$16:$V$200,$A193,'Bill of Materials'!$I$16:$I$200)","v":{"$error":"#DIV/0!"}},{"$f":"IFERROR((SUMIFS('Bill of Materials'!$Y$16:$Y$200,'Bill of Materials'!$V$16:$V$200,$A193,'Bill of Materials'!$W$16:$W$200,\"c\")/SUMIF('Bill of Materials'!$V$16:$V$200,$A193,'Bill of Materials'!$Y$16:$Y$200)),\"\")","v":""},"",{"$f":"(SUMIFS('Bill of Materials'!$I$16:$I$200,'Bill of Materials'!$V$16:$V$200,$A193,'Bill of Materials'!$W$16:$W$200,\"x\")+SUMIFS('Bill of Materials'!$I$16:$I$200,'Bill of Materials'!$V$16:$V$200,$A193,'Bill of Materials'!$W$16:$W$200,\"x - CMR or SVHC\"))/SUMIF('Bill of Materials'!$V$16:$V$200,$A193,'Bill of Materials'!$I$16:$I$200)","v":{"$error":"#DIV/0!"}},{"$f":"IFERROR(((SUMIFS('Bill of Materials'!$Y$16:$Y$200,'Bill of Materials'!$V$16:$V$200,$A193,'Bill of Materials'!$W$16:$W$200,\"x\")+SUMIFS('Bill of Materials'!$Y$16:$Y$200,'Bill of Materials'!$V$16:$V$200,$A193,'Bill of Materials'!$W$16:$W$200,\"x - CMR or SVHC\"))/SUMIF('Bill of Materials'!$V$16:$V$200,$A193,'Bill of Materials'!$Y$16:$Y$200)),\"\")","v":""},"",{"$error":"#DIV/0!"},"","",""]
[185,{"$f":"SUMIF('Bill of Materials'!$V$16:$V$200,A194,'Bill of Materials'!$J$16:$J$200)","v":{"v":0,"d":"0%"}},{"$error":"#DIV/0!"},{"$f":"SUMIFS('Bill of Materials'!$I$16:$I$200,'Bill of Materials'!$V$16:$V$200,A194,'Bill of Materials'!$W$16:$W$200,\"Grey\")/SUMIF('Bill of Materials'!$V$16:$V$200,A194,'Bill of Materials'!$I$16:$I$200)","v":{"$error":"#DIV/0!"}},{"$f":"IFERROR((SUMIFS('Bill of Materials'!$Y$16:$Y$200,'Bill of Materials'!$V$16:$V$200,A194,'Bill of Materials'!$W$16:$W$200,\"Grey\")/SUMIF('Bill of Materials'!$V$16:$V$200,A194,'Bill of Materials'!$Y$16:$Y$200)),\"\")","v":""},"",{"$f":"SUMIFS('Bill of Materials'!$I$16:$I$200,'Bill of Materials'!$V$16:$V$200,$A194,'Bill of Materials'!$W$16:$W$200,\"a\")/SUMIF('Bill of Materials'!$V$16:$V$200,$A194,'Bill of Materials'!$I$16:$I$200)","v":{"$error":"#DIV/0!"}},{"$f":"IFERROR((SUMIFS('Bill of Materials'!$Y$16:$Y$200,'Bill of Materials'!$V$16:$V$200,A194,'Bill of Materials'!$W$16:$W$200,\"a\")/SUMIF('Bill of Materials'!$V$16:$V$200,A194,'Bill of Materials'!$Y$16:$Y$200)),\"\")","v":""},"",{"$f":"SUMIFS('Bill of Materials'!$I$16:$I$200,'Bill of Materials'!$V$16:$V$200,$A194,'Bill of Materials'!$W$16:$W$200,\"b\")/SUMIF('Bill of Materials'!$V$16:$V$200,$A194,'Bill of Materials'!$I$16:$I$200)","v":{"$error":"#DIV/0!"}},{"$f":"IFERROR((SUMIFS('Bill of Materials'!$Y$16:$Y$200,'Bill of Materials'!$V$16:$V$200,$A194,'Bill of Materials'!$W$16:$W$200,\"b\")/SUMIF('Bill of Materials'!$V$16:$V$200,$A194,'Bill of Materials'!$Y$16:$Y$200)),\"\")","v":""},"",{"$error":"#DIV/0!"},"",{"$f":"SUMIFS('Bill of Materials'!$I$16:$I$200,'Bill of Materials'!$V$16:$V$200,$A194,'Bill of Materials'!$W$16:$W$200,\"c\")/SUMIF('Bill of Materials'!$V$16:$V$200,$A194,'Bill of Materials'!$I$16:$I$200)","v":{"$error":"#DIV/0!"}},{"$f":"IFERROR((SUMIFS('Bill of Materials'!$Y$16:$Y$200,'Bill of Materials'!$V$16:$V$200,$A194,'Bill of Materials'!$W$16:$W$200,\"c\")/SUMIF('Bill of Materials'!$V$16:$V$200,$A194,'Bill of Materials'!$Y$16:$Y$200)),\"\")","v":""},"",{"$f":"(SUMIFS('Bill of Materials'!$I$16:$I$200,'Bill of Materials'!$V$16:$V$200,$A194,'Bill of Materials'!$W$16:$W$200,\"x\")+SUMIFS('Bill of Materials'!$I$16:$I$200,'Bill of Materials'!$V$16:$V$200,$A194,'Bill of Materials'!$W$16:$W$200,\"x - CMR or SVHC\"))/SUMIF('Bill of Materials'!$V$16:$V$200,$A194,'Bill of Materials'!$I$16:$I$200)","v":{"$error":"#DIV/0!"}},{"$f":"IFERROR(((SUMIFS('Bill of Materials'!$Y$16:$Y$200,'Bill of Materials'!$V$16:$V$200,$A194,'Bill of Materials'!$W$16:$W$200,\"x\")+SUMIFS('Bill of Materials'!$Y$16:$Y$200,'Bill of Materials'!$V$16:$V$200,$A194,'Bill of Materials'!$W$16:$W$200,\"x - CMR or SVHC\"))/SUMIF('Bill of Materials'!$V$16:$V$200,$A194,'Bill of Materials'!$Y$16:$Y$200)),\"\")","v":""},"",{"$error":"#DIV/0!"},"","",""]
[186,{"$f":"SUMIF('Bill of Materials'!$V$16:$V$200,A195,'Bill of Materials'!$J$16:$J$200)","v":{"v":0,"d":"0%"}},{"$error":"#DIV/0!"},{"$f":"SUMIFS('Bill of Materials'!$I$16:$I$200,'Bill of Materials'!$V$16:$V$200,A195,'Bill of Materials'!$W$16:$W$200,\"Grey\")/SUMIF('Bill of Materials'!$V$16:$V$200,A195,'Bill of Materials'!$I$16:$I$200)","v":{"$error":"#DIV/0!"}},{"$f":"IFERROR((SUMIFS('Bill of Materials'!$Y$16:$Y$200,'Bill of Materials'!$V$16:$V$200,A195,'Bill of Materials'!$W$16:$W$200,\"Grey\")/SUMIF('Bill of Materials'!$V$16:$V$200,A195,'Bill of Materials'!$Y$16:$Y$200)),\"\")","v":""},"",{"$f":"SUMIFS('Bill of Materials'!$I$16:$I$200,'Bill of Materials'!$V$16:$V$200,$A195,'Bill of Materials'!$W$16:$W$200,\"a\")/SUMIF('Bill of Materials'!$V$16:$V$200,$A195,'Bill of Materials'!$I$16:$I$200)","v":{"$error":"#DIV/0!"}},{"$f":"IFERROR((SUMIFS('Bill of Materials'!$Y$16:$Y$200,'Bill of Materials'!$V$16:$V$200,A195,'Bill of Materials'!$W$16:$W$200,\"a\")/SUMIF('Bill of Materials'!$V$16:$V$200,A195,'Bill of Materials'!$Y$16:$Y$200)),\"\")","v":""},"",{"$f":"SUMIFS('Bill of Materials'!$I$16:$I$200,'Bill of Materials'!$V$16:$V$200,$A195,'Bill of Materials'!$W$16:$W$200,\"b\")/SUMIF('Bill of Materials'!$V$16:$V$200,$A195,'Bill of Materials'!$I$16:$I$200)","v":{"$error":"#DIV/0!"}},{"$f":"IFERROR((SUMIFS('Bill of Materials'!$Y$16:$Y$200,'Bill of Materials'!$V$16:$V$200,$A195,'Bill of Materials'!$W$16:$W$200,\"b\")/SUMIF('Bill of Materials'!$V$16:$V$200,$A195,'Bill of Materials'!$Y$16:$Y$200)),\"\")","v":""},"",{"$error":"#DIV/0!"},"",{"$f":"SUMIFS('Bill of Materials'!$I$16:$I$200,'Bill of Materials'!$V$16:$V$200,$A195,'Bill of Materials'!$W$16:$W$200,\"c\")/SUMIF('Bill of Materials'!$V$16:$V$200,$A195,'Bill of Materials'!$I$16:$I$200)","v":{"$error":"#DIV/0!"}},{"$f":"IFERROR((SUMIFS('Bill of Materials'!$Y$16:$Y$200,'Bill of Materials'!$V$16:$V$200,$A195,'Bill of Materials'!$W$16:$W$200,\"c\")/SUMIF('Bill of Materials'!$V$16:$V$200,$A195,'Bill of Materials'!$Y$16:$Y$200)),\"\")","v":""},"",{"$f":"(SUMIFS('Bill of Materials'!$I$16:$I$200,'Bill of Materials'!$V$16:$V$200,$A195,'Bill of Materials'!$W$16:$W$200,\"x\")+SUMIFS('Bill of Materials'!$I$16:$I$200,'Bill of Materials'!$V$16:$V$200,$A195,'Bill of Materials'!$W$16:$W$200,\"x - CMR or SVHC\"))/SUMIF('Bill of Materials'!$V$16:$V$200,$A195,'Bill of Materials'!$I$16:$I$200)","v":{"$error":"#DIV/0!"}},{"$f":"IFERROR(((SUMIFS('Bill of Materials'!$Y$16:$Y$200,'Bill of Materials'!$V$16:$V$200,$A195,'Bill of Materials'!$W$16:$W$200,\"x\")+SUMIFS('Bill of Materials'!$Y$16:$Y$200,'Bill of Materials'!$V$16:$V$200,$A195,'Bill of Materials'!$W$16:$W$200,\"x - CMR or SVHC\"))/SUMIF('Bill of Materials'!$V$16:$V$200,$A195,'Bill of Materials'!$Y$16:$Y$200)),\"\")","v":""},"",{"$error":"#DIV/0!"},"","",""]
[187,{"$f":"SUMIF('Bill of Materials'!$V$16:$V$200,A196,'Bill of Materials'!$J$16:$J$200)","v":{"v":0,"d":"0%"}},{"$error":"#DIV/0!"},{"$f":"SUMIFS('Bill of Materials'!$I$16:$I$200,'Bill of Materials'!$V$16:$V$200,A196,'Bill of Materials'!$W$16:$W$200,\"Grey\")/SUMIF('Bill of Materials'!$V$16:$V$200,A196,'Bill of Materials'!$I$16:$I$200)","v":{"$error":"#DIV/0!"}},{"$f":"IFERROR((SUMIFS('Bill of Materials'!$Y$16:$Y$200,'Bill of Materials'!$V$16:$V$200,A196,'Bill of Materials'!$W$16:$W$200,\"Grey\")/SUMIF('Bill of Materials'!$V$16:$V$200,A196,'Bill of Materials'!$Y$16:$Y$200)),\"\")","v":""},"",{"$f":"SUMIFS('Bill of Materials'!$I$16:$I$200,'Bill of Materials'!$V$16:$V$200,$A196,'Bill of Materials'!$W$16:$W$200,\"a\")/SUMIF('Bill of Materials'!$V$16:$V$200,$A196,'Bill of Materials'!$I$16:$I$200)","v":{"$error":"#DIV/0!"}},{"$f":"IFERROR((SUMIFS('Bill of Materials'!$Y$16:$Y$200,'Bill of Materials'!$V$16:$V$200,A196,'Bill of Materials'!$W$16:$W$200,\"a\")/SUMIF('Bill of Materials'!$V$16:$V$200,A196,'Bill of Materials'!$Y$16:$Y$200)),\"\")","v":""},"",{"$f":"SUMIFS('Bill of Materials'!$I$16:$I$200,'Bill of Materials'!$V$16:$V$200,$A196,'Bill of Materials'!$W$16:$W$200,\"b\")/SUMIF('Bill of Materials'!$V$16:$V$200,$A196,'Bill of Materials'!$I$16:$I$200)","v":{"$error":"#DIV/0!"}},{"$f":"IFERROR((SUMIFS('Bill of Materials'!$Y$16:$Y$200,'Bill of Materials'!$V$16:$V$200,$A196,'Bill of Materials'!$W$16:$W$200,\"b\")/SUMIF('Bill of Materials'!$V$16:$V$200,$A196,'Bill of Materials'!$Y$16:$Y$200)),\"\")","v":""},"",{"$error":"#DIV/0!"},"",{"$f":"SUMIFS('Bill of Materials'!$I$16:$I$200,'Bill of Materials'!$V$16:$V$200,$A196,'Bill of Materials'!$W$16:$W$200,\"c\")/SUMIF('Bill of Materials'!$V$16:$V$200,$A196,'Bill of Materials'!$I$16:$I$200)","v":{"$error":"#DIV/0!"}},{"$f":"IFERROR((SUMIFS('Bill of Materials'!$Y$16:$Y$200,'Bill of Materials'!$V$16:$V$200,$A196,'Bill of Materials'!$W$16:$W$200,\"c\")/SUMIF('Bill of Materials'!$V$16:$V$200,$A196,'Bill of Materials'!$Y$16:$Y$200)),\"\")","v":""},"",{"$f":"(SUMIFS('Bill of Materials'!$I$16:$I$200,'Bill of Materials'!$V$16:$V$200,$A196,'Bill of Materials'!$W$16:$W$200,\"x\")+SUMIFS('Bill of Materials'!$I$16:$I$200,'Bill of Materials'!$V$16:$V$200,$A196,'Bill of Materials'!$W$16:$W$200,\"x - CMR or SVHC\"))/SUMIF('Bill of Materials'!$V$16:$V$200,$A196,'Bill of Materials'!$I$16:$I$200)","v":{"$error":"#DIV/0!"}},{"$f":"IFERROR(((SUMIFS('Bill of Materials'!$Y$16:$Y$200,'Bill of Materials'!$V$16:$V$200,$A196,'Bill of Materials'!$W$16:$W$200,\"x\")+SUMIFS('Bill of Materials'!$Y$16:$Y$200,'Bill of Materials'!$V$16:$V$200,$A196,'Bill of Materials'!$W$16:$W$200,\"x - CMR or SVHC\"))/SUMIF('Bill of Materials'!$V$16:$V$200,$A196,'Bill of Materials'!$Y$16:$Y$200)),\"\")","v":""},"",{"$error":"#DIV/0!"},"","",""]
[188,{"$f":"SUMIF('Bill of Materials'!$V$16:$V$200,A197,'Bill of Materials'!$J$16:$J$200)","v":{"v":0,"d":"0%"}},{"$error":"#DIV/0!"},{"$f":"SUMIFS('Bill of Materials'!$I$16:$I$200,'Bill of Materials'!$V$16:$V$200,A197,'Bill of Materials'!$W$16:$W$200,\"Grey\")/SUMIF('Bill of Materials'!$V$16:$V$200,A197,'Bill of Materials'!$I$16:$I$200)","v":{"$error":"#DIV/0!"}},{"$f":"IFERROR((SUMIFS('Bill of Materials'!$Y$16:$Y$200,'Bill of Materials'!$V$16:$V$200,A197,'Bill of Materials'!$W$16:$W$200,\"Grey\")/SUMIF('Bill of Materials'!$V$16:$V$200,A197,'Bill of Materials'!$Y$16:$Y$200)),\"\")","v":""},"",{"$f":"SUMIFS('Bill of Materials'!$I$16:$I$200,'Bill of Materials'!$V$16:$V$200,$A197,'Bill of Materials'!$W$16:$W$200,\"a\")/SUMIF('Bill of Materials'!$V$16:$V$200,$A197,'Bill of Materials'!$I$16:$I$200)","v":{"$error":"#DIV/0!"}},{"$f":"IFERROR((SUMIFS('Bill of Materials'!$Y$16:$Y$200,'Bill of Materials'!$V$16:$V$200,A197,'Bill of Materials'!$W$16:$W$200,\"a\")/SUMIF('Bill of Materials'!$V$16:$V$200,A197,'Bill of Materials'!$Y$16:$Y$200)),\"\")","v":""},"",{"$f":"SUMIFS('Bill of Materials'!$I$16:$I$200,'Bill of Materials'!$V$16:$V$200,$A197,'Bill of Materials'!$W$16:$W$200,\"b\")/SUMIF('Bill of Materials'!$V$16:$V$200,$A197,'Bill of Materials'!$I$16:$I$200)","v":{"$error":"#DIV/0!"}},{"$f":"IFERROR((SUMIFS('Bill of Materials'!$Y$16:$Y$200,'Bill of Materials'!$V$16:$V$200,$A197,'Bill of Materials'!$W$16:$W$200,\"b\")/SUMIF('Bill of Materials'!$V$16:$V$200,$A197,'Bill of Materials'!$Y$16:$Y$200)),\"\")","v":""},"",{"$error":"#DIV/0!"},"",{"$f":"SUMIFS('Bill of Materials'!$I$16:$I$200,'Bill of Materials'!$V$16:$V$200,$A197,'Bill of Materials'!$W$16:$W$200,\"c\")/SUMIF('Bill of Materials'!$V$16:$V$200,$A197,'Bill of Materials'!$I$16:$I$200)","v":{"$error":"#DIV/0!"}},{"$f":"IFERROR((SUMIFS('Bill of Materials'!$Y$16:$Y$200,'Bill of Materials'!$V$16:$V$200,$A197,'Bill of Materials'!$W$16:$W$200,\"c\")/SUMIF('Bill of Materials'!$V$16:$V$200,$A197,'Bill of Materials'!$Y$16:$Y$200)),\"\")","v":""},"",{"$f":"(SUMIFS('Bill of Materials'!$I$16:$I$200,'Bill of Materials'!$V$16:$V$200,$A197,'Bill of Materials'!$W$16:$W$200,\"x\")+SUMIFS('Bill of Materials'!$I$16:$I$200,'Bill of Materials'!$V$16:$V$200,$A197,'Bill of Materials'!$W$16:$W$200,\"x - CMR or SVHC\"))/SUMIF('Bill of Materials'!$V$16:$V$200,$A197,'Bill of Materials'!$I$16:$I$200)","v":{"$error":"#DIV/0!"}},{"$f":"IFERROR(((SUMIFS('Bill of Materials'!$Y$16:$Y$200,'Bill of Materials'!$V$16:$V$200,$A197,'Bill of Materials'!$W$16:$W$200,\"x\")+SUMIFS('Bill of Materials'!$Y$16:$Y$200,'Bill of Materials'!$V$16:$V$200,$A197,'Bill of Materials'!$W$16:$W$200,\"x - CMR or SVHC\"))/SUMIF('Bill of Materials'!$V$16:$V$200,$A197,'Bill of Materials'!$Y$16:$Y$200)),\"\")","v":""},"",{"$error":"#DIV/0!"},"","",""]
[189,{"$f":"SUMIF('Bill of Materials'!$V$16:$V$200,A198,'Bill of Materials'!$J$16:$J$200)","v":{"v":0,"d":"0%"}},{"$error":"#DIV/0!"},{"$f":"SUMIFS('Bill of Materials'!$I$16:$I$200,'Bill of Materials'!$V$16:$V$200,A198,'Bill of Materials'!$W$16:$W$200,\"Grey\")/SUMIF('Bill of Materials'!$V$16:$V$200,A198,'Bill of Materials'!$I$16:$I$200)","v":{"$error":"#DIV/0!"}},{"$f":"IFERROR((SUMIFS('Bill of Materials'!$Y$16:$Y$200,'Bill of Materials'!$V$16:$V$200,A198,'Bill of Materials'!$W$16:$W$200,\"Grey\")/SUMIF('Bill of Materials'!$V$16:$V$200,A198,'Bill of Materials'!$Y$16:$Y$200)),\"\")","v":""},"",{"$f":"SUMIFS('Bill of Materials'!$I$16:$I$200,'Bill of Materials'!$V$16:$V$200,$A198,'Bill of Materials'!$W$16:$W$200,\"a\")/SUMIF('Bill of Materials'!$V$16:$V$200,$A198,'Bill of Materials'!$I$16:$I$200)","v":{"$error":"#DIV/0!"}},{"$f":"IFERROR((SUMIFS('Bill of Materials'!$Y$16:$Y$200,'Bill of Materials'!$V$16:$V$200,A198,'Bill of Materials'!$W$16:$W$200,\"a\")/SUMIF('Bill of Materials'!$V$16:$V$200,A198,'Bill of Materials'!$Y$16:$Y$200)),\"\")","v":""},"",{"$f":"SUMIFS('Bill of Materials'!$I$16:$I$200,'Bill of Materials'!$V$16:$V$200,$A198,'Bill of Materials'!$W$16:$W$200,\"b\")/SUMIF('Bill of Materials'!$V$16:$V$200,$A198,'Bill of Materials'!$I$16:$I$200)","v":{"$error":"#DIV/0!"}},{"$f":"IFERROR((SUMIFS('Bill of Materials'!$Y$16:$Y$200,'Bill of Materials'!$V$16:$V$200,$A198,'Bill of Materials'!$W$16:$W$200,\"b\")/SUMIF('Bill of Materials'!$V$16:$V$200,$A198,'Bill of Materials'!$Y$16:$Y$200)),\"\")","v":""},"",{"$error":"#DIV/0!"},"",{"$f":"SUMIFS('Bill of Materials'!$I$16:$I$200,'Bill of Materials'!$V$16:$V$200,$A198,'Bill of Materials'!$W$16:$W$200,\"c\")/SUMIF('Bill of Materials'!$V$16:$V$200,$A198,'Bill of Materials'!$I$16:$I$200)","v":{"$error":"#DIV/0!"}},{"$f":"IFERROR((SUMIFS('Bill of Materials'!$Y$16:$Y$200,'Bill of Materials'!$V$16:$V$200,$A198,'Bill of Materials'!$W$16:$W$200,\"c\")/SUMIF('Bill of Materials'!$V$16:$V$200,$A198,'Bill of Materials'!$Y$16:$Y$200)),\"\")","v":""},"",{"$f":"(SUMIFS('Bill of Materials'!$I$16:$I$200,'Bill of Materials'!$V$16:$V$200,$A198,'Bill of Materials'!$W$16:$W$200,\"x\")+SUMIFS('Bill of Materials'!$I$16:$I$200,'Bill of Materials'!$V$16:$V$200,$A198,'Bill of Materials'!$W$16:$W$200,\"x - CMR or SVHC\"))/SUMIF('Bill of Materials'!$V$16:$V$200,$A198,'Bill of Materials'!$I$16:$I$200)","v":{"$error":"#DIV/0!"}},{"$f":"IFERROR(((SUMIFS('Bill of Materials'!$Y$16:$Y$200,'Bill of Materials'!$V$16:$V$200,$A198,'Bill of Materials'!$W$16:$W$200,\"x\")+SUMIFS('Bill of Materials'!$Y$16:$Y$200,'Bill of Materials'!$V$16:$V$200,$A198,'Bill of Materials'!$W$16:$W$200,\"x - CMR or SVHC\"))/SUMIF('Bill of Materials'!$V$16:$V$200,$A198,'Bill of Materials'!$Y$16:$Y$200)),\"\")","v":""},"",{"$error":"#DIV/0!"},"","",""]
[190,{"$f":"SUMIF('Bill of Materials'!$V$16:$V$200,A199,'Bill of Materials'!$J$16:$J$200)","v":{"v":0,"d":"0%"}},{"$error":"#DIV/0!"},{"$f":"SUMIFS('Bill of Materials'!$I$16:$I$200,'Bill of Materials'!$V$16:$V$200,A199,'Bill of Materials'!$W$16:$W$200,\"Grey\")/SUMIF('Bill of Materials'!$V$16:$V$200,A199,'Bill of Materials'!$I$16:$I$200)","v":{"$error":"#DIV/0!"}},{"$f":"IFERROR((SUMIFS('Bill of Materials'!$Y$16:$Y$200,'Bill of Materials'!$V$16:$V$200,A199,'Bill of Materials'!$W$16:$W$200,\"Grey\")/SUMIF('Bill of Materials'!$V$16:$V$200,A199,'Bill of Materials'!$Y$16:$Y$200)),\"\")","v":""},"",{"$f":"SUMIFS('Bill of Materials'!$I$16:$I$200,'Bill of Materials'!$V$16:$V$200,$A199,'Bill of Materials'!$W$16:$W$200,\"a\")/SUMIF('Bill of Materials'!$V$16:$V$200,$A199,'Bill of Materials'!$I$16:$I$200)","v":{"$error":"#DIV/0!"}},{"$f":"IFERROR((SUMIFS('Bill of Materials'!$Y$16:$Y$200,'Bill of Materials'!$V$16:$V$200,A199,'Bill of Materials'!$W$16:$W$200,\"a\")/SUMIF('Bill of Materials'!$V$16:$V$200,A199,'Bill of Materials'!$Y$16:$Y$200)),\"\")","v":""},"",{"$f":"SUMIFS('Bill of Materials'!$I$16:$I$200,'Bill of Materials'!$V$16:$V$200,$A199,'Bill of Materials'!$W$16:$W$200,\"b\")/SUMIF('Bill of Materials'!$V$16:$V$200,$A199,'Bill of Materials'!$I$16:$I$200)","v":{"$error":"#DIV/0!"}},{"$f":"IFERROR((SUMIFS('Bill of Materials'!$Y$16:$Y$200,'Bill of Materials'!$V$16:$V$200,$A199,'Bill of Materials'!$W$16:$W$200,\"b\")/SUMIF('Bill of Materials'!$V$16:$V$200,$A199,'Bill of Materials'!$Y$16:$Y$200)),\"\")","v":""},"",{"$error":"#DIV/0!"},"",{"$f":"SUMIFS('Bill of Materials'!$I$16:$I$200,'Bill of Materials'!$V$16:$V$200,$A199,'Bill of Materials'!$W$16:$W$200,\"c\")/SUMIF('Bill of Materials'!$V$16:$V$200,$A199,'Bill of Materials'!$I$16:$I$200)","v":{"$error":"#DIV/0!"}},{"$f":"IFERROR((SUMIFS('Bill of Materials'!$Y$16:$Y$200,'Bill of Materials'!$V$16:$V$200,$A199,'Bill of Materials'!$W$16:$W$200,\"c\")/SUMIF('Bill of Materials'!$V$16:$V$200,$A199,'Bill of Materials'!$Y$16:$Y$200)),\"\")","v":""},"",{"$f":"(SUMIFS('Bill of Materials'!$I$16:$I$200,'Bill of Materials'!$V$16:$V$200,$A199,'Bill of Materials'!$W$16:$W$200,\"x\")+SUMIFS('Bill of Materials'!$I$16:$I$200,'Bill of Materials'!$V$16:$V$200,$A199,'Bill of Materials'!$W$16:$W$200,\"x - CMR or SVHC\"))/SUMIF('Bill of Materials'!$V$16:$V$200,$A199,'Bill of Materials'!$I$16:$I$200)","v":{"$error":"#DIV/0!"}},{"$f":"IFERROR(((SUMIFS('Bill of Materials'!$Y$16:$Y$200,'Bill of Materials'!$V$16:$V$200,$A199,'Bill of Materials'!$W$16:$W$200,\"x\")+SUMIFS('Bill of Materials'!$Y$16:$Y$200,'Bill of Materials'!$V$16:$V$200,$A199,'Bill of Materials'!$W$16:$W$200,\"x - CMR or SVHC\"))/SUMIF('Bill of Materials'!$V$16:$V$200,$A199,'Bill of Materials'!$Y$16:$Y$200)),\"\")","v":""},"",{"$error":"#DIV/0!"},"","",""]
[191,{"$f":"SUMIF('Bill of Materials'!$V$16:$V$200,A200,'Bill of Materials'!$J$16:$J$200)","v":{"v":0,"d":"0%"}},{"$error":"#DIV/0!"},{"$f":"SUMIFS('Bill of Materials'!$I$16:$I$200,'Bill of Materials'!$V$16:$V$200,A200,'Bill of Materials'!$W$16:$W$200,\"Grey\")/SUMIF('Bill of Materials'!$V$16:$V$200,A200,'Bill of Materials'!$I$16:$I$200)","v":{"$error":"#DIV/0!"}},{"$f":"IFERROR((SUMIFS('Bill of Materials'!$Y$16:$Y$200,'Bill of Materials'!$V$16:$V$200,A200,'Bill of Materials'!$W$16:$W$200,\"Grey\")/SUMIF('Bill of Materials'!$V$16:$V$200,A200,'Bill of Materials'!$Y$16:$Y$200)),\"\")","v":""},"",{"$f":"SUMIFS('Bill of Materials'!$I$16:$I$200,'Bill of Materials'!$V$16:$V$200,$A200,'Bill of Materials'!$W$16:$W$200,\"a\")/SUMIF('Bill of Materials'!$V$16:$V$200,$A200,'Bill of Materials'!$I$16:$I$200)","v":{"$error":"#DIV/0!"}},{"$f":"IFERROR((SUMIFS('Bill of Materials'!$Y$16:$Y$200,'Bill of Materials'!$V$16:$V$200,A200,'Bill of Materials'!$W$16:$W$200,\"a\")/SUMIF('Bill of Materials'!$V$16:$V$200,A200,'Bill of Materials'!$Y$16:$Y$200)),\"\")","v":""},"",{"$f":"SUMIFS('Bill of Materials'!$I$16:$I$200,'Bill of Materials'!$V$16:$V$200,$A200,'Bill of Materials'!$W$16:$W$200,\"b\")/SUMIF('Bill of Materials'!$V$16:$V$200,$A200,'Bill of Materials'!$I$16:$I$200)","v":{"$error":"#DIV/0!"}},{"$f":"IFERROR((SUMIFS('Bill of Materials'!$Y$16:$Y$200,'Bill of Materials'!$V$16:$V$200,$A200,'Bill of Materials'!$W$16:$W$200,\"b\")/SUMIF('Bill of Materials'!$V$16:$V$200,$A200,'Bill of Materials'!$Y$16:$Y$200)),\"\")","v":""},"",{"$error":"#DIV/0!"},"",{"$f":"SUMIFS('Bill of Materials'!$I$16:$I$200,'Bill of Materials'!$V$16:$V$200,$A200,'Bill of Materials'!$W$16:$W$200,\"c\")/SUMIF('Bill of Materials'!$V$16:$V$200,$A200,'Bill of Materials'!$I$16:$I$200)","v":{"$error":"#DIV/0!"}},{"$f":"IFERROR((SUMIFS('Bill of Materials'!$Y$16:$Y$200,'Bill of Materials'!$V$16:$V$200,$A200,'Bill of Materials'!$W$16:$W$200,\"c\")/SUMIF('Bill of Materials'!$V$16:$V$200,$A200,'Bill of Materials'!$Y$16:$Y$200)),\"\")","v":""},"",{"$f":"(SUMIFS('Bill of Materials'!$I$16:$I$200,'Bill of Materials'!$V$16:$V$200,$A200,'Bill of Materials'!$W$16:$W$200,\"x\")+SUMIFS('Bill of Materials'!$I$16:$I$200,'Bill of Materials'!$V$16:$V$200,$A200,'Bill of Materials'!$W$16:$W$200,\"x - CMR or SVHC\"))/SUMIF('Bill of Materials'!$V$16:$V$200,$A200,'Bill of Materials'!$I$16:$I$200)","v":{"$error":"#DIV/0!"}},{"$f":"IFERROR(((SUMIFS('Bill of Materials'!$Y$16:$Y$200,'Bill of Materials'!$V$16:$V$200,$A200,'Bill of Materials'!$W$16:$W$200,\"x\")+SUMIFS('Bill of Materials'!$Y$16:$Y$200,'Bill of Materials'!$V$16:$V$200,$A200,'Bill of Materials'!$W$16:$W$200,\"x - CMR or SVHC\"))/SUMIF('Bill of Materials'!$V$16:$V$200,$A200,'Bill of Materials'!$Y$16:$Y$200)),\"\")","v":""},"",{"$error":"#DIV/0!"},"","",""]
[192,{"$f":"SUMIF('Bill of Materials'!$V$16:$V$200,A201,'Bill of Materials'!$J$16:$J$200)","v":{"v":0,"d":"0%"}},{"$error":"#DIV/0!"},{"$f":"SUMIFS('Bill of Materials'!$I$16:$I$200,'Bill of Materials'!$V$16:$V$200,A201,'Bill of Materials'!$W$16:$W$200,\"Grey\")/SUMIF('Bill of Materials'!$V$16:$V$200,A201,'Bill of Materials'!$I$16:$I$200)","v":{"$error":"#DIV/0!"}},{"$f":"IFERROR((SUMIFS('Bill of Materials'!$Y$16:$Y$200,'Bill of Materials'!$V$16:$V$200,A201,'Bill of Materials'!$W$16:$W$200,\"Grey\")/SUMIF('Bill of Materials'!$V$16:$V$200,A201,'Bill of Materials'!$Y$16:$Y$200)),\"\")","v":""},"",{"$f":"SUMIFS('Bill of Materials'!$I$16:$I$200,'Bill of Materials'!$V$16:$V$200,$A201,'Bill of Materials'!$W$16:$W$200,\"a\")/SUMIF('Bill of Materials'!$V$16:$V$200,$A201,'Bill of Materials'!$I$16:$I$200)","v":{"$error":"#DIV/0!"}},{"$f":"IFERROR((SUMIFS('Bill of Materials'!$Y$16:$Y$200,'Bill of Materials'!$V$16:$V$200,A201,'Bill of Materials'!$W$16:$W$200,\"a\")/SUMIF('Bill of Materials'!$V$16:$V$200,A201,'Bill of Materials'!$Y$16:$Y$200)),\"\")","v":""},"",{"$f":"SUMIFS('Bill of Materials'!$I$16:$I$200,'Bill of Materials'!$V$16:$V$200,$A201,'Bill of Materials'!$W$16:$W$200,\"b\")/SUMIF('Bill of Materials'!$V$16:$V$200,$A201,'Bill of Materials'!$I$16:$I$200)","v":{"$error":"#DIV/0!"}},{"$f":"IFERROR((SUMIFS('Bill of Materials'!$Y$16:$Y$200,'Bill of Materials'!$V$16:$V$200,$A201,'Bill of Materials'!$W$16:$W$200,\"b\")/SUMIF('Bill of Materials'!$V$16:$V$200,$A201,'Bill of Materials'!$Y$16:$Y$200)),\"\")","v":""},"",{"$error":"#DIV/0!"},"",{"$f":"SUMIFS('Bill of Materials'!$I$16:$I$200,'Bill of Materials'!$V$16:$V$200,$A201,'Bill of Materials'!$W$16:$W$200,\"c\")/SUMIF('Bill of Materials'!$V$16:$V$200,$A201,'Bill of Materials'!$I$16:$I$200)","v":{"$error":"#DIV/0!"}},{"$f":"IFERROR((SUMIFS('Bill of Materials'!$Y$16:$Y$200,'Bill of Materials'!$V$16:$V$200,$A201,'Bill of Materials'!$W$16:$W$200,\"c\")/SUMIF('Bill of Materials'!$V$16:$V$200,$A201,'Bill of Materials'!$Y$16:$Y$200)),\"\")","v":""},"",{"$f":"(SUMIFS('Bill of Materials'!$I$16:$I$200,'Bill of Materials'!$V$16:$V$200,$A201,'Bill of Materials'!$W$16:$W$200,\"x\")+SUMIFS('Bill of Materials'!$I$16:$I$200,'Bill of Materials'!$V$16:$V$200,$A201,'Bill of Materials'!$W$16:$W$200,\"x - CMR or SVHC\"))/SUMIF('Bill of Materials'!$V$16:$V$200,$A201,'Bill of Materials'!$I$16:$I$200)","v":{"$error":"#DIV/0!"}},{"$f":"IFERROR(((SUMIFS('Bill of Materials'!$Y$16:$Y$200,'Bill of Materials'!$V$16:$V$200,$A201,'Bill of Materials'!$W$16:$W$200,\"x\")+SUMIFS('Bill of Materials'!$Y$16:$Y$200,'Bill of Materials'!$V$16:$V$200,$A201,'Bill of Materials'!$W$16:$W$200,\"x - CMR or SVHC\"))/SUMIF('Bill of Materials'!$V$16:$V$200,$A201,'Bill of Materials'!$Y$16:$Y$200)),\"\")","v":""},"",{"$error":"#DIV/0!"},"","",""]
[193,{"$f":"SUMIF('Bill of Materials'!$V$16:$V$200,A202,'Bill of Materials'!$J$16:$J$200)","v":{"v":0,"d":"0%"}},{"$error":"#DIV/0!"},{"$f":"SUMIFS('Bill of Materials'!$I$16:$I$200,'Bill of Materials'!$V$16:$V$200,A202,'Bill of Materials'!$W$16:$W$200,\"Grey\")/SUMIF('Bill of Materials'!$V$16:$V$200,A202,'Bill of Materials'!$I$16:$I$200)","v":{"$error":"#DIV/0!"}},{"$f":"IFERROR((SUMIFS('Bill of Materials'!$Y$16:$Y$200,'Bill of Materials'!$V$16:$V$200,A202,'Bill of Materials'!$W$16:$W$200,\"Grey\")/SUMIF('Bill of Materials'!$V$16:$V$200,A202,'Bill of Materials'!$Y$16:$Y$200)),\"\")","v":""},"",{"$f":"SUMIFS('Bill of Materials'!$I$16:$I$200,'Bill of Materials'!$V$16:$V$200,$A202,'Bill of Materials'!$W$16:$W$200,\"a\")/SUMIF('Bill of Materials'!$V$16:$V$200,$A202,'Bill of Materials'!$I$16:$I$200)","v":{"$error":"#DIV/0!"}},{"$f":"IFERROR((SUMIFS('Bill of Materials'!$Y$16:$Y$200,'Bill of Materials'!$V$16:$V$200,A202,'Bill of Materials'!$W$16:$W$200,\"a\")/SUMIF('Bill of Materials'!$V$16:$V$200,A202,'Bill of Materials'!$Y$16:$Y$200)),\"\")","v":""},"",{"$f":"SUMIFS('Bill of Materials'!$I$16:$I$200,'Bill of Materials'!$V$16:$V$200,$A202,'Bill of Materials'!$W$16:$W$200,\"b\")/SUMIF('Bill of Materials'!$V$16:$V$200,$A202,'Bill of Materials'!$I$16:$I$200)","v":{"$error":"#DIV/0!"}},{"$f":"IFERROR((SUMIFS('Bill of Materials'!$Y$16:$Y$200,'Bill of Materials'!$V$16:$V$200,$A202,'Bill of Materials'!$W$16:$W$200,\"b\")/SUMIF('Bill of Materials'!$V$16:$V$200,$A202,'Bill of Materials'!$Y$16:$Y$200)),\"\")","v":""},"",{"$error":"#DIV/0!"},"",{"$f":"SUMIFS('Bill of Materials'!$I$16:$I$200,'Bill of Materials'!$V$16:$V$200,$A202,'Bill of Materials'!$W$16:$W$200,\"c\")/SUMIF('Bill of Materials'!$V$16:$V$200,$A202,'Bill of Materials'!$I$16:$I$200)","v":{"$error":"#DIV/0!"}},{"$f":"IFERROR((SUMIFS('Bill of Materials'!$Y$16:$Y$200,'Bill of Materials'!$V$16:$V$200,$A202,'Bill of Materials'!$W$16:$W$200,\"c\")/SUMIF('Bill of Materials'!$V$16:$V$200,$A202,'Bill of Materials'!$Y$16:$Y$200)),\"\")","v":""},"",{"$f":"(SUMIFS('Bill of Materials'!$I$16:$I$200,'Bill of Materials'!$V$16:$V$200,$A202,'Bill of Materials'!$W$16:$W$200,\"x\")+SUMIFS('Bill of Materials'!$I$16:$I$200,'Bill of Materials'!$V$16:$V$200,$A202,'Bill of Materials'!$W$16:$W$200,\"x - CMR or SVHC\"))/SUMIF('Bill of Materials'!$V$16:$V$200,$A202,'Bill of Materials'!$I$16:$I$200)","v":{"$error":"#DIV/0!"}},{"$f":"IFERROR(((SUMIFS('Bill of Materials'!$Y$16:$Y$200,'Bill of Materials'!$V$16:$V$200,$A202,'Bill of Materials'!$W$16:$W$200,\"x\")+SUMIFS('Bill of Materials'!$Y$16:$Y$200,'Bill of Materials'!$V$16:$V$200,$A202,'Bill of Materials'!$W$16:$W$200,\"x - CMR or SVHC\"))/SUMIF('Bill of Materials'!$V$16:$V$200,$A202,'Bill of Materials'!$Y$16:$Y$200)),\"\")","v":""},"",{"$error":"#DIV/0!"},"","",""]
[194,{"$f":"SUMIF('Bill of Materials'!$V$16:$V$200,A203,'Bill of Materials'!$J$16:$J$200)","v":{"v":0,"d":"0%"}},{"$f":"IF(AND(D203=0,N203<>\"\",N203<M203,R203=0),\"number\",IF(AND(E203<>\"\",E203>D203),\"number\",\"weight\"))","v":{"$error":"#DIV/0!"}},{"$f":"SUMIFS('Bill of Materials'!$I$16:$I$200,'Bill of Materials'!$V$16:$V$200,A203,'Bill of Materials'!$W$16:$W$200,\"Grey\")/SUMIF('Bill of Materials'!$V$16:$V$200,A203,'Bill of Materials'!$I$16:$I$200)","v":{"$error":"#DIV/0!"}},{"$f":"IFERROR((SUMIFS('Bill of Materials'!$Y$16:$Y$200,'Bill of Materials'!$V$16:$V$200,A203,'Bill of Materials'!$W$16:$W$200,\"Grey\")/SUMIF('Bill of Materials'!$V$16:$V$200,A203,'Bill of Materials'!$Y$16:$Y$200)),\"\")","v":""},{"$f":"IFERROR((IF($C203=\"weight\",D203*$B203,E203*$B203)),\"\")","v":""},{"$f":"SUMIFS('Bill of Materials'!$I$16:$I$200,'Bill of Materials'!$V$16:$V$200,$A203,'Bill of Materials'!$W$16:$W$200,\"a\")/SUMIF('Bill of Materials'!$V$16:$V$200,$A203,'Bill of Materials'!$I$16:$I$200)","v":{"$error":"#DIV/0!"}},{"$f":"IFERROR((SUMIFS('Bill of Materials'!$Y$16:$Y$200,'Bill of Materials'!$V$16:$V$200,A203,'Bill of Materials'!$W$16:$W$200,\"a\")/SUMIF('Bill of Materials'!$V$16:$V$200,A203,'Bill of Materials'!$Y$16:$Y$200)),\"\")","v":""},{"$f":"IFERROR((IF($C203=\"weight\",G203*$B203,H203*$B203)),\"\")","v":""},{"$f":"SUMIFS('Bill of Materials'!$I$16:$I$200,'Bill of Materials'!$V$16:$V$200,$A203,'Bill of Materials'!$W$16:$W$200,\"b\")/SUMIF('Bill of Materials'!$V$16:$V$200,$A203,'Bill of Materials'!$I$16:$I$200)","v":{"$error":"#DIV/0!"}},{"$f":"IFERROR((SUMIFS('Bill of Materials'!$Y$16:$Y$200,'Bill of Materials'!$V$16:$V$200,$A203,'Bill of Materials'!$W$16:$W$200,\"b\")/SUMIF('Bill of Materials'!$V$16:$V$200,$A203,'Bill of Materials'!$Y$16:$Y$200)),\"\")","v":""},{"$f":"IFERROR((IF($C203=\"weight\",J203*$B203,K203*$B203)),\"\")","v":""},{"$f":"G203+J203","v":{"$error":"#DIV/0!"}},{"$f":"IF(AND(H203=\"\",K203=\"\"),\"\",H203+K203)","v":""},{"$f":"SUMIFS('Bill of Materials'!$I$16:$I$200,'Bill of Materials'!$V$16:$V$200,$A203,'Bill of Materials'!$W$16:$W$200,\"c\")/SUMIF('Bill of Materials'!$V$16:$V$200,$A203,'Bill of Materials'!$I$16:$I$200)","v":{"$error":"#DIV/0!"}},{"$f":"IFERROR((SUMIFS('Bill of Materials'!$Y$16:$Y$200,'Bill of Materials'!$V$16:$V$200,$A203,'Bill of Materials'!$W$16:$W$200,\"c\")/SUMIF('Bill of Materials'!$V$16:$V$200,$A203,'Bill of Materials'!$Y$16:$Y$200)),\"\")","v":""},{"$f":"IFERROR((IF($C203=\"weight\",O203*$B203,P203*$B203)),\"\")","v":""},{"$f":"(SUMIFS('Bill of Materials'!$I$16:$I$200,'Bill of Materials'!$V$16:$V$200,$A203,'Bill of Materials'!$W$16:$W$200,\"x\")+SUMIFS('Bill of Materials'!$I$16:$I$200,'Bill of Materials'!$V$16:$V$200,$A203,'Bill of Materials'!$W$16:$W$200,\"x - CMR or SVHC\"))/SUMIF('Bill of Materials'!$V$16:$V$200,$A203,'Bill of Materials'!$I$16:$I$200)","v":{"$error":"#DIV/0!"}},{"$f":"IFERROR(((SUMIFS('Bill of Materials'!$Y$16:$Y$200,'Bill of Materials'!$V$16:$V$200,$A203,'Bill of Materials'!$W$16:$W$200,\"x\")+SUMIFS('Bill of Materials'!$Y$16:$Y$200,'Bill of Materials'!$V$16:$V$200,$A203,'Bill of Materials'!$W$16:$W$200,\"x - CMR or SVHC\"))/SUMIF('Bill of Materials'!$V$16:$V$200,$A203,'Bill of Materials'!$Y$16:$Y$200)),\"\")","v":""},{"$f":"IFERROR((IF($C203=\"weight\",R203*$B203,S203*$B203)),\"\")","v":""},{"$f":"(1-D203)-(G203+J203+O203+R203)","v":{"$error":"#DIV/0!"}},{"$f":"IF(E203=\"\",\"\",((1-E203)-(H203+K203+P203+S203)))","v":""},{"$f":"IFERROR((IF($C203=\"weight\",U203*$B203,V203*$B203)),\"\")","v":""},{"$f":"IFERROR((IF(C203=\"number\",((H203+K203+P203+S203+V203)*B203),((G203+J203+O203+R203+U203)*B203))),\"\")","v":""}]
[195,{"$f":"SUMIF('Bill of Materials'!$V$16:$V$200,A204,'Bill of Materials'!$J$16:$J$200)","v":{"v":0,"d":"0%"}},{"$error":"#DIV/0!"},{"$f":"SUMIFS('Bill of Materials'!$I$16:$I$200,'Bill of Materials'!$V$16:$V$200,A204,'Bill of Materials'!$W$16:$W$200,\"Grey\")/SUMIF('Bill of Materials'!$V$16:$V$200,A204,'Bill of Materials'!$I$16:$I$200)","v":{"$error":"#DIV/0!"}},{"$f":"IFERROR((SUMIFS('Bill of Materials'!$Y$16:$Y$200,'Bill of Materials'!$V$16:$V$200,A204,'Bill of Materials'!$W$16:$W$200,\"Grey\")/SUMIF('Bill of Materials'!$V$16:$V$200,A204,'Bill of Materials'!$Y$16:$Y$200)),\"\")","v":""},"",{"$f":"SUMIFS('Bill of Materials'!$I$16:$I$200,'Bill of Materials'!$V$16:$V$200,$A204,'Bill of Materials'!$W$16:$W$200,\"a\")/SUMIF('Bill of Materials'!$V$16:$V$200,$A204,'Bill of Materials'!$I$16:$I$200)","v":{"$error":"#DIV/0!"}},{"$f":"IFERROR((SUMIFS('Bill of Materials'!$Y$16:$Y$200,'Bill of Materials'!$V$16:$V$200,A204,'Bill of Materials'!$W$16:$W$200,\"a\")/SUMIF('Bill of Materials'!$V$16:$V$200,A204,'Bill of Materials'!$Y$16:$Y$200)),\"\")","v":""},"",{"$f":"SUMIFS('Bill of Materials'!$I$16:$I$200,'Bill of Materials'!$V$16:$V$200,$A204,'Bill of Materials'!$W$16:$W$200,\"b\")/SUMIF('Bill of Materials'!$V$16:$V$200,$A204,'Bill of Materials'!$I$16:$I$200)","v":{"$error":"#DIV/0!"}},{"$f":"IFERROR((SUMIFS('Bill of Materials'!$Y$16:$Y$200,'Bill of Materials'!$V$16:$V$200,$A204,'Bill of Materials'!$W$16:$W$200,\"b\")/SUMIF('Bill of Materials'!$V$16:$V$200,$A204,'Bill of Materials'!$Y$16:$Y$200)),\"\")","v":""},"",{"$error":"#DIV/0!"},"",{"$f":"SUMIFS('Bill of Materials'!$I$16:$I$200,'Bill of Materials'!$V$16:$V$200,$A204,'Bill of Materials'!$W$16:$W$200,\"c\")/SUMIF('Bill of Materials'!$V$16:$V$200,$A204,'Bill of Materials'!$I$16:$I$200)","v":{"$error":"#DIV/0!"}},{"$f":"IFERROR((SUMIFS('Bill of Materials'!$Y$16:$Y$200,'Bill of Materials'!$V$16:$V$200,$A204,'Bill of Materials'!$W$16:$W$200,\"c\")/SUMIF('Bill of Materials'!$V$16:$V$200,$A204,'Bill of Materials'!$Y$16:$Y$200)),\"\")","v":""},"",{"$f":"(SUMIFS('Bill of Materials'!$I$16:$I$200,'Bill of Materials'!$V$16:$V$200,$A204,'Bill of Materials'!$W$16:$W$200,\"x\")+SUMIFS('Bill of Materials'!$I$16:$I$200,'Bill of Materials'!$V$16:$V$200,$A204,'Bill of Materials'!$W$16:$W$200,\"x - CMR or SVHC\"))/SUMIF('Bill of Materials'!$V$16:$V$200,$A204,'Bill of Materials'!$I$16:$I$200)","v":{"$error":"#DIV/0!"}},{"$f":"IFERROR(((SUMIFS('Bill of Materials'!$Y$16:$Y$200,'Bill of Materials'!$V$16:$V$200,$A204,'Bill of Materials'!$W$16:$W$200,\"x\")+SUMIFS('Bill of Materials'!$Y$16:$Y$200,'Bill of Materials'!$V$16:$V$200,$A204,'Bill of Materials'!$W$16:$W$200,\"x - CMR or SVHC\"))/SUMIF('Bill of Materials'!$V$16:$V$200,$A204,'Bill of Materials'!$Y$16:$Y$200)),\"\")","v":""},"",{"$error":"#DIV/0!"},"","",""]
[196,{"$f":"SUMIF('Bill of Materials'!$V$16:$V$200,A205,'Bill of Materials'!$J$16:$J$200)","v":{"v":0,"d":"0%"}},{"$error":"#DIV/0!"},{"$f":"SUMIFS('Bill of Materials'!$I$16:$I$200,'Bill of Materials'!$V$16:$V$200,A205,'Bill of Materials'!$W$16:$W$200,\"Grey\")/SUMIF('Bill of Materials'!$V$16:$V$200,A205,'Bill of Materials'!$I$16:$I$200)","v":{"$error":"#DIV/0!"}},{"$f":"IFERROR((SUMIFS('Bill of Materials'!$Y$16:$Y$200,'Bill of Materials'!$V$16:$V$200,A205,'Bill of Materials'!$W$16:$W$200,\"Grey\")/SUMIF('Bill of Materials'!$V$16:$V$200,A205,'Bill of Materials'!$Y$16:$Y$200)),\"\")","v":""},"",{"$f":"SUMIFS('Bill of Materials'!$I$16:$I$200,'Bill of Materials'!$V$16:$V$200,$A205,'Bill of Materials'!$W$16:$W$200,\"a\")/SUMIF('Bill of Materials'!$V$16:$V$200,$A205,'Bill of Materials'!$I$16:$I$200)","v":{"$error":"#DIV/0!"}},{"$f":"IFERROR((SUMIFS('Bill of Materials'!$Y$16:$Y$200,'Bill of Materials'!$V$16:$V$200,A205,'Bill of Materials'!$W$16:$W$200,\"a\")/SUMIF('Bill of Materials'!$V$16:$V$200,A205,'Bill of Materials'!$Y$16:$Y$200)),\"\")","v":""},"",{"$f":"SUMIFS('Bill of Materials'!$I$16:$I$200,'Bill of Materials'!$V$16:$V$200,$A205,'Bill of Materials'!$W$16:$W$200,\"b\")/SUMIF('Bill of Materials'!$V$16:$V$200,$A205,'Bill of Materials'!$I$16:$I$200)","v":{"$error":"#DIV/0!"}},{"$f":"IFERROR((SUMIFS('Bill of Materials'!$Y$16:$Y$200,'Bill of Materials'!$V$16:$V$200,$A205,'Bill of Materials'!$W$16:$W$200,\"b\")/SUMIF('Bill of Materials'!$V$16:$V$200,$A205,'Bill of Materials'!$Y$16:$Y$200)),\"\")","v":""},"",{"$error":"#DIV/0!"},"",{"$f":"SUMIFS('Bill of Materials'!$I$16:$I$200,'Bill of Materials'!$V$16:$V$200,$A205,'Bill of Materials'!$W$16:$W$200,\"c\")/SUMIF('Bill of Materials'!$V$16:$V$200,$A205,'Bill of Materials'!$I$16:$I$200)","v":{"$error":"#DIV/0!"}},{"$f":"IFERROR((SUMIFS('Bill of Materials'!$Y$16:$Y$200,'Bill of Materials'!$V$16:$V$200,$A205,'Bill of Materials'!$W$16:$W$200,\"c\")/SUMIF('Bill of Materials'!$V$16:$V$200,$A205,'Bill of Materials'!$Y$16:$Y$200)),\"\")","v":""},"",{"$f":"(SUMIFS('Bill of Materials'!$I$16:$I$200,'Bill of Materials'!$V$16:$V$200,$A205,'Bill of Materials'!$W$16:$W$200,\"x\")+SUMIFS('Bill of Materials'!$I$16:$I$200,'Bill of Materials'!$V$16:$V$200,$A205,'Bill of Materials'!$W$16:$W$200,\"x - CMR or SVHC\"))/SUMIF('Bill of Materials'!$V$16:$V$200,$A205,'Bill of Materials'!$I$16:$I$200)","v":{"$error":"#DIV/0!"}},{"$f":"IFERROR(((SUMIFS('Bill of Materials'!$Y$16:$Y$200,'Bill of Materials'!$V$16:$V$200,$A205,'Bill of Materials'!$W$16:$W$200,\"x\")+SUMIFS('Bill of Materials'!$Y$16:$Y$200,'Bill of Materials'!$V$16:$V$200,$A205,'Bill of Materials'!$W$16:$W$200,\"x - CMR or SVHC\"))/SUMIF('Bill of Materials'!$V$16:$V$200,$A205,'Bill of Materials'!$Y$16:$Y$200)),\"\")","v":""},"",{"$error":"#DIV/0!"},"","",""]
[197,{"$f":"SUMIF('Bill of Materials'!$V$16:$V$200,A206,'Bill of Materials'!$J$16:$J$200)","v":{"v":0,"d":"0%"}},{"$error":"#DIV/0!"},{"$f":"SUMIFS('Bill of Materials'!$I$16:$I$200,'Bill of Materials'!$V$16:$V$200,A206,'Bill of Materials'!$W$16:$W$200,\"Grey\")/SUMIF('Bill of Materials'!$V$16:$V$200,A206,'Bill of Materials'!$I$16:$I$200)","v":{"$error":"#DIV/0!"}},{"$f":"IFERROR((SUMIFS('Bill of Materials'!$Y$16:$Y$200,'Bill of Materials'!$V$16:$V$200,A206,'Bill of Materials'!$W$16:$W$200,\"Grey\")/SUMIF('Bill of Materials'!$V$16:$V$200,A206,'Bill of Materials'!$Y$16:$Y$200)),\"\")","v":""},"",{"$f":"SUMIFS('Bill of Materials'!$I$16:$I$200,'Bill of Materials'!$V$16:$V$200,$A206,'Bill of Materials'!$W$16:$W$200,\"a\")/SUMIF('Bill of Materials'!$V$16:$V$200,$A206,'Bill of Materials'!$I$16:$I$200)","v":{"$error":"#DIV/0!"}},{"$f":"IFERROR((SUMIFS('Bill of Materials'!$Y$16:$Y$200,'Bill of Materials'!$V$16:$V$200,A206,'Bill of Materials'!$W$16:$W$200,\"a\")/SUMIF('Bill of Materials'!$V$16:$V$200,A206,'Bill of Materials'!$Y$16:$Y$200)),\"\")","v":""},"",{"$f":"SUMIFS('Bill of Materials'!$I$16:$I$200,'Bill of Materials'!$V$16:$V$200,$A206,'Bill of Materials'!$W$16:$W$200,\"b\")/SUMIF('Bill of Materials'!$V$16:$V$200,$A206,'Bill of Materials'!$I$16:$I$200)","v":{"$error":"#DIV/0!"}},{"$f":"IFERROR((SUMIFS('Bill of Materials'!$Y$16:$Y$200,'Bill of Materials'!$V$16:$V$200,$A206,'Bill of Materials'!$W$16:$W$200,\"b\")/SUMIF('Bill of Materials'!$V$16:$V$200,$A206,'Bill of Materials'!$Y$16:$Y$200)),\"\")","v":""},"",{"$error":"#DIV/0!"},"",{"$f":"SUMIFS('Bill of Materials'!$I$16:$I$200,'Bill of Materials'!$V$16:$V$200,$A206,'Bill of Materials'!$W$16:$W$200,\"c\")/SUMIF('Bill of Materials'!$V$16:$V$200,$A206,'Bill of Materials'!$I$16:$I$200)","v":{"$error":"#DIV/0!"}},{"$f":"IFERROR((SUMIFS('Bill of Materials'!$Y$16:$Y$200,'Bill of Materials'!$V$16:$V$200,$A206,'Bill of Materials'!$W$16:$W$200,\"c\")/SUMIF('Bill of Materials'!$V$16:$V$200,$A206,'Bill of Materials'!$Y$16:$Y$200)),\"\")","v":""},"",{"$f":"(SUMIFS('Bill of Materials'!$I$16:$I$200,'Bill of Materials'!$V$16:$V$200,$A206,'Bill of Materials'!$W$16:$W$200,\"x\")+SUMIFS('Bill of Materials'!$I$16:$I$200,'Bill of Materials'!$V$16:$V$200,$A206,'Bill of Materials'!$W$16:$W$200,\"x - CMR or SVHC\"))/SUMIF('Bill of Materials'!$V$16:$V$200,$A206,'Bill of Materials'!$I$16:$I$200)","v":{"$error":"#DIV/0!"}},{"$f":"IFERROR(((SUMIFS('Bill of Materials'!$Y$16:$Y$200,'Bill of Materials'!$V$16:$V$200,$A206,'Bill of Materials'!$W$16:$W$200,\"x\")+SUMIFS('Bill of Materials'!$Y$16:$Y$200,'Bill of Materials'!$V$16:$V$200,$A206,'Bill of Materials'!$W$16:$W$200,\"x - CMR or SVHC\"))/SUMIF('Bill of Materials'!$V$16:$V$200,$A206,'Bill of Materials'!$Y$16:$Y$200)),\"\")","v":""},"",{"$error":"#DIV/0!"},"","",""]
[198,{"$f":"SUMIF('Bill of Materials'!$V$16:$V$200,A207,'Bill of Materials'!$J$16:$J$200)","v":{"v":0,"d":"0%"}},{"$error":"#DIV/0!"},{"$f":"SUMIFS('Bill of Materials'!$I$16:$I$200,'Bill of Materials'!$V$16:$V$200,A207,'Bill of Materials'!$W$16:$W$200,\"Grey\")/SUMIF('Bill of Materials'!$V$16:$V$200,A207,'Bill of Materials'!$I$16:$I$200)","v":{"$error":"#DIV/0!"}},{"$f":"IFERROR((SUMIFS('Bill of Materials'!$Y$16:$Y$200,'Bill of Materials'!$V$16:$V$200,A207,'Bill of Materials'!$W$16:$W$200,\"Grey\")/SUMIF('Bill of Materials'!$V$16:$V$200,A207,'Bill of Materials'!$Y$16:$Y$200)),\"\")","v":""},"",{"$f":"SUMIFS('Bill of Materials'!$I$16:$I$200,'Bill of Materials'!$V$16:$V$200,$A207,'Bill of Materials'!$W$16:$W$200,\"a\")/SUMIF('Bill of Materials'!$V$16:$V$200,$A207,'Bill of Materials'!$I$16:$I$200)","v":{"$error":"#DIV/0!"}},{"$f":"IFERROR((SUMIFS('Bill of Materials'!$Y$16:$Y$200,'Bill of Materials'!$V$16:$V$200,A207,'Bill of Materials'!$W$16:$W$200,\"a\")/SUMIF('Bill of Materials'!$V$16:$V$200,A207,'Bill of Materials'!$Y$16:$Y$200)),\"\")","v":""},"",{"$f":"SUMIFS('Bill of Materials'!$I$16:$I$200,'Bill of Materials'!$V$16:$V$200,$A207,'Bill of Materials'!$W$16:$W$200,\"b\")/SUMIF('Bill of Materials'!$V$16:$V$200,$A207,'Bill of Materials'!$I$16:$I$200)","v":{"$error":"#DIV/0!"}},{"$f":"IFERROR((SUMIFS('Bill of Materials'!$Y$16:$Y$200,'Bill of Materials'!$V$16:$V$200,$A207,'Bill of Materials'!$W$16:$W$200,\"b\")/SUMIF('Bill of Materials'!$V$16:$V$200,$A207,'Bill of Materials'!$Y$16:$Y$200)),\"\")","v":""},"",{"$error":"#DIV/0!"},"",{"$f":"SUMIFS('Bill of Materials'!$I$16:$I$200,'Bill of Materials'!$V$16:$V$200,$A207,'Bill of Materials'!$W$16:$W$200,\"c\")/SUMIF('Bill of Materials'!$V$16:$V$200,$A207,'Bill of Materials'!$I$16:$I$200)","v":{"$error":"#DIV/0!"}},{"$f":"IFERROR((SUMIFS('Bill of Materials'!$Y$16:$Y$200,'Bill of Materials'!$V$16:$V$200,$A207,'Bill of Materials'!$W$16:$W$200,\"c\")/SUMIF('Bill of Materials'!$V$16:$V$200,$A207,'Bill of Materials'!$Y$16:$Y$200)),\"\")","v":""},"",{"$f":"(SUMIFS('Bill of Materials'!$I$16:$I$200,'Bill of Materials'!$V$16:$V$200,$A207,'Bill of Materials'!$W$16:$W$200,\"x\")+SUMIFS('Bill of Materials'!$I$16:$I$200,'Bill of Materials'!$V$16:$V$200,$A207,'Bill of Materials'!$W$16:$W$200,\"x - CMR or SVHC\"))/SUMIF('Bill of Materials'!$V$16:$V$200,$A207,'Bill of Materials'!$I$16:$I$200)","v":{"$error":"#DIV/0!"}},{"$f":"IFERROR(((SUMIFS('Bill of Materials'!$Y$16:$Y$200,'Bill of Materials'!$V$16:$V$200,$A207,'Bill of Materials'!$W$16:$W$200,\"x\")+SUMIFS('Bill of Materials'!$Y$16:$Y$200,'Bill of Materials'!$V$16:$V$200,$A207,'Bill of Materials'!$W$16:$W$200,\"x - CMR or SVHC\"))/SUMIF('Bill of Materials'!$V$16:$V$200,$A207,'Bill of Materials'!$Y$16:$Y$200)),\"\")","v":""},"",{"$error":"#DIV/0!"},"","",""]
[199,{"$f":"SUMIF('Bill of Materials'!$V$16:$V$200,A208,'Bill of Materials'!$J$16:$J$200)","v":{"v":0,"d":"0%"}},{"$error":"#DIV/0!"},{"$f":"SUMIFS('Bill of Materials'!$I$16:$I$200,'Bill of Materials'!$V$16:$V$200,A208,'Bill of Materials'!$W$16:$W$200,\"Grey\")/SUMIF('Bill of Materials'!$V$16:$V$200,A208,'Bill of Materials'!$I$16:$I$200)","v":{"$error":"#DIV/0!"}},{"$f":"IFERROR((SUMIFS('Bill of Materials'!$Y$16:$Y$200,'Bill of Materials'!$V$16:$V$200,A208,'Bill of Materials'!$W$16:$W$200,\"Grey\")/SUMIF('Bill of Materials'!$V$16:$V$200,A208,'Bill of Materials'!$Y$16:$Y$200)),\"\")","v":""},"",{"$f":"SUMIFS('Bill of Materials'!$I$16:$I$200,'Bill of Materials'!$V$16:$V$200,$A208,'Bill of Materials'!$W$16:$W$200,\"a\")/SUMIF('Bill of Materials'!$V$16:$V$200,$A208,'Bill of Materials'!$I$16:$I$200)","v":{"$error":"#DIV/0!"}},{"$f":"IFERROR((SUMIFS('Bill of Materials'!$Y$16:$Y$200,'Bill of Materials'!$V$16:$V$200,A208,'Bill of Materials'!$W$16:$W$200,\"a\")/SUMIF('Bill of Materials'!$V$16:$V$200,A208,'Bill of Materials'!$Y$16:$Y$200)),\"\")","v":""},"",{"$f":"SUMIFS('Bill of Materials'!$I$16:$I$200,'Bill of Materials'!$V$16:$V$200,$A208,'Bill of Materials'!$W$16:$W$200,\"b\")/SUMIF('Bill of Materials'!$V$16:$V$200,$A208,'Bill of Materials'!$I$16:$I$200)","v":{"$error":"#DIV/0!"}},{"$f":"IFERROR((SUMIFS('Bill of Materials'!$Y$16:$Y$200,'Bill of Materials'!$V$16:$V$200,$A208,'Bill of Materials'!$W$16:$W$200,\"b\")/SUMIF('Bill of Materials'!$V$16:$V$200,$A208,'Bill of Materials'!$Y$16:$Y$200)),\"\")","v":""},"",{"$error":"#DIV/0!"},"",{"$f":"SUMIFS('Bill of Materials'!$I$16:$I$200,'Bill of Materials'!$V$16:$V$200,$A208,'Bill of Materials'!$W$16:$W$200,\"c\")/SUMIF('Bill of Materials'!$V$16:$V$200,$A208,'Bill of Materials'!$I$16:$I$200)","v":{"$error":"#DIV/0!"}},{"$f":"IFERROR((SUMIFS('Bill of Materials'!$Y$16:$Y$200,'Bill of Materials'!$V$16:$V$200,$A208,'Bill of Materials'!$W$16:$W$200,\"c\")/SUMIF('Bill of Materials'!$V$16:$V$200,$A208,'Bill of Materials'!$Y$16:$Y$200)),\"\")","v":""},"",{"$f":"(SUMIFS('Bill of Materials'!$I$16:$I$200,'Bill of Materials'!$V$16:$V$200,$A208,'Bill of Materials'!$W$16:$W$200,\"x\")+SUMIFS('Bill of Materials'!$I$16:$I$200,'Bill of Materials'!$V$16:$V$200,$A208,'Bill of Materials'!$W$16:$W$200,\"x - CMR or SVHC\"))/SUMIF('Bill of Materials'!$V$16:$V$200,$A208,'Bill of Materials'!$I$16:$I$200)","v":{"$error":"#DIV/0!"}},{"$f":"IFERROR(((SUMIFS('Bill of Materials'!$Y$16:$Y$200,'Bill of Materials'!$V$16:$V$200,$A208,'Bill of Materials'!$W$16:$W$200,\"x\")+SUMIFS('Bill of Materials'!$Y$16:$Y$200,'Bill of Materials'!$V$16:$V$200,$A208,'Bill of Materials'!$W$16:$W$200,\"x - CMR or SVHC\"))/SUMIF('Bill of Materials'!$V$16:$V$200,$A208,'Bill of Materials'!$Y$16:$Y$200)),\"\")","v":""},"",{"$error":"#DIV/0!"},"","",""]
[200,{"$f":"SUMIF('Bill of Materials'!$V$16:$V$200,A209,'Bill of Materials'!$J$16:$J$200)","v":{"v":0,"d":"0%"}},{"$error":"#DIV/0!"},{"$f":"SUMIFS('Bill of Materials'!$I$16:$I$200,'Bill of Materials'!$V$16:$V$200,A209,'Bill of Materials'!$W$16:$W$200,\"Grey\")/SUMIF('Bill of Materials'!$V$16:$V$200,A209,'Bill of Materials'!$I$16:$I$200)","v":{"$error":"#DIV/0!"}},{"$f":"IFERROR((SUMIFS('Bill of Materials'!$Y$16:$Y$200,'Bill of Materials'!$V$16:$V$200,A209,'Bill of Materials'!$W$16:$W$200,\"Grey\")/SUMIF('Bill of Materials'!$V$16:$V$200,A209,'Bill of Materials'!$Y$16:$Y$200)),\"\")","v":""},"",{"$f":"SUMIFS('Bill of Materials'!$I$16:$I$200,'Bill of Materials'!$V$16:$V$200,$A209,'Bill of Materials'!$W$16:$W$200,\"a\")/SUMIF('Bill of Materials'!$V$16:$V$200,$A209,'Bill of Materials'!$I$16:$I$200)","v":{"$error":"#DIV/0!"}},{"$f":"IFERROR((SUMIFS('Bill of Materials'!$Y$16:$Y$200,'Bill of Materials'!$V$16:$V$200,A209,'Bill of Materials'!$W$16:$W$200,\"a\")/SUMIF('Bill of Materials'!$V$16:$V$200,A209,'Bill of Materials'!$Y$16:$Y$200)),\"\")","v":""},"",{"$f":"SUMIFS('Bill of Materials'!$I$16:$I$200,'Bill of Materials'!$V$16:$V$200,$A209,'Bill of Materials'!$W$16:$W$200,\"b\")/SUMIF('Bill of Materials'!$V$16:$V$200,$A209,'Bill of Materials'!$I$16:$I$200)","v":{"$error":"#DIV/0!"}},{"$f":"IFERROR((SUMIFS('Bill of Materials'!$Y$16:$Y$200,'Bill of Materials'!$V$16:$V$200,$A209,'Bill of Materials'!$W$16:$W$200,\"b\")/SUMIF('Bill of Materials'!$V$16:$V$200,$A209,'Bill of Materials'!$Y$16:$Y$200)),\"\")","v":""},"",{"$error":"#DIV/0!"},"",{"$f":"SUMIFS('Bill of Materials'!$I$16:$I$200,'Bill of Materials'!$V$16:$V$200,$A209,'Bill of Materials'!$W$16:$W$200,\"c\")/SUMIF('Bill of Materials'!$V$16:$V$200,$A209,'Bill of Materials'!$I$16:$I$200)","v":{"$error":"#DIV/0!"}},{"$f":"IFERROR((SUMIFS('Bill of Materials'!$Y$16:$Y$200,'Bill of Materials'!$V$16:$V$200,$A209,'Bill of Materials'!$W$16:$W$200,\"c\")/SUMIF('Bill of Materials'!$V$16:$V$200,$A209,'Bill of Materials'!$Y$16:$Y$200)),\"\")","v":""},"",{"$f":"(SUMIFS('Bill of Materials'!$I$16:$I$200,'Bill of Materials'!$V$16:$V$200,$A209,'Bill of Materials'!$W$16:$W$200,\"x\")+SUMIFS('Bill of Materials'!$I$16:$I$200,'Bill of Materials'!$V$16:$V$200,$A209,'Bill of Materials'!$W$16:$W$200,\"x - CMR or SVHC\"))/SUMIF('Bill of Materials'!$V$16:$V$200,$A209,'Bill of Materials'!$I$16:$I$200)","v":{"$error":"#DIV/0!"}},{"$f":"IFERROR(((SUMIFS('Bill of Materials'!$Y$16:$Y$200,'Bill of Materials'!$V$16:$V$200,$A209,'Bill of Materials'!$W$16:$W$200,\"x\")+SUMIFS('Bill of Materials'!$Y$16:$Y$200,'Bill of Materials'!$V$16:$V$200,$A209,'Bill of Materials'!$W$16:$W$200,\"x - CMR or SVHC\"))/SUMIF('Bill of Materials'!$V$16:$V$200,$A209,'Bill of Materials'!$Y$16:$Y$200)),\"\")","v":""},"",{"$error":"#DIV/0!"},"","",""]

{"sheet":"%Cycled & Renewable REF","index":3,"n_rows":498,"n_cols":13,"rows_kept":498,"merged":[[2,6,2,11],[106,12,108,12],[415,12,417,12],[418,12,420,12],[426,12,427,12],[476,12,481,12]]}
["Product Circularity: Required Percentages of Cycled and Renewable Content by Product and Material Type"]
["Please refer to Standard section 5.4 Increasing Demand: Incorporating Cycled and/or Renewable Content and the Cradle to Cradle Certified Required Percentages of Cycled and Renewable Content by Product and Material type Reference document for instructions and additional information."]
[{"$nulls":6},"Cycled Content and/or Renewable Content Minimum Required Percentages by Weight (Total includes Post-consumer requirement, if any)"]
["Product Category Tab (see Reference document)","Product or Application","Sub-Product","Material Type","Material Sub-Type","Product Application (For \"Other Products\" only)","Bronze","Silver","Gold - Total","Gold - Post-consumer","Platinum - Total","Platinum - Post-consumer","Notes"]
["Interior Design & Furniture","Wall Accessories","Drawing Boards","n/a","n/a","n/a",0,"> 0",17,0,50,0]
["Interior Design & Furniture","Wall Accessories","Other","n/a","n/a","n/a","*","*","*","*","*","*","*See Furniture Structure or Accessories in this section."]
["Interior Design & Furniture","Building Interior Structure","n/a","n/a","n/a","n/a","*","*","*","*","*","*","*See Furniture Structure or Accessories in this section."]
["Interior Design & Furniture","Furniture","Seating","Mixed","n/a","n/a","> 0",18,50,25,95,50]
["Interior Design & Furniture","Furniture","Storage","Mixed","n/a","n/a","> 0",25,70,35,95,50]
["Interior Design & Furniture","Furniture","Workstation, Desk, Table","Mixed","n/a","n/a","> 0",30,50,25,95,50]
["Interior Design & Furniture","Furniture","Trash Bin","Mostly Metal","n/a","n/a","> 0",20,70,35,95,50]
["Interior Design & Furniture","Furniture","Wood furniture (at least 90% wood)","n/a","n/a","n/a",0,"> 0",100,50,100,50]
["Interior Design & Furniture","Furniture Structure or Accessories","Metal","n/a","Steel","n/a","> 0",25,75,67,100,100]
["Interior Design & Furniture","Furniture Structure or Accessories","Metal","n/a","Aluminum","n/a","> 0",37.5,75,67,100,100]
["Interior Design & Furniture","Furniture Structure or Accessories","Wood or Fiber","Wood Component",null,"n/a",0,"> 0",100,50,100,50,"Based on Wood furniture"]
["Interior Design & Furniture","Furniture Structure or Accessories","Wood or Fiber","Particleboard or Fiberboard Component","Wood Composite","n/a","> 0",50,100,0,100,"> 0","Renewable content counts half as much as recycled content towards meeting the required percentages (e.g., 100% renewable or 50% recycled achieves Silver level)."]
["Interior Design & Furniture","Furniture Structure or Accessories","Wood or Fiber","Particleboard or Fiberboard Component","Agricultural Fiber","n/a","> 0",40,100,0,100,"> 0"]
["Interior Design & Furniture","Furniture Structure or Accessories","Fabric or Upholstery/Textile","Plastic","n/a","n/a","*","*","*","*","*","*","*See Carpeting or Flooring in this section."]
["Interior Design & Furniture","Furniture Structure or Accessories","Plastic Furniture Component","Plastic","HDPE or others","n/a","> 0",47.5,95,95,100,100]
["Interior Design & Furniture","Furniture Structure or Accessories","Remanufactured or Refurbished Furniture","Various","n/a","n/a","> 0",25,75,"> 0",100,"> 0"]
["Interior Design & Furniture","Carpeting or Flooring","Face Fiber","Fibers/Yarns","PET or Polyester","n/a","> 0",25,100,25,100,100]
["Interior Design & Furniture","Carpeting or Flooring","Face Fiber","Fibers/Yarns","Polyamide 6","n/a",0,"> 0",40,"> 0",95,50,"Platinum based on market leader (Aquafil Econyl) in polyamide carpeting."]
["Interior Design & Furniture","Carpeting or Flooring","Face Fiber","Fibers/Yarns","Polyamide 6,6","n/a",0,"> 0","> 0","> 0",40,"> 0","Primary recycling methods have not scaled to the point of being able to incorporate cycled content."]
["Interior Design & Furniture","Carpeting or Flooring","Face Fiber","Fibers/Yarns","Polyamide 6,10","n/a","> 0",25,40,"> 0",60,"> 0","Based on bio-based PA 6,10"]
["Interior Design & Furniture","Carpeting or Flooring","Face Fiber","Fibers/Yarns","Polypropylene","n/a",0,"> 0",40,"> 0",95,50,"Based on polyamide."]
["Interior Design & Furniture","Carpeting or Flooring","Face Fiber","Fibers/Yarns","PLA","n/a",100,100,100,"-",100,"-","Assumed to be renewable."]
["Interior Design & Furniture","Carpeting or Flooring","Face Fiber","Fibers/Yarns","Wool","n/a",100,100,100,"> 0",100,"> 0","Biological fibers are assumed to be renewable."]
["Interior Design & Furniture","Carpeting or Flooring","Face Fiber","Fibers/Yarns","Other (fossil-based)","n/a","> 0 ",25,100,25,100,100,"Based on Polyester in this section."]
["Interior Design & Furniture","Carpeting or Flooring","Carpet Backing or Cushion","Carpet Backing","PVB","n/a",0,25,50,20,100,40]
["Interior Design & Furniture","Carpeting or Flooring","Carpet Backing or Cushion","Carpet Backing","Polyethylene","n/a",0,"> 0",20,"> 0",40,"> 0"]
["Interior Design & Furniture","Carpeting or Flooring","Carpet Backing or Cushion","Carpet Backing","Polyurethane Foam","n/a",0,"> 0",5,"> 0",7.5,"> 0"]
["Interior Design & Furniture","Carpeting or Flooring","Carpet Backing or Cushion","Carpet Backing","Jute Burlap","n/a",100,100,100,"> 0",100,"> 0","Assumed to be renewable."]
["Interior Design & Furniture","Carpeting or Flooring","Carpet Backing or Cushion","Carpet Backing","Rubber","n/a","> 0",30,75,"> 0",100,"> 0"]
["Interior Design & Furniture","Carpeting or Flooring","Carpet Backing or Cushion","Carpet Backing","Polypropylene","n/a",0,"> 0",40,"> 0",95,50,"Based on Polypropylene Face Fiber."]
["Interior Design & Furniture","Carpeting or Flooring","Carpet Backing or Cushion","Carpet Backing","PET or Polyester","n/a",0,"> 0",40,"> 0",95,50,"Based on Polypropylene Carpet Backing."]
["Interior Design & Furniture","Carpeting or Flooring","Carpet Backing or Cushion","Carpet Backing","Synthetic Latex Polymer","n/a",0,"> 0",20,"> 0",40,"> 0","Based on Polyethylene in this section."]
["Interior Design & Furniture","Carpeting or Flooring","Carpet Backing or Cushion","Carpet Backing","Other","n/a",0,"> 0",20,"> 0",40,"> 0","Based on Polyethylene in this section."]
["Interior Design & Furniture","Carpeting or Flooring","Carpet Backing or Cushion","Carpet Cushion","Mixed Synthetic Fiber","n/a",0,"> 0",40,"> 0",95,50,"Based on PET Carpet Backing."]
["Interior Design & Furniture","Carpeting or Flooring","Carpet Backing or Cushion","Carpet Cushion","Synthetic Fibers (Carpet Fabrication Scrap)","n/a",0,50,100,"> 0",100,"> 0"]
["Interior Design & Furniture","Carpeting or Flooring","Carpet Backing or Cushion","Carpet Cushion","Polyurethane Foam","n/a",0,"> 0",5,"> 0",7.5,"> 0","Based on percentages from Loose Fill Spray in Building Materials tab."]
["Interior Design & Furniture","Carpeting or Flooring","Carpet Backing or Cushion","Carpet Cushion","Bonded Polyurethane","n/a",0,15,50,"> 0",100,"> 0"]
["Interior Design & Furniture","Carpeting or Flooring","Carpet Backing or Cushion","Carpet Cushion","Other","n/a",0,"> 0",5,"> 0",7.5,"> 0","Based on Polyurethane Foam (commonly used material)."]
["Interior Design & Furniture","Carpeting or Flooring","Ceramic, Glass, Stone Tile","n/a","Porcelain","n/a",0,"> 0","> 0","> 0",50,"> 0"]
["Interior Design & Furniture","Carpeting or Flooring","Ceramic, Glass, Stone Tile","n/a","Terra Cotta Clay/Glass","n/a",0,"> 0","> 0","> 0",50,"> 0"]
["Interior Design & Furniture","Carpeting or Flooring","Ceramic, Glass, Stone Tile","n/a","Glass Cullet","n/a","> 0",50,100,"> 0",100,"> 0"]
["Interior Design & Furniture","Carpeting or Flooring","Ceramic, Glass, Stone Tile","n/a","Wall Tile","n/a","> 0","> 0","> 0","> 0","> 0","> 0"]
["Interior Design & Furniture","Carpeting or Flooring","Ceramic, Glass, Stone Tile","n/a","Salvaged Tile or Stone","n/a","> 0","> 0","> 0","> 0","> 0","> 0"]
["Interior Design & Furniture","Carpeting or Flooring","Resilient Flooring","n/a","PET or Polyester-based layer","n/a",0,"> 0",40,"> 0",95,50,"Based on carpet backing."]
["Interior Design & Furniture","Carpeting or Flooring","Resilient Flooring","n/a","Linoleum-based layer ","n/a",65,65,65,"N/A",97.5,"N/A"]
["Interior Design & Furniture","Carpeting or Flooring","Resilient Flooring","n/a","Rubber-based layer","n/a","> 0",30,75,"> 0",100,"> 0","Based on carpet backing."]
["Interior Design & Furniture","Carpeting or Flooring","Resilient Flooring","n/a","Other layer","n/a","0*","> 0*","40*","> 0*","95*","50*","*See carpet backing for other layer types. For material types not listed in carpet backing, use values at left (based on PET or polyester in this section)."]
["Interior Design & Furniture","Carpeting or Flooring","Wood Flooring","Hardwood or Laminate Flooring","Medium Density Fiberboard","n/a","> 0",50,85,"> 0",100,"> 0","Renewable content counts half as much as recycled content towards meeting the required percentages."]
["Interior Design & Furniture","Carpeting or Flooring","Wood Flooring","Hardwood or Laminate Flooring","High Density Fiberboard","n/a",0,"> 0",25,"> 0",50,"> 0","Renewable content counts half as much as recycled content towards meeting the required percentages."]
["Interior Design & Furniture","Carpeting or Flooring","Wood Flooring","Hardwood or Laminate Flooring","Decorative Paper Layer","n/a",0,"> 0","> 0","> 0","> 0","> 0"]
["Interior Design & Furniture","Carpeting or Flooring","Wood Flooring","Hardwood or Laminate Flooring","Plywood (layered wood)","n/a",0,"> 0",25,"> 0",50,"> 0","Based on HDF."]
["Interior Design & Furniture","Carpeting or Flooring","Wood Flooring","Hardwood or Laminate Flooring","Reclaimed Solid Wood","n/a","> 0",50,100,0,100,"> 0"]
["Interior Design & Furniture","Carpeting or Flooring","Wood Flooring","Hardwood or Laminate Flooring","Solid Wood","n/a",0,"> 0",25,"> 0",50,"> 0","Based on HDF."]
["Interior Design & Furniture","Ceiling Material","Ceiling Tile","n/a","Glass Wool","n/a","> 0",18,40.5,"> 0",76.5,76.5,"Applies to glass wool portion of product. Note that glass wool is referred to as glass fiber or fiberglass in some regions."]
["Interior Design & Furniture","Ceiling Material","Ceiling Tile","n/a","Stone Wool","n/a",0,10,30,"> 0",45,"> 0","Applies to the stone wool portion of product. See Building Materials tab, Insulation section, for slag wool."]
["Interior Design & Furniture","Ceiling Material","Ceiling Tile","n/a","Bio Fibers","n/a",0,"> 0",40,"-",60,"-"]
["Interior Design & Furniture","Ceiling Material","Ceiling Tile","n/a","Perlite","n/a",0,"> 0",5,5,10,10]
["Interior Design & Furniture","Ceiling Material","Ceiling Tile","n/a","Wood","n/a","> 0",50,100,"*",100,"*","See Wood Building Structures in Building Materials section."]
["Interior Design & Furniture","Ceiling Material","Ceiling Grid","n/a","Steel","n/a","> 0",25,67,67,100,100]
["Interior Design & Furniture","Ceiling Material","Ceiling Grid","n/a","Aluminum","n/a","> 0",40,67,67,100,100]
["Interior Design & Furniture","Wall Coverings","n/a","n/a","n/a","n/a","*","*","*","*","*","*","*See Furniture Structure or Accessories or Carpeting or Flooring in this section."]
["Interior Design & Furniture","Floor Coverings","n/a","n/a","n/a","n/a","*","*","*","*","*","*","*See Furniture Structure or Accessories or Carpeting or Flooring in this section."]
["Interior Design & Furniture","Luggage","n/a","n/a","n/a","n/a","*","*","*","*","*","*","*See Furniture Structure or Accessories or Carpeting or Flooring in this section."]
["Interior Design & Furniture","Appliances","n/a","n/a","n/a","n/a","*","*","*","*","*","*","*See Furniture Structure or Accessories or Carpeting or Flooring in this section."]
["Interior Design & Furniture","Surfaces","n/a","n/a","n/a","n/a","*","*","*","*","*","*","*See Furniture Structure or Accessories or Carpeting or Flooring in this section."]
["Building Materials","Thermal Insulation","Foam Board or Rigid Foam","Rigid Foam (Plastic)","Various (EPS, others)","n/a",0,"> 0",9,0,13.5,"> 0"]
["Building Materials","Thermal Insulation","Foam Board or Rigid Foam","Phenolic Rigid Foam (Plastic)","Various","n/a",0,"> 0",5,0,7.5,"> 0"]
["Building Materials","Thermal Insulation","Foam Board or Rigid Foam","Perlite Composite Board","Perlite Aggregate","n/a",0,"> 0",23,23,34.5,46]
["Building Materials","Thermal Insulation","Foam Board or Rigid Foam","Glass Fiber Reinforced (Plastic and Glass)","Plastic and Glass","n/a",0,"> 0",6,0,9,"> 0"]
["Building Materials","Thermal Insulation","Foam Board or Rigid Foam","Other","Glass Wool","n/a","> 0",20,45,"> 0",85,"> 0","Applies to the glass wool portion of product. Note that glass wool is referred to as glass fiber or fiberglass in some regions. See Loose-Fill and Batt section for Stone Wool and Slag Wool required percentages."]
["Building Materials","Thermal Insulation","Foam Board or Rigid Foam","Other","Polyisocyanurate and Polyurethane","n/a",0,"> 0",5,0,7.5,"> 0"]
["Building Materials","Thermal Insulation","Loose-Fill/Spray Applied Insulation","n/a","Cellulose","n/a",0,"> 0",80,75,100,100]
["Building Materials","Thermal Insulation","Loose-Fill/Spray Applied Insulation","n/a","Glass Wool","n/a","> 0",20,45,"> 0",85,"> 0"]
["Building Materials","Thermal Insulation","Loose-Fill/Spray Applied Insulation","n/a","Stone Wool","n/a",0,10,30,"> 0",45,"> 0"]
["Building Materials","Thermal Insulation","Loose-Fill/Spray Applied Insulation","n/a","Slag Wool","n/a","> 0",35,70,"> 0",75,"> 0"]
["Building Materials","Thermal Insulation","Loose-Fill/Spray Applied Insulation","n/a","Polyurethane Foam","n/a",0,"> 0",5,"> 0",7.5,"> 0"]
["Building Materials","Thermal Insulation","Batt or Blanket Type Insulation","n/a","Glass Wool","n/a","> 0",20,45,"> 0",85,"> 0"]
["Building Materials","Thermal Insulation","Batt or Blanket Type Insulation","n/a","Stone Wool","n/a",0,10,30,"> 0",45,"> 0"]
["Building Materials","Thermal Insulation","Batt or Blanket Type Insulation","n/a","Slag Wool","n/a","> 0",35,70,"> 0",75,"> 0"]
["Building Materials","Thermal Insulation","Batt or Blanket Type Insulation","n/a","Aluminum Reflective Insulation","n/a",0,"> 0",15,"> 0",22.5,"> 0"]
["Building Materials","Thermal Insulation","Batt or Blanket Type Insulation","Plastic, Non-Woven Batt","n/a","n/a",0,"> 0",100,"> 0",100,"> 0"]
["Building Materials","Adhesives","n/a","n/a","n/a","n/a",0,0,"> 0",0,20,"> 0"]
["Building Materials","Coatings and Finishes","n/a","Non-Metal","Various","n/a",0,"> 0",20,"N/A",30,"N/A"]
["Building Materials","Coatings and Finishes","n/a","Metal","Various","n/a",0,"> 0",5,0,"> 5","> 0"]
["Building Materials","Paint","White, Off-white Pastel Colors","n/a","n/a","n/a",0,"> 0",20,20,30,30]
["Building Materials","Paint","Grey, Brown, Earth Tones, Other Dark Colors","n/a","n/a","n/a","> 0",50,99,99,100,100]
["Building Materials","Paint","Consolidated Latex Paint","n/a","n/a","n/a","> 0",50,100,100,100,100]
["Building Materials","Building Structure","Structural Foundation, Flowable Fill, or Building Blocks, Patio Blocks, Modular Threshold Ramps","Cementitious Material","Silica Fume","n/a",0,"> 0",10,0,10,0]
["Building Materials","Building Structure","Structural Foundation, Flowable Fill, or Building Blocks, Patio Blocks, Modular Threshold Ramps","Cementitious Material","Coal Fly Ash","n/a",0,20,40,0,40,0]
["Building Materials","Building Structure","Structural Foundation, Flowable Fill, or Building Blocks, Patio Blocks, Modular Threshold Ramps","Cementitious Material","GGBF Slag","n/a",0,35,70,0,70,0]
["Building Materials","Building Structure","Structural Foundation, Flowable Fill, or Building Blocks, Patio Blocks, Modular Threshold Ramps","Cementitious Material","Other","n/a",0,"> 0",10,0,10,0,"Based on Silica Fume in this section."]
["Building Materials","Building Structure","Structural Foundation, Flowable Fill, or Building Blocks, Patio Blocks, Modular Threshold Ramps","Concrete Aggregate","Total Recycled Material","n/a",0,"> 0",20,0,30,0]
["Building Materials","Building Structure","Structural Foundation, Flowable Fill, or Building Blocks, Patio Blocks, Modular Threshold Ramps","Concrete Aggregate","Cenospheres","n/a",0,"> 0",20,0,30,0]
["Building Materials","Building Structure","Structural Foundation, Flowable Fill, or Building Blocks, Patio Blocks, Modular Threshold Ramps","Concrete Aggregate","Crushed Concrete","n/a",0,"> 0",30,0,45,0]
["Building Materials","Building Structure","Structural Foundation, Flowable Fill, or Building Blocks, Patio Blocks, Modular Threshold Ramps","Concrete Aggregate","Air-Cooled Slag","n/a","> 0",50,100,0,100,0]
["Building Materials","Building Structure","Structural Foundation, Flowable Fill, or Building Blocks, Patio Blocks, Modular Threshold Ramps","Concrete Aggregate","Glass","n/a",0,"> 0",10,0,100,0]
["Building Materials","Building Structure","Structural Foundation, Flowable Fill, or Building Blocks, Patio Blocks, Modular Threshold Ramps","Rubber","Rubber","n/a",0,50,100,100,100,100]
["Building Materials","Building Structure","Structural Foundation, Flowable Fill, or Building Blocks, Patio Blocks, Modular Threshold Ramps","Metal","Aluminum","n/a",0,5,100,67,100,67]
["Building Materials","Building Structure","Structural Foundation, Flowable Fill, or Building Blocks, Patio Blocks, Modular Threshold Ramps","Metal","Steel","n/a","> 0",25,100,67,100,67]
["Building Materials","Building Structure","Structural Foundation, Flowable Fill, or Building Blocks, Patio Blocks, Modular Threshold Ramps","Plastic ","n/a","n/a","> 0",50,100,"> 0",100,"> 0"]
["Building Materials","Building Structure","Structural Foundation, Flowable Fill, or Building Blocks, Patio Blocks, Modular Threshold Ramps","Clay","n/a","n/a",0,"> 0",25,0,100,0]
["Building Materials","Building Structure","Gypsum Drywall","n/a","n/a","n/a",0,"> 0",30,"> 0",45,"> 0","Note: DSG (desulphogypsum) does not meet the definition of pre-consumer recycled content per the standard definitions section."]
["Building Materials","Building Structure","Wood Building Structures","Engineered Wood","Particleboard or Oriented Strand Board","n/a","> 0",50,90,"> 0",90,"> 0","Renewable content counts half as much as recycled content towards meeting the required percentages. "]
["Building Materials","Building Structure","Wood Building Structures","Engineered Wood","Medium Density Fiberboard","n/a","> 0",50,85,"> 0",100,"> 0"]
["Building Materials","Building Structure","Wood Building Structures","Engineered Wood","High Density Fiberboard","n/a",0,"> 0",25,"> 0",50,"> 0"]
["Building Materials","Building Structure","Wood Building Structures","Engineered Wood","Plywood (layered wood)","n/a","> 0",50,100,0,100,"> 0"]
["Building Materials","Building Structure","Wood Building Structures","Solid Wood",null,"n/a","> 0",50,100,0,100,"> 0"]
["Building Materials","Building Structure","Wood Building Structures","Engineered, Laminated Wood","Plywood","n/a","> 0",50,100,100,100,100]
["Building Materials","Building Structure","Wood Building Structures","Composite Wood Products","Wood/Plastic","n/a","> 0",50,100,0,100,"> 0"]
["Building Materials","Building Structure","Wood Building Structures","Composite Wood Products","Wood Fiber/Cement","n/a","> 0",25,50,0,100,"> 0","Renewable content counts half as much as recycled content towards meeting the required percentages. "]
["Building Materials","Roofing Materials","n/a","Metal","Steel","n/a","> 0",50,100,67,100,100]
["Building Materials","Roofing Materials","n/a","Metal","Aluminum","n/a","> 0",20,100,67,100,100]
["Building Materials","Roofing Materials","n/a","Fiber","Fiber (Felt) Composite","n/a","> 0",25,50,50,100,100]
["Building Materials","Roofing Materials","n/a","Rubber","Tire Rubber","n/a","> 0",50,100,12,100,100]
["Building Materials","Roofing Materials","n/a","Plastic/Rubber Composite or Plastic","n/a","n/a","> 0",50,100,100,100,100]
["Building Materials","Roofing Materials","n/a","Wood","n/a","n/a","*","*","*","*","*","*","*See Wood Building Structures in this section."]
["Building Materials","Roofing Materials","n/a","Wood/Plastic Composite","n/a","n/a","> 0",50,100,0,100,"> 0"]
["Building Materials","Roofing Materials","n/a","Cement or Concrete ","n/a","n/a","*","*","*","*","*","*","*See Building Structure in this section."]
["Building Materials","Piping","n/a","Metal","Steel","n/a","> 0",50,100,67,100,100]
["Building Materials","Piping","n/a","Plastic","HDPE","n/a","> 0",50,100,100,100,100]
["Building Materials","Piping","n/a","Cement or Concrete Aggregate","n/a","n/a","*","*","*","*","*","*","*See Building Structure in this section."]
["Building Materials","Building Exterior ","Architectural Glass","n/a","n/a","n/a",0,"> 0",20,"> 0",40,"> 0"]
["Building Materials","Building Exterior ","Other","n/a","n/a","n/a","*","*","*","*","*","*","*See Building Structure in this section."]
["Building Materials","Electrical, Heating or Cooling Ventilation, and Transportation Elements","n/a","n/a","n/a","n/a","*","*","*","*","*","*","*See Building Structure in this section."]
["Home & Office Supply","Recycling Containers and Waste Receptacles","n/a","Plastic","n/a","n/a","> 0",20,100,100,100,100]
["Home & Office Supply","Recycling Containers and Waste Receptacles","n/a","Steel","n/a","n/a","> 0",25,30,16,45,24]
["Home & Office Supply","Recycling Containers and Waste Receptacles","n/a","Paper","Corrugated","n/a","> 0",25,100,80,100,100,"Renewable content counts half as much as recycled content towards meeting the required percentages."]
["Home & Office Supply","Recycling Containers and Waste Receptacles","n/a","Paper","Solid Fiber","n/a","> 0",20,100,80,100,100,"Renewable content counts half as much as recycled content towards meeting the required percentages."]
["Home & Office Supply","Recycling Containers and Waste Receptacles","n/a","Paper","Industrial Paperboard","n/a","> 0",50,100,80,100,100,"Renewable content counts half as much as recycled content towards meeting the required percentages."]
["Home & Office Supply","Desktop Accessories - Desk Organizers, Sorters, Trays, Memo Notes, Pencil Holders","n/a","Plastic","n/a","n/a","> 0",25,80,80,100,100]
["Home & Office Supply","Binders","n/a","Plastic Covered","n/a","n/a","> 0",25,50,"> 0",75,"> 0"]
["Home & Office Supply","Binders","n/a","Paper Covered","n/a","n/a","> 0",75,90,75,100,100]
["Home & Office Supply","Binders","n/a","Pressboard","n/a","n/a","> 0",20,50,20,100,40]
["Home & Office Supply","Binders","n/a","Solid Plastic","HDPE","n/a","> 0",50,100,80,100,100]
["Home & Office Supply","Binders","n/a","Solid Plastic","PE","n/a","> 0",30,100,80,100,100]
["Home & Office Supply","Binders","n/a","Solid Plastic","PET","n/a","> 0",50,100,80,100,100]
["Home & Office Supply","Binders","n/a","Solid Plastic","Other","n/a","> 0",30,100,80,100,100]
["Home & Office Supply","Plastic Envelopes","n/a","Plastic","n/a","n/a","> 0",25,30,25,45,37.5]
["Home & Office Supply","Plastic Clipboards","n/a","Plastic","HDPE","n/a","> 0",45,90,90,100,100]
["Home & Office Supply","Plastic Clipboards","n/a","Plastic","Polystyrene","n/a","> 0",25,90,90,100,100]
["Home & Office Supply","Plastic Clipboards","n/a","Plastic","Other","n/a","> 0",15,90,90,100,100]
["Home & Office Supply","Plastic File or Presentation Folders","n/a","Plastic","HDPE","n/a","> 0",45,90,90,100,100]
["Home & Office Supply","Plastic Clip Portfolios","n/a","Plastic","HDPE","n/a","> 0",45,90,90,100,100]
["Home & Office Supply","Reprographic, Offset, Tablet, Envelope, Cotton Fiber, Text and Cover, Papeteries, Carbonless, File Folders","n/a","n/a","Paper","n/a","> 0",15,30,30,45,45,"Renewable content counts half as much as recycled content towards meeting the required percentages."]
["Home & Office Supply","Envelope","Woven","n/a","PE","n/a","> 0",15,20,20,50,30]
["Home & Office Supply","Envelope","Woven","n/a","PET or Other Polyester","n/a","> 0",5,20,20,50,30]
["Home & Office Supply","Envelope","Woven","n/a","Polyamide","n/a","> 0",5,20,20,50,30]
["Home & Office Supply","Newsprint","n/a","n/a","Paper","n/a","> 0",20,100,85,100,100,"Renewable content counts half as much as recycled content towards meeting the required percentages."]
["Home & Office Supply","Commercial Sanitary Tissue Products","Bathroom Tissue","n/a","Cellulosic Fiber/Paper","n/a",0,20,100,75,100,90,"Renewable content counts half as much as recycled content towards meeting the required percentages."]
["Home & Office Supply","Commercial Sanitary Tissue Products","Facial Tissue","n/a","Cellulosic Fiber/Paper","n/a",0,10,100,15,100,22.5,"Renewable content counts half as much as recycled content towards meeting the required percentages."]
["Home & Office Supply","Commercial Sanitary Tissue Products","Paper Towels","n/a","Cellulosic Fiber/Paper","n/a",0,40,100,60,100,80,"Renewable content counts half as much as recycled content towards meeting the required percentages."]
["Home & Office Supply","Commercial Sanitary Tissue Products","Paper Napkins","n/a","Cellulosic Fiber/Paper","n/a",0,30,100,60,100,80,"Renewable content counts half as much as recycled content towards meeting the required percentages."]
["Home & Office Supply","Commercial Sanitary Tissue Products","Industrial Wipers","n/a","Cellulosic Fiber/Paper","n/a",0,40,100,40,100,60,"Renewable content counts half as much as recycled content towards meeting the required percentages."]
["Apparel","Raw Material, Fabrics, Yarns, or Threads","Synthetic Fibers","Petroleum-Based","Polypropylene","n/a",">0",35,100,70,100,100,"Based on the Carpet Backing sub-product category in the Interior Design & Furniture section."]
["Apparel","Raw Material, Fabrics, Yarns, or Threads","Synthetic Fibers","Petroleum-Based","Polyethylene","n/a",0,"> 0",20,"> 0",30,"> 0","Based on the Carpet Backing sub-product category in the Interior Design & Furniture section."]
["Apparel","Raw Material, Fabrics, Yarns, or Threads","Synthetic Fibers","Petroleum-Based","Polyester","n/a","> 0",25,50,50,100,100,"Based on the Carpet Backing sub-product category in the Interior Design & Furniture section."]
["Apparel","Raw Material, Fabrics, Yarns, or Threads","Synthetic Fibers","Petroleum-Based","Polyamide","n/a",0,"> 0",40,"> 0",60,"> 0","Based on the Carpet Backing sub-product category in the Interior Design & Furniture section."]
["Apparel","Raw Material, Fabrics, Yarns, or Threads","Synthetic Fibers","Petroleum-Based","Elastane","n/a",0,"> 0",50,"> 0",75,"> 0","Based on the Carpet Backing sub-product category in the Interior Design & Furniture section."]
["Apparel","Raw Material, Fabrics, Yarns, or Threads","Synthetic Fibers","Petroleum-Based","Other","n/a",">0","> 0",20,"> 0",30,"> 0","Based on Polyethylene."]
["Apparel","Raw Material, Fabrics, Yarns, or Threads","Synthetic Fibers","Bio-Based","PLA","n/a",100,100,100,"N/A",100,"N/A","Based on biobased minimum required percentages by weight from source. Content is assumed to be renewable."]
["Apparel","Raw Material, Fabrics, Yarns, or Threads","Synthetic Fibers","Bio-Based","PHA","n/a",100,100,100,"N/A",100,"N/A","Based on biobased minimum required percentages by weight from source. Content is assumed to be renewable."]
["Apparel","Raw Material, Fabrics, Yarns, or Threads","Biological (Natural) Fibers and Other Natural Materials","n/a","General Natural Fiber or Material ","n/a",100,100,100,"N/A",100,"N/A","Biological fibers are assumed to be renewable."]
["Apparel","Raw Material, Fabrics, Yarns, or Threads","Biological (Natural) Fibers and Other Natural Materials","n/a","Silk","n/a",100,100,100,"N/A",100,"N/A","Biological fibers are assumed to be renewable."]
["Apparel","Raw Material, Fabrics, Yarns, or Threads","Biological (Natural) Fibers and Other Natural Materials","n/a","Casein","n/a",100,100,100,"N/A",100,"N/A","Biological fibers are assumed to be renewable."]
["Apparel","Raw Material, Fabrics, Yarns, or Threads","Biological (Natural) Fibers and Other Natural Materials","n/a","Wool","n/a",100,100,100,"N/A",100,"N/A","Biological fibers are assumed to be renewable."]
["Apparel","Raw Material, Fabrics, Yarns, or Threads","Biological (Natural) Fibers and Other Natural Materials","n/a","Linen (Flax), Hemp & Other Bast Fibers","n/a",100,100,100,"N/A",100,"N/A","Biological fibers are assumed to be renewable."]
["Apparel","Raw Material, Fabrics, Yarns, or Threads","Biological (Natural) Fibers and Other Natural Materials","n/a","Wheat","n/a",100,100,100,"N/A",100,"N/A","Biological fibers are assumed to be renewable."]
["Apparel","Raw Material, Fabrics, Yarns, or Threads","Biological (Natural) Fibers and Other Natural Materials","n/a","Cotton","n/a",100,100,100,"N/A",100,"N/A","Biological fibers are assumed to be renewable."]
["Apparel","Raw Material, Fabrics, Yarns, or Threads","Biological (Natural) Fibers and Other Natural Materials","n/a","Leather","n/a",100,100,100,"N/A",100,"N/A","Biological fibers are assumed to be renewable."]
["Apparel","Raw Material, Fabrics, Yarns, or Threads","Biological (Natural) Fibers and Other Natural Materials","n/a","Viscose","n/a",100,100,100,"N/A",100,"N/A","Biological fibers are assumed to be renewable."]
["Apparel","Raw Material, Fabrics, Yarns, or Threads","Biological (Natural) Fibers and Other Natural Materials","n/a","Modal","n/a",100,100,100,"N/A",100,"N/A","Biological fibers are assumed to be renewable."]
["Apparel","Raw Material, Fabrics, Yarns, or Threads","Biological (Natural) Fibers and Other Natural Materials","n/a","Cellulosic Yarn","n/a",100,100,100,"N/A",100,"N/A","Biological fibers are assumed to be renewable."]
["Apparel","Raw Material, Fabrics, Yarns, or Threads","Biological (Natural) Fibers and Other Natural Materials","n/a","Lyocell","n/a",100,100,100,"N/A",100,"N/A","Biological fibers are assumed to be renewable."]
["Apparel","Raw Material, Fabrics, Yarns, or Threads","Biological (Natural) Fibers and Other Natural Materials","n/a","Plant-Based Alternative to Leather","n/a",100,100,100,"N/A",100,"N/A","Biological fibers are assumed to be renewable."]
["Apparel","Fasteners","Buttons","Plastics","n/a","n/a","*","*","*","*","*","*","*See Plastics in Other Products tab."]
["Apparel","Fasteners","Hooks, Clasps, Rivets and Snaps","Zinc","Zinc","n/a",0,"> 0",75,67,100,100]
["Apparel","Fasteners","Hooks, Clasps, Rivets and Snaps","Steel","Steel","n/a",0,25,75,67,100,100,"Based on Furniture Structure in the Building Materials section."]
["Apparel","Fasteners","Hooks, Clasps, Rivets and Snaps","Stainless Steel","Stainless Steel","n/a",0,25,75,67,100,100,"Based on Furniture Structure in the Building Materials section."]
["Apparel","Fasteners","Velcro","Polyamide","Polyamide 6","n/a",0,"> 0",40,"> 0",60,"> 0"]
["Apparel","Fasteners","Velcro","Polyamide","Polyamide 6,6","n/a",0,"> 0","> 0","> 0",40,"> 0"]
["Apparel","Fasteners","Zippers","n/a","Polyamide","n/a",0,"> 0",40,"> 0",80,"> 0"]
["Apparel","Fasteners","Zippers","n/a","Polyamide 6,6","n/a",0,"> 0","> 0","> 0",40,"> 0"]
["Apparel","Fasteners","Zippers","n/a","Polyester","n/a",0,"> 0",100,100,100,100]
["Apparel","Fasteners","Zippers","n/a","Metals","n/a","*","*","*","*","*","*","*See Metals in Other Products tab."]
["Apparel","Towels and Linens","n/a","n/a","n/a","n/a","*","*","*","*","*","*","*See Raw Material, Fabrics, Yarns, or Threads."]
["Apparel","Bedding","n/a","n/a","n/a","n/a","*","*","*","*","*","*","*See Raw Material, Fabrics, Yarns or Threads."]
["Packaging & Single Use Products","Liquid, Food, or Medicine Containers","Petroleum Plastic Bottles for Liquid or Medicine (Drinks, Household Care & Laundry, Personal Care Products, and Over-the-Counter Pharmaceuticals)","Petroleum Plastic","PET ","n/a","> 0",25,100,75,100,100]
["Packaging & Single Use Products","Liquid, Food, or Medicine Containers","Petroleum Plastic Bottles for Liquid or Medicine (Drinks, Household Care & Laundry, Personal Care Products, and Over-the-Counter Pharmaceuticals)","Petroleum Plastic","HDPE","n/a","> 0",25,100,75,100,100]
["Packaging & Single Use Products","Liquid, Food, or Medicine Containers","Petroleum Plastic Bottles for Liquid or Medicine (Drinks, Household Care & Laundry, Personal Care Products, and Over-the-Counter Pharmaceuticals)","Petroleum Plastic","LDPE ","n/a",">0",10,100,75,100,100]
["Packaging & Single Use Products","Liquid, Food, or Medicine Containers","Petroleum Plastic Bottles for Liquid or Medicine (Drinks, Household Care & Laundry, Personal Care Products, and Over-the-Counter Pharmaceuticals)","Petroleum Plastic","PP ","n/a","> 0",12.5,100,75,100,100]
["Packaging & Single Use Products","Liquid, Food, or Medicine Containers","Petroleum Plastic Bottles for Liquid or Medicine (Drinks, Household Care & Laundry, Personal Care Products, and Over-the-Counter Pharmaceuticals)","Petroleum Plastic","Other","n/a","> 0",25,100,75,100,100,"Based on PET Bottles."]
["Packaging & Single Use Products","Liquid, Food, or Medicine Containers","Bioplastic Bottles","Bioplastics","PLA","n/a",100,100,100,"N/A",100,"N/A","Bioplastics are assumed to be 100 % renewable."]
["Packaging & Single Use Products","Liquid, Food, or Medicine Containers","Bioplastic Bottles","Bioplastics","PHA","n/a",100,100,100,"N/A",100,"N/A","Bioplastics are assumed to be 100 % renewable."]
["Packaging & Single Use Products","Liquid, Food, or Medicine Containers","Bioplastic Bottles","Bioplastics","Other","n/a",100,100,100,"N/A",100,"N/A"]
["Packaging & Single Use Products","Liquid, Food, or Medicine Containers","Food Tubs or Dairy Containers","Petroleum Plastic","HDPE Tubs","n/a",0,"> 0",100,0,100,"> 0"]
["Packaging & Single Use Products","Liquid, Food, or Medicine Containers","Food Tubs or Dairy Containers","Petroleum Plastic","Injection Mold PP Tubs","n/a",0,0,100,0,100,"> 0"]
["Packaging & Single Use Products","Liquid, Food, or Medicine Containers","Food Tubs or Dairy Containers","Petroleum Plastic","Thermoformed PP Tubs","n/a",0,0,100,0,100,"> 0"]
["Packaging & Single Use Products","Liquid, Food, or Medicine Containers","Food Tubs or Dairy Containers","Petroleum Plastic","Other","n/a",0,"> 0",100,0,100,"> 0","Based on HDPE tubs."]
["Packaging & Single Use Products","Liquid, Food, or Medicine Containers","Beverage/Food Cans","Metal","Aluminum","n/a",">0",70,100,80,100,90]
["Packaging & Single Use Products","Liquid, Food, or Medicine Containers","Beverage/Food Cans","Metal","Steel","n/a",16,25,100,80,100,90]
["Packaging & Single Use Products","Liquid, Food, or Medicine Containers","Beverage/Food Cans","Metal","Ferrous Steel","n/a",16,25,100,80,100,90]
["Packaging & Single Use Products","Liquid, Food, or Medicine Containers","Beverage/Food Cans","Metal","\"Tin\" Cans","n/a",16,25,100,80,100,90]
["Packaging & Single Use Products","Liquid, Food, or Medicine Containers","Beverage/Food Cans","Metal","Other","n/a",">0",70,100,80,100,90,"Based on Aluminum Cans in this section."]
["Packaging & Single Use Products","Liquid, Food, or Medicine Containers","Aerosol or Spray Paint Cans","Metal","Aluminum","n/a",">0",25,50,30,70,50]
["Packaging & Single Use Products","Liquid, Food, or Medicine Containers","Aerosol or Spray Paint Cans","Metal","Steel","n/a",16,25,30,18,35,18]
["Packaging & Single Use Products","Liquid, Food, or Medicine Containers","Aerosol or Spray Paint Cans","Metal","Other","n/a",">0",25,50,30,70,50,"Based on Aluminum Cans in this section."]
["Packaging & Single Use Products","Liquid, Food, or Medicine Containers","Glass Bottles","Glass","Clear (or Flint) Glass","n/a","> 0",25,37.5,10,52,15]
["Packaging & Single Use Products","Liquid, Food, or Medicine Containers","Glass Bottles","Glass","Colored (Brown, Amber, Green) or Mixed Glass","n/a",0,12.5,37.5,10,52,15]
["Packaging & Single Use Products","Liquid, Food, or Medicine Containers","Glass Bottles","Glass","Other","n/a",0,12.5,37.5,10,52,15]
["Packaging & Single Use Products","Liquid, Food, or Medicine Containers","Pizza Box","Paper","n/a","n/a","> 0 ",43,65,"> 0",97,"> 0","Renewable content counts half as much as recycled content toward meeting the required percentages. "]
["Packaging & Single Use Products","Liquid, Food, or Medicine Containers","Microwave Popcorn Bag","Paper","n/a","n/a",0,0,"> 0","> 0",10,"> 0","Renewable content counts half as much as recycled content toward meeting the required percentages. "]
["Packaging & Single Use Products","Liquid, Food, or Medicine Containers","Flour Bag","Paper","n/a","n/a",0,0,"> 0",0,25,"> 0","Renewable content counts half as much as recycled content toward meeting the required percentages. "]
["Packaging & Single Use Products","Liquid, Food, or Medicine Containers","Coffee Canister","Paper","n/a","n/a","> 0",40,50,"> 0",60,"> 0","Renewable content counts half as much as recycled content toward meeting the required percentages. "]
["Packaging & Single Use Products","Liquid, Food, or Medicine Containers","Cereal or Other Food Boxes","Paper","n/a","n/a","> 0",90,100,"> 0",100,"> 0","Renewable content counts half as much as recycled content toward meeting the required percentages. "]
["Packaging & Single Use Products","Bags","Grocery Bag","Non-bioplastic","HDPE","n/a",">0",25,100,40,100,50,"Note: Some plastic bags are ineligible for certification."]
["Packaging & Single Use Products","Bags","Grocery Bag","n/a","LDPE < 1mm","n/a",">0",10,100,20,100,40,"Note: Some plastic bags are ineligible for certification."]
["Packaging & Single Use Products","Bags","Grocery Bag","n/a","LDPE > 1mm","n/a",">0",25,100,50,100,75,"Note: Some plastic bags are ineligible for certification."]
["Packaging & Single Use Products","Bags","Grocery Bag","n/a","Other","n/a","> 0",50,100,40,100,50,"Note: Some plastic bags are ineligible for certification."]
["Packaging & Single Use Products","Bags","Grocery Bag","Bioplastics","PLA, TPS, or PHA (or others)","n/a",100,100,100,"N/A",100,"N/A","Bioplastics are assumed to be 100 % renewable. Note: Some plastic bags are ineligible for certification."]
["Packaging & Single Use Products","Bags","Grocery Bag","Paper","n/a","n/a","> 0",90,100,75,100,100,"Renewable content counts half as much as recycled content toward meeting the required percentages. "]
["Packaging & Single Use Products","Bags","Shopping Bag","Plastic","n/a","n/a","*","*","*",20,"*",30,"*See Plastics in Other Products section. Note: Some plastic bags are ineligible for certification."]
["Packaging & Single Use Products","Bags","Shopping Bag","Paper","n/a","n/a","> 0",50,100,75,100,100,"Renewable content counts half as much as recycled content toward meeting the required percentages. "]
["Packaging & Single Use Products","Bags","Takeout Bag","Paper","n/a","n/a","> 0",50,100,75,100,100]
["Packaging & Single Use Products","Bags","Lawn Bags","Petroleum Plastic","General Plastic","n/a","*","*","*","*","*","*","*Based on biobased minimum required percentages by weight from source. Content is assumed to be renewable. Note: Some plastic bags are ineligible for certification."]
["Packaging & Single Use Products","Bags","Lawn Bags","Petroleum Plastic","HDPE","n/a","*","*","*","*","*","*","*Based on biobased minimum required percentages by weight from source. Content is assumed to be renewable. Note: Some plastic bags are ineligible for certification."]
["Packaging & Single Use Products","Bags","Lawn Bags","Bioplastics","PLA, TPS, or PHA (or others)","n/a",100,100,100,"N/A",100,"N/A","Bioplastics are assumed to be 100 % renewable. See note in the line above regarding eligibility."]
["Packaging & Single Use Products","Bags","Industrial Shipping Sack","General Plastic","n/a","n/a",0,"> 0",25,5,37.5,7.5,"Note: Some plastic bags are ineligible for certification."]
["Packaging & Single Use Products","Bags","Industrial Shipping Sack","Bioplastics","PLA, TPS, or PHA (or others)","n/a",100,100,100,"N/A",100,"N/A","Bioplastics are assumed to be 100 % renewable. See note in the line above regarding eligibility."]
["Packaging & Single Use Products","Serviceware","Cutlery, Cups, Plates, Straws","Paper","Paper","n/a",">0",25,50,">0",75,">0","Renewable content counts half as much as recycled content toward meeting the required percentages. "]
["Packaging & Single Use Products","Expanded Packaging Foam","Loose Fill, Cooler Packaging, or Formed Padded Packaging","Petroleum Plastic","n/a","n/a",">0",50,100,50,100,100]
["Packaging & Single Use Products","Expanded Packaging Foam","Loose Fill, Cooler Packaging, or Formed Padded Packaging","Bioplastics","TPS, PLA, PHA, or other","n/a",100,100,100,"-",100,"-"]
["Packaging & Single Use Products","Expanded Packaging Foam","Clamshell Containers","Petroleum Plastic","General (PET, PP, others*)","n/a",">0",25,80,80,100,100,"*Note: Polystyrene food containers are not eligible for certification."]
["Packaging & Single Use Products","Expanded Packaging Foam","Clamshell Containers","Paper","Pulp/Fiber","n/a",">0",25,50,">0",75,">0","Renewable content counts half as much as recycled content toward meeting the required percentages. "]
["Packaging & Single Use Products","Expanded Packaging Foam","Clamshell Containers","Bioplastics","PLA, TPS, or PHA (or others)","n/a",100,100,100,"N/A",100,"N/A","Bioplastics are assumed to be 100% renewable."]
["Packaging & Single Use Products","Expanded Packaging Foam","Meat Trays or Single-Use Hot Cups","Petroleum Plastic","General (PET, PP, others*)","n/a","> 0",25,100,50,100,100,"*Note: Polystyrene cups are not eligible for certification."]
["Packaging & Single Use Products","Expanded Packaging Foam","Meat Trays or Single-Use Hot Cups","Bioplastics","PLA, TPS, or PHA (or others)","n/a",100,100,100,"N/A",100,"N/A","Bioplastics are assumed to be 100% renewable."]
["Packaging & Single Use Products","Expanded Packaging Foam","Meat Trays or Single-Use Hot Cups","Paper","Molded Fiber","n/a",">0",25,50,">0",75,">0"]
["Packaging & Single Use Products","Non-Food Product Packaging","Corrugated or Container Board Packaging","n/a","Paperboard < 300 psi","n/a","> 0",48,75,50,100,75,"Renewable content counts half as much as recycled content toward meeting the required percentages. "]
["Packaging & Single Use Products","Non-Food Product Packaging","Corrugated or Container Board Packaging","n/a","Paperboard 300 psi","n/a","> 0",48,100,30,100,60,"Renewable content counts half as much as recycled content toward meeting the required percentages. "]
["Packaging & Single Use Products","Non-Food Product Packaging","Blister Packs","n/a","PET","n/a",">0",25,100,80,100,100]
["Packaging & Single Use Products","Non-Food Product Packaging","Blister Packs","n/a","Other","n/a",">0",25,100,50,100,100,"Based on PET Blister Packs."]
["Packaging & Single Use Products","Non-Food Product Packaging","Solid Fiber Boxes","n/a","Paperboard","n/a","> 0",50,80,40,100,60,"Renewable content counts half as much as recycled content toward meeting the required percentages (For example: 100% renewable or 50% recycled achieves Silver level for book covers)."]
["Packaging & Single Use Products","Non-Food Product Packaging","Folding Cartons","n/a","n/a","n/a","> 0",50,100,80,100,100,"Renewable content counts half as much as recycled content toward meeting the required percentages (For example: 100% renewable or 50% recycled achieves Silver level for book covers)."]
["Packaging & Single Use Products","Non-Food Product Packaging","Industrial Paperboard","n/a","n/a","n/a","> 0",45,100,100,100,100,"Renewable content counts half as much as recycled content toward meeting the required percentages (For example: 100% renewable or 50% recycled achieves Silver level for book covers)."]
["Packaging & Single Use Products","Non-Food Product Packaging","Book Covers, Gameboards, etc.","n/a","n/a","n/a","> 0",50,100,100,100,100,"Renewable content counts half as much as recycled content toward meeting the required percentages (For example: 100% renewable or 50% recycled achieves Silver level for book covers)."]
["Packaging & Single Use Products","Non-Food Product Packaging","Brown Papers","n/a","n/a","n/a",0,"> 0",40,20,60,40,"Renewable content counts half as much as recycled content toward meeting the required percentages (For example: 100% renewable or 50% recycled achieves Silver level for book covers)."]
["Packaging & Single Use Products","Non-Food Product Packaging","Padded Mailers","n/a","n/a","n/a",0,"> 0",30,15,45,30,"Renewable content counts half as much as recycled content toward meeting the required percentages (For example: 100% renewable or 50% recycled achieves Silver level for book covers)."]
["Packaging & Single Use Products","Non-Food Product Packaging","Carrierboard","n/a","n/a","n/a","> 0",10,100,15,100,22.5,"Renewable content counts half as much as recycled content toward meeting the required percentages (For example: 100% renewable or 50% recycled achieves Silver level for book covers)."]
["Packaging & Single Use Products","Film or Wraps","Agricultural Films*","n/a","Plastic","n/a",0,"> 0",20,5,40,10,"*Note: Agricultural mulch film is not eligible for certification."]
["Packaging & Single Use Products","Film or Wraps","Construction Films","n/a","Plastic","n/a","> 0",25,50,20,100,40]
["Packaging & Single Use Products","Film or Wraps","Industrial Stretch Wrap","n/a","Plastic","n/a",0,"> 0",40,20,60,40]
["Packaging & Single Use Products","Film or Wraps","Shrink Film Case Wrap","n/a","Plastic","n/a","> 0",25,40,20,60,40]
["Packaging & Single Use Products","Film or Wraps","Foil","Aluminum","n/a","n/a",">0",50,100,47,100,60]
["Packaging & Single Use Products","Other","Other","Plastic (petroleum and bioplastic)","n/a","n/a","*","*",50,20,100,50,"*Single-Use Plastic Packaging and Single-Use Plastic Products are not elgible at the Bronze and Silver levels in the Product Circularity category."]
["Liquid Formulations","Cleaning Formulations","Air Freshener or Deodorizer","n/a","n/a","n/a","> 0",48,97,"N/A",99,"N/A"]
["Liquid Formulations","Cleaning Formulations","Manual Dishwashing Detergent","n/a","n/a","n/a","> 0",30,60,"N/A",90,"N/A"]
["Liquid Formulations","Cleaning Formulations","Automatic Dishwashing Detergent (Industrial and Institutional)","n/a","n/a","n/a","> 0",10,20,"N/A",30,"N/A"]
["Liquid Formulations","Cleaning Formulations","Dishwashing - Rinsing Agent (Industrial and Institutional)","n/a","n/a","n/a","> 0",15,30,"N/A",45,"N/A"]
["Liquid Formulations","Cleaning Formulations","Laundry Detergent","n/a","n/a","n/a",0,"> 0",34,"N/A",51,"N/A"]
["Liquid Formulations","Cleaning Formulations","Laundry Detergent (Industrial and Institutional)","n/a","n/a","n/a","> 0",20,40,"N/A",60,"N/A"]
["Liquid Formulations","Cleaning Formulations","Aircraft Cleaner","n/a","n/a","n/a",0,"> 0",48,"N/A",72,"N/A"]
["Liquid Formulations","Cleaning Formulations","Carpet or Upholstery Cleaner","n/a","n/a","n/a","> 0",27,54,"N/A",81,"N/A"]
["Liquid Formulations","Cleaning Formulations","Boat Cleaner","n/a","n/a","n/a",0,"> 0",38,"N/A",57,"N/A"]
["Liquid Formulations","Cleaning Formulations","Electronic Component Cleaner","n/a","n/a","n/a","> 0",45,91,"N/A",98,"N/A"]
["Liquid Formulations","Cleaning Formulations","Animal Cleaning Product","n/a","n/a","n/a","> 0",28,57,"N/A",86,"N/A"]
["Liquid Formulations","Cleaning Formulations","Hard Surface Cleaner","n/a","n/a","n/a","> 0",25,50,"N/A",75,"N/A","Examples: Bathroom or spa cleaner, floor cleaner, general purpose household cleaner, multi-purpose cleaner"]
["Liquid Formulations","Cleaning Formulations","Surface Disinfection","n/a","n/a","n/a","> 0",25,50,"N/A",75,"N/A"]
["Liquid Formulations","Cleaning Formulations","Concrete or Asphalt Cleaner","n/a","n/a","n/a","> 0",35,70,"N/A",99,"N/A"]
["Liquid Formulations","Cleaning Formulations","Food Cleaner","n/a","n/a","n/a","> 0",26,53,"N/A",80,"N/A"]
["Liquid Formulations","Cleaning Formulations","Metal Corrosion Remover","n/a","n/a","n/a","> 0",35,71,"N/A",98,"N/A"]
["Liquid Formulations","Cleaning Formulations","Stainless Steel Cleaner","n/a","n/a","n/a","> 0",37,75,"N/A",98,"N/A"]
["Liquid Formulations","Cleaning Formulations","Other Metal Cleaner","n/a","n/a","n/a","> 0",28,56,"N/A",84,"N/A"]
["Liquid Formulations","Cleaning Formulations","Microbial Cleaning Product","n/a","n/a","n/a","> 0",25,50,"N/A",75,"N/A"]
["Liquid Formulations","Cleaning Formulations","Glass Cleaner","n/a","n/a","n/a","> 0",30,60,"N/A",90,"N/A"]
["Liquid Formulations","Cleaning Formulations","Industrial Cleaner","n/a","n/a","n/a",0,"> 0",41,"N/A",62,"N/A"]
["Liquid Formulations","Cleaning Formulations","Oven or Grill Cleaner","n/a","n/a","n/a","> 0",33,66,"N/A",99,"N/A"]
["Liquid Formulations","Cleaning Formulations","Specialty Precision Cleaner or Solution","n/a","n/a","n/a","> 0",28,56,"N/A",84,"N/A"]
["Liquid Formulations","Cleaning Formulations","Other","n/a","n/a","n/a","> 0",28,56,"N/A",94,"N/A"]
["Liquid Formulations","Health and Beauty","Bath and Body","n/a","n/a","n/a","> 0",25,50,"N/A",75,"N/A"]
["Liquid Formulations","Health and Beauty","Deodorant","n/a","n/a","n/a","> 0",36,73,"N/A",98,"N/A"]
["Liquid Formulations","Health and Beauty","Foot Care","n/a","n/a","n/a","> 0",41,83,"N/A",98,"N/A"]
["Liquid Formulations","Health and Beauty","Hair Care (Conditioner)","n/a","n/a","n/a","> 0",39,78,"N/A",98,"N/A"]
["Liquid Formulations","Health and Beauty","Hair Care (Shampoo)","n/a","n/a","n/a",0,"> 0",66,"N/A",98,"N/A"]
["Liquid Formulations","Health and Beauty","Lip Care","n/a","n/a","n/a","> 0",41,82,"N/A",98,"N/A"]
["Liquid Formulations","Health and Beauty","Lotion or Moisturizer","n/a","n/a","n/a","> 0",29,59,"N/A",89,"N/A"]
["Liquid Formulations","Health and Beauty","Hand Cleaner","n/a","n/a","n/a",0,"> 0",64,"N/A",96,"N/A"]
["Liquid Formulations","Health and Beauty","Hand Disinfection","n/a","n/a","n/a","> 0",25,50,"N/A",75,"N/A"]
["Liquid Formulations","Health and Beauty","Shaving","n/a","n/a","n/a",0,"> 0",92,"N/A",98,"N/A"]
["Liquid Formulations","Health and Beauty","Sun Care","n/a","n/a","n/a",0,"> 0",53,"N/A",80,"N/A"]
["Liquid Formulations","Health and Beauty","Other","n/a","n/a","n/a",0,"> 0",59,"N/A",75,"N/A"]
["Liquid Formulations","Adhesives","n/a","n/a","n/a","n/a",0,0,"> 0","N/A",24,"N/A"]
["Liquid Formulations","Coatings and Finishes","n/a","Non-Metal/Waterborne","n/a","n/a","n/a","> 0",20,"N/A",30,"N/A"]
["Liquid Formulations","Coatings and Finishes","n/a","Metal","Various","n/a",0,"> 0",5,"> 0","> 5","> 0"]
["Liquid Formulations","Paint","White, Off-White Pastel Colors","n/a","n/a","n/a",0,"> 0",20,20,30,30,"Paint is likely to contain recycled content. "]
["Liquid Formulations","Paint","Grey, Brown, Earth Tones, Other Dark Colors","n/a","n/a","n/a","> 0",50,99,99,100,100,"Paint is likely to contain recycled content. "]
["Liquid Formulations","Paint","Consolidated Latex Paint","n/a","n/a","n/a","> 0",50,100,100,100,100,"Paint is likely to contain recycled content. "]
["Liquid Formulations","Inks","News Ink (Rotation Ink)","n/a","n/a","n/a","> 0","> 0",32,"N/A",48,"N/A"]
["Liquid Formulations","Inks","Printer Toner (>25 pages per min)","n/a","n/a","n/a","> 0","> 0",20,"N/A",30,"N/A"]
["Liquid Formulations","Inks","Printer Toner (< 25 pages per min)","n/a","n/a","n/a","> 0","> 0",34,"N/A",51,"N/A"]
["Liquid Formulations","Inks","Offset Ink (Black)","n/a","n/a","n/a","> 0",33,67,"N/A",80,"N/A","Based on offset inks (color)."]
["Liquid Formulations","Inks","Offset Ink (Color)","n/a","n/a","n/a","> 0",33,67,"N/A",80,"N/A"]
["Liquid Formulations","Inks","UV Inks","n/a","n/a","n/a",0,0,0,"N/A",0,"N/A"]
["Liquid Formulations","Inks","Flexo Ink","n/a","n/a","n/a",0,0,"> 0","N/A","> 0","N/A","Flexo inks usually contain some renewable content."]
["Liquid Formulations","Inks","Dispersing Agent","n/a","n/a","n/a",0,0,0,"N/A",0,"N/A","No requirements at this time."]
["Liquid Formulations","Inks","Fountain Solution","n/a","n/a","n/a",0,0,0,"N/A",0,"N/A","No requirements at this time."]
["Liquid Formulations","Inks","Lacquer","n/a","n/a","n/a",0,0,0,"N/A",0,"N/A","No requirements at this time."]
["Liquid Formulations","Inks","Specialty Ink","n/a","n/a","n/a","> 0",33,66,"N/A",90,"N/A"]
["Other Products","n/a","n/a","Metals","Aluminum","Furniture Structure","> 0",37.5,75,67,100,100]
["Other Products","n/a","n/a","Metals","Aluminum","Ceiling Grid","> 0",40,67,67,100,100]
["Other Products","n/a","n/a","Metals","Aluminum","Roofing Materials","> 0",20,100,67,100,100]
["Other Products","n/a","n/a","Metals","Aluminum","Thermal Insulation",0,"> 0",15,"> 0",22.5,"> 0"]
["Other Products","n/a","n/a","Metals","Aluminum","Coatings & Finishes",0,"> 0",5,0,"> 5","> 0"]
["Other Products","n/a","n/a","Metals","Aluminum","Building Structure",0,5,100,67,100,67]
["Other Products","n/a","n/a","Metals","Aluminum","Beverage/Food Cans",">0",70,100,80,100,90]
["Other Products","n/a","n/a","Metals","Aluminum","Aerosol or Spray Paint Cans",">0",25,50,30,70,50]
["Other Products","n/a","n/a","Metals","Aluminum","Aluminum Foil",">0",50,100,47,100,60]
["Other Products","n/a","n/a","Metals","Aluminum","Other","> 0",20,100,67,100,100,"Based on Roofing Materials in this section."]
["Other Products","n/a","n/a","Metals","Steel or Steel Alloy","Furniture Structure","> 0",25,75,67,100,100]
["Other Products","n/a","n/a","Metals","Steel or Steel Alloy","Ceiling Grid","> 0",25,67,67,100,100]
["Other Products","n/a","n/a","Metals","Steel or Steel Alloy","Coatings & Finishes",0,"> 0",5,0,"> 5","> 0"]
["Other Products","n/a","n/a","Metals","Steel or Steel Alloy","Building Structure","> 0",25,100,67,100,67]
["Other Products","n/a","n/a","Metals","Steel or Steel Alloy","Roofing Materials","> 0",50,100,67,100,100]
["Other Products","n/a","n/a","Metals","Steel or Steel Alloy","Piping","> 0",50,100,67,100,100]
["Other Products","n/a","n/a","Metals","Steel or Steel Alloy","Recycling/Waste Receptacles","> 0",25,30,16,45,24]
["Other Products","n/a","n/a","Metals","Steel or Steel Alloy","Fasteners (for apparel)",0,25,75,67,100,100]
["Other Products","n/a","n/a","Metals","Steel or Steel Alloy","Steel Beverage Cans",16,25,100,80,100,90]
["Other Products","n/a","n/a","Metals","Steel or Steel Alloy","Tin Beverage Cans",16,25,100,80,100,90]
["Other Products","n/a","n/a","Metals","Steel or Steel Alloy","Steel Aerosol or Spray Paint Cans",16,25,30,18,35,18]
["Other Products","n/a","n/a","Metals","Steel or Steel Alloy","Other","> 0",50,100,67,100,100,"Based on Roofing Materials in this section."]
["Other Products","n/a","n/a","Metals","Cobalt","Any",0,"> 0",50,50,75,75]
["Other Products","n/a","n/a","Metals","Cooper","Any",0,"> 0",50,50,75,75]
["Other Products","n/a","n/a","Metals","Boron","Any",0,0,"> 0","> 0","> 0","> 0"]
["Other Products","n/a","n/a","Metals","Cerium","Any",0,0,"> 0","> 0","> 0","> 0"]
["Other Products","n/a","n/a","Metals","Dysprosium","Any",0,0,"> 0","> 0","> 0","> 0"]
["Other Products","n/a","n/a","Metals","Chromium","Any",0,"> 0",50,50,75,75]
["Other Products","n/a","n/a","Metals","Gadolinium","Any",0,0,"> 0","> 0","> 0","> 0"]
["Other Products","n/a","n/a","Metals","Gallium","Any",0,0,"> 0","> 0","> 0","> 0"]
["Other Products","n/a","n/a","Metals","Germanium","Any",0,0,"> 0","> 0","> 0","> 0"]
["Other Products","n/a","n/a","Metals","Gold","Any",0,"> 0",50,50,75,75]
["Other Products","n/a","n/a","Metals","Indium","Any",0,0,"> 0","> 0","> 0","> 0"]
["Other Products","n/a","n/a","Metals","Iridium","Any",0,"> 0",25,25,50,50]
["Other Products","n/a","n/a","Metals","Iron","Any",0,"> 0",50,50,75,75]
["Other Products","n/a","n/a","Metals","Lithium","Any",0,0,0,0,"> 0","> 0"]
["Other Products","n/a","n/a","Metals","Magnesium","Any",0,"> 0",25,25,50,50]
["Other Products","n/a","n/a","Metals","Manganese","Any",0,"> 0",50,50,75,75]
["Other Products","n/a","n/a","Metals","Graphite","Any",0,0,"> 0","> 0","> 0","> 0"]
["Other Products","n/a","n/a","Metals","Neodymium","Any",0,0,"> 0","> 0","> 0","> 0"]
["Other Products","n/a","n/a","Metals","Nickel","Any",0,"> 0",50,50,75,75]
["Other Products","n/a","n/a","Metals","Niobium","Any",0,"> 0",50,50,75,75]
["Other Products","n/a","n/a","Metals","Palladium","Any",0,"> 0",50,50,75,75]
["Other Products","n/a","n/a","Metals","Platinum","Any",0,"> 0",50,50,75,75]
["Other Products","n/a","n/a","Metals","Praseodymium","Any",0,0,"> 0","> 0","> 0","> 0"]
["Other Products","n/a","n/a","Metals","Rhenium","Any",0,"> 0",50,50,75,75]
["Other Products","n/a","n/a","Metals","Rhodium","Any",0,"> 0",50,50,75,75]
["Other Products","n/a","n/a","Metals","Ruthenium","Any",0,0,10,10,20,20]
["Other Products","n/a","n/a","Metals","Scandium","Any",0,0,"> 0","> 0","> 0","> 0"]
["Other Products","n/a","n/a","Metals","Silver","General",0,"> 0",50,50,75,75]
["Other Products","n/a","n/a","Metals","Silver","Jewelry",0,"> 0",100,100,100,100]
["Other Products","n/a","n/a","Metals","Tantalum","Any",0,0,0,0,"> 0","> 0"]
["Other Products","n/a","n/a","Metals","Terbium","Any",0,0,0,0,"> 0","> 0"]
["Other Products","n/a","n/a","Metals","Tin","Any",0,"> 0",50,50,75,75]
["Other Products","n/a","n/a","Metals","Titanium","Any",0,"> 0",50,50,"> 0","> 0"]
["Other Products","n/a","n/a","Metals","Tungsten","Any",0,0,10,10,20,20]
["Other Products","n/a","n/a","Metals","Yttrium","Any",0,0,0,0,"> 0","> 0"]
["Other Products","n/a","n/a","Metals","Zinc","Any",0,"> 0",50,50,75,75]
["Other Products","n/a","n/a","Metals","Zirconium","Any",0,0,0,0,"> 0","> 0"]
["Other Products","n/a","n/a","Polymers","Other Plastics","Other plastics from a single resin recycling source",0,"> 0",100,50,100,100]
["Other Products","n/a","n/a","Polymers","Other Plastics","Other plastics from a commingled recycling source",0,"> 0",100,60,100,100]
["Other Products","n/a","n/a","Polymers","Other Plastics","Flexible sheet packaging from any recycling source",">0",30,100,80,100,100]
["Other Products","n/a","n/a","Polymers","Other Plastics","Flexible pouch packaging from any recycling source",">0",50,100,100,100,100]
["Other Products","n/a","n/a","Polymers","Polyethylene Terephthalate (PET)","General","> 0",25,100,25,100,100,"Based on Carpet Fiber in this section."]
["Other Products","n/a","n/a","Polymers","Polyethylene Terephthalate (PET)","Thermal Insulation (Plastic non-woven Batt)",0,"> 0",100,"> 0",100,"> 0"]
["Other Products","n/a","n/a","Polymers","Polyethylene Terephthalate (PET)","Building Structure","> 0",50,100,"> 0",100,"> 0"]
["Other Products","n/a","n/a","Polymers","Polyethylene Terephthalate (PET)","Plastic Furniture Component","> 0",47.5,95,95,100,100]
["Other Products","n/a","n/a","Polymers","Polyethylene Terephthalate (PET)","Carpet Fiber","> 0",25,100,25,100,100]
["Other Products","n/a","n/a","Polymers","Polyethylene Terephthalate (PET)","Resilient Flooring",0,"> 0",40,"> 0",95,50]
["Other Products","n/a","n/a","Polymers","Polyethylene Terephthalate (PET)","Plastic Binders","> 0",50,100,80,100,100]
["Other Products","n/a","n/a","Polymers","Polyethylene Terephthalate (PET)","Plastic Envelope","> 0",5,20,20,50,30]
["Other Products","n/a","n/a","Polymers","Polyethylene Terephthalate (PET)","Synthetic Fiber for Fabric","> 0",25,50,50,100,100]
["Other Products","n/a","n/a","Polymers","Polyethylene Terephthalate (PET)","Plastic Bottles","> 0",25,100,100,100,100]
["Other Products","n/a","n/a","Polymers","Polyethylene Terephthalate (PET)","Clamshell Containers","> 0",25,100,50,100,100]
["Other Products","n/a","n/a","Polymers","Polyethylene Terephthalate (PET)","Blister Packs","> 0",25,100,80,100,100]
["Other Products","n/a","n/a","Polymers","High-Density Polyethylene (HDPE)","General","> 0",50,100,100,100,100,"Based on Piping in this section."]
["Other Products","n/a","n/a","Polymers","High-Density Polyethylene (HDPE)","Piping","> 0",50,100,100,100,100]
["Other Products","n/a","n/a","Polymers","High-Density Polyethylene (HDPE)","Plastic Furniture Component","> 0",47.5,95,95,100,100]
["Other Products","n/a","n/a","Polymers","High-Density Polyethylene (HDPE)","Transportation Packaging","> 0",50,100,100,100,100]
["Other Products","n/a","n/a","Polymers","High-Density Polyethylene (HDPE)","Binders","> 0",50,100,80,100,100]
["Other Products","n/a","n/a","Polymers","High-Density Polyethylene (HDPE)","Plastic Folders","> 0",45,90,90,100,100]
["Other Products","n/a","n/a","Polymers","High-Density Polyethylene (HDPE)","Plastic Clipboards","> 0",45,90,90,100,100]
["Other Products","n/a","n/a","Polymers","High-Density Polyethylene (HDPE)","Plastic Envelope","> 0",25,30,25,45,37.5]
["Other Products","n/a","n/a","Polymers","High-Density Polyethylene (HDPE)","Plastic Bottles","> 0",25,100,75,100,100]
["Other Products","n/a","n/a","Polymers","High-Density Polyethylene (HDPE)","Food Tubs and Cups",0,"> 0",100,0,100,"> 0"]
["Other Products","n/a","n/a","Polymers","High-Density Polyethylene (HDPE)","Grocery, Trash or Lawn Bags","> 0",25,100,40,100,50]
["Other Products","n/a","n/a","Polymers","Polystyrene","General","> 0",47.5,95,95,100,100,"Based on Plastic Furniture Component in the Interior Design & Furniture section."]
["Other Products","n/a","n/a","Polymers","Polystyrene","Plastic Furniture Component","> 0",47.5,95,95,100,100]
["Other Products","n/a","n/a","Polymers","Polystyrene","Crown Molding and Tiling","> 0",45,90,70,100,80]
["Other Products","n/a","n/a","Polymers","Polystyrene","Thermal Insulation (Plastic non-woven Batt)",0,"> 0",100,"> 0",100,"> 0"]
["Other Products","n/a","n/a","Polymers","Polystyrene","Binders","> 0",30,100,80,100,100]
["Other Products","n/a","n/a","Polymers","Polystyrene","Plastic Clipboards","> 0",25,90,90,100,100]
["Other Products","n/a","n/a","Polymers","Polystyrene","Picture Frames",">0",40,80,80,100,100]
["Other Products","n/a","n/a","Polymers","Polystyrene"," Loose Fill",">0",50,100,50,100,100]
["Other Products","n/a","n/a","Polymers","Low-Density Polyethylene (LDPE)","General",">0",10,100,20,100,40,"Based on Plastic Bags in this section."]
["Other Products","n/a","n/a","Polymers","Low-Density Polyethylene (LDPE)","Plastic Bags  <1.0mil (Grocery)",">0",10,100,20,100,40,"Note: Some plastic bags are not eligible for certification."]
["Other Products","n/a","n/a","Polymers","Low-Density Polyethylene (LDPE)","Plastic Bags  >1.0mil (Grocery)",">0",25,100,50,100,75]
["Other Products","n/a","n/a","Polymers","Low-Density Polyethylene (LDPE)","Plastic Wrapping","*","*","*","*","*","*","*See Packaging & Single Use Products section on Film or Wraps."]
["Other Products","n/a","n/a","Polymers","Polypropylene (PP)","General - Injection Molded",">0",12.5,100,75,100,100,"Based on Plastic Bottles in this section."]
["Other Products","n/a","n/a","Polymers","Polypropylene (PP)","General - Blow Molded","> 0",35,70,35,100,100]
["Other Products","n/a","n/a","Polymers","Polypropylene (PP)","Plastic Bottles",">0",12.5,100,75,100,100]
["Other Products","n/a","n/a","Polymers","Polypropylene (PP)","Injection Molded PP Food Tubs, Bowls and Other",0,0,100,0,100,"> 0"]
["Other Products","n/a","n/a","Polymers","Polypropylene (PP)","Thermoformed PP Foods Tubs, Cups, Lids, Plates",0,0,100,0,100,"> 0"]
["Other Products","n/a","n/a","Polymers","Polypropylene (PP)","Transportation Packaging",">0",50,100,100,100,100]
["Other Products","n/a","n/a","Polymers","Polyamide 6","General",0,"> 0",40,"> 0",95,50,"Based on the Carpet Backing sub-product category in the Interior Design & Furniture section."]
["Other Products","n/a","n/a","Polymers","Polyamide 6","Carpet Fiber",0,"> 0",40,"> 0",95,50]
["Other Products","n/a","n/a","Polymers","Polyamide 6","Synthetic Fiber for Fabric",0,"> 0",40,"> 0",60,"> 0"]
["Other Products","n/a","n/a","Polymers","Polyamide 6,6","General",0,"> 0","> 0","> 0",40,"> 0","Based on the Carpet Backing sub-product category in the Interior Design & Furniture section."]
["Other Products","n/a","n/a","Polymers","Polyamide 6,6","Carpet Fiber",0,"> 0","> 0","> 0",40,"> 0"]
["Other Products","n/a","n/a","Polymers","Polyamide 6,6","Synthetic Fiber for Fabric",0,"> 0","> 0","> 0",40,"> 0"]
["Other Products","n/a","n/a","Polymers","Polyamide 6,10","General","> 0",25,40,"> 0",60,"> 0"]
["Other Products","n/a","n/a","Polymers","Polyurethane","General",0,"> 0",5,0,7.5,"> 0","Based on Thermal Insulation in this section."]
["Other Products","n/a","n/a","Polymers","Polyurethane","Carpet Cushion Foam",0,"> 0",5,"> 0",7.5,"> 0"]
["Other Products","n/a","n/a","Polymers","Polyurethane","Thermal Insulation (foam board)",0,"> 0",5,0,7.5,"> 0"]
["Other Products","n/a","n/a","Polymers","Polyester (Non-PET)","Any","> 0",25,100,25,100,100,"Based on the Carpet Backing sub-product category in the Interior Design & Furniture section."]
["Other Products","n/a","n/a","Polymers","Polyester (Non-PET)","Carpet Fiber","> 0",25,100,25,100,100,"Based on the Carpet Backing sub-product category in the Interior Design & Furniture section."]
["Other Products","n/a","n/a","Polymers","Polyester (Non-PET)","Synthetic Fiber for Fabric","> 0",25,100,100,100,100]
["Other Products","n/a","n/a","Polymers","Polylactic acid (PLA)","Any",100,100,100,"N/A",100,"N/A","Bioplastics are assumed to be 100% renewable."]
["Other Products","n/a","n/a","Polymers","Polyvinyl Butyral (PVB)","General",0,25,50,20,100,40]
["Other Products","n/a","n/a","Polymers","Polyvinyl Butyral (PVB)","Carpet Fiber",0,25,50,20,100,40]
["Other Products","n/a","n/a","Polymers","PHA","Any",100,100,100,"N/A",100,"N/A","Bioplastics are assumed to be 100% renewable."]
["Other Products","n/a","n/a","Polymers","Elastane (Spadex Fibers)","General",0,"> 0",50,"> 0",75,"> 0"]
["Other Products","n/a","n/a","Polymers","Elastane (Spadex Fibers)","Synthetic Fiber for Fabric",0,"> 0",50,"> 0",75,"> 0"]
["Other Products","n/a","n/a","Polymers","Rubber","General","> 0",45,90,"> 0",100,100]
["Other Products","n/a","n/a","Polymers","Rubber","Carpet Backing","> 0",30,75,"> 0",100,"> 0"]
["Other Products","n/a","n/a","Polymers","Rubber","Resilient Flooring","> 0",30,75,"> 0",100,"> 0"]
["Other Products","n/a","n/a","Polymers","Rubber","Building Structure",0,50,100,100,100,100]
["Other Products","n/a","n/a","Polymers","Other Bioplastics","Any",100,100,100,"N/A",100,"N/A"]
["Other Products","n/a","n/a","Biological materials","Engineered Wood, Solid Wood, Laminated Wood and Composite Wood Products","n/a","*","*","*","*","*","*","*See Wood Building Structures in Building Materials section."]
["Other Products","n/a","n/a","Biological materials","Cellulose Fiber, Paper","General","> 0",25,50,40,100,80,"Based on Corrugated Containers in this section."]
["Other Products","n/a","n/a","Biological materials","Cellulose Fiber, Paper","Particleboard/Fiberboard","> 0",50,100,100,90,"> 0"]
["Other Products","n/a","n/a","Biological materials","Cellulose Fiber, Paper","Thermal Insulation (Loose Fill/Spray On)",0,"> 0",80,75,100,100]
["Other Products","n/a","n/a","Biological materials","Cellulose Fiber, Paper","Corrugated Containers (Paperboard < 300 psi)","> 0",48,75,50,100,75]
["Other Products","n/a","n/a","Biological materials","Cellulose Fiber, Paper","Corrugated Containers (Paperboard < 300 psi)","> 0",48,100,30,100,60]
["Other Products","n/a","n/a","Biological materials","Cellulose Fiber, Paper","Solid Fiber Containers","> 0",50,80,40,100,60]
["Other Products","n/a","n/a","Biological materials","Cellulose Fiber, Paper","Industrial Paperboard Containers","> 0",45,100,100,100,100]
["Other Products","n/a","n/a","Biological materials","Cellulose Fiber, Paper","Newsprint","> 0",20,100,100,100,100]
["Other Products","n/a","n/a","Biological materials","Cellulose Fiber, Paper","Office Paper (Reprographic, Offset, Tablet, Envelope)","> 0",15,30,30,45,45]
["Other Products","n/a","n/a","Biological materials","Cellulose Fiber, Paper","Bathroom Tissue",0,20,100,75,100,90]
["Other Products","n/a","n/a","Biological materials","Cellulose Fiber, Paper","Facial Tissue",0,10,100,15,100,22.5]
["Other Products","n/a","n/a","Biological materials","Cellulose Fiber, Paper","Paper Towels",0,40,100,60,100,80]
["Other Products","n/a","n/a","Biological materials","Cellulose Fiber, Paper","Paper Napkins",0,30,100,60,100,80]
["Other Products","n/a","n/a","Biological materials","Cellulose Fiber, Paper","Industrial Wipers",0,40,100,40,100,60]
["Other Products","n/a","n/a","Biological materials","Cellulose Fiber, Paper","Pressboard Binders","> 0",20,50,20,100,40]
["Other Products","n/a","n/a","Biological materials","Cellulose Fiber, Paper","Pizza Box","> 0 ",43,65,"> 0",97,"> 0"]
["Other Products","n/a","n/a","Biological materials","Other Biological Materials","Any",100,100,100,"N/A",100,"N/A"]
["Other Products","n/a","n/a","Biological materials","Cellulose Fiber, Paper","Microwave Popcorn Bag",0,0,"> 0","> 0",10,"> 0"]
["Other Products","n/a","n/a","Biological materials","Cellulose Fiber, Paper","Flour Bag",0,0,"> 0",0,25,"> 0"]
["Other Products","n/a","n/a","Biological materials","Cellulose Fiber, Paper","Coffee Canister","> 0",40,50,"> 0",60,"> 0"]
["Other Products","n/a","n/a","Biological materials","Cellulose Fiber, Paper","Cereal or Other Food Boxes","> 0",90,100,"> 0",100,"> 0"]
["Other Products","n/a","n/a","Biological materials","Cellulose Fiber, Paper","Paper Grocery Bag","> 0",90,100,75,100,100]
["Other Products","n/a","n/a","Biological materials","Cellulose Fiber, Paper","Paper Shopping Bag","> 0",50,100,75,100,100]
["Other Products","n/a","n/a","Biological materials","Cellulose Fiber, Paper","Paper Takeout Bag","> 0",50,100,75,100,100]
["Other Products","n/a","n/a","Biological materials","Cellulose Fiber, Paper","Paper Plates, Cutlery or Cups",">0",25,50,">0",75,">0"]
["Other Products","n/a","n/a","Biological materials","Cellulose Fiber, Paper","Single-Use Hot Cups",">0",25,50,">0",75,">0"]
["Other Products","n/a","n/a","Biological materials","Cellulose Fiber, Paper","Meat Trays",">0",25,50,">0",75,">0"]
["Other Products","n/a","n/a","Biological materials","Cellulose Fiber, Paper","Clamshell Containers",">0",25,50,">0",75,">0"]
["Other Products","n/a","n/a","Biological materials","Cellulose Fiber, Paper","Solid Fiber Box Paperboard","> 0",50,80,40,100,60]
["Other Products","n/a","n/a","Biological materials","Cellulose Fiber, Paper","Folding Cartons","> 0",50,100,80,100,100]
["Other Products","n/a","n/a","Biological materials","Cellulose Fiber, Paper","Industrial Paperboard","> 0",45,100,100,100,100]
["Other Products","n/a","n/a","Biological materials","Cellulose Fiber, Paper","Book Covers, Gameboards, etc.","> 0",50,100,100,100,100]
["Other Products","n/a","n/a","Biological materials","Cellulose Fiber, Paper","Brown Papers",0,"> 0",40,20,60,40]
["Other Products","n/a","n/a","Biological materials","Cellulose Fiber, Paper","Padded Mailers",0,"> 0",50,15,45,30]
["Other Products","n/a","n/a","Biological materials","Cellulose Fiber, Paper","Carrierboard","> 0",10,100,15,100,22.5]
["Other Products","n/a","n/a","Biological materials","Other Biological Fibers","n/a","*","*","*","*","*","*","*See Biological Fibers or Yarn in Apparel section or Face Fiber or Carpet Backing in Interior Design & Furniture section. Generally, biological fibers are assumed to be 100% renewable, unless they are considered commonly recycled biological fibers and are not part of apparel."]
["Other Products","n/a","n/a","Other inorganic","Silica Fume","n/a","*","*","*","*","*","*","*See Building Structure in Building Materials section."]
["Other Products","n/a","n/a","Other inorganic","Coal Fly Ash","n/a","*","*","*","*","*","*"]
["Other Products","n/a","n/a","Other inorganic","GGBF Slag","n/a","*","*","*","*","*","*"]
["Other Products","n/a","n/a","Other inorganic","Cenospheres","n/a","*","*","*","*","*","*"]
["Other Products","n/a","n/a","Other inorganic","Crushed Concrete","n/a","*","*","*","*","*","*"]
["Other Products","n/a","n/a","Other inorganic","Air-Cooled Slag","n/a","*","*","*","*","*","*"]
["Other Products","n/a","n/a","Other inorganic","Clay/Terra Cotta","General",0,"> 0","> 0","> 0",50,"> 0","Based on Ceiling or Floor Tile in this section."]
["Other Products","n/a","n/a","Other inorganic","Clay/Terra Cotta","Ceiling or Floor Tile",0,"> 0","> 0","> 0",50,"> 0"]
["Other Products","n/a","n/a","Other inorganic","Clay/Terra Cotta","Structural Foundation",0,"> 0",25,0,100,0]
["Other Products","n/a","n/a","Other inorganic","Stone Wool","General",0,10,30,"> 0",45,"> 0","Based on Loose-fill and Batt/Blanket Insulation in the Building Materials section."]
["Other Products","n/a","n/a","Other inorganic","Slag Wool","General","> 0",35,70,"> 0",75,"> 0","Based on Loose-fill and Batt/Blanket Insulation in the Building Materials section."]
["Other Products","n/a","n/a","Other inorganic","Concrete Aggregate","n/a","> 0",50,100,0,100,0]
["Other Products","n/a","n/a","Glass","Generic Glass","General","> 0",50,100,100,100,100,"Based on Floor Tile in this section."]
["Other Products","n/a","n/a","Glass","Generic Glass","Floor Tile","> 0",50,100,"> 0",100,"> 0"]
["Other Products","n/a","n/a","Glass","Glass Wool","Ceiling Tile","> 0",18,40.5,"> 0",76.5,76.5]
["Other Products","n/a","n/a","Glass","Glass Wool","Spray Insulation","> 0",20,45,"> 0",85,"> 0"]
["Other Products","n/a","n/a","Glass","Glass Wool","Batt or Blanket Type Insulation","> 0",20,45,"> 0",85,"> 0"]
["Other Products","n/a","n/a","Glass","Perlite","General",0,"> 0",23,23,46,46,"Based on Board-Type Insulation in this section."]
["Other Products","n/a","n/a","Glass","Perlite","Ceiling Tile",0,"> 0",5,5,10,10]
["Other Products","n/a","n/a","Glass","Perlite","Board-Type Insulation (Perlite Composite Board)",0,"> 0",23,23,34.5,46]
["Other Products","n/a","n/a","Glass","Porcelain","General",0,"> 0",50,0,100,0,"Based on Floor Tile in this section."]
["Other Products","n/a","n/a","Glass","Porcelain","Floor Tile",0,"> 0","> 0","> 0",50,"> 0"]

{"sheet":"pick lists","index":4,"n_rows":210,"n_cols":22,"rows_kept":210,"hidden":true}
["[Please select]","[Please select]","[Please select]","[Please select]","[Please select]","[Please select]","[Please select]","[Please select]","[Please select]","[Please select]",null,"[Select country]","No","[Please select]","[Please select]","[Please select the Product Category per the Required Percentages of Cycled and Renewable Content by Product and Material Type Reference Document]","[Please select]","[Please select]"]
["Recyclable","Reuse/Recontextualizing","Technical","Applicant","Bundling","None","Non-destructive","Yes","Post-consumer","Refurbishment",null,"Afghanistan","Yes","Biological","A","Interior Design & Furniture","Bronze","multi-material"]
["Biodegradable","Remanufacturing","Biological","Consumer","Spring","Spudger","Semi-destructive","No","Pre-consumer","Repair",null,"Albania","Yes","Technical","a","Building Materials","Silver","single homogeneous material"]
[null,"Refurbish","Both","Municipal facility","Screw","Screw Driver","Destructive",null,"Renewable","Remanufacturing",null,"Algeria","Yes","Both","B","Home & Office Supply","Gold"]
[null,"Repair",null,"Partner organization","Bolt","Pliers",null,null,"Responsibly sourced renewable","None",null,"American Samoa","No","None","b","Apparel","Platinum"]
[null,"Recycling",null,"Other [please specify]","Nut","Wrench",null,null,"None",null,null,"Andorra","No",null,"C","Packaging & Single Use Products"]
[null,"Biodegradation (Aerobic-Water)",null,null,"Washer","Heat Gun or Pad",{"$nulls":5},"Angola","Yes",null,"c","Liquid Formulations"]
[null,"Biodegradation (Anaerobic-Water)",null,null,"Rivet","Drill",{"$nulls":5},"Anguilla","No",null,"X","Other Products"]
[null,"Biodegradation (Soil)",null,null,"Adhesive","Hammer",{"$nulls":5},"Antigua and Barbuda","Yes",null,"x"]
[null,"Composting (Industrial)",null,null,"Surface: Mating","Crowbar",{"$nulls":5},"Argentina","Yes",null,"X - CMR or SVHC"]
[null,"Composting (Home)",null,null,"Surface: Press Fit","Grinder",{"$nulls":5},"Armenia","Yes",null,"x - CMR or SVHC"]
[null,"Anaerobic Digestion",null,null,"Snap Fit",{"$nulls":6},"Aruba","No",null,"Grey"]
[null,"Nutrient Extraction",null,null,"Suface: Mould",{"$nulls":6},"Australia","No",null,"assessed EMC"]
[{"$nulls":4},"Seam fold",{"$nulls":6},"Austria","No",null,"assessed recycled content (Bronze)"]
[{"$nulls":4},"Seal",{"$nulls":6},"Azerbaijan","Yes",null,"assessed recycled content (Silver+)"]
[{"$nulls":4},"Solder",{"$nulls":6},"Bahamas, The","No",null,"C2CC/MHC - Bronze"]
[{"$nulls":4},"Weld",{"$nulls":6},"Bahrain","Yes",null,"C2CC/MHC - Silver"]
[{"$nulls":11},"Bangladesh","Yes",null,"C2CC/MHC - Gold"]
[{"$nulls":11},"Barbados","No",null,"C2CC/MHC - Platinum"]
[{"$nulls":11},"Belarus","Yes"]
["[Assessors: Please select]",{"$nulls":10},"Belgium","No"]
["Lower of % abc-x assessed by weight or by number (required for single homogeneous material products)",{"$nulls":10},"Belize","Yes"]
["Sum of the weight of all ABC-X assessed materials in the product divided by total product weight (option for multi-material products)",{"$nulls":10},"Benin","Yes"]
["One or more materials wil count as partially assessed (option for multi-material products)",{"$nulls":10},"Bermuda","No"]
[{"$nulls":11},"Bhutan","No"]
[{"$nulls":11},"Bolivia","Yes"]
[{"$nulls":11},"Bosnia and Herzegovina","Yes"]
[{"$nulls":11},"Botswana","No"]
[{"$nulls":11},"Brazil","Yes"]
[{"$nulls":11},"Brunei Darussalam","No"]
[{"$nulls":11},"Bulgaria","Yes"]
[{"$nulls":11},"Burkina Faso","Yes"]
[{"$nulls":11},"Burundi","Yes"]
[{"$nulls":11},"Cambodia","Yes"]
[{"$nulls":11},"Cameroon","Yes"]
[{"$nulls":11},"Canada","No"]
[{"$nulls":11},"Cape Verde","No"]
[{"$nulls":11},"Cayman Islands","No"]
[{"$nulls":11},"Central African Republic","Yes"]
[{"$nulls":11},"Chad","Yes"]
[{"$nulls":11},"Chile","No"]
[{"$nulls":11},"China","Yes"]
[{"$nulls":11},"Colombia","Yes"]
[{"$nulls":11},"Comoros","Yes"]
[{"$nulls":11},"Congo, Dem. Rep.","Yes"]
[{"$nulls":11},"Congo, Rep.","Yes"]
[{"$nulls":11},"Costa Rica","No"]
[{"$nulls":11},"Côte d'Ivoire","Yes"]
[{"$nulls":11},"Croatia","No"]
[{"$nulls":11},"Cuba","Yes"]
[{"$nulls":11},"Cyprus","No"]
[{"$nulls":11},"Czech Republic","No"]
[{"$nulls":11},"Denmark","No"]
[{"$nulls":11},"Djibouti","Yes"]
[{"$nulls":11},"Dominica","Yes"]
[{"$nulls":11},"Dominican Republic","Yes"]
[{"$nulls":11},"Ecuador","Yes"]
[{"$nulls":11},"Egypt, Arab Rep.","Yes"]
[{"$nulls":11},"El Salvador","Yes"]
[{"$nulls":11},"Equatorial Guinea","Yes"]
[{"$nulls":11},"Eritrea","Yes"]
[{"$nulls":11},"Estonia","No",{"$nulls":7},"Australia","No"]
[{"$nulls":11},"Ethiopia","Yes"]
[{"$nulls":11},"Fiji","Yes"]
[{"$nulls":11},"Finland","No",{"$nulls":7},"Barbados","No"]
[{"$nulls":11},"France","No",{"$nulls":7},"Belgium","No"]
[{"$nulls":11},"French Guiana","No",{"$nulls":7},"Bermuda","No"]
[{"$nulls":11},"Gabon","Yes"]
[{"$nulls":11},"Gambia, The","Yes"]
[{"$nulls":11},"Georgia","Yes"]
[{"$nulls":11},"Germany","No",{"$nulls":7},"Canada","No"]
[{"$nulls":11},"Ghana","Yes"]
[{"$nulls":11},"Greece","Yes"]
[{"$nulls":11},"Greenland","No",{"$nulls":7},"Chile","No"]
[{"$nulls":11},"Grenada","Yes"]
[{"$nulls":11},"Guam","No",{"$nulls":7},"Croatia","No"]
[{"$nulls":11},"Guatemala","Yes"]
[{"$nulls":11},"Guinea","Yes"]
[{"$nulls":11},"Guinea-Bissau","Yes"]
[{"$nulls":11},"Guyana","Yes"]
[{"$nulls":11},"Haiti","Yes"]
[{"$nulls":11},"Honduras","Yes"]
[{"$nulls":11},"Hong Kong SAR, China","No",{"$nulls":7},"Finland","No"]
[{"$nulls":11},"Hungary","No",{"$nulls":7},"France","No"]
[{"$nulls":11},"Iceland","No",{"$nulls":7},"French Guiana","No"]
[{"$nulls":11},"India","Yes"]
[{"$nulls":11},"Indonesia","Yes"]
[{"$nulls":11},"Iran, Islamic Rep.","Yes"]
[{"$nulls":11},"Iraq","Yes"]
[{"$nulls":11},"Ireland","No",{"$nulls":7},"Hungary","No"]
[{"$nulls":11},"Israel","No",{"$nulls":7},"Iceland","No"]
[{"$nulls":11},"Italy","No",{"$nulls":7},"Ireland","No"]
[{"$nulls":11},"Jamaica","Yes"]
[{"$nulls":11},"Japan","No",{"$nulls":7},"Italy","No"]
[{"$nulls":11},"Jersey, Channel Islands","No",{"$nulls":7},"Japan","No"]
[{"$nulls":11},"Jordan","Yes"]
[{"$nulls":11},"Kazakhstan","Yes"]
[{"$nulls":11},"Kenya","Yes"]
[{"$nulls":11},"Kiribati","No"]
[{"$nulls":11},"Korea, Dem. Rep.","Yes"]
[{"$nulls":11},"Korea, Rep.","No",{"$nulls":7},"Liechtenstein","No"]
[{"$nulls":11},"Kosovo","Yes"]
[{"$nulls":11},"Kuwait","Yes"]
[{"$nulls":11},"Kyrgyz Republic","Yes"]
[{"$nulls":11},"Lao PDR","Yes"]
[{"$nulls":11},"Latvia","No",{"$nulls":7},"Martinique","No"]
[{"$nulls":11},"Lebanon","Yes"]
[{"$nulls":11},"Lesotho","Yes"]
[{"$nulls":11},"Liberia","Yes"]
[{"$nulls":11},"Libya","Yes"]
[{"$nulls":11},"Liechtenstein","No",{"$nulls":7},"Poland","No"]
[{"$nulls":11},"Lithuania","No",{"$nulls":7},"Portugal","No"]
[{"$nulls":11},"Luxembourg","No",{"$nulls":7},"Réunion","No"]
[{"$nulls":11},"Macao SAR, China","No",{"$nulls":7},"Samoa","No"]
[{"$nulls":11},"Madagascar","Yes"]
[{"$nulls":11},"Malawi","Yes"]
[{"$nulls":11},"Malaysia","Yes"]
[{"$nulls":11},"Maldives","Yes"]
[{"$nulls":11},"Mali","Yes"]
[{"$nulls":11},"Malta","No",{"$nulls":7},"St. Kitts and Nevis","No"]
[{"$nulls":11},"Marshall Islands","Yes"]
[{"$nulls":11},"Martinique","No",{"$nulls":7},"St. Vincent and the Grenadines","No"]
[{"$nulls":11},"Mauritania","Yes"]
[{"$nulls":11},"Mauritius","No",{"$nulls":7},"Switzerland","No"]
[{"$nulls":11},"Mexico","Yes"]
[{"$nulls":11},"Micronesia, Fed. Sts.","Yes"]
[{"$nulls":11},"Moldova","Yes"]
[{"$nulls":11},"Mongolia","Yes"]
[{"$nulls":11},"Montenegro","Yes"]
[{"$nulls":11},"Morocco","Yes"]
[{"$nulls":11},"Mozambique","Yes"]
[{"$nulls":11},"Myanmar","Yes"]
[{"$nulls":11},"Namibia","Yes"]
[{"$nulls":11},"Nauru","Yes"]
[{"$nulls":11},"Nepal","Yes"]
[{"$nulls":11},"Netherlands","No"]
[{"$nulls":11},"New Zealand","No"]
[{"$nulls":11},"Nicaragua","Yes"]
[{"$nulls":11},"Niger","Yes"]
[{"$nulls":11},"Nigeria","Yes"]
[{"$nulls":11},"North Macedonia","Yes"]
[{"$nulls":11},"Norway","No"]
[{"$nulls":11},"Oman","Yes"]
[{"$nulls":11},"Pakistan","Yes"]
[{"$nulls":11},"Palau","Yes"]
[{"$nulls":11},"Panama","Yes"]
[{"$nulls":11},"Papua New Guinea","Yes"]
[{"$nulls":11},"Paraguay","Yes"]
[{"$nulls":11},"Peru","Yes"]
[{"$nulls":11},"Philippines","Yes"]
[{"$nulls":11},"Poland","No"]
[{"$nulls":11},"Portugal","No"]
[{"$nulls":11},"Puerto Rico","Yes"]
[{"$nulls":11},"Qatar","Yes"]
[{"$nulls":11},"Réunion","No"]
[{"$nulls":11},"Romania","Yes"]
[{"$nulls":11},"Russian Federation","Yes"]
[{"$nulls":11},"Rwanda","Yes"]
[{"$nulls":11},"Samoa","No"]
[{"$nulls":11},"São Tomé and Principe","Yes"]
[{"$nulls":11},"Saudi Arabia","Yes"]
[{"$nulls":11},"Senegal","Yes"]
[{"$nulls":11},"Serbia","Yes"]
[{"$nulls":11},"Seychelles","No"]
[{"$nulls":11},"Sierra Leone","Yes"]
[{"$nulls":11},"Singapore","No"]
[{"$nulls":11},"Slovak Republic","No"]
[{"$nulls":11},"Slovenia","No"]
[{"$nulls":11},"Solomon Islands","Yes"]
[{"$nulls":11},"Somalia","Yes"]
[{"$nulls":11},"South Africa","Yes"]
[{"$nulls":11},"South Sudan","Yes"]
[{"$nulls":11},"Spain","No"]
[{"$nulls":11},"Sri Lanka","Yes"]
[{"$nulls":11},"St. Kitts and Nevis","No"]
[{"$nulls":11},"St. Lucia","No"]
[{"$nulls":11},"St. Vincent and the Grenadines","No"]
[{"$nulls":11},"Sudan","Yes"]
[{"$nulls":11},"Suriname","Yes"]
[{"$nulls":11},"Swaziland","Yes"]
[{"$nulls":11},"Sweden","No"]
[{"$nulls":11},"Switzerland","No"]
[{"$nulls":11},"Syrian Arab Republic","Yes"]
[{"$nulls":11},"Taiwan","No"]
[{"$nulls":11},"Tajikistan","Yes"]
[{"$nulls":11},"Tanzania","Yes"]
[{"$nulls":11},"Thailand","Yes"]
[{"$nulls":11},"Timor-Leste","Yes"]
[{"$nulls":11},"Togo","Yes"]
[{"$nulls":11},"Tonga","Yes"]
[{"$nulls":11},"Trinidad and Tobago","Yes"]
[{"$nulls":11},"Tunisia","Yes"]
[{"$nulls":11},"Turkey","Yes"]
[{"$nulls":11},"Turkmenistan","Yes"]
[{"$nulls":11},"Tuvalu","Yes"]
[{"$nulls":11},"Uganda","Yes"]
[{"$nulls":11},"Ukraine","Yes"]
[{"$nulls":11},"United Arab Emirates","No"]
[{"$nulls":11},"United Kingdom","No"]
[{"$nulls":11},"United States","No"]
[{"$nulls":11},"Uruguay","No"]
[{"$nulls":11},"Uzbekistan","Yes"]
[{"$nulls":11},"Vanuatu","Yes"]
[{"$nulls":11},"Venezuela, RB","Yes"]
[{"$nulls":11},"Vietnam","Yes"]
[{"$nulls":11},"Virgin Islands (U.S.)","No"]
[{"$nulls":11},"West Bank and Gaza","Yes"]
[{"$nulls":11},"Yemen, Rep.","Yes"]
[{"$nulls":11},"Zambia","Yes"]
[{"$nulls":11},"Zimbabwe","Yes"]

{"sheet":"change log","index":5,"n_rows":7,"n_cols":5,"rows_kept":7}
["Revision Date","Tab","Section","Type of Change","Authorized By"]
["2022-06-08","Bill of Materials",null,"Y14 was updated. Note was added to remind assessors to review the notes and enter the data correctly. ","Sebastian Häfele"]
["2022-06-08","%Assessed",null,"Formulas in columns C, N and V were updated. The formulas were not working properly in that they were requiring number of chemicals be entered in the Bill of Materials tab in all cases for percentage assessed to be calculated. In addition, the calculation for %a/b assessed (applicable to Platinum level) was incorrect. These issues were fixed. ","Sebastian Häfele"]
["2022-09-13","pick list",null,"Taiwan, China --> Taiwan","Sebastian Häfele"]
["2022-10-03","Bill of Materials","Product Circularity","Pop-up notes were added to several columns to provide additional instructions and explanation.","Esther Julier"]
["2022-10-12","Bill of Materials","Product Circularity","Added two columns for indicating the entity intended to carry out the intended cycling pathways.","Esther Julier"]
["2023-07-13","Bill of Materials","Supplier Information","Formulas in column Q (for looking up de facto high risk locations) were updated. The formulas were not referencing the proper look up table after row 16.","Esther Julier"]